{"text_format":"1","workbook":"xlsx","n_sheets":8,"sheets":["Правила расчёта","Гонки","личные рез-ты по гонкам списком","Сводная_алфавит","4 лучших","Рейтинг Абс","Рейтинг М","Рейтинг ж "],"not_rendered":{"charts":0,"images":0,"macros":1,"external_links":0,"defined_names":5,"comments":0,"pivot_tables":1},"unopened":[],"bounds":{"document_bytes":16777216,"sheet_cells":100000,"rows_first":2000,"rows_last":500,"rows_between":2000,"halvings":0,"cell_chars":16384,"cell_head_chars":4096},"cells_cut":0,"cells_raw":0,"read":"whole","date_system":"1900"}

{"sheet":"Правила расчёта","index":0,"n_rows":25,"n_cols":15,"rows_kept":25,"cut":false,"hidden":false,"merged":[]}
[]
["Рейтинг трассы (сложность)","=Y+X/100"]
["Расстояние, км","Y"]
["Набор высоты, м","X"]
["Количество пунктов питания","Z"]
[]
["Средний интервал между пунктами питания (к-т автономности)","=(Y+X/100)/Z"]
[]
["Штраф за автономность"]
["Коэф-т автономности","13 и более"," 11 - 12"," 9 - 10"," 7 - 8 "," 5 - 6 ","меньше 5"]
["Штраф в очках",0,-10,-15,-20,-25,-30]
[null,null,-2,-3,-4,-15,-30]
["Коэф-т автономности",13,12,11,10,9,8,7,6,5,4,3,2,1,0]
["Штраф в очках",0,-10,-10,-15,-15,-20,-20,-25,-25,-30,-30,-30,-30,0]
[null,0,-2,-2,-3,-3,-4,-4,-15,-15,-30,-30,-30,-30,0]
["Штраф за круги"]
["Кол-во кругов",0,1,2,3,4,5,6,7,8,9,10,11]
["Штраф в очках",0,0,0,-10,-15,-20,-25,-30,-35,-40,-45,-50]
[null,0,0,0,-2,-4,-10,-20,-30,-35,-40,-45,-50]
[]
["Итог ОЧКИ дистанции = Сложность МИНУС штраф за автономность МИНУС штраф за круги",null,null,null,null,null,null,null,"Округление до двух знаков"]
[]
["Формула личного рез-та дистанции = 100 - ((место участника в итоговом протоколе-1)/количество стартовавших) × 100."]
[]
["Формула личного результата за соревнования = Квадратный корень ( Итог ОЧКИ за дистанцию) умножить на личный результат"]

{"sheet":"Гонки","index":1,"n_rows":42,"n_cols":17,"rows_kept":42,"cut":false,"hidden":false,"merged":[]}
["№","дата","название гонки","название дистанции","Служебн 1 - где","длина","набор высоты","сложность","круги","штраф круги","ПП","К-т автономности","штраф пп","Итог ОЧКИ","кол-во стартов. Ж.","кол-во стартов. М."]
[1,"2018-01-27","Зима минус 100","Трейл 50",{"$f":"CONCATENATE(C2,\" \",D2,)","v":"Зима минус 100 Трейл 50"},50.8,350,{"$f":"F2+G2/100","v":54.3},0,{"$f":"HLOOKUP(I2,'Правила расчёта'!$A$17:$M$19,3,FALSE)","v":0},0,{"$f":"MROUND(IF(K2=0,0,H2/K2),0)","v":0},{"$f":"IF(L2=0,0,IF(L2>=13,0,HLOOKUP(Гонки!L2,'Правила расчёта'!$A$13:$O$15,3,FALSE)))","v":0},{"$f":"H2+J2+M2","v":54.3},14,34]
[2,"2018-01-27","Зима минус 100","Трейл 100",{"$f":"CONCATENATE(C3,\" \",D3,)","v":"Зима минус 100 Трейл 100"},106.2,760,{"$f":"F3+G3/100","v":113.8},0,{"$f":"HLOOKUP(I3,'Правила расчёта'!$A$17:$M$19,3,FALSE)","v":0},1,{"$f":"MROUND(IF(K3=0,0,H3/K3),1)","v":114},{"$f":"IF(L3=0,0,IF(L3>=13,0,HLOOKUP(Гонки!L3,'Правила расчёта'!$A$13:$O$15,3,FALSE)))","v":0},{"$f":"H3+J3+M3","v":113.8},5,25]
[3,"2018-03-04","Жук-трейл # 4 Минское Море ","Трейл 25",{"$f":"CONCATENATE(C4,\" \",D4,)","v":"Жук-трейл # 4 Минское Море  Трейл 25"},{"$f":"8.45*3","v":25.349999999999998},{"$f":"112*3","v":336},{"$f":"F4+G4/100","v":28.709999999999997},3,{"$f":"HLOOKUP(I4,'Правила расчёта'!$A$17:$M$19,3,FALSE)","v":-2},2,{"$f":"MROUND(IF(K4=0,0,H4/K4),1)","v":14},{"$f":"IF(L4=0,0,IF(L4>=13,0,HLOOKUP(Гонки!L4,'Правила расчёта'!$A$13:$O$15,3,FALSE)))","v":0},{"$f":"H4+J4+M4","v":26.709999999999997},11,81]
[4,"2018-03-04","Жук-трейл # 4 Минское Море ","Трейл 16",{"$f":"CONCATENATE(C5,\" \",D5,)","v":"Жук-трейл # 4 Минское Море  Трейл 16"},{"$f":"8.45*2","v":16.899999999999999},{"$f":"112*2","v":224},{"$f":"F5+G5/100","v":19.14},2,{"$f":"HLOOKUP(I5,'Правила расчёта'!$A$17:$M$19,3,FALSE)","v":0},1,19,{"$f":"IF(L5=0,0,IF(L5>=13,0,HLOOKUP(Гонки!L5,'Правила расчёта'!$A$13:$O$15,3,FALSE)))","v":0},{"$f":"H5+J5+M5","v":19.14},27,51]
[5,"2018-03-04","Жук-трейл # 4 Минское Море ","Трейл 8",{"$f":"CONCATENATE(C6,\" \",D6,)","v":"Жук-трейл # 4 Минское Море  Трейл 8"},{"$f":"8.45*1","v":8.4499999999999993},112,{"$f":"F6+G6/100","v":9.57},1,{"$f":"HLOOKUP(I6,'Правила расчёта'!$A$17:$M$19,3,FALSE)","v":0},0,0,{"$f":"IF(L6=0,0,IF(L6>=13,0,HLOOKUP(Гонки!L6,'Правила расчёта'!$A$13:$O$15,3,FALSE)))","v":0},{"$f":"H6+J6+M6","v":9.57},24,36]
[6,"2018-04-15","Жук-трейл # 5 Крево","Трейл 70","Жук-трейл # 5 Крево Трейл 70",70.400000000000006,961,{"$f":"F7+G7/100","v":80.010000000000005},1,{"$f":"HLOOKUP(I7,'Правила расчёта'!$A$17:$M$19,3,FALSE)","v":0},5,16,{"$f":"IF(L7=0,0,IF(L7>=13,0,HLOOKUP(Гонки!L7,'Правила расчёта'!$A$13:$O$15,3,FALSE)))","v":0},{"$f":"H7+J7+M7","v":80.010000000000005},3,15]
[7,"2018-04-15","Жук-трейл # 5 Крево","Трейл 45","Жук-трейл # 5 Крево Трейл 45",44.7,632,51.02,1,{"$f":"HLOOKUP(I8,'Правила расчёта'!$A$17:$M$19,3,FALSE)","v":0},3,17,{"$f":"IF(L8=0,0,IF(L8>=13,0,HLOOKUP(Гонки!L8,'Правила расчёта'!$A$13:$O$15,3,FALSE)))","v":0},51.02,3,20]
[8,"2018-04-15","Жук-трейл # 5 Крево","Трейл 21","Жук-трейл # 5 Крево Трейл 21",21.3,308,24.380000000000003,1,{"$f":"HLOOKUP(I9,'Правила расчёта'!$A$17:$M$19,3,FALSE)","v":0},1,24,{"$f":"IF(L9=0,0,IF(L9>=13,0,HLOOKUP(Гонки!L9,'Правила расчёта'!$A$13:$O$15,3,FALSE)))","v":0},24.380000000000003,15,45]
[9,"2018-04-15","Жук-трейл # 5 Крево","Трейл 10","Жук-трейл # 5 Крево Трейл 10",11.9,198,13.88,1,{"$f":"HLOOKUP(I10,'Правила расчёта'!$A$17:$M$19,3,FALSE)","v":0},0,0,{"$f":"IF(L10=0,0,IF(L10>=13,0,HLOOKUP(Гонки!L10,'Правила расчёта'!$A$13:$O$15,3,FALSE)))","v":0},13.88,26,56]
[10,"2018-05-26","\"Налибоки 2018\"","Трейл 21","\"Налибоки 2018\" Трейл 21",22.41,262,25.03,1,{"$f":"HLOOKUP(I11,'Правила расчёта'!$A$17:$M$19,3,FALSE)","v":0},1,25,{"$f":"IF(L11=0,0,IF(L11>=13,0,HLOOKUP(Гонки!L11,'Правила расчёта'!$A$13:$O$15,3,FALSE)))","v":0},25.03,40,55]
[11,"2018-05-26","\"Налибоки 2018\"","Трейл 42","\"Налибоки 2018\" Трейл 42",46.86,494,51.8,1,{"$f":"HLOOKUP(I12,'Правила расчёта'!$A$17:$M$19,3,FALSE)","v":0},2,26,{"$f":"IF(L12=0,0,IF(L12>=13,0,HLOOKUP(Гонки!L12,'Правила расчёта'!$A$13:$O$15,3,FALSE)))","v":0},51.8,13,41]
[12,"2018-05-26","\"Налибоки 2018\"","Трейл 100","\"Налибоки 2018\" Трейл 100",98.27,1013,108.39999999999999,1,{"$f":"HLOOKUP(I13,'Правила расчёта'!$A$17:$M$19,3,FALSE)","v":0},5,22,{"$f":"IF(L13=0,0,IF(L13>=13,0,HLOOKUP(Гонки!L13,'Правила расчёта'!$A$13:$O$15,3,FALSE)))","v":0},108.39999999999999,3,36]
[13,"2018-07-07","Жук-трейл #6 Купалье","Трейл 5","Жук-трейл #6 Купалье Трейл 5",5.32,36,5.6800000000000006,1,{"$f":"HLOOKUP(I14,'Правила расчёта'!$A$17:$M$19,3,FALSE)","v":0},0,0,{"$f":"IF(L14=0,0,IF(L14>=13,0,HLOOKUP(Гонки!L14,'Правила расчёта'!$A$13:$O$15,3,FALSE)))","v":0},5.6800000000000006,27,23]
[14,"2018-07-07","Жук-трейл #6 Купалье","Трейл 10","Жук-трейл #6 Купалье Трейл 10",{"$f":"5.32*2","v":10.64},{"$f":"G14*2","v":72},11.360000000000001,2,{"$f":"HLOOKUP(I15,'Правила расчёта'!$A$17:$M$19,3,FALSE)","v":0},1,11,{"$f":"IF(L15=0,0,IF(L15>=13,0,HLOOKUP(Гонки!L15,'Правила расчёта'!$A$13:$O$15,3,FALSE)))","v":-2},9.3600000000000012,33,57]
[15,"2018-07-07","Жук-трейл #6 Купалье","Трейл 21","Жук-трейл #6 Купалье Трейл 21",{"$f":"5.32*4","v":21.28},{"$f":"G14*4","v":144},22.720000000000002,4,{"$f":"HLOOKUP(I16,'Правила расчёта'!$A$17:$M$19,3,FALSE)","v":-4},3,8,{"$f":"IF(L16=0,0,IF(L16>=13,0,HLOOKUP(Гонки!L16,'Правила расчёта'!$A$13:$O$15,3,FALSE)))","v":-4},14.720000000000002,14,78]
[]
[]
[]
[]
[]
[]
[]
[]
[]
[]
[]
[]
["Дата","2018-01-27","2018-01-27","2018-03-04","2018-03-04","2018-03-04","2018-04-15","2018-04-15","2018-04-15","2018-04-15","2018-05-26",null,"2018-05-26","2018-05-26","2018-07-07","2018-07-07","2018-07-07"]
["Название гонки","Зима минус 100","Зима минус 100","Жук-трейл # 4 Минское Море ","Жук-трейл # 4 Минское Море ","Жук-трейл # 4 Минское Море ","Жук-трейл # 5 Крево","Жук-трейл # 5 Крево","Жук-трейл # 5 Крево","Жук-трейл # 5 Крево","\"Налибоки 2018\"",null,"\"Налибоки 2018\"","\"Налибоки 2018\"","Жук-трейл #6 Купалье","Жук-трейл #6 Купалье","Жук-трейл #6 Купалье"]
["Название дистанции","Трейл 50","Трейл 100","Трейл 25","Трейл 16","Трейл 8","Трейл 70","Трейл 45","Трейл 21","Трейл 10","Трейл 21",null,"Трейл 42","Трейл 100","Трейл5","Трейл10","Трейл21"]
["Длина, км",50.8,106.2,{"$f":"8.45*3","v":25.349999999999998},{"$f":"8.45*2","v":16.899999999999999},{"$f":"8.45*1","v":8.4499999999999993},70.400000000000006,44.7,21.3,11.9,22.41,null,46.86,98.27]
["Набор высоты, м",350,760,{"$f":"112*3","v":336},{"$f":"112*2","v":224},112,961,632,308,198,262,null,494,1013]
["Рейтинг трассы (сложность)",{"$f":"ROUND(B32+B33/100,2)","v":54.3},{"$f":"ROUND(C32+C33/100,2)","v":113.8},28.71,19.14,9.57,80.010000000000005,51.02,24.38,13.88,25.03,null,51.8,108.4,{"$f":"ROUND(O32+O33/100,2)","v":0},{"$f":"ROUND(P32+P33/100,2)","v":0},{"$f":"ROUND(Q32+Q33/100,2)","v":0}]
["Количество кругов",0,0,3,2,1,1,1,1,1,1,null,1,1]
["Штрафы за круги",{"$f":"HLOOKUP(B35,'Правила расчёта'!$A$17:$M$18,2,FALSE)","v":0},{"$f":"HLOOKUP(C35,'Правила расчёта'!$A$17:$M$18,2,FALSE)","v":0},{"$f":"HLOOKUP(D35,'Правила расчёта'!$A$17:$M$18,2,FALSE)","v":-10},{"$f":"HLOOKUP(E35,'Правила расчёта'!$A$17:$M$18,2,FALSE)","v":0},{"$f":"HLOOKUP(F35,'Правила расчёта'!$A$17:$M$18,2,FALSE)","v":0},{"$f":"HLOOKUP(G35,'Правила расчёта'!$A$17:$M$18,2,FALSE)","v":0},{"$f":"HLOOKUP(H35,'Правила расчёта'!$A$17:$M$18,2,FALSE)","v":0},{"$f":"HLOOKUP(I35,'Правила расчёта'!$A$17:$M$18,2,FALSE)","v":0},{"$f":"HLOOKUP(J35,'Правила расчёта'!$A$17:$M$18,2,FALSE)","v":0},{"$f":"HLOOKUP(K35,'Правила расчёта'!$A$17:$M$18,2,FALSE)","v":0},null,{"$f":"HLOOKUP(M35,'Правила расчёта'!$A$17:$M$18,2,FALSE)","v":0},{"$f":"HLOOKUP(N35,'Правила расчёта'!$A$17:$M$18,2,FALSE)","v":0},{"$f":"HLOOKUP(O35,'Правила расчёта'!$A$17:$M$18,2,FALSE)","v":0},{"$f":"HLOOKUP(P35,'Правила расчёта'!$A$17:$M$18,2,FALSE)","v":0},{"$f":"HLOOKUP(Q35,'Правила расчёта'!$A$17:$M$18,2,FALSE)","v":0}]
["Кол-во пунктов питания",0,1,2,1,0,5,3,1,0,1,null,2,5]
["К-т автономности",{"$f":"IF(B37=0,0,(B32+B33/100)/B37)","v":0},{"$f":"ROUND(IF(C37=0,0,(C32+C33/100)/C37),2)","v":113.8},{"$f":"ROUND(IF(D37=0,0,(D32+D33/100)/D37),2)","v":14.36},19.14,0,16,17.010000000000002,24.38,0,25.03,null,25.9,21.68,{"$f":"ROUND(IF(O37=0,0,(O32+O33/100)/O37),2)","v":0},{"$f":"ROUND(IF(P37=0,0,(P32+P33/100)/P37),2)","v":0},{"$f":"ROUND(IF(Q37=0,0,(Q32+Q33/100)/Q37),2)","v":0}]
["Штраф за неавтономность",{"$f":"IF(B38>13,0,HLOOKUP(B38,'Правила расчёта'!$A$13:$O$14,2,FALSE))","v":0},{"$f":"IF(C38>13,0,HLOOKUP(C38,'Правила расчёта'!$A$13:$O$14,2,FALSE))","v":0},{"$f":"IF(D38>13,0,HLOOKUP(D38,'Правила расчёта'!$A$13:$O$14,2,FALSE))","v":0},{"$f":"IF(E38>13,0,HLOOKUP(E38,'Правила расчёта'!$A$13:$O$14,2,FALSE))","v":0},{"$f":"IF(F38>13,0,HLOOKUP(F38,'Правила расчёта'!$A$13:$O$14,2,FALSE))","v":0},{"$f":"IF(G38>13,0,HLOOKUP(G38,'Правила расчёта'!$A$13:$O$14,2,FALSE))","v":0},{"$f":"IF(H38>13,0,HLOOKUP(H38,'Правила расчёта'!$A$13:$O$14,2,FALSE))","v":0},{"$f":"IF(I38>13,0,HLOOKUP(I38,'Правила расчёта'!$A$13:$O$14,2,FALSE))","v":0},{"$f":"IF(J38>13,0,HLOOKUP(J38,'Правила расчёта'!$A$13:$O$14,2,FALSE))","v":0},{"$f":"IF(K38>13,0,HLOOKUP(K38,'Правила расчёта'!$A$13:$O$14,2,FALSE))","v":0},null,{"$f":"IF(M38>13,0,HLOOKUP(M38,'Правила расчёта'!$A$13:$O$14,2,FALSE))","v":0},{"$f":"IF(N38>13,0,HLOOKUP(N38,'Правила расчёта'!$A$13:$O$14,2,FALSE))","v":0},{"$f":"IF(O38>13,0,HLOOKUP(O38,'Правила расчёта'!$A$13:$O$14,2,FALSE))","v":0},{"$f":"IF(P38>13,0,HLOOKUP(P38,'Правила расчёта'!$A$13:$O$14,2,FALSE))","v":0},{"$f":"IF(Q38>13,0,HLOOKUP(Q38,'Правила расчёта'!$A$13:$O$14,2,FALSE))","v":0}]
["ИТОГО ОЧКОВ",{"$f":"B34-B36-B39","v":54.3},{"$f":"C34-C36-C39","v":113.8},38.71,19.14,9.57,80.010000000000005,51.02,24.38,13.88,25.03,null,51.8,108.4,{"$f":"O34-O36-O39","v":0},{"$f":"P34-P36-P39","v":0},{"$f":"Q34-Q36-Q39","v":0}]
["Кол-во участниц ЖЕНЩИНЫ",14,5,11,27,24,3,3,15,26,40,null,13,3]
["Кол-во участниц МУЖЧИНЫ",34,25,81,51,36,15,20,45,56,55,null,41,36]

{"sheet":"личные рез-ты по гонкам списком","index":2,"n_rows":851,"n_cols":14,"rows_kept":851,"cut":false,"hidden":false,"merged":[]}
["Гонка","Дистанция","где (служубн 1)","Рейтинг трассы","Пол","Кол-во участников по полу","Фамилия Имя","Год рождения","Surname Name","Ф+И (служебн 2)","Пол1","место","личный рез-т дистанции","личный рез-т соревнований"]
[{"$f":"Гонки!$C$2","v":"Зима минус 100"},{"$f":"Гонки!$D$2","v":"Трейл 50"},{"$f":"CONCATENATE(A2,\" \",B2)","v":"Зима минус 100 Трейл 50"},{"$f":"VLOOKUP(C2,Список_гонок,10,FALSE)","v":54.3},"Ж",{"$f":"IF(E2=\"Ж\",VLOOKUP(C2,Гонки!$E$2:$P$16,11,FALSE),VLOOKUP(C2,Гонки!$E$2:$P$16,12,FALSE))","v":14},"Скирук Юлия",1988,{"$f":"Translit(G2)","v":"Skiruk Yuliya"},{"$f":"CONCATENATE(G2,\" / \",I2,\" / \",H2)","v":"Скирук Юлия / Skiruk Yuliya / 1988"},{"$f":"E2","v":"Ж"},1,{"$f":"100-((L2-1)/F2)*100","v":100},{"$f":"ROUND(SQRT(D2)*M2,2)","v":736.89}]
[{"$f":"Гонки!$C$2","v":"Зима минус 100"},{"$f":"Гонки!$D$2","v":"Трейл 50"},{"$f":"CONCATENATE(A3,\" \",B3)","v":"Зима минус 100 Трейл 50"},54.3,"Ж",{"$f":"IF(E3=\"Ж\",VLOOKUP(C3,Гонки!$E$2:$P$16,11,FALSE),VLOOKUP(C3,Гонки!$E$2:$P$16,12,FALSE))","v":14},"Белинская Галина",1980,{"$f":"Translit(G3)","v":"Belinskaya Galina"},{"$f":"CONCATENATE(G3,\" / \",I3,\" / \",H3)","v":"Белинская Галина / Belinskaya Galina / 1980"},{"$f":"E3","v":"Ж"},2,{"$f":"100-((L3-1)/F3)*100","v":92.857142857142861},{"$f":"ROUND(SQRT(D3)*M3,2)","v":684.25}]
[{"$f":"Гонки!$C$2","v":"Зима минус 100"},{"$f":"Гонки!$D$2","v":"Трейл 50"},"Зима минус 100 Трейл 50",54.3,"Ж",{"$f":"IF(E4=\"Ж\",VLOOKUP(C4,Гонки!$E$2:$P$16,11,FALSE),VLOOKUP(C4,Гонки!$E$2:$P$16,12,FALSE))","v":14},"Обухова Екатерина",1978,"Obuhova Ekaterina","Обухова Екатерина / Obuhova Ekaterina / 1978","Ж",3,85.714285714285722,631.62]
[{"$f":"Гонки!$C$2","v":"Зима минус 100"},{"$f":"Гонки!$D$2","v":"Трейл 50"},"Зима минус 100 Трейл 50",54.3,"Ж",{"$f":"IF(E5=\"Ж\",VLOOKUP(C5,Гонки!$E$2:$P$16,11,FALSE),VLOOKUP(C5,Гонки!$E$2:$P$16,12,FALSE))","v":14},"Куцун Надежда",1982,"Kutsun Nadezhda","Куцун Надежда / Kutsun Nadezhda / 1982","Ж",4,78.571428571428569,578.98]
[{"$f":"Гонки!$C$2","v":"Зима минус 100"},{"$f":"Гонки!$D$2","v":"Трейл 50"},"Зима минус 100 Трейл 50",54.3,"Ж",{"$f":"IF(E6=\"Ж\",VLOOKUP(C6,Гонки!$E$2:$P$16,11,FALSE),VLOOKUP(C6,Гонки!$E$2:$P$16,12,FALSE))","v":14},"Михно Алла",1979,"Mihno Alla","Михно Алла / Mihno Alla / 1979","Ж",5,71.428571428571431,526.35]
[{"$f":"Гонки!$C$2","v":"Зима минус 100"},{"$f":"Гонки!$D$2","v":"Трейл 50"},"Зима минус 100 Трейл 50",54.3,"Ж",{"$f":"IF(E7=\"Ж\",VLOOKUP(C7,Гонки!$E$2:$P$16,11,FALSE),VLOOKUP(C7,Гонки!$E$2:$P$16,12,FALSE))","v":14},"Радчук Алеся",1996,"Radchuk Alesya","Радчук Алеся / Radchuk Alesya / 1996","Ж",6,64.285714285714278,473.71]
[{"$f":"Гонки!$C$2","v":"Зима минус 100"},{"$f":"Гонки!$D$2","v":"Трейл 50"},"Зима минус 100 Трейл 50",54.3,"Ж",{"$f":"IF(E8=\"Ж\",VLOOKUP(C8,Гонки!$E$2:$P$16,11,FALSE),VLOOKUP(C8,Гонки!$E$2:$P$16,12,FALSE))","v":14},"Янович Лена",1996,"Yanovich Lena","Янович Лена / Yanovich Lena / 1996","Ж",7,57.142857142857146,421.08]
[{"$f":"Гонки!$C$2","v":"Зима минус 100"},{"$f":"Гонки!$D$2","v":"Трейл 50"},"Зима минус 100 Трейл 50",54.3,"Ж",{"$f":"IF(E9=\"Ж\",VLOOKUP(C9,Гонки!$E$2:$P$16,11,FALSE),VLOOKUP(C9,Гонки!$E$2:$P$16,12,FALSE))","v":14},"Кордунская Екатерина",1983,"Kordunskaya Ekaterina","Кордунская Екатерина / Kordunskaya Ekaterina / 1983","Ж",8,50,368.44]
[{"$f":"Гонки!$C$2","v":"Зима минус 100"},{"$f":"Гонки!$D$2","v":"Трейл 50"},"Зима минус 100 Трейл 50",54.3,"Ж",{"$f":"IF(E10=\"Ж\",VLOOKUP(C10,Гонки!$E$2:$P$16,11,FALSE),VLOOKUP(C10,Гонки!$E$2:$P$16,12,FALSE))","v":14},"Чернель Татьяна",1982,"Chernel Tatyana","Чернель Татьяна / Chernel Tatyana / 1982","Ж",9,42.857142857142861,315.81]
[{"$f":"Гонки!$C$2","v":"Зима минус 100"},{"$f":"Гонки!$D$2","v":"Трейл 50"},"Зима минус 100 Трейл 50",54.3,"Ж",{"$f":"IF(E11=\"Ж\",VLOOKUP(C11,Гонки!$E$2:$P$16,11,FALSE),VLOOKUP(C11,Гонки!$E$2:$P$16,12,FALSE))","v":14},"Арловская Кристина",1989,"Arlovskaya Kristina","Арловская Кристина / Arlovskaya Kristina / 1989","Ж",10,35.714285714285708,263.17]
[{"$f":"Гонки!$C$2","v":"Зима минус 100"},{"$f":"Гонки!$D$2","v":"Трейл 50"},"Зима минус 100 Трейл 50",54.3,"Ж",{"$f":"IF(E12=\"Ж\",VLOOKUP(C12,Гонки!$E$2:$P$16,11,FALSE),VLOOKUP(C12,Гонки!$E$2:$P$16,12,FALSE))","v":14},"Литвинка Нина",1991,"Litvinka Nina","Литвинка Нина / Litvinka Nina / 1991","Ж",11,28.571428571428569,210.54]
[{"$f":"Гонки!$C$2","v":"Зима минус 100"},{"$f":"Гонки!$D$2","v":"Трейл 50"},"Зима минус 100 Трейл 50",54.3,"М",{"$f":"IF(E13=\"Ж\",VLOOKUP(C13,Гонки!$E$2:$P$16,11,FALSE),VLOOKUP(C13,Гонки!$E$2:$P$16,12,FALSE))","v":34},"Евсюченя Александр",1991,"Evsyuchenya Aleksandr","Евсюченя Александр / Evsyuchenya Aleksandr / 1991","М",1,100,736.89]
[{"$f":"Гонки!$C$2","v":"Зима минус 100"},{"$f":"Гонки!$D$2","v":"Трейл 50"},"Зима минус 100 Трейл 50",54.3,"М",{"$f":"IF(E14=\"Ж\",VLOOKUP(C14,Гонки!$E$2:$P$16,11,FALSE),VLOOKUP(C14,Гонки!$E$2:$P$16,12,FALSE))","v":34},"Некрасов Василий",1986,"Nekrasov Vasilij","Некрасов Василий / Nekrasov Vasilij / 1986","М",2,97.058823529411768,715.21]
[{"$f":"Гонки!$C$2","v":"Зима минус 100"},{"$f":"Гонки!$D$2","v":"Трейл 50"},"Зима минус 100 Трейл 50",54.3,"М",{"$f":"IF(E15=\"Ж\",VLOOKUP(C15,Гонки!$E$2:$P$16,11,FALSE),VLOOKUP(C15,Гонки!$E$2:$P$16,12,FALSE))","v":34},"Березовский Андрей",1973,"Berezovskij Andrej","Березовский Андрей / Berezovskij Andrej / 1973","М",3,94.117647058823536,693.54]
[{"$f":"Гонки!$C$2","v":"Зима минус 100"},{"$f":"Гонки!$D$2","v":"Трейл 50"},"Зима минус 100 Трейл 50",54.3,"М",{"$f":"IF(E16=\"Ж\",VLOOKUP(C16,Гонки!$E$2:$P$16,11,FALSE),VLOOKUP(C16,Гонки!$E$2:$P$16,12,FALSE))","v":34},"Сидоревич Александр",1985,"Sidorevich Aleksandr","Сидоревич Александр / Sidorevich Aleksandr / 1985","М",4,91.17647058823529,671.87]
[{"$f":"Гонки!$C$2","v":"Зима минус 100"},{"$f":"Гонки!$D$2","v":"Трейл 50"},"Зима минус 100 Трейл 50",54.3,"М",{"$f":"IF(E17=\"Ж\",VLOOKUP(C17,Гонки!$E$2:$P$16,11,FALSE),VLOOKUP(C17,Гонки!$E$2:$P$16,12,FALSE))","v":34},"Скуратович Антон",1985,"Skuratovich Anton","Скуратович Антон / Skuratovich Anton / 1985","М",5,88.235294117647058,650.19000000000005]
[{"$f":"Гонки!$C$2","v":"Зима минус 100"},{"$f":"Гонки!$D$2","v":"Трейл 50"},"Зима минус 100 Трейл 50",54.3,"М",{"$f":"IF(E18=\"Ж\",VLOOKUP(C18,Гонки!$E$2:$P$16,11,FALSE),VLOOKUP(C18,Гонки!$E$2:$P$16,12,FALSE))","v":34},"Бабицкий Кирилл",1998,"Babitskij Kirill","Бабицкий Кирилл / Babitskij Kirill / 1998","М",6,85.294117647058826,628.52]
[{"$f":"Гонки!$C$2","v":"Зима минус 100"},{"$f":"Гонки!$D$2","v":"Трейл 50"},"Зима минус 100 Трейл 50",54.3,"М",{"$f":"IF(E19=\"Ж\",VLOOKUP(C19,Гонки!$E$2:$P$16,11,FALSE),VLOOKUP(C19,Гонки!$E$2:$P$16,12,FALSE))","v":34},"Лисовский Павел",1986,"Lisovskij Pavel","Лисовский Павел / Lisovskij Pavel / 1986","М",7,82.35294117647058,606.85]
[{"$f":"Гонки!$C$2","v":"Зима минус 100"},{"$f":"Гонки!$D$2","v":"Трейл 50"},"Зима минус 100 Трейл 50",54.3,"М",{"$f":"IF(E20=\"Ж\",VLOOKUP(C20,Гонки!$E$2:$P$16,11,FALSE),VLOOKUP(C20,Гонки!$E$2:$P$16,12,FALSE))","v":34},"Коровец Богдан",1976,"Korovets Bogdan","Коровец Богдан / Korovets Bogdan / 1976","М",8,79.411764705882348,585.16999999999996]
[{"$f":"Гонки!$C$2","v":"Зима минус 100"},{"$f":"Гонки!$D$2","v":"Трейл 50"},"Зима минус 100 Трейл 50",54.3,"М",{"$f":"IF(E21=\"Ж\",VLOOKUP(C21,Гонки!$E$2:$P$16,11,FALSE),VLOOKUP(C21,Гонки!$E$2:$P$16,12,FALSE))","v":34},"Крисенков Алексей",1983,"Krisenkov Aleksej","Крисенков Алексей / Krisenkov Aleksej / 1983","М",9,76.470588235294116,563.5]
[{"$f":"Гонки!$C$2","v":"Зима минус 100"},{"$f":"Гонки!$D$2","v":"Трейл 50"},"Зима минус 100 Трейл 50",54.3,"М",{"$f":"IF(E22=\"Ж\",VLOOKUP(C22,Гонки!$E$2:$P$16,11,FALSE),VLOOKUP(C22,Гонки!$E$2:$P$16,12,FALSE))","v":34},"Рачковский Сергей",1988,"Rachkovskij Sergej","Рачковский Сергей / Rachkovskij Sergej / 1988","М",10,73.529411764705884,541.83000000000004]
[{"$f":"Гонки!$C$2","v":"Зима минус 100"},{"$f":"Гонки!$D$2","v":"Трейл 50"},"Зима минус 100 Трейл 50",54.3,"М",{"$f":"IF(E23=\"Ж\",VLOOKUP(C23,Гонки!$E$2:$P$16,11,FALSE),VLOOKUP(C23,Гонки!$E$2:$P$16,12,FALSE))","v":34},"Лисовский Виктор",1964,"Lisovskij Viktor","Лисовский Виктор / Lisovskij Viktor / 1964","М",11,70.588235294117652,520.15]
[{"$f":"Гонки!$C$2","v":"Зима минус 100"},{"$f":"Гонки!$D$2","v":"Трейл 50"},"Зима минус 100 Трейл 50",54.3,"М",{"$f":"IF(E24=\"Ж\",VLOOKUP(C24,Гонки!$E$2:$P$16,11,FALSE),VLOOKUP(C24,Гонки!$E$2:$P$16,12,FALSE))","v":34},"Тюев Даниил",1977,"Tyuev Daniil","Тюев Даниил / Tyuev Daniil / 1977","М",12,67.64705882352942,498.48]
[{"$f":"Гонки!$C$2","v":"Зима минус 100"},{"$f":"Гонки!$D$2","v":"Трейл 50"},"Зима минус 100 Трейл 50",54.3,"М",{"$f":"IF(E25=\"Ж\",VLOOKUP(C25,Гонки!$E$2:$P$16,11,FALSE),VLOOKUP(C25,Гонки!$E$2:$P$16,12,FALSE))","v":34},"Лавник Игорь",1983,"Lavnik Igor","Лавник Игорь / Lavnik Igor / 1983","М",13,64.705882352941174,476.81]
[{"$f":"Гонки!$C$2","v":"Зима минус 100"},{"$f":"Гонки!$D$2","v":"Трейл 50"},"Зима минус 100 Трейл 50",54.3,"М",{"$f":"IF(E26=\"Ж\",VLOOKUP(C26,Гонки!$E$2:$P$16,11,FALSE),VLOOKUP(C26,Гонки!$E$2:$P$16,12,FALSE))","v":34},"Грек Илья",1992,"Grek Ilya","Грек Илья / Grek Ilya / 1992","М",14,61.764705882352942,455.14]
[{"$f":"Гонки!$C$2","v":"Зима минус 100"},{"$f":"Гонки!$D$2","v":"Трейл 50"},"Зима минус 100 Трейл 50",54.3,"М",{"$f":"IF(E27=\"Ж\",VLOOKUP(C27,Гонки!$E$2:$P$16,11,FALSE),VLOOKUP(C27,Гонки!$E$2:$P$16,12,FALSE))","v":34},"Поцелуев Сергей",1973,"Potseluev Sergej","Поцелуев Сергей / Potseluev Sergej / 1973","М",15,58.82352941176471,433.46]
[{"$f":"Гонки!$C$2","v":"Зима минус 100"},{"$f":"Гонки!$D$2","v":"Трейл 50"},"Зима минус 100 Трейл 50",54.3,"М",{"$f":"IF(E28=\"Ж\",VLOOKUP(C28,Гонки!$E$2:$P$16,11,FALSE),VLOOKUP(C28,Гонки!$E$2:$P$16,12,FALSE))","v":34},"Малалетников Павел",1982,"Malaletnikov Pavel","Малалетников Павел / Malaletnikov Pavel / 1982","М",16,55.882352941176471,411.79]
[{"$f":"Гонки!$C$2","v":"Зима минус 100"},{"$f":"Гонки!$D$2","v":"Трейл 50"},"Зима минус 100 Трейл 50",54.3,"М",{"$f":"IF(E29=\"Ж\",VLOOKUP(C29,Гонки!$E$2:$P$16,11,FALSE),VLOOKUP(C29,Гонки!$E$2:$P$16,12,FALSE))","v":34},"Храмов Антон",1991,"Hramov Anton","Храмов Антон / Hramov Anton / 1991","М",17,52.941176470588239,390.12]
[{"$f":"Гонки!$C$2","v":"Зима минус 100"},{"$f":"Гонки!$D$2","v":"Трейл 50"},"Зима минус 100 Трейл 50",54.3,"М",{"$f":"IF(E30=\"Ж\",VLOOKUP(C30,Гонки!$E$2:$P$16,11,FALSE),VLOOKUP(C30,Гонки!$E$2:$P$16,12,FALSE))","v":34},"Мурашов Владимир",1983,"Murashov Vladimir","Мурашов Владимир / Murashov Vladimir / 1983","М",18,50,368.44]
[{"$f":"Гонки!$C$2","v":"Зима минус 100"},{"$f":"Гонки!$D$2","v":"Трейл 50"},"Зима минус 100 Трейл 50",54.3,"М",{"$f":"IF(E31=\"Ж\",VLOOKUP(C31,Гонки!$E$2:$P$16,11,FALSE),VLOOKUP(C31,Гонки!$E$2:$P$16,12,FALSE))","v":34},"Быков Владимир",1977,"Bykov Vladimir","Быков Владимир / Bykov Vladimir / 1977","М",19,47.058823529411761,346.77]
[{"$f":"Гонки!$C$2","v":"Зима минус 100"},{"$f":"Гонки!$D$2","v":"Трейл 50"},"Зима минус 100 Трейл 50",54.3,"М",{"$f":"IF(E32=\"Ж\",VLOOKUP(C32,Гонки!$E$2:$P$16,11,FALSE),VLOOKUP(C32,Гонки!$E$2:$P$16,12,FALSE))","v":34},"Михно Борис",1982,"Mihno Boris","Михно Борис / Mihno Boris / 1982","М",20,44.117647058823529,325.10000000000002]
[{"$f":"Гонки!$C$2","v":"Зима минус 100"},{"$f":"Гонки!$D$2","v":"Трейл 50"},"Зима минус 100 Трейл 50",54.3,"М",{"$f":"IF(E33=\"Ж\",VLOOKUP(C33,Гонки!$E$2:$P$16,11,FALSE),VLOOKUP(C33,Гонки!$E$2:$P$16,12,FALSE))","v":34},"Иванчик Александр",1990,"Ivanchik Aleksandr","Иванчик Александр / Ivanchik Aleksandr / 1990","М",21,41.17647058823529,303.42]
[{"$f":"Гонки!$C$2","v":"Зима минус 100"},{"$f":"Гонки!$D$2","v":"Трейл 50"},"Зима минус 100 Трейл 50",54.3,"М",{"$f":"IF(E34=\"Ж\",VLOOKUP(C34,Гонки!$E$2:$P$16,11,FALSE),VLOOKUP(C34,Гонки!$E$2:$P$16,12,FALSE))","v":34},"Леверовский Александр",1988,"Leverovskij Aleksandr","Леверовский Александр / Leverovskij Aleksandr / 1988","М",22,38.235294117647058,281.75]
[{"$f":"Гонки!$C$2","v":"Зима минус 100"},{"$f":"Гонки!$D$2","v":"Трейл 50"},"Зима минус 100 Трейл 50",54.3,"М",{"$f":"IF(E35=\"Ж\",VLOOKUP(C35,Гонки!$E$2:$P$16,11,FALSE),VLOOKUP(C35,Гонки!$E$2:$P$16,12,FALSE))","v":34},"Чичин Юрий",1979,"Chichin Yurij","Чичин Юрий / Chichin Yurij / 1979","М",23,35.294117647058826,260.08]
[{"$f":"Гонки!$C$2","v":"Зима минус 100"},{"$f":"Гонки!$D$2","v":"Трейл 50"},"Зима минус 100 Трейл 50",54.3,"М",{"$f":"IF(E36=\"Ж\",VLOOKUP(C36,Гонки!$E$2:$P$16,11,FALSE),VLOOKUP(C36,Гонки!$E$2:$P$16,12,FALSE))","v":34},"Бачища Николай",1988,"Bachischa Nikolaj","Бачища Николай / Bachischa Nikolaj / 1988","М",24,32.35294117647058,238.4]
[{"$f":"Гонки!$C$2","v":"Зима минус 100"},{"$f":"Гонки!$D$2","v":"Трейл 50"},"Зима минус 100 Трейл 50",54.3,"М",{"$f":"IF(E37=\"Ж\",VLOOKUP(C37,Гонки!$E$2:$P$16,11,FALSE),VLOOKUP(C37,Гонки!$E$2:$P$16,12,FALSE))","v":34},"Кузьмич Дмитрий",1975,"Kuzmich Dmitrij","Кузьмич Дмитрий / Kuzmich Dmitrij / 1975","М",25,29.411764705882348,216.73]
[{"$f":"Гонки!$C$2","v":"Зима минус 100"},{"$f":"Гонки!$D$2","v":"Трейл 50"},"Зима минус 100 Трейл 50",54.3,"М",{"$f":"IF(E38=\"Ж\",VLOOKUP(C38,Гонки!$E$2:$P$16,11,FALSE),VLOOKUP(C38,Гонки!$E$2:$P$16,12,FALSE))","v":34},"Лялеко Сергей",1986,"Lyaleko Sergej","Лялеко Сергей / Lyaleko Sergej / 1986","М",26,26.470588235294116,195.06]
[{"$f":"Гонки!$C$2","v":"Зима минус 100"},{"$f":"Гонки!$D$2","v":"Трейл 50"},"Зима минус 100 Трейл 50",54.3,"М",{"$f":"IF(E39=\"Ж\",VLOOKUP(C39,Гонки!$E$2:$P$16,11,FALSE),VLOOKUP(C39,Гонки!$E$2:$P$16,12,FALSE))","v":34},"Лучкин Олег",1983,"Luchkin Oleg","Лучкин Олег / Luchkin Oleg / 1983","М",27,23.529411764705884,173.38]
[{"$f":"Гонки!$C$2","v":"Зима минус 100"},{"$f":"Гонки!$D$2","v":"Трейл 50"},"Зима минус 100 Трейл 50",54.3,"М",{"$f":"IF(E40=\"Ж\",VLOOKUP(C40,Гонки!$E$2:$P$16,11,FALSE),VLOOKUP(C40,Гонки!$E$2:$P$16,12,FALSE))","v":34},"Занько Юрий",1982,"Zanko Yurij","Занько Юрий / Zanko Yurij / 1982","М",28,20.588235294117652,151.71]
[{"$f":"Гонки!$C$2","v":"Зима минус 100"},{"$f":"Гонки!$D$2","v":"Трейл 50"},"Зима минус 100 Трейл 50",54.3,"М",{"$f":"IF(E41=\"Ж\",VLOOKUP(C41,Гонки!$E$2:$P$16,11,FALSE),VLOOKUP(C41,Гонки!$E$2:$P$16,12,FALSE))","v":34},"Печёнов Георгий",1975,"Pechjonov Georgij","Печёнов Георгий / Pechjonov Georgij / 1975","М",29,17.64705882352942,130.04]
[{"$f":"Гонки!$C$2","v":"Зима минус 100"},{"$f":"Гонки!$D$2","v":"Трейл 50"},"Зима минус 100 Трейл 50",54.3,"М",{"$f":"IF(E42=\"Ж\",VLOOKUP(C42,Гонки!$E$2:$P$16,11,FALSE),VLOOKUP(C42,Гонки!$E$2:$P$16,12,FALSE))","v":34},"Ананич Александр",1979,"Ananich Aleksandr","Ананич Александр / Ananich Aleksandr / 1979","М",30,14.705882352941174,108.37]
[{"$f":"Гонки!$C$2","v":"Зима минус 100"},{"$f":"Гонки!$D$2","v":"Трейл 50"},"Зима минус 100 Трейл 50",54.3,"М",{"$f":"IF(E43=\"Ж\",VLOOKUP(C43,Гонки!$E$2:$P$16,11,FALSE),VLOOKUP(C43,Гонки!$E$2:$P$16,12,FALSE))","v":34},"Катонов Василий",1985,"Katonov Vasilij","Катонов Василий / Katonov Vasilij / 1985","М",31,11.764705882352942,86.69]
[{"$f":"Гонки!$C$2","v":"Зима минус 100"},{"$f":"Гонки!$D$2","v":"Трейл 50"},"Зима минус 100 Трейл 50",54.3,"М",{"$f":"IF(E44=\"Ж\",VLOOKUP(C44,Гонки!$E$2:$P$16,11,FALSE),VLOOKUP(C44,Гонки!$E$2:$P$16,12,FALSE))","v":34},"Медвецкий Денис",1986,"Medvetskij Denis","Медвецкий Денис / Medvetskij Denis / 1986","М",32,8.8235294117647101,65.02]
[{"$f":"Гонки!$C$2","v":"Зима минус 100"},{"$f":"Гонки!$D$2","v":"Трейл 50"},"Зима минус 100 Трейл 50",54.3,"М",{"$f":"IF(E45=\"Ж\",VLOOKUP(C45,Гонки!$E$2:$P$16,11,FALSE),VLOOKUP(C45,Гонки!$E$2:$P$16,12,FALSE))","v":34},"Малаховский Александр",1985,"Malahovskij Aleksandr","Малаховский Александр / Malahovskij Aleksandr / 1985","М",33,5.8823529411764781,43.35]
[{"$f":"Гонки!$C$2","v":"Зима минус 100"},{"$f":"Гонки!$D$3","v":"Трейл 100"},"Зима минус 100 Трейл 100",113.8,"Ж",{"$f":"IF(E46=\"Ж\",VLOOKUP(C46,Гонки!$E$2:$P$16,11,FALSE),VLOOKUP(C46,Гонки!$E$2:$P$16,12,FALSE))","v":5},"Суховерхая Татьяна",1986,"Suhoverhaya Tatyana","Суховерхая Татьяна / Suhoverhaya Tatyana / 1986","Ж",1,100,1066.77]
[{"$f":"Гонки!$C$2","v":"Зима минус 100"},{"$f":"Гонки!$D$3","v":"Трейл 100"},"Зима минус 100 Трейл 100",113.8,"М",{"$f":"IF(E47=\"Ж\",VLOOKUP(C47,Гонки!$E$2:$P$16,11,FALSE),VLOOKUP(C47,Гонки!$E$2:$P$16,12,FALSE))","v":25},"Пивень Андрей",1992,"Piven Andrej","Пивень Андрей / Piven Andrej / 1992","М",1,100,1066.77]
[{"$f":"Гонки!$C$2","v":"Зима минус 100"},{"$f":"Гонки!$D$3","v":"Трейл 100"},"Зима минус 100 Трейл 100",113.8,"М",{"$f":"IF(E48=\"Ж\",VLOOKUP(C48,Гонки!$E$2:$P$16,11,FALSE),VLOOKUP(C48,Гонки!$E$2:$P$16,12,FALSE))","v":25},"Исаев Антон",1979,"Isaev Anton","Исаев Антон / Isaev Anton / 1979","М",2,96,1024.0999999999999]
[{"$f":"Гонки!$C$2","v":"Зима минус 100"},{"$f":"Гонки!$D$3","v":"Трейл 100"},"Зима минус 100 Трейл 100",113.8,"М",{"$f":"IF(E49=\"Ж\",VLOOKUP(C49,Гонки!$E$2:$P$16,11,FALSE),VLOOKUP(C49,Гонки!$E$2:$P$16,12,FALSE))","v":25},"Синица Кирилл",1981,"Sinitsa Kirill","Синица Кирилл / Sinitsa Kirill / 1981","М",3,92,981.43]
[{"$f":"Гонки!$C$2","v":"Зима минус 100"},{"$f":"Гонки!$D$3","v":"Трейл 100"},"Зима минус 100 Трейл 100",113.8,"М",{"$f":"IF(E50=\"Ж\",VLOOKUP(C50,Гонки!$E$2:$P$16,11,FALSE),VLOOKUP(C50,Гонки!$E$2:$P$16,12,FALSE))","v":25},"Лысенко Павел",1966,"Lysenko Pavel","Лысенко Павел / Lysenko Pavel / 1966","М",4,88,938.76]
[{"$f":"Гонки!$C$2","v":"Зима минус 100"},{"$f":"Гонки!$D$3","v":"Трейл 100"},"Зима минус 100 Трейл 100",113.8,"М",{"$f":"IF(E51=\"Ж\",VLOOKUP(C51,Гонки!$E$2:$P$16,11,FALSE),VLOOKUP(C51,Гонки!$E$2:$P$16,12,FALSE))","v":25},"Борисевич Леонид",1969,"Borisevich Leonid","Борисевич Леонид / Borisevich Leonid / 1969","М",5,84,896.09]
[{"$f":"Гонки!$C$2","v":"Зима минус 100"},{"$f":"Гонки!$D$3","v":"Трейл 100"},"Зима минус 100 Трейл 100",113.8,"М",{"$f":"IF(E52=\"Ж\",VLOOKUP(C52,Гонки!$E$2:$P$16,11,FALSE),VLOOKUP(C52,Гонки!$E$2:$P$16,12,FALSE))","v":25},"Подрез Ярослав",1996,"Podrez Yaroslav","Подрез Ярослав / Podrez Yaroslav / 1996","М",6,80,853.42]
[{"$f":"Гонки!$C$2","v":"Зима минус 100"},{"$f":"Гонки!$D$3","v":"Трейл 100"},"Зима минус 100 Трейл 100",113.8,"М",{"$f":"IF(E53=\"Ж\",VLOOKUP(C53,Гонки!$E$2:$P$16,11,FALSE),VLOOKUP(C53,Гонки!$E$2:$P$16,12,FALSE))","v":25},"Селютин Владимир",1990,"Selyutin Vladimir","Селютин Владимир / Selyutin Vladimir / 1990","М",7,76,810.75]
[{"$f":"Гонки!$C$2","v":"Зима минус 100"},{"$f":"Гонки!$D$3","v":"Трейл 100"},"Зима минус 100 Трейл 100",113.8,"М",{"$f":"IF(E54=\"Ж\",VLOOKUP(C54,Гонки!$E$2:$P$16,11,FALSE),VLOOKUP(C54,Гонки!$E$2:$P$16,12,FALSE))","v":25},"Фенченко Алексей",1989,"Fenchenko Aleksej","Фенченко Алексей / Fenchenko Aleksej / 1989","М",8,72,768.07]
[{"$f":"Гонки!$C$2","v":"Зима минус 100"},{"$f":"Гонки!$D$3","v":"Трейл 100"},"Зима минус 100 Трейл 100",113.8,"М",{"$f":"IF(E55=\"Ж\",VLOOKUP(C55,Гонки!$E$2:$P$16,11,FALSE),VLOOKUP(C55,Гонки!$E$2:$P$16,12,FALSE))","v":25},"Харитонов Иван",1973,"Haritonov Ivan","Харитонов Иван / Haritonov Ivan / 1973","М",9,68,725.4]
[{"$f":"Гонки!$C$2","v":"Зима минус 100"},{"$f":"Гонки!$D$3","v":"Трейл 100"},"Зима минус 100 Трейл 100",113.8,"М",{"$f":"IF(E56=\"Ж\",VLOOKUP(C56,Гонки!$E$2:$P$16,11,FALSE),VLOOKUP(C56,Гонки!$E$2:$P$16,12,FALSE))","v":25},"Лесковец Александр",1990,"Leskovets Aleksandr","Лесковец Александр / Leskovets Aleksandr / 1990","М",10,64,682.73]
[{"$f":"Гонки!$C$2","v":"Зима минус 100"},{"$f":"Гонки!$D$3","v":"Трейл 100"},"Зима минус 100 Трейл 100",113.8,"М",{"$f":"IF(E57=\"Ж\",VLOOKUP(C57,Гонки!$E$2:$P$16,11,FALSE),VLOOKUP(C57,Гонки!$E$2:$P$16,12,FALSE))","v":25},"Нестерович Сергей",1994,"Nesterovich Sergej","Нестерович Сергей / Nesterovich Sergej / 1994","М",11,60,640.05999999999995]
[{"$f":"Гонки!$C$2","v":"Зима минус 100"},{"$f":"Гонки!$D$3","v":"Трейл 100"},"Зима минус 100 Трейл 100",113.8,"М",{"$f":"IF(E58=\"Ж\",VLOOKUP(C58,Гонки!$E$2:$P$16,11,FALSE),VLOOKUP(C58,Гонки!$E$2:$P$16,12,FALSE))","v":25},"Сорокин Денис",1998,"Sorokin Denis","Сорокин Денис / Sorokin Denis / 1998","М",12,56,597.39]
[{"$f":"Гонки!$C$2","v":"Зима минус 100"},{"$f":"Гонки!$D$3","v":"Трейл 100"},"Зима минус 100 Трейл 100",113.8,"М",{"$f":"IF(E59=\"Ж\",VLOOKUP(C59,Гонки!$E$2:$P$16,11,FALSE),VLOOKUP(C59,Гонки!$E$2:$P$16,12,FALSE))","v":25},"Маркевич Денис",1981,"Markevich Denis","Маркевич Денис / Markevich Denis / 1981","М",13,52,554.72]
[{"$f":"Гонки!$C$2","v":"Зима минус 100"},{"$f":"Гонки!$D$3","v":"Трейл 100"},"Зима минус 100 Трейл 100",113.8,"М",{"$f":"IF(E60=\"Ж\",VLOOKUP(C60,Гонки!$E$2:$P$16,11,FALSE),VLOOKUP(C60,Гонки!$E$2:$P$16,12,FALSE))","v":25},"Олин Денис",1976,"Olin Denis","Олин Денис / Olin Denis / 1976","М",14,48,512.04999999999995]
[{"$f":"Гонки!$C$4","v":"Жук-трейл # 4 Минское Море "},{"$f":"Гонки!$D$4","v":"Трейл 25"},"Жук-трейл # 4 Минское Море  Трейл 25",26.709999999999997,"Ж",{"$f":"IF(E61=\"Ж\",VLOOKUP(C61,Гонки!$E$2:$P$16,11,FALSE),VLOOKUP(C61,Гонки!$E$2:$P$16,12,FALSE))","v":11},"Гилевич Диана",1993,"Gilevich Diana","Гилевич Диана / Gilevich Diana / 1993","Ж",1,100,516.82000000000005]
[{"$f":"Гонки!$C$4","v":"Жук-трейл # 4 Минское Море "},{"$f":"Гонки!$D$4","v":"Трейл 25"},"Жук-трейл # 4 Минское Море  Трейл 25",26.709999999999997,"Ж",{"$f":"IF(E62=\"Ж\",VLOOKUP(C62,Гонки!$E$2:$P$16,11,FALSE),VLOOKUP(C62,Гонки!$E$2:$P$16,12,FALSE))","v":11},"Гилевич Кристина",1994,"Gilevich Kristina","Гилевич Кристина / Gilevich Kristina / 1994","Ж",2,90.909090909090907,469.83]
[{"$f":"Гонки!$C$4","v":"Жук-трейл # 4 Минское Море "},{"$f":"Гонки!$D$4","v":"Трейл 25"},"Жук-трейл # 4 Минское Море  Трейл 25",26.709999999999997,"Ж",{"$f":"IF(E63=\"Ж\",VLOOKUP(C63,Гонки!$E$2:$P$16,11,FALSE),VLOOKUP(C63,Гонки!$E$2:$P$16,12,FALSE))","v":11},"Скирук Юлия",1988,"Skiruk Yuliya","Скирук Юлия / Skiruk Yuliya / 1988","Ж",3,81.818181818181813,422.85]
[{"$f":"Гонки!$C$4","v":"Жук-трейл # 4 Минское Море "},{"$f":"Гонки!$D$4","v":"Трейл 25"},"Жук-трейл # 4 Минское Море  Трейл 25",26.709999999999997,"Ж",{"$f":"IF(E64=\"Ж\",VLOOKUP(C64,Гонки!$E$2:$P$16,11,FALSE),VLOOKUP(C64,Гонки!$E$2:$P$16,12,FALSE))","v":11},"Белая Юлия",1988,"Belaya Yuliya","Белая Юлия / Belaya Yuliya / 1988","Ж",4,72.727272727272734,375.87]
[{"$f":"Гонки!$C$4","v":"Жук-трейл # 4 Минское Море "},{"$f":"Гонки!$D$4","v":"Трейл 25"},"Жук-трейл # 4 Минское Море  Трейл 25",26.709999999999997,"Ж",{"$f":"IF(E65=\"Ж\",VLOOKUP(C65,Гонки!$E$2:$P$16,11,FALSE),VLOOKUP(C65,Гонки!$E$2:$P$16,12,FALSE))","v":11},"Голубева Елена",1987,"Golubeva Elena","Голубева Елена / Golubeva Elena / 1987","Ж",5,63.636363636363633,328.88]
[{"$f":"Гонки!$C$4","v":"Жук-трейл # 4 Минское Море "},{"$f":"Гонки!$D$4","v":"Трейл 25"},"Жук-трейл # 4 Минское Море  Трейл 25",{"$f":"VLOOKUP(C66,Список_гонок,10,FALSE)","v":26.709999999999997},"Ж",{"$f":"IF(E66=\"Ж\",VLOOKUP(C66,Гонки!$E$2:$P$16,11,FALSE),VLOOKUP(C66,Гонки!$E$2:$P$16,12,FALSE))","v":11},"Литвинская Людмила",1977,"Litvinskaya Lyudmila","Литвинская Людмила / Litvinskaya Lyudmila / 1977","Ж",6,54.545454545454547,281.89999999999998]
[{"$f":"Гонки!$C$4","v":"Жук-трейл # 4 Минское Море "},{"$f":"Гонки!$D$4","v":"Трейл 25"},{"$f":"CONCATENATE(A67,\" \",B67)","v":"Жук-трейл # 4 Минское Море  Трейл 25"},26.709999999999997,"Ж",{"$f":"IF(E67=\"Ж\",VLOOKUP(C67,Гонки!$E$2:$P$16,11,FALSE),VLOOKUP(C67,Гонки!$E$2:$P$16,12,FALSE))","v":11},"Суховерхая Татьяна",1986,{"$f":"Translit(G67)","v":"Suhoverhaya Tatyana"},{"$f":"CONCATENATE(G67,\" / \",I67,\" / \",H67)","v":"Суховерхая Татьяна / Suhoverhaya Tatyana / 1986"},{"$f":"E67","v":"Ж"},7,{"$f":"100-((L67-1)/F67)*100","v":45.45454545454546},{"$f":"ROUND(SQRT(D67)*M67,2)","v":234.92}]
[{"$f":"Гонки!$C$4","v":"Жук-трейл # 4 Минское Море "},{"$f":"Гонки!$D$4","v":"Трейл 25"},"Жук-трейл # 4 Минское Море  Трейл 25",26.709999999999997,"Ж",{"$f":"IF(E68=\"Ж\",VLOOKUP(C68,Гонки!$E$2:$P$16,11,FALSE),VLOOKUP(C68,Гонки!$E$2:$P$16,12,FALSE))","v":11},"Василевич Валентина",1998,"Vasilevich Valentina","Василевич Валентина / Vasilevich Valentina / 1998","Ж",8,36.363636363636367,187.93]
[{"$f":"Гонки!$C$4","v":"Жук-трейл # 4 Минское Море "},{"$f":"Гонки!$D$4","v":"Трейл 25"},"Жук-трейл # 4 Минское Море  Трейл 25",26.709999999999997,"Ж",{"$f":"IF(E69=\"Ж\",VLOOKUP(C69,Гонки!$E$2:$P$16,11,FALSE),VLOOKUP(C69,Гонки!$E$2:$P$16,12,FALSE))","v":11},"Михно Алла",1979,"Mihno Alla","Михно Алла / Mihno Alla / 1979","Ж",9,27.272727272727266,140.94999999999999]
[{"$f":"Гонки!$C$4","v":"Жук-трейл # 4 Минское Море "},{"$f":"Гонки!$D$4","v":"Трейл 25"},"Жук-трейл # 4 Минское Море  Трейл 25",26.709999999999997,"Ж",{"$f":"IF(E70=\"Ж\",VLOOKUP(C70,Гонки!$E$2:$P$16,11,FALSE),VLOOKUP(C70,Гонки!$E$2:$P$16,12,FALSE))","v":11},"Михалкин Сергей",1989,"Mihalkin Sergej","Михалкин Сергей / Mihalkin Sergej / 1989","Ж",1,100,516.82000000000005]
[{"$f":"Гонки!$C$4","v":"Жук-трейл # 4 Минское Море "},{"$f":"Гонки!$D$4","v":"Трейл 25"},"Жук-трейл # 4 Минское Море  Трейл 25",26.709999999999997,"М",{"$f":"IF(E71=\"Ж\",VLOOKUP(C71,Гонки!$E$2:$P$16,11,FALSE),VLOOKUP(C71,Гонки!$E$2:$P$16,12,FALSE))","v":81},"Сердитов Вадим",1993,"Serditov Vadim","Сердитов Вадим / Serditov Vadim / 1993","М",2,98.76543209876543,510.44]
[{"$f":"Гонки!$C$4","v":"Жук-трейл # 4 Минское Море "},{"$f":"Гонки!$D$4","v":"Трейл 25"},"Жук-трейл # 4 Минское Море  Трейл 25",26.709999999999997,"М",{"$f":"IF(E72=\"Ж\",VLOOKUP(C72,Гонки!$E$2:$P$16,11,FALSE),VLOOKUP(C72,Гонки!$E$2:$P$16,12,FALSE))","v":81},"Ходан Александр",1988,"Hodan Aleksandr","Ходан Александр / Hodan Aleksandr / 1988","М",3,97.53086419753086,504.06]
[{"$f":"Гонки!$C$4","v":"Жук-трейл # 4 Минское Море "},{"$f":"Гонки!$D$4","v":"Трейл 25"},"Жук-трейл # 4 Минское Море  Трейл 25",26.709999999999997,"М",{"$f":"IF(E73=\"Ж\",VLOOKUP(C73,Гонки!$E$2:$P$16,11,FALSE),VLOOKUP(C73,Гонки!$E$2:$P$16,12,FALSE))","v":81},"Леонов Иван",1986,"Leonov Ivan","Леонов Иван / Leonov Ivan / 1986","М",4,96.296296296296291,497.68]
[{"$f":"Гонки!$C$4","v":"Жук-трейл # 4 Минское Море "},{"$f":"Гонки!$D$4","v":"Трейл 25"},"Жук-трейл # 4 Минское Море  Трейл 25",26.709999999999997,"М",{"$f":"IF(E74=\"Ж\",VLOOKUP(C74,Гонки!$E$2:$P$16,11,FALSE),VLOOKUP(C74,Гонки!$E$2:$P$16,12,FALSE))","v":81},"Вагин Андрей",1989,"Vagin Andrej","Вагин Андрей / Vagin Andrej / 1989","М",5,95.061728395061735,491.3]
[{"$f":"Гонки!$C$4","v":"Жук-трейл # 4 Минское Море "},{"$f":"Гонки!$D$4","v":"Трейл 25"},"Жук-трейл # 4 Минское Море  Трейл 25",26.709999999999997,"М",{"$f":"IF(E75=\"Ж\",VLOOKUP(C75,Гонки!$E$2:$P$16,11,FALSE),VLOOKUP(C75,Гонки!$E$2:$P$16,12,FALSE))","v":81},"Журавлёв Андрей",1978,"Zhuravljov Andrej","Журавлёв Андрей / Zhuravljov Andrej / 1978","М",6,93.827160493827165,484.91]
[{"$f":"Гонки!$C$4","v":"Жук-трейл # 4 Минское Море "},{"$f":"Гонки!$D$4","v":"Трейл 25"},"Жук-трейл # 4 Минское Море  Трейл 25",26.709999999999997,"М",{"$f":"IF(E76=\"Ж\",VLOOKUP(C76,Гонки!$E$2:$P$16,11,FALSE),VLOOKUP(C76,Гонки!$E$2:$P$16,12,FALSE))","v":81},"Ласюк Юрий",1987,"Lasyuk Yurij","Ласюк Юрий / Lasyuk Yurij / 1987","М",7,92.592592592592595,478.53]
[{"$f":"Гонки!$C$4","v":"Жук-трейл # 4 Минское Море "},{"$f":"Гонки!$D$4","v":"Трейл 25"},"Жук-трейл # 4 Минское Море  Трейл 25",26.709999999999997,"М",{"$f":"IF(E77=\"Ж\",VLOOKUP(C77,Гонки!$E$2:$P$16,11,FALSE),VLOOKUP(C77,Гонки!$E$2:$P$16,12,FALSE))","v":81},"Овсиюк Богдан",1993,"Ovsiyuk Bogdan","Овсиюк Богдан / Ovsiyuk Bogdan / 1993","М",8,91.358024691358025,472.15]
[{"$f":"Гонки!$C$4","v":"Жук-трейл # 4 Минское Море "},{"$f":"Гонки!$D$4","v":"Трейл 25"},"Жук-трейл # 4 Минское Море  Трейл 25",26.709999999999997,"М",{"$f":"IF(E78=\"Ж\",VLOOKUP(C78,Гонки!$E$2:$P$16,11,FALSE),VLOOKUP(C78,Гонки!$E$2:$P$16,12,FALSE))","v":81},"Березовский Андрей",1973,"Berezovskij Andrej","Березовский Андрей / Berezovskij Andrej / 1973","М",9,90.123456790123456,465.77]
[{"$f":"Гонки!$C$4","v":"Жук-трейл # 4 Минское Море "},{"$f":"Гонки!$D$4","v":"Трейл 25"},"Жук-трейл # 4 Минское Море  Трейл 25",26.709999999999997,"М",{"$f":"IF(E79=\"Ж\",VLOOKUP(C79,Гонки!$E$2:$P$16,11,FALSE),VLOOKUP(C79,Гонки!$E$2:$P$16,12,FALSE))","v":81},"Скуратович Антон",1985,"Skuratovich Anton","Скуратович Антон / Skuratovich Anton / 1985","М",10,88.888888888888886,459.39]
[{"$f":"Гонки!$C$4","v":"Жук-трейл # 4 Минское Море "},{"$f":"Гонки!$D$4","v":"Трейл 25"},"Жук-трейл # 4 Минское Море  Трейл 25",26.709999999999997,"М",{"$f":"IF(E80=\"Ж\",VLOOKUP(C80,Гонки!$E$2:$P$16,11,FALSE),VLOOKUP(C80,Гонки!$E$2:$P$16,12,FALSE))","v":81},"Солодкин Сергей",1984,"Solodkin Sergej","Солодкин Сергей / Solodkin Sergej / 1984","М",11,87.654320987654316,453.01]
[{"$f":"Гонки!$C$4","v":"Жук-трейл # 4 Минское Море "},{"$f":"Гонки!$D$4","v":"Трейл 25"},"Жук-трейл # 4 Минское Море  Трейл 25",26.709999999999997,"М",{"$f":"IF(E81=\"Ж\",VLOOKUP(C81,Гонки!$E$2:$P$16,11,FALSE),VLOOKUP(C81,Гонки!$E$2:$P$16,12,FALSE))","v":81},"Молочко Александр",1981,"Molochko Aleksandr","Молочко Александр / Molochko Aleksandr / 1981","М",12,86.419753086419746,446.63]
[{"$f":"Гонки!$C$4","v":"Жук-трейл # 4 Минское Море "},{"$f":"Гонки!$D$4","v":"Трейл 25"},"Жук-трейл # 4 Минское Море  Трейл 25",26.709999999999997,"М",{"$f":"IF(E82=\"Ж\",VLOOKUP(C82,Гонки!$E$2:$P$16,11,FALSE),VLOOKUP(C82,Гонки!$E$2:$P$16,12,FALSE))","v":81},"Лукашенок Алексей",1978,"Lukashenok Aleksej","Лукашенок Алексей / Lukashenok Aleksej / 1978","М",13,85.18518518518519,440.25]
[{"$f":"Гонки!$C$4","v":"Жук-трейл # 4 Минское Море "},{"$f":"Гонки!$D$4","v":"Трейл 25"},"Жук-трейл # 4 Минское Море  Трейл 25",26.709999999999997,"М",{"$f":"IF(E83=\"Ж\",VLOOKUP(C83,Гонки!$E$2:$P$16,11,FALSE),VLOOKUP(C83,Гонки!$E$2:$P$16,12,FALSE))","v":81},"Ермохин Максим",1975,"Ermohin Maksim","Ермохин Максим / Ermohin Maksim / 1975","М",14,83.950617283950621,433.87]
[{"$f":"Гонки!$C$4","v":"Жук-трейл # 4 Минское Море "},{"$f":"Гонки!$D$4","v":"Трейл 25"},"Жук-трейл # 4 Минское Море  Трейл 25",26.709999999999997,"М",{"$f":"IF(E84=\"Ж\",VLOOKUP(C84,Гонки!$E$2:$P$16,11,FALSE),VLOOKUP(C84,Гонки!$E$2:$P$16,12,FALSE))","v":81},"Камышкайло Анатолий",1981,"Kamyshkajlo Anatolij","Камышкайло Анатолий / Kamyshkajlo Anatolij / 1981","М",15,82.716049382716051,427.49]
[{"$f":"Гонки!$C$4","v":"Жук-трейл # 4 Минское Море "},{"$f":"Гонки!$D$4","v":"Трейл 25"},"Жук-трейл # 4 Минское Море  Трейл 25",26.709999999999997,"М",{"$f":"IF(E85=\"Ж\",VLOOKUP(C85,Гонки!$E$2:$P$16,11,FALSE),VLOOKUP(C85,Гонки!$E$2:$P$16,12,FALSE))","v":81},"Филитарин Дмитрий",1987,"Filitarin Dmitrij","Филитарин Дмитрий / Filitarin Dmitrij / 1987","М",16,81.481481481481481,421.11]
[{"$f":"Гонки!$C$4","v":"Жук-трейл # 4 Минское Море "},{"$f":"Гонки!$D$4","v":"Трейл 25"},"Жук-трейл # 4 Минское Море  Трейл 25",26.709999999999997,"М",{"$f":"IF(E86=\"Ж\",VLOOKUP(C86,Гонки!$E$2:$P$16,11,FALSE),VLOOKUP(C86,Гонки!$E$2:$P$16,12,FALSE))","v":81},"Храмов Антон",1991,"Hramov Anton","Храмов Антон / Hramov Anton / 1991","М",17,80.246913580246911,414.73]
[{"$f":"Гонки!$C$4","v":"Жук-трейл # 4 Минское Море "},{"$f":"Гонки!$D$4","v":"Трейл 25"},"Жук-трейл # 4 Минское Море  Трейл 25",26.709999999999997,"М",{"$f":"IF(E87=\"Ж\",VLOOKUP(C87,Гонки!$E$2:$P$16,11,FALSE),VLOOKUP(C87,Гонки!$E$2:$P$16,12,FALSE))","v":81},"Тихонов Василий",1993,"Tihonov Vasilij","Тихонов Василий / Tihonov Vasilij / 1993","М",18,79.012345679012356,408.35]
[{"$f":"Гонки!$C$4","v":"Жук-трейл # 4 Минское Море "},{"$f":"Гонки!$D$4","v":"Трейл 25"},"Жук-трейл # 4 Минское Море  Трейл 25",26.709999999999997,"М",{"$f":"IF(E88=\"Ж\",VLOOKUP(C88,Гонки!$E$2:$P$16,11,FALSE),VLOOKUP(C88,Гонки!$E$2:$P$16,12,FALSE))","v":81},"Борисевич Леонид",1969,"Borisevich Leonid","Борисевич Леонид / Borisevich Leonid / 1969","М",19,77.777777777777771,401.97]
[{"$f":"Гонки!$C$4","v":"Жук-трейл # 4 Минское Море "},{"$f":"Гонки!$D$4","v":"Трейл 25"},"Жук-трейл # 4 Минское Море  Трейл 25",26.709999999999997,"М",{"$f":"IF(E89=\"Ж\",VLOOKUP(C89,Гонки!$E$2:$P$16,11,FALSE),VLOOKUP(C89,Гонки!$E$2:$P$16,12,FALSE))","v":81},"Остаповец Евгений",1990,"Ostapovets Evgenij","Остаповец Евгений / Ostapovets Evgenij / 1990","М",20,76.543209876543216,395.59]
[{"$f":"Гонки!$C$4","v":"Жук-трейл # 4 Минское Море "},{"$f":"Гонки!$D$4","v":"Трейл 25"},"Жук-трейл # 4 Минское Море  Трейл 25",26.709999999999997,"М",{"$f":"IF(E90=\"Ж\",VLOOKUP(C90,Гонки!$E$2:$P$16,11,FALSE),VLOOKUP(C90,Гонки!$E$2:$P$16,12,FALSE))","v":81},"Лесковец Александр",1990,"Leskovets Aleksandr","Лесковец Александр / Leskovets Aleksandr / 1990","М",21,75.308641975308646,389.21]
[{"$f":"Гонки!$C$4","v":"Жук-трейл # 4 Минское Море "},{"$f":"Гонки!$D$4","v":"Трейл 25"},"Жук-трейл # 4 Минское Море  Трейл 25",26.709999999999997,"М",{"$f":"IF(E91=\"Ж\",VLOOKUP(C91,Гонки!$E$2:$P$16,11,FALSE),VLOOKUP(C91,Гонки!$E$2:$P$16,12,FALSE))","v":81},"Тривашкевич Евгений",1996,"Trivashkevich Evgenij","Тривашкевич Евгений / Trivashkevich Evgenij / 1996","М",22,74.074074074074076,382.83]
[{"$f":"Гонки!$C$4","v":"Жук-трейл # 4 Минское Море "},{"$f":"Гонки!$D$4","v":"Трейл 25"},"Жук-трейл # 4 Минское Море  Трейл 25",26.709999999999997,"М",{"$f":"IF(E92=\"Ж\",VLOOKUP(C92,Гонки!$E$2:$P$16,11,FALSE),VLOOKUP(C92,Гонки!$E$2:$P$16,12,FALSE))","v":81},"Селютин Владимир",1990,"Selyutin Vladimir","Селютин Владимир / Selyutin Vladimir / 1990","М",23,72.839506172839506,376.45]
[{"$f":"Гонки!$C$4","v":"Жук-трейл # 4 Минское Море "},{"$f":"Гонки!$D$4","v":"Трейл 25"},"Жук-трейл # 4 Минское Море  Трейл 25",26.709999999999997,"М",{"$f":"IF(E93=\"Ж\",VLOOKUP(C93,Гонки!$E$2:$P$16,11,FALSE),VLOOKUP(C93,Гонки!$E$2:$P$16,12,FALSE))","v":81},"Остапов Владимир",1977,"Ostapov Vladimir","Остапов Владимир / Ostapov Vladimir / 1977","М",24,71.604938271604937,370.07]
[{"$f":"Гонки!$C$4","v":"Жук-трейл # 4 Минское Море "},{"$f":"Гонки!$D$4","v":"Трейл 25"},"Жук-трейл # 4 Минское Море  Трейл 25",26.709999999999997,"М",{"$f":"IF(E94=\"Ж\",VLOOKUP(C94,Гонки!$E$2:$P$16,11,FALSE),VLOOKUP(C94,Гонки!$E$2:$P$16,12,FALSE))","v":81},"Маркевич Денис",1981,"Markevich Denis","Маркевич Денис / Markevich Denis / 1981","М",25,70.370370370370381,363.69]
[{"$f":"Гонки!$C$4","v":"Жук-трейл # 4 Минское Море "},{"$f":"Гонки!$D$4","v":"Трейл 25"},"Жук-трейл # 4 Минское Море  Трейл 25",26.709999999999997,"М",{"$f":"IF(E95=\"Ж\",VLOOKUP(C95,Гонки!$E$2:$P$16,11,FALSE),VLOOKUP(C95,Гонки!$E$2:$P$16,12,FALSE))","v":81},"Дельянов Одиссей",1979,"Delyanov Odissej","Дельянов Одиссей / Delyanov Odissej / 1979","М",26,69.135802469135797,357.31]
[{"$f":"Гонки!$C$4","v":"Жук-трейл # 4 Минское Море "},{"$f":"Гонки!$D$4","v":"Трейл 25"},"Жук-трейл # 4 Минское Море  Трейл 25",26.709999999999997,"М",{"$f":"IF(E96=\"Ж\",VLOOKUP(C96,Гонки!$E$2:$P$16,11,FALSE),VLOOKUP(C96,Гонки!$E$2:$P$16,12,FALSE))","v":81},"Орловский Павел",1989,"Orlovskij Pavel","Орловский Павел / Orlovskij Pavel / 1989","М",27,67.901234567901241,350.93]
[{"$f":"Гонки!$C$4","v":"Жук-трейл # 4 Минское Море "},{"$f":"Гонки!$D$4","v":"Трейл 25"},"Жук-трейл # 4 Минское Море  Трейл 25",26.709999999999997,"М",{"$f":"IF(E97=\"Ж\",VLOOKUP(C97,Гонки!$E$2:$P$16,11,FALSE),VLOOKUP(C97,Гонки!$E$2:$P$16,12,FALSE))","v":81},"Попадюк Игорь",1982,"Popadyuk Igor","Попадюк Игорь / Popadyuk Igor / 1982","М",28,66.666666666666671,344.54]
[{"$f":"Гонки!$C$4","v":"Жук-трейл # 4 Минское Море "},{"$f":"Гонки!$D$4","v":"Трейл 25"},"Жук-трейл # 4 Минское Море  Трейл 25",26.709999999999997,"М",{"$f":"IF(E98=\"Ж\",VLOOKUP(C98,Гонки!$E$2:$P$16,11,FALSE),VLOOKUP(C98,Гонки!$E$2:$P$16,12,FALSE))","v":81},"Таран Виталий",1983,"Taran Vitalij","Таран Виталий / Taran Vitalij / 1983","М",29,65.432098765432102,338.16]
[{"$f":"Гонки!$C$4","v":"Жук-трейл # 4 Минское Море "},{"$f":"Гонки!$D$4","v":"Трейл 25"},"Жук-трейл # 4 Минское Море  Трейл 25",26.709999999999997,"М",{"$f":"IF(E99=\"Ж\",VLOOKUP(C99,Гонки!$E$2:$P$16,11,FALSE),VLOOKUP(C99,Гонки!$E$2:$P$16,12,FALSE))","v":81},"Алексеев Алексей",1980,"Alekseev Aleksej","Алексеев Алексей / Alekseev Aleksej / 1980","М",30,64.197530864197532,331.78]
[{"$f":"Гонки!$C$4","v":"Жук-трейл # 4 Минское Море "},{"$f":"Гонки!$D$4","v":"Трейл 25"},"Жук-трейл # 4 Минское Море  Трейл 25",26.709999999999997,"М",{"$f":"IF(E100=\"Ж\",VLOOKUP(C100,Гонки!$E$2:$P$16,11,FALSE),VLOOKUP(C100,Гонки!$E$2:$P$16,12,FALSE))","v":81},"Шклярик Олег",1970,"Shklyarik Oleg","Шклярик Олег / Shklyarik Oleg / 1970","М",31,62.962962962962962,325.39999999999998]
[{"$f":"Гонки!$C$4","v":"Жук-трейл # 4 Минское Море "},{"$f":"Гонки!$D$4","v":"Трейл 25"},"Жук-трейл # 4 Минское Море  Трейл 25",26.709999999999997,"М",{"$f":"IF(E101=\"Ж\",VLOOKUP(C101,Гонки!$E$2:$P$16,11,FALSE),VLOOKUP(C101,Гонки!$E$2:$P$16,12,FALSE))","v":81},"Бокша Сергей",1988,"Boksha Sergej","Бокша Сергей / Boksha Sergej / 1988","М",32,61.728395061728399,319.02]
[{"$f":"Гонки!$C$4","v":"Жук-трейл # 4 Минское Море "},{"$f":"Гонки!$D$4","v":"Трейл 25"},"Жук-трейл # 4 Минское Море  Трейл 25",26.709999999999997,"М",{"$f":"IF(E102=\"Ж\",VLOOKUP(C102,Гонки!$E$2:$P$16,11,FALSE),VLOOKUP(C102,Гонки!$E$2:$P$16,12,FALSE))","v":81},"Свечников Антон",1991,"Svechnikov Anton","Свечников Антон / Svechnikov Anton / 1991","М",33,60.493827160493829,312.64]
[{"$f":"Гонки!$C$4","v":"Жук-трейл # 4 Минское Море "},{"$f":"Гонки!$D$4","v":"Трейл 25"},"Жук-трейл # 4 Минское Море  Трейл 25",26.709999999999997,"М",{"$f":"IF(E103=\"Ж\",VLOOKUP(C103,Гонки!$E$2:$P$16,11,FALSE),VLOOKUP(C103,Гонки!$E$2:$P$16,12,FALSE))","v":81},"Львовский Андрей",1991,"Lvovskij Andrej","Львовский Андрей / Lvovskij Andrej / 1991","М",34,59.25925925925926,306.26]
[{"$f":"Гонки!$C$4","v":"Жук-трейл # 4 Минское Море "},{"$f":"Гонки!$D$4","v":"Трейл 25"},"Жук-трейл # 4 Минское Море  Трейл 25",26.709999999999997,"М",{"$f":"IF(E104=\"Ж\",VLOOKUP(C104,Гонки!$E$2:$P$16,11,FALSE),VLOOKUP(C104,Гонки!$E$2:$P$16,12,FALSE))","v":81},"Марчук Александр",1986,"Marchuk Aleksandr","Марчук Александр / Marchuk Aleksandr / 1986","М",35,58.024691358024697,299.88]
[{"$f":"Гонки!$C$4","v":"Жук-трейл # 4 Минское Море "},{"$f":"Гонки!$D$4","v":"Трейл 25"},"Жук-трейл # 4 Минское Море  Трейл 25",26.709999999999997,"М",{"$f":"IF(E105=\"Ж\",VLOOKUP(C105,Гонки!$E$2:$P$16,11,FALSE),VLOOKUP(C105,Гонки!$E$2:$P$16,12,FALSE))","v":81},"Веремейчик Юрий",1979,"Veremejchik Yurij","Веремейчик Юрий / Veremejchik Yurij / 1979","М",36,56.790123456790127,293.5]
[{"$f":"Гонки!$C$4","v":"Жук-трейл # 4 Минское Море "},{"$f":"Гонки!$D$4","v":"Трейл 25"},"Жук-трейл # 4 Минское Море  Трейл 25",26.709999999999997,"М",{"$f":"IF(E106=\"Ж\",VLOOKUP(C106,Гонки!$E$2:$P$16,11,FALSE),VLOOKUP(C106,Гонки!$E$2:$P$16,12,FALSE))","v":81},"Жданович Андрей",1973,"Zhdanovich Andrej","Жданович Андрей / Zhdanovich Andrej / 1973","М",37,55.555555555555557,287.12]
[{"$f":"Гонки!$C$4","v":"Жук-трейл # 4 Минское Море "},{"$f":"Гонки!$D$4","v":"Трейл 25"},"Жук-трейл # 4 Минское Море  Трейл 25",26.709999999999997,"М",{"$f":"IF(E107=\"Ж\",VLOOKUP(C107,Гонки!$E$2:$P$16,11,FALSE),VLOOKUP(C107,Гонки!$E$2:$P$16,12,FALSE))","v":81},"Федорович Николай",1959,"Fedorovich Nikolaj","Федорович Николай / Fedorovich Nikolaj / 1959","М",38,54.320987654320987,280.74]
[{"$f":"Гонки!$C$4","v":"Жук-трейл # 4 Минское Море "},{"$f":"Гонки!$D$4","v":"Трейл 25"},"Жук-трейл # 4 Минское Море  Трейл 25",26.709999999999997,"М",{"$f":"IF(E108=\"Ж\",VLOOKUP(C108,Гонки!$E$2:$P$16,11,FALSE),VLOOKUP(C108,Гонки!$E$2:$P$16,12,FALSE))","v":81},"Коровец Богдан",1976,"Korovets Bogdan","Коровец Богдан / Korovets Bogdan / 1976","М",39,53.086419753086425,274.36]
[{"$f":"Гонки!$C$4","v":"Жук-трейл # 4 Минское Море "},{"$f":"Гонки!$D$4","v":"Трейл 25"},"Жук-трейл # 4 Минское Море  Трейл 25",26.709999999999997,"М",{"$f":"IF(E109=\"Ж\",VLOOKUP(C109,Гонки!$E$2:$P$16,11,FALSE),VLOOKUP(C109,Гонки!$E$2:$P$16,12,FALSE))","v":81},"Заяц Александр",1978,"Zayats Aleksandr","Заяц Александр / Zayats Aleksandr / 1978","М",40,51.851851851851855,267.98]
[{"$f":"Гонки!$C$4","v":"Жук-трейл # 4 Минское Море "},{"$f":"Гонки!$D$4","v":"Трейл 25"},"Жук-трейл # 4 Минское Море  Трейл 25",26.709999999999997,"М",{"$f":"IF(E110=\"Ж\",VLOOKUP(C110,Гонки!$E$2:$P$16,11,FALSE),VLOOKUP(C110,Гонки!$E$2:$P$16,12,FALSE))","v":81},"Славинский Дмитрий",1986,"Slavinskij Dmitrij","Славинский Дмитрий / Slavinskij Dmitrij / 1986","М",41,50.617283950617285,261.60000000000002]
[{"$f":"Гонки!$C$4","v":"Жук-трейл # 4 Минское Море "},{"$f":"Гонки!$D$4","v":"Трейл 25"},"Жук-трейл # 4 Минское Море  Трейл 25",26.709999999999997,"М",{"$f":"IF(E111=\"Ж\",VLOOKUP(C111,Гонки!$E$2:$P$16,11,FALSE),VLOOKUP(C111,Гонки!$E$2:$P$16,12,FALSE))","v":81},"Симонов Вадим",1985,"Simonov Vadim","Симонов Вадим / Simonov Vadim / 1985","М",42,49.382716049382715,255.22]
[{"$f":"Гонки!$C$4","v":"Жук-трейл # 4 Минское Море "},{"$f":"Гонки!$D$4","v":"Трейл 25"},"Жук-трейл # 4 Минское Море  Трейл 25",26.709999999999997,"М",{"$f":"IF(E112=\"Ж\",VLOOKUP(C112,Гонки!$E$2:$P$16,11,FALSE),VLOOKUP(C112,Гонки!$E$2:$P$16,12,FALSE))","v":81},"Драгун Борис",1970,"Dragun Boris","Драгун Борис / Dragun Boris / 1970","М",43,48.148148148148152,248.84]
[{"$f":"Гонки!$C$4","v":"Жук-трейл # 4 Минское Море "},{"$f":"Гонки!$D$4","v":"Трейл 25"},"Жук-трейл # 4 Минское Море  Трейл 25",26.709999999999997,"М",{"$f":"IF(E113=\"Ж\",VLOOKUP(C113,Гонки!$E$2:$P$16,11,FALSE),VLOOKUP(C113,Гонки!$E$2:$P$16,12,FALSE))","v":81},"Подрез Ярослав",1996,"Podrez Yaroslav","Подрез Ярослав / Podrez Yaroslav / 1996","М",44,46.913580246913575,242.46]
[{"$f":"Гонки!$C$4","v":"Жук-трейл # 4 Минское Море "},{"$f":"Гонки!$D$4","v":"Трейл 25"},"Жук-трейл # 4 Минское Море  Трейл 25",26.709999999999997,"М",{"$f":"IF(E114=\"Ж\",VLOOKUP(C114,Гонки!$E$2:$P$16,11,FALSE),VLOOKUP(C114,Гонки!$E$2:$P$16,12,FALSE))","v":81},"Кожемякин Владимир",1970,"Kozhemyakin Vladimir","Кожемякин Владимир / Kozhemyakin Vladimir / 1970","М",45,45.679012345679013,236.08]
[{"$f":"Гонки!$C$4","v":"Жук-трейл # 4 Минское Море "},{"$f":"Гонки!$D$4","v":"Трейл 25"},"Жук-трейл # 4 Минское Море  Трейл 25",26.709999999999997,"М",{"$f":"IF(E115=\"Ж\",VLOOKUP(C115,Гонки!$E$2:$P$16,11,FALSE),VLOOKUP(C115,Гонки!$E$2:$P$16,12,FALSE))","v":81},"Лавник Игорь",1983,"Lavnik Igor","Лавник Игорь / Lavnik Igor / 1983","М",46,44.444444444444443,229.7]
[{"$f":"Гонки!$C$4","v":"Жук-трейл # 4 Минское Море "},{"$f":"Гонки!$D$4","v":"Трейл 25"},"Жук-трейл # 4 Минское Море  Трейл 25",26.709999999999997,"М",{"$f":"IF(E116=\"Ж\",VLOOKUP(C116,Гонки!$E$2:$P$16,11,FALSE),VLOOKUP(C116,Гонки!$E$2:$P$16,12,FALSE))","v":81},"Селиванов Алексавндр",1970,"Selivanov Aleksavndr","Селиванов Алексавндр / Selivanov Aleksavndr / 1970","М",47,43.20987654320988,223.32]
[{"$f":"Гонки!$C$4","v":"Жук-трейл # 4 Минское Море "},{"$f":"Гонки!$D$4","v":"Трейл 25"},"Жук-трейл # 4 Минское Море  Трейл 25",26.709999999999997,"М",{"$f":"IF(E117=\"Ж\",VLOOKUP(C117,Гонки!$E$2:$P$16,11,FALSE),VLOOKUP(C117,Гонки!$E$2:$P$16,12,FALSE))","v":81},"Писаренко Андрей",1957,"Pisarenko Andrej","Писаренко Андрей / Pisarenko Andrej / 1957","М",48,41.975308641975303,216.94]
[{"$f":"Гонки!$C$4","v":"Жук-трейл # 4 Минское Море "},{"$f":"Гонки!$D$4","v":"Трейл 25"},"Жук-трейл # 4 Минское Море  Трейл 25",26.709999999999997,"М",{"$f":"IF(E118=\"Ж\",VLOOKUP(C118,Гонки!$E$2:$P$16,11,FALSE),VLOOKUP(C118,Гонки!$E$2:$P$16,12,FALSE))","v":81},"Глушаков Сергей",1958,"Glushakov Sergej","Глушаков Сергей / Glushakov Sergej / 1958","М",49,40.740740740740748,210.56]
[{"$f":"Гонки!$C$4","v":"Жук-трейл # 4 Минское Море "},{"$f":"Гонки!$D$4","v":"Трейл 25"},"Жук-трейл # 4 Минское Море  Трейл 25",26.709999999999997,"М",{"$f":"IF(E119=\"Ж\",VLOOKUP(C119,Гонки!$E$2:$P$16,11,FALSE),VLOOKUP(C119,Гонки!$E$2:$P$16,12,FALSE))","v":81},"Кожан Михаил",1946,"Kozhan Mihail","Кожан Михаил / Kozhan Mihail / 1946","М",50,39.506172839506171,204.17]
[{"$f":"Гонки!$C$4","v":"Жук-трейл # 4 Минское Море "},{"$f":"Гонки!$D$4","v":"Трейл 25"},"Жук-трейл # 4 Минское Море  Трейл 25",26.709999999999997,"М",{"$f":"IF(E120=\"Ж\",VLOOKUP(C120,Гонки!$E$2:$P$16,11,FALSE),VLOOKUP(C120,Гонки!$E$2:$P$16,12,FALSE))","v":81},"Илатовский Дмитрий",1974,"Ilatovskij Dmitrij","Илатовский Дмитрий / Ilatovskij Dmitrij / 1974","М",51,38.271604938271608,197.79]
[{"$f":"Гонки!$C$4","v":"Жук-трейл # 4 Минское Море "},{"$f":"Гонки!$D$4","v":"Трейл 25"},"Жук-трейл # 4 Минское Море  Трейл 25",26.709999999999997,"М",{"$f":"IF(E121=\"Ж\",VLOOKUP(C121,Гонки!$E$2:$P$16,11,FALSE),VLOOKUP(C121,Гонки!$E$2:$P$16,12,FALSE))","v":81},"Дегтярев Сергей",1983,"Degtyarev Sergej","Дегтярев Сергей / Degtyarev Sergej / 1983","М",52,37.037037037037038,191.41]
[{"$f":"Гонки!$C$4","v":"Жук-трейл # 4 Минское Море "},{"$f":"Гонки!$D$4","v":"Трейл 25"},"Жук-трейл # 4 Минское Море  Трейл 25",26.709999999999997,"М",{"$f":"IF(E122=\"Ж\",VLOOKUP(C122,Гонки!$E$2:$P$16,11,FALSE),VLOOKUP(C122,Гонки!$E$2:$P$16,12,FALSE))","v":81},"Брытько Роман",1995,"Brytko Roman","Брытько Роман / Brytko Roman / 1995","М",53,35.802469135802468,185.03]
[{"$f":"Гонки!$C$4","v":"Жук-трейл # 4 Минское Море "},{"$f":"Гонки!$D$4","v":"Трейл 25"},"Жук-трейл # 4 Минское Море  Трейл 25",26.709999999999997,"М",{"$f":"IF(E123=\"Ж\",VLOOKUP(C123,Гонки!$E$2:$P$16,11,FALSE),VLOOKUP(C123,Гонки!$E$2:$P$16,12,FALSE))","v":81},"Кохан Виталий",1982,"Kohan Vitalij","Кохан Виталий / Kohan Vitalij / 1982","М",54,34.567901234567898,178.65]
[{"$f":"Гонки!$C$4","v":"Жук-трейл # 4 Минское Море "},{"$f":"Гонки!$D$4","v":"Трейл 25"},"Жук-трейл # 4 Минское Море  Трейл 25",26.709999999999997,"М",{"$f":"IF(E124=\"Ж\",VLOOKUP(C124,Гонки!$E$2:$P$16,11,FALSE),VLOOKUP(C124,Гонки!$E$2:$P$16,12,FALSE))","v":81},"Шепетько Сергей",1987,"Shepetko Sergej","Шепетько Сергей / Shepetko Sergej / 1987","М",55,33.333333333333343,172.27]
[{"$f":"Гонки!$C$4","v":"Жук-трейл # 4 Минское Море "},{"$f":"Гонки!$D$4","v":"Трейл 25"},"Жук-трейл # 4 Минское Море  Трейл 25",26.709999999999997,"М",{"$f":"IF(E125=\"Ж\",VLOOKUP(C125,Гонки!$E$2:$P$16,11,FALSE),VLOOKUP(C125,Гонки!$E$2:$P$16,12,FALSE))","v":81},"Ермак Алексей",1984,"Ermak Aleksej","Ермак Алексей / Ermak Aleksej / 1984","М",56,32.098765432098759,165.89]
[{"$f":"Гонки!$C$4","v":"Жук-трейл # 4 Минское Море "},{"$f":"Гонки!$D$4","v":"Трейл 25"},"Жук-трейл # 4 Минское Море  Трейл 25",26.709999999999997,"М",{"$f":"IF(E126=\"Ж\",VLOOKUP(C126,Гонки!$E$2:$P$16,11,FALSE),VLOOKUP(C126,Гонки!$E$2:$P$16,12,FALSE))","v":81},"Шило Руслан",1993,"Shilo Ruslan","Шило Руслан / Shilo Ruslan / 1993","М",57,30.864197530864203,159.51]
[{"$f":"Гонки!$C$4","v":"Жук-трейл # 4 Минское Море "},{"$f":"Гонки!$D$4","v":"Трейл 25"},"Жук-трейл # 4 Минское Море  Трейл 25",26.709999999999997,"М",{"$f":"IF(E127=\"Ж\",VLOOKUP(C127,Гонки!$E$2:$P$16,11,FALSE),VLOOKUP(C127,Гонки!$E$2:$P$16,12,FALSE))","v":81},"Шапелевич Максим",1987,"Shapelevich Maksim","Шапелевич Максим / Shapelevich Maksim / 1987","М",58,29.629629629629633,153.13]
[{"$f":"Гонки!$C$4","v":"Жук-трейл # 4 Минское Море "},{"$f":"Гонки!$D$4","v":"Трейл 25"},"Жук-трейл # 4 Минское Море  Трейл 25",26.709999999999997,"М",{"$f":"IF(E128=\"Ж\",VLOOKUP(C128,Гонки!$E$2:$P$16,11,FALSE),VLOOKUP(C128,Гонки!$E$2:$P$16,12,FALSE))","v":81},"Якубовский Игорь",1984,"Yakubovskij Igor","Якубовский Игорь / Yakubovskij Igor / 1984","М",59,28.395061728395063,146.75]
[{"$f":"Гонки!$C$4","v":"Жук-трейл # 4 Минское Море "},{"$f":"Гонки!$D$4","v":"Трейл 25"},"Жук-трейл # 4 Минское Море  Трейл 25",26.709999999999997,"М",{"$f":"IF(E129=\"Ж\",VLOOKUP(C129,Гонки!$E$2:$P$16,11,FALSE),VLOOKUP(C129,Гонки!$E$2:$P$16,12,FALSE))","v":81},"Жучков Алексей",1985,"Zhuchkov Aleksej","Жучков Алексей / Zhuchkov Aleksej / 1985","М",60,27.160493827160494,140.37]
[{"$f":"Гонки!$C$4","v":"Жук-трейл # 4 Минское Море "},{"$f":"Гонки!$D$4","v":"Трейл 25"},"Жук-трейл # 4 Минское Море  Трейл 25",{"$f":"VLOOKUP(C130,Список_гонок,10,FALSE)","v":26.709999999999997},"М",{"$f":"IF(E130=\"Ж\",VLOOKUP(C130,Гонки!$E$2:$P$16,11,FALSE),VLOOKUP(C130,Гонки!$E$2:$P$16,12,FALSE))","v":81},"Харитонов Иван",1973,"Haritonov Ivan","Харитонов Иван / Haritonov Ivan / 1973","М",61,25.925925925925924,133.99]
[{"$f":"Гонки!$C$4","v":"Жук-трейл # 4 Минское Море "},{"$f":"Гонки!$D$4","v":"Трейл 25"},{"$f":"CONCATENATE(A131,\" \",B131)","v":"Жук-трейл # 4 Минское Море  Трейл 25"},26.709999999999997,"М",{"$f":"IF(E131=\"Ж\",VLOOKUP(C131,Гонки!$E$2:$P$16,11,FALSE),VLOOKUP(C131,Гонки!$E$2:$P$16,12,FALSE))","v":81},"Тюев Даниил",1977,{"$f":"Translit(G131)","v":"Tyuev Daniil"},{"$f":"CONCATENATE(G131,\" / \",I131,\" / \",H131)","v":"Тюев Даниил / Tyuev Daniil / 1977"},{"$f":"E131","v":"М"},62,{"$f":"100-((L131-1)/F131)*100","v":24.691358024691354},{"$f":"ROUND(SQRT(D131)*M131,2)","v":127.61}]
[{"$f":"Гонки!$C$4","v":"Жук-трейл # 4 Минское Море "},{"$f":"Гонки!$D$4","v":"Трейл 25"},"Жук-трейл # 4 Минское Море  Трейл 25",26.709999999999997,"М",{"$f":"IF(E132=\"Ж\",VLOOKUP(C132,Гонки!$E$2:$P$16,11,FALSE),VLOOKUP(C132,Гонки!$E$2:$P$16,12,FALSE))","v":81},"Иолтуховский Владислав",1971,"Ioltuhovskij Vladislav","Иолтуховский Владислав / Ioltuhovskij Vladislav / 1971","М",63,23.456790123456798,121.23]
[{"$f":"Гонки!$C$4","v":"Жук-трейл # 4 Минское Море "},{"$f":"Гонки!$D$4","v":"Трейл 25"},"Жук-трейл # 4 Минское Море  Трейл 25",26.709999999999997,"М",{"$f":"IF(E133=\"Ж\",VLOOKUP(C133,Гонки!$E$2:$P$16,11,FALSE),VLOOKUP(C133,Гонки!$E$2:$P$16,12,FALSE))","v":81},"Херзен Андрей",1984,"Herzen Andrej","Херзен Андрей / Herzen Andrej / 1984","М",64,22.222222222222214,114.85]
[{"$f":"Гонки!$C$4","v":"Жук-трейл # 4 Минское Море "},{"$f":"Гонки!$D$4","v":"Трейл 25"},"Жук-трейл # 4 Минское Море  Трейл 25",26.709999999999997,"М",{"$f":"IF(E134=\"Ж\",VLOOKUP(C134,Гонки!$E$2:$P$16,11,FALSE),VLOOKUP(C134,Гонки!$E$2:$P$16,12,FALSE))","v":81},"Мурашов Владимир",1983,"Murashov Vladimir","Мурашов Владимир / Murashov Vladimir / 1983","М",65,20.987654320987659,108.47]
[{"$f":"Гонки!$C$4","v":"Жук-трейл # 4 Минское Море "},{"$f":"Гонки!$D$4","v":"Трейл 25"},"Жук-трейл # 4 Минское Море  Трейл 25",26.709999999999997,"М",{"$f":"IF(E135=\"Ж\",VLOOKUP(C135,Гонки!$E$2:$P$16,11,FALSE),VLOOKUP(C135,Гонки!$E$2:$P$16,12,FALSE))","v":81},"Михно Борис",1982,"Mihno Boris","Михно Борис / Mihno Boris / 1982","М",66,19.753086419753089,102.09]
[{"$f":"Гонки!$C$4","v":"Жук-трейл # 4 Минское Море "},{"$f":"Гонки!$D$5","v":"Трейл 16"},"Жук-трейл # 4 Минское Море  Трейл 16",19.14,"Ж",{"$f":"IF(E136=\"Ж\",VLOOKUP(C136,Гонки!$E$2:$P$16,11,FALSE),VLOOKUP(C136,Гонки!$E$2:$P$16,12,FALSE))","v":27},"Милинкевич Елена",1977,"Milinkevich Elena","Милинкевич Елена / Milinkevich Elena / 1977","Ж",1,100,437.49]
[{"$f":"Гонки!$C$4","v":"Жук-трейл # 4 Минское Море "},{"$f":"Гонки!$D$5","v":"Трейл 16"},"Жук-трейл # 4 Минское Море  Трейл 16",19.14,"Ж",{"$f":"IF(E137=\"Ж\",VLOOKUP(C137,Гонки!$E$2:$P$16,11,FALSE),VLOOKUP(C137,Гонки!$E$2:$P$16,12,FALSE))","v":27},"Казакевич Ирина",1969,"Kazakevich Irina","Казакевич Ирина / Kazakevich Irina / 1969","Ж",2,96.296296296296291,421.29]
[{"$f":"Гонки!$C$4","v":"Жук-трейл # 4 Минское Море "},{"$f":"Гонки!$D$5","v":"Трейл 16"},"Жук-трейл # 4 Минское Море  Трейл 16",19.14,"Ж",{"$f":"IF(E138=\"Ж\",VLOOKUP(C138,Гонки!$E$2:$P$16,11,FALSE),VLOOKUP(C138,Гонки!$E$2:$P$16,12,FALSE))","v":27},"Журавлёва Оксана",1980,"Zhuravljova Oksana","Журавлёва Оксана / Zhuravljova Oksana / 1980","Ж",3,92.592592592592595,405.09]
[{"$f":"Гонки!$C$4","v":"Жук-трейл # 4 Минское Море "},{"$f":"Гонки!$D$5","v":"Трейл 16"},"Жук-трейл # 4 Минское Море  Трейл 16",19.14,"Ж",{"$f":"IF(E139=\"Ж\",VLOOKUP(C139,Гонки!$E$2:$P$16,11,FALSE),VLOOKUP(C139,Гонки!$E$2:$P$16,12,FALSE))","v":27},"Танасейчук Анна",1983,"Tanasejchuk Anna","Танасейчук Анна / Tanasejchuk Anna / 1983","Ж",4,88.888888888888886,388.88]
[{"$f":"Гонки!$C$4","v":"Жук-трейл # 4 Минское Море "},{"$f":"Гонки!$D$5","v":"Трейл 16"},"Жук-трейл # 4 Минское Море  Трейл 16",19.14,"Ж",{"$f":"IF(E140=\"Ж\",VLOOKUP(C140,Гонки!$E$2:$P$16,11,FALSE),VLOOKUP(C140,Гонки!$E$2:$P$16,12,FALSE))","v":27},"Пухаева Светлана",1980,"Puhaeva Svetlana","Пухаева Светлана / Puhaeva Svetlana / 1980","Ж",5,85.18518518518519,372.68]
[{"$f":"Гонки!$C$4","v":"Жук-трейл # 4 Минское Море "},{"$f":"Гонки!$D$5","v":"Трейл 16"},"Жук-трейл # 4 Минское Море  Трейл 16",19.14,"Ж",{"$f":"IF(E141=\"Ж\",VLOOKUP(C141,Гонки!$E$2:$P$16,11,FALSE),VLOOKUP(C141,Гонки!$E$2:$P$16,12,FALSE))","v":27},"Ямбушева Катерина",1987,"Yambusheva Katerina","Ямбушева Катерина / Yambusheva Katerina / 1987","Ж",6,81.481481481481481,356.48]
[{"$f":"Гонки!$C$4","v":"Жук-трейл # 4 Минское Море "},{"$f":"Гонки!$D$5","v":"Трейл 16"},"Жук-трейл # 4 Минское Море  Трейл 16",19.14,"Ж",{"$f":"IF(E142=\"Ж\",VLOOKUP(C142,Гонки!$E$2:$P$16,11,FALSE),VLOOKUP(C142,Гонки!$E$2:$P$16,12,FALSE))","v":27},"Едомская Вольга",1987,"Edomskaya Volga","Едомская Вольга / Edomskaya Volga / 1987","Ж",7,77.777777777777771,340.27]
[{"$f":"Гонки!$C$4","v":"Жук-трейл # 4 Минское Море "},{"$f":"Гонки!$D$5","v":"Трейл 16"},"Жук-трейл # 4 Минское Море  Трейл 16",19.14,"Ж",{"$f":"IF(E143=\"Ж\",VLOOKUP(C143,Гонки!$E$2:$P$16,11,FALSE),VLOOKUP(C143,Гонки!$E$2:$P$16,12,FALSE))","v":27},"Сикорская Настя",1983,"Sikorskaya Nastya","Сикорская Настя / Sikorskaya Nastya / 1983","Ж",8,74.074074074074076,324.07]
[{"$f":"Гонки!$C$4","v":"Жук-трейл # 4 Минское Море "},{"$f":"Гонки!$D$5","v":"Трейл 16"},"Жук-трейл # 4 Минское Море  Трейл 16",19.14,"Ж",{"$f":"IF(E144=\"Ж\",VLOOKUP(C144,Гонки!$E$2:$P$16,11,FALSE),VLOOKUP(C144,Гонки!$E$2:$P$16,12,FALSE))","v":27},"Невмержицкая Анна",1997,"Nevmerzhitskaya Anna","Невмержицкая Анна / Nevmerzhitskaya Anna / 1997","Ж",9,70.370370370370381,307.87]
[{"$f":"Гонки!$C$4","v":"Жук-трейл # 4 Минское Море "},{"$f":"Гонки!$D$5","v":"Трейл 16"},"Жук-трейл # 4 Минское Море  Трейл 16",19.14,"Ж",{"$f":"IF(E145=\"Ж\",VLOOKUP(C145,Гонки!$E$2:$P$16,11,FALSE),VLOOKUP(C145,Гонки!$E$2:$P$16,12,FALSE))","v":27},"Таранко Марта",1990,"Taranko Marta","Таранко Марта / Taranko Marta / 1990","Ж",10,66.666666666666671,291.66000000000003]
[{"$f":"Гонки!$C$4","v":"Жук-трейл # 4 Минское Море "},{"$f":"Гонки!$D$5","v":"Трейл 16"},"Жук-трейл # 4 Минское Море  Трейл 16",19.14,"Ж",{"$f":"IF(E146=\"Ж\",VLOOKUP(C146,Гонки!$E$2:$P$16,11,FALSE),VLOOKUP(C146,Гонки!$E$2:$P$16,12,FALSE))","v":27},"Григорьева Светлана",1984,"Grigoreva Svetlana","Григорьева Светлана / Grigoreva Svetlana / 1984","Ж",11,62.962962962962962,275.45999999999998]
[{"$f":"Гонки!$C$4","v":"Жук-трейл # 4 Минское Море "},{"$f":"Гонки!$D$5","v":"Трейл 16"},"Жук-трейл # 4 Минское Море  Трейл 16",19.14,"Ж",{"$f":"IF(E147=\"Ж\",VLOOKUP(C147,Гонки!$E$2:$P$16,11,FALSE),VLOOKUP(C147,Гонки!$E$2:$P$16,12,FALSE))","v":27},"Чеботаева Валерия",1993,"Chebotaeva Valeriya","Чеботаева Валерия / Chebotaeva Valeriya / 1993","Ж",12,59.25925925925926,259.26]
[{"$f":"Гонки!$C$4","v":"Жук-трейл # 4 Минское Море "},{"$f":"Гонки!$D$5","v":"Трейл 16"},"Жук-трейл # 4 Минское Море  Трейл 16",19.14,"Ж",{"$f":"IF(E148=\"Ж\",VLOOKUP(C148,Гонки!$E$2:$P$16,11,FALSE),VLOOKUP(C148,Гонки!$E$2:$P$16,12,FALSE))","v":27},"Малаховская Татьяна",1989,"Malahovskaya Tatyana","Малаховская Татьяна / Malahovskaya Tatyana / 1989","Ж",13,55.555555555555557,243.05]
[{"$f":"Гонки!$C$4","v":"Жук-трейл # 4 Минское Море "},{"$f":"Гонки!$D$5","v":"Трейл 16"},"Жук-трейл # 4 Минское Море  Трейл 16",19.14,"Ж",{"$f":"IF(E149=\"Ж\",VLOOKUP(C149,Гонки!$E$2:$P$16,11,FALSE),VLOOKUP(C149,Гонки!$E$2:$P$16,12,FALSE))","v":27},"Булеева Наталья",1969,"Buleeva Natalya","Булеева Наталья / Buleeva Natalya / 1969","Ж",14,51.851851851851855,226.85]
[{"$f":"Гонки!$C$4","v":"Жук-трейл # 4 Минское Море "},{"$f":"Гонки!$D$5","v":"Трейл 16"},"Жук-трейл # 4 Минское Море  Трейл 16",19.14,"Ж",{"$f":"IF(E150=\"Ж\",VLOOKUP(C150,Гонки!$E$2:$P$16,11,FALSE),VLOOKUP(C150,Гонки!$E$2:$P$16,12,FALSE))","v":27},"Липницкая Виктория",1987,"Lipnitskaya Viktoriya","Липницкая Виктория / Lipnitskaya Viktoriya / 1987","Ж",15,48.148148148148152,210.64]
[{"$f":"Гонки!$C$4","v":"Жук-трейл # 4 Минское Море "},{"$f":"Гонки!$D$5","v":"Трейл 16"},"Жук-трейл # 4 Минское Море  Трейл 16",19.14,"Ж",{"$f":"IF(E151=\"Ж\",VLOOKUP(C151,Гонки!$E$2:$P$16,11,FALSE),VLOOKUP(C151,Гонки!$E$2:$P$16,12,FALSE))","v":27},"Грейд Юлия",1986,"Grejd Yuliya","Грейд Юлия / Grejd Yuliya / 1986","Ж",16,44.444444444444443,194.44]
[{"$f":"Гонки!$C$4","v":"Жук-трейл # 4 Минское Море "},{"$f":"Гонки!$D$5","v":"Трейл 16"},"Жук-трейл # 4 Минское Море  Трейл 16",19.14,"Ж",{"$f":"IF(E152=\"Ж\",VLOOKUP(C152,Гонки!$E$2:$P$16,11,FALSE),VLOOKUP(C152,Гонки!$E$2:$P$16,12,FALSE))","v":27},"Гринько Анастасия",1993,"Grinko Anastasiya","Гринько Анастасия / Grinko Anastasiya / 1993","Ж",17,40.740740740740748,178.24]
[{"$f":"Гонки!$C$4","v":"Жук-трейл # 4 Минское Море "},{"$f":"Гонки!$D$5","v":"Трейл 16"},"Жук-трейл # 4 Минское Море  Трейл 16",19.14,"Ж",{"$f":"IF(E153=\"Ж\",VLOOKUP(C153,Гонки!$E$2:$P$16,11,FALSE),VLOOKUP(C153,Гонки!$E$2:$P$16,12,FALSE))","v":27},"Трубкина Инна",1972,"Trubkina Inna","Трубкина Инна / Trubkina Inna / 1972","Ж",18,37.037037037037038,162.03]
[{"$f":"Гонки!$C$4","v":"Жук-трейл # 4 Минское Море "},{"$f":"Гонки!$D$5","v":"Трейл 16"},"Жук-трейл # 4 Минское Море  Трейл 16",19.14,"Ж",{"$f":"IF(E154=\"Ж\",VLOOKUP(C154,Гонки!$E$2:$P$16,11,FALSE),VLOOKUP(C154,Гонки!$E$2:$P$16,12,FALSE))","v":27},"Сильченко Наталья",null,"Silchenko Natalya","Сильченко Наталья / Silchenko Natalya / ","Ж",19,33.333333333333343,145.83000000000001]
[{"$f":"Гонки!$C$4","v":"Жук-трейл # 4 Минское Море "},{"$f":"Гонки!$D$5","v":"Трейл 16"},"Жук-трейл # 4 Минское Море  Трейл 16",19.14,"Ж",{"$f":"IF(E155=\"Ж\",VLOOKUP(C155,Гонки!$E$2:$P$16,11,FALSE),VLOOKUP(C155,Гонки!$E$2:$P$16,12,FALSE))","v":27},"Мурашкина Галина",1988,"Murashkina Galina","Мурашкина Галина / Murashkina Galina / 1988","Ж",20,29.629629629629633,129.63]
[{"$f":"Гонки!$C$4","v":"Жук-трейл # 4 Минское Море "},{"$f":"Гонки!$D$5","v":"Трейл 16"},"Жук-трейл # 4 Минское Море  Трейл 16",19.14,"Ж",{"$f":"IF(E156=\"Ж\",VLOOKUP(C156,Гонки!$E$2:$P$16,11,FALSE),VLOOKUP(C156,Гонки!$E$2:$P$16,12,FALSE))","v":27},"Туровец Ольга",1979,"Turovets Olga","Туровец Ольга / Turovets Olga / 1979","Ж",21,25.925925925925924,113.42]
[{"$f":"Гонки!$C$4","v":"Жук-трейл # 4 Минское Море "},{"$f":"Гонки!$D$5","v":"Трейл 16"},"Жук-трейл # 4 Минское Море  Трейл 16",19.14,"Ж",{"$f":"IF(E157=\"Ж\",VLOOKUP(C157,Гонки!$E$2:$P$16,11,FALSE),VLOOKUP(C157,Гонки!$E$2:$P$16,12,FALSE))","v":27},"Вдовиченко Ирина",1989,"Vdovichenko Irina","Вдовиченко Ирина / Vdovichenko Irina / 1989","Ж",22,22.222222222222214,97.22]
[{"$f":"Гонки!$C$4","v":"Жук-трейл # 4 Минское Море "},{"$f":"Гонки!$D$5","v":"Трейл 16"},"Жук-трейл # 4 Минское Море  Трейл 16",19.14,"Ж",{"$f":"IF(E158=\"Ж\",VLOOKUP(C158,Гонки!$E$2:$P$16,11,FALSE),VLOOKUP(C158,Гонки!$E$2:$P$16,12,FALSE))","v":27},"Петкевич Лилия",1990,"Petkevich Liliya","Петкевич Лилия / Petkevich Liliya / 1990","Ж",23,18.518518518518519,81.02]
[{"$f":"Гонки!$C$4","v":"Жук-трейл # 4 Минское Море "},{"$f":"Гонки!$D$5","v":"Трейл 16"},"Жук-трейл # 4 Минское Море  Трейл 16",19.14,"М",{"$f":"IF(E159=\"Ж\",VLOOKUP(C159,Гонки!$E$2:$P$16,11,FALSE),VLOOKUP(C159,Гонки!$E$2:$P$16,12,FALSE))","v":51},"Стасевич Александр",1987,"Stasevich Aleksandr","Стасевич Александр / Stasevich Aleksandr / 1987","М",1,100,437.49]
[{"$f":"Гонки!$C$4","v":"Жук-трейл # 4 Минское Море "},{"$f":"Гонки!$D$5","v":"Трейл 16"},"Жук-трейл # 4 Минское Море  Трейл 16",19.14,"М",{"$f":"IF(E160=\"Ж\",VLOOKUP(C160,Гонки!$E$2:$P$16,11,FALSE),VLOOKUP(C160,Гонки!$E$2:$P$16,12,FALSE))","v":51},"Волков Николай",1989,"Volkov Nikolaj","Волков Николай / Volkov Nikolaj / 1989","М",2,98.039215686274517,428.91]
[{"$f":"Гонки!$C$4","v":"Жук-трейл # 4 Минское Море "},{"$f":"Гонки!$D$5","v":"Трейл 16"},"Жук-трейл # 4 Минское Море  Трейл 16",19.14,"М",{"$f":"IF(E161=\"Ж\",VLOOKUP(C161,Гонки!$E$2:$P$16,11,FALSE),VLOOKUP(C161,Гонки!$E$2:$P$16,12,FALSE))","v":51},"Захаркин Сергей",1976,"Zaharkin Sergej","Захаркин Сергей / Zaharkin Sergej / 1976","М",3,96.078431372549019,420.34]
[{"$f":"Гонки!$C$4","v":"Жук-трейл # 4 Минское Море "},{"$f":"Гонки!$D$5","v":"Трейл 16"},"Жук-трейл # 4 Минское Море  Трейл 16",19.14,"М",{"$f":"IF(E162=\"Ж\",VLOOKUP(C162,Гонки!$E$2:$P$16,11,FALSE),VLOOKUP(C162,Гонки!$E$2:$P$16,12,FALSE))","v":51},"Чеботаев Сергей",1989,"Chebotaev Sergej","Чеботаев Сергей / Chebotaev Sergej / 1989","М",4,94.117647058823536,411.76]
[{"$f":"Гонки!$C$4","v":"Жук-трейл # 4 Минское Море "},{"$f":"Гонки!$D$5","v":"Трейл 16"},"Жук-трейл # 4 Минское Море  Трейл 16",19.14,"М",{"$f":"IF(E163=\"Ж\",VLOOKUP(C163,Гонки!$E$2:$P$16,11,FALSE),VLOOKUP(C163,Гонки!$E$2:$P$16,12,FALSE))","v":51},"Бузо Александр",1982,"Buzo Aleksandr","Бузо Александр / Buzo Aleksandr / 1982","М",5,92.156862745098039,403.18]
[{"$f":"Гонки!$C$4","v":"Жук-трейл # 4 Минское Море "},{"$f":"Гонки!$D$5","v":"Трейл 16"},"Жук-трейл # 4 Минское Море  Трейл 16",19.14,"М",{"$f":"IF(E164=\"Ж\",VLOOKUP(C164,Гонки!$E$2:$P$16,11,FALSE),VLOOKUP(C164,Гонки!$E$2:$P$16,12,FALSE))","v":51},"Сидоревич Александр",1985,"Sidorevich Aleksandr","Сидоревич Александр / Sidorevich Aleksandr / 1985","М",6,90.196078431372541,394.6]
[{"$f":"Гонки!$C$4","v":"Жук-трейл # 4 Минское Море "},{"$f":"Гонки!$D$5","v":"Трейл 16"},"Жук-трейл # 4 Минское Море  Трейл 16",19.14,"М",{"$f":"IF(E165=\"Ж\",VLOOKUP(C165,Гонки!$E$2:$P$16,11,FALSE),VLOOKUP(C165,Гонки!$E$2:$P$16,12,FALSE))","v":51},"Михнюк Виктор",1990,"Mihnyuk Viktor","Михнюк Виктор / Mihnyuk Viktor / 1990","М",7,88.235294117647058,386.02]
[{"$f":"Гонки!$C$4","v":"Жук-трейл # 4 Минское Море "},{"$f":"Гонки!$D$5","v":"Трейл 16"},"Жук-трейл # 4 Минское Море  Трейл 16",19.14,"М",{"$f":"IF(E166=\"Ж\",VLOOKUP(C166,Гонки!$E$2:$P$16,11,FALSE),VLOOKUP(C166,Гонки!$E$2:$P$16,12,FALSE))","v":51},"Крисенков Алексей",1983,"Krisenkov Aleksej","Крисенков Алексей / Krisenkov Aleksej / 1983","М",8,86.274509803921575,377.44]
[{"$f":"Гонки!$C$4","v":"Жук-трейл # 4 Минское Море "},{"$f":"Гонки!$D$5","v":"Трейл 16"},"Жук-трейл # 4 Минское Море  Трейл 16",19.14,"М",{"$f":"IF(E167=\"Ж\",VLOOKUP(C167,Гонки!$E$2:$P$16,11,FALSE),VLOOKUP(C167,Гонки!$E$2:$P$16,12,FALSE))","v":51},"Нечаев Владимир",1995,"Nechaev Vladimir","Нечаев Владимир / Nechaev Vladimir / 1995","М",9,84.313725490196077,368.87]
[{"$f":"Гонки!$C$4","v":"Жук-трейл # 4 Минское Море "},{"$f":"Гонки!$D$5","v":"Трейл 16"},"Жук-трейл # 4 Минское Море  Трейл 16",19.14,"М",{"$f":"IF(E168=\"Ж\",VLOOKUP(C168,Гонки!$E$2:$P$16,11,FALSE),VLOOKUP(C168,Гонки!$E$2:$P$16,12,FALSE))","v":51},"Пузаревский Роман",1994,"Puzarevskij Roman","Пузаревский Роман / Puzarevskij Roman / 1994","М",10,82.35294117647058,360.29]
[{"$f":"Гонки!$C$4","v":"Жук-трейл # 4 Минское Море "},{"$f":"Гонки!$D$5","v":"Трейл 16"},"Жук-трейл # 4 Минское Море  Трейл 16",19.14,"М",{"$f":"IF(E169=\"Ж\",VLOOKUP(C169,Гонки!$E$2:$P$16,11,FALSE),VLOOKUP(C169,Гонки!$E$2:$P$16,12,FALSE))","v":51},"Лойко Сергей",1985,"Lojko Sergej","Лойко Сергей / Lojko Sergej / 1985","М",11,80.392156862745097,351.71]
[{"$f":"Гонки!$C$4","v":"Жук-трейл # 4 Минское Море "},{"$f":"Гонки!$D$5","v":"Трейл 16"},"Жук-трейл # 4 Минское Море  Трейл 16",19.14,"М",{"$f":"IF(E170=\"Ж\",VLOOKUP(C170,Гонки!$E$2:$P$16,11,FALSE),VLOOKUP(C170,Гонки!$E$2:$P$16,12,FALSE))","v":51},"Зеленко Дмитрий",1987,"Zelenko Dmitrij","Зеленко Дмитрий / Zelenko Dmitrij / 1987","М",12,78.431372549019613,343.13]
[{"$f":"Гонки!$C$4","v":"Жук-трейл # 4 Минское Море "},{"$f":"Гонки!$D$5","v":"Трейл 16"},"Жук-трейл # 4 Минское Море  Трейл 16",19.14,"М",{"$f":"IF(E171=\"Ж\",VLOOKUP(C171,Гонки!$E$2:$P$16,11,FALSE),VLOOKUP(C171,Гонки!$E$2:$P$16,12,FALSE))","v":51},"Юкевич Александр",1983,"Yukevich Aleksandr","Юкевич Александр / Yukevich Aleksandr / 1983","М",13,76.470588235294116,334.55]
[{"$f":"Гонки!$C$4","v":"Жук-трейл # 4 Минское Море "},{"$f":"Гонки!$D$5","v":"Трейл 16"},"Жук-трейл # 4 Минское Море  Трейл 16",19.14,"М",{"$f":"IF(E172=\"Ж\",VLOOKUP(C172,Гонки!$E$2:$P$16,11,FALSE),VLOOKUP(C172,Гонки!$E$2:$P$16,12,FALSE))","v":51},"Павленко Юрий",1983,"Pavlenko Yurij","Павленко Юрий / Pavlenko Yurij / 1983","М",14,74.509803921568633,325.98]
[{"$f":"Гонки!$C$4","v":"Жук-трейл # 4 Минское Море "},{"$f":"Гонки!$D$5","v":"Трейл 16"},"Жук-трейл # 4 Минское Море  Трейл 16",19.14,"М",{"$f":"IF(E173=\"Ж\",VLOOKUP(C173,Гонки!$E$2:$P$16,11,FALSE),VLOOKUP(C173,Гонки!$E$2:$P$16,12,FALSE))","v":51},"Слободько Дмитрий",1984,"Slobodko Dmitrij","Слободько Дмитрий / Slobodko Dmitrij / 1984","М",15,72.549019607843135,317.39999999999998]
[{"$f":"Гонки!$C$4","v":"Жук-трейл # 4 Минское Море "},{"$f":"Гонки!$D$5","v":"Трейл 16"},"Жук-трейл # 4 Минское Море  Трейл 16",19.14,"М",{"$f":"IF(E174=\"Ж\",VLOOKUP(C174,Гонки!$E$2:$P$16,11,FALSE),VLOOKUP(C174,Гонки!$E$2:$P$16,12,FALSE))","v":51},"Бунос Анатолий",1956,"Bunos Anatolij","Бунос Анатолий / Bunos Anatolij / 1956","М",16,70.588235294117652,308.82]
[{"$f":"Гонки!$C$4","v":"Жук-трейл # 4 Минское Море "},{"$f":"Гонки!$D$5","v":"Трейл 16"},"Жук-трейл # 4 Минское Море  Трейл 16",19.14,"М",{"$f":"IF(E175=\"Ж\",VLOOKUP(C175,Гонки!$E$2:$P$16,11,FALSE),VLOOKUP(C175,Гонки!$E$2:$P$16,12,FALSE))","v":51},"Савич Евгений",1980,"Savich Evgenij","Савич Евгений / Savich Evgenij / 1980","М",17,68.627450980392155,300.24]
[{"$f":"Гонки!$C$4","v":"Жук-трейл # 4 Минское Море "},{"$f":"Гонки!$D$5","v":"Трейл 16"},"Жук-трейл # 4 Минское Море  Трейл 16",19.14,"М",{"$f":"IF(E176=\"Ж\",VLOOKUP(C176,Гонки!$E$2:$P$16,11,FALSE),VLOOKUP(C176,Гонки!$E$2:$P$16,12,FALSE))","v":51},"Печёнов Георгий",1975,"Pechjonov Georgij","Печёнов Георгий / Pechjonov Georgij / 1975","М",18,66.666666666666671,291.66000000000003]
[{"$f":"Гонки!$C$4","v":"Жук-трейл # 4 Минское Море "},{"$f":"Гонки!$D$5","v":"Трейл 16"},"Жук-трейл # 4 Минское Море  Трейл 16",19.14,"М",{"$f":"IF(E177=\"Ж\",VLOOKUP(C177,Гонки!$E$2:$P$16,11,FALSE),VLOOKUP(C177,Гонки!$E$2:$P$16,12,FALSE))","v":51},"Верещако Павел",1988,"Vereschako Pavel","Верещако Павел / Vereschako Pavel / 1988","М",19,64.705882352941174,283.08]
[{"$f":"Гонки!$C$4","v":"Жук-трейл # 4 Минское Море "},{"$f":"Гонки!$D$5","v":"Трейл 16"},"Жук-трейл # 4 Минское Море  Трейл 16",19.14,"М",{"$f":"IF(E178=\"Ж\",VLOOKUP(C178,Гонки!$E$2:$P$16,11,FALSE),VLOOKUP(C178,Гонки!$E$2:$P$16,12,FALSE))","v":51},"Искорцев Алексей",1980,"Iskortsev Aleksej","Искорцев Алексей / Iskortsev Aleksej / 1980","М",20,62.745098039215684,274.51]
[{"$f":"Гонки!$C$4","v":"Жук-трейл # 4 Минское Море "},{"$f":"Гонки!$D$5","v":"Трейл 16"},"Жук-трейл # 4 Минское Море  Трейл 16",19.14,"М",{"$f":"IF(E179=\"Ж\",VLOOKUP(C179,Гонки!$E$2:$P$16,11,FALSE),VLOOKUP(C179,Гонки!$E$2:$P$16,12,FALSE))","v":51},"Игнатович Александр",1992,"Ignatovich Aleksandr","Игнатович Александр / Ignatovich Aleksandr / 1992","М",21,60.784313725490193,265.93]
[{"$f":"Гонки!$C$4","v":"Жук-трейл # 4 Минское Море "},{"$f":"Гонки!$D$5","v":"Трейл 16"},"Жук-трейл # 4 Минское Море  Трейл 16",19.14,"М",{"$f":"IF(E180=\"Ж\",VLOOKUP(C180,Гонки!$E$2:$P$16,11,FALSE),VLOOKUP(C180,Гонки!$E$2:$P$16,12,FALSE))","v":51},"Ролдугин Михаил",1987,"Roldugin Mihail","Ролдугин Михаил / Roldugin Mihail / 1987","М",22,58.82352941176471,257.35000000000002]
[{"$f":"Гонки!$C$4","v":"Жук-трейл # 4 Минское Море "},{"$f":"Гонки!$D$5","v":"Трейл 16"},"Жук-трейл # 4 Минское Море  Трейл 16",19.14,"М",{"$f":"IF(E181=\"Ж\",VLOOKUP(C181,Гонки!$E$2:$P$16,11,FALSE),VLOOKUP(C181,Гонки!$E$2:$P$16,12,FALSE))","v":51},"Ладеев Дмитрий",1981,"Ladeev Dmitrij","Ладеев Дмитрий / Ladeev Dmitrij / 1981","М",23,56.862745098039213,248.77]
[{"$f":"Гонки!$C$4","v":"Жук-трейл # 4 Минское Море "},{"$f":"Гонки!$D$5","v":"Трейл 16"},"Жук-трейл # 4 Минское Море  Трейл 16",19.14,"М",{"$f":"IF(E182=\"Ж\",VLOOKUP(C182,Гонки!$E$2:$P$16,11,FALSE),VLOOKUP(C182,Гонки!$E$2:$P$16,12,FALSE))","v":51},"Лукьянов Александр",1979,"Lukyanov Aleksandr","Лукьянов Александр / Lukyanov Aleksandr / 1979","М",24,54.901960784313722,240.19]
[{"$f":"Гонки!$C$4","v":"Жук-трейл # 4 Минское Море "},{"$f":"Гонки!$D$5","v":"Трейл 16"},"Жук-трейл # 4 Минское Море  Трейл 16",19.14,"М",{"$f":"IF(E183=\"Ж\",VLOOKUP(C183,Гонки!$E$2:$P$16,11,FALSE),VLOOKUP(C183,Гонки!$E$2:$P$16,12,FALSE))","v":51},"Жидович Вадим",1984,"Zhidovich Vadim","Жидович Вадим / Zhidovich Vadim / 1984","М",25,52.941176470588239,231.61]
[{"$f":"Гонки!$C$4","v":"Жук-трейл # 4 Минское Море "},{"$f":"Гонки!$D$5","v":"Трейл 16"},"Жук-трейл # 4 Минское Море  Трейл 16",19.14,"М",{"$f":"IF(E184=\"Ж\",VLOOKUP(C184,Гонки!$E$2:$P$16,11,FALSE),VLOOKUP(C184,Гонки!$E$2:$P$16,12,FALSE))","v":51},"Ярмончик Игорь",1985,"Yarmonchik Igor","Ярмончик Игорь / Yarmonchik Igor / 1985","М",26,50.980392156862749,223.04]
[{"$f":"Гонки!$C$4","v":"Жук-трейл # 4 Минское Море "},{"$f":"Гонки!$D$5","v":"Трейл 16"},"Жук-трейл # 4 Минское Море  Трейл 16",19.14,"М",{"$f":"IF(E185=\"Ж\",VLOOKUP(C185,Гонки!$E$2:$P$16,11,FALSE),VLOOKUP(C185,Гонки!$E$2:$P$16,12,FALSE))","v":51},"Скляр Антон",1983,"Sklyar Anton","Скляр Антон / Sklyar Anton / 1983","М",27,49.019607843137258,214.46]
[{"$f":"Гонки!$C$4","v":"Жук-трейл # 4 Минское Море "},{"$f":"Гонки!$D$5","v":"Трейл 16"},"Жук-трейл # 4 Минское Море  Трейл 16",19.14,"М",{"$f":"IF(E186=\"Ж\",VLOOKUP(C186,Гонки!$E$2:$P$16,11,FALSE),VLOOKUP(C186,Гонки!$E$2:$P$16,12,FALSE))","v":51},"Пугач Вадим",1985,"Pugach Vadim","Пугач Вадим / Pugach Vadim / 1985","М",28,47.058823529411761,205.88]
[{"$f":"Гонки!$C$4","v":"Жук-трейл # 4 Минское Море "},{"$f":"Гонки!$D$5","v":"Трейл 16"},"Жук-трейл # 4 Минское Море  Трейл 16",19.14,"М",{"$f":"IF(E187=\"Ж\",VLOOKUP(C187,Гонки!$E$2:$P$16,11,FALSE),VLOOKUP(C187,Гонки!$E$2:$P$16,12,FALSE))","v":51},"Зайчук Кирилл",1990,"Zajchuk Kirill","Зайчук Кирилл / Zajchuk Kirill / 1990","М",29,45.098039215686271,197.3]
[{"$f":"Гонки!$C$4","v":"Жук-трейл # 4 Минское Море "},{"$f":"Гонки!$D$5","v":"Трейл 16"},"Жук-трейл # 4 Минское Море  Трейл 16",19.14,"М",{"$f":"IF(E188=\"Ж\",VLOOKUP(C188,Гонки!$E$2:$P$16,11,FALSE),VLOOKUP(C188,Гонки!$E$2:$P$16,12,FALSE))","v":51},"Хацкевич Дмитрий",1985,"Hatskevich Dmitrij","Хацкевич Дмитрий / Hatskevich Dmitrij / 1985","М",30,43.137254901960787,188.72]
[{"$f":"Гонки!$C$4","v":"Жук-трейл # 4 Минское Море "},{"$f":"Гонки!$D$5","v":"Трейл 16"},"Жук-трейл # 4 Минское Море  Трейл 16",19.14,"М",{"$f":"IF(E189=\"Ж\",VLOOKUP(C189,Гонки!$E$2:$P$16,11,FALSE),VLOOKUP(C189,Гонки!$E$2:$P$16,12,FALSE))","v":51},"Мертенс Андрей",1992,"Mertens Andrej","Мертенс Андрей / Mertens Andrej / 1992","М",31,41.17647058823529,180.14]
[{"$f":"Гонки!$C$4","v":"Жук-трейл # 4 Минское Море "},{"$f":"Гонки!$D$5","v":"Трейл 16"},"Жук-трейл # 4 Минское Море  Трейл 16",19.14,"М",{"$f":"IF(E190=\"Ж\",VLOOKUP(C190,Гонки!$E$2:$P$16,11,FALSE),VLOOKUP(C190,Гонки!$E$2:$P$16,12,FALSE))","v":51},"Миканович Антон",1990,"Mikanovich Anton","Миканович Антон / Mikanovich Anton / 1990","М",32,39.215686274509807,171.57]
[{"$f":"Гонки!$C$4","v":"Жук-трейл # 4 Минское Море "},{"$f":"Гонки!$D$5","v":"Трейл 16"},"Жук-трейл # 4 Минское Море  Трейл 16",19.14,"М",{"$f":"IF(E191=\"Ж\",VLOOKUP(C191,Гонки!$E$2:$P$16,11,FALSE),VLOOKUP(C191,Гонки!$E$2:$P$16,12,FALSE))","v":51},"Панковец Николай",1979,"Pankovets Nikolaj","Панковец Николай / Pankovets Nikolaj / 1979","М",33,37.254901960784316,162.99]
[{"$f":"Гонки!$C$4","v":"Жук-трейл # 4 Минское Море "},{"$f":"Гонки!$D$5","v":"Трейл 16"},"Жук-трейл # 4 Минское Море  Трейл 16",19.14,"М",{"$f":"IF(E192=\"Ж\",VLOOKUP(C192,Гонки!$E$2:$P$16,11,FALSE),VLOOKUP(C192,Гонки!$E$2:$P$16,12,FALSE))","v":51},"Лопатик Юрий",1984,"Lopatik Yurij","Лопатик Юрий / Lopatik Yurij / 1984","М",34,35.294117647058826,154.41]
[{"$f":"Гонки!$C$4","v":"Жук-трейл # 4 Минское Море "},{"$f":"Гонки!$D$5","v":"Трейл 16"},"Жук-трейл # 4 Минское Море  Трейл 16",19.14,"М",{"$f":"IF(E193=\"Ж\",VLOOKUP(C193,Гонки!$E$2:$P$16,11,FALSE),VLOOKUP(C193,Гонки!$E$2:$P$16,12,FALSE))","v":51},"Олин Денис",1976,"Olin Denis","Олин Денис / Olin Denis / 1976","М",35,33.333333333333343,145.83000000000001]
[{"$f":"Гонки!$C$4","v":"Жук-трейл # 4 Минское Море "},{"$f":"Гонки!$D$5","v":"Трейл 16"},"Жук-трейл # 4 Минское Море  Трейл 16",{"$f":"VLOOKUP(C194,Список_гонок,10,FALSE)","v":19.14},"М",{"$f":"IF(E194=\"Ж\",VLOOKUP(C194,Гонки!$E$2:$P$16,11,FALSE),VLOOKUP(C194,Гонки!$E$2:$P$16,12,FALSE))","v":51},"Стельмах Юрий",1982,"Stelmah Yurij","Стельмах Юрий / Stelmah Yurij / 1982","М",36,31.372549019607845,137.25]
[{"$f":"Гонки!$C$4","v":"Жук-трейл # 4 Минское Море "},{"$f":"Гонки!$D$5","v":"Трейл 16"},{"$f":"CONCATENATE(A195,\" \",B195)","v":"Жук-трейл # 4 Минское Море  Трейл 16"},19.14,"М",{"$f":"IF(E195=\"Ж\",VLOOKUP(C195,Гонки!$E$2:$P$16,11,FALSE),VLOOKUP(C195,Гонки!$E$2:$P$16,12,FALSE))","v":51},"Никрашевич Сергей",1985,{"$f":"Translit(G195)","v":"Nikrashevich Sergej"},{"$f":"CONCATENATE(G195,\" / \",I195,\" / \",H195)","v":"Никрашевич Сергей / Nikrashevich Sergej / 1985"},{"$f":"E195","v":"М"},37,{"$f":"100-((L195-1)/F195)*100","v":29.411764705882348},{"$f":"ROUND(SQRT(D195)*M195,2)","v":128.66999999999999}]
[{"$f":"Гонки!$C$4","v":"Жук-трейл # 4 Минское Море "},{"$f":"Гонки!$D$5","v":"Трейл 16"},"Жук-трейл # 4 Минское Море  Трейл 16",19.14,"М",{"$f":"IF(E196=\"Ж\",VLOOKUP(C196,Гонки!$E$2:$P$16,11,FALSE),VLOOKUP(C196,Гонки!$E$2:$P$16,12,FALSE))","v":51},"Казарин Дмитрий",1994,"Kazarin Dmitrij","Казарин Дмитрий / Kazarin Dmitrij / 1994","М",38,27.450980392156865,120.1]
[{"$f":"Гонки!$C$4","v":"Жук-трейл # 4 Минское Море "},{"$f":"Гонки!$D$5","v":"Трейл 16"},"Жук-трейл # 4 Минское Море  Трейл 16",19.14,"М",{"$f":"IF(E197=\"Ж\",VLOOKUP(C197,Гонки!$E$2:$P$16,11,FALSE),VLOOKUP(C197,Гонки!$E$2:$P$16,12,FALSE))","v":51},"Коляда Юрий",1980,"Kolyada Yurij","Коляда Юрий / Kolyada Yurij / 1980","М",39,25.490196078431367,111.52]
[{"$f":"Гонки!$C$4","v":"Жук-трейл # 4 Минское Море "},{"$f":"Гонки!$D$5","v":"Трейл 16"},"Жук-трейл # 4 Минское Море  Трейл 16",19.14,"М",{"$f":"IF(E198=\"Ж\",VLOOKUP(C198,Гонки!$E$2:$P$16,11,FALSE),VLOOKUP(C198,Гонки!$E$2:$P$16,12,FALSE))","v":51},"Горшков Игорь",1977,"Gorshkov Igor","Горшков Игорь / Gorshkov Igor / 1977","М",40,23.529411764705884,102.94]
[{"$f":"Гонки!$C$4","v":"Жук-трейл # 4 Минское Море "},{"$f":"Гонки!$D$5","v":"Трейл 16"},"Жук-трейл # 4 Минское Море  Трейл 16",19.14,"М",{"$f":"IF(E199=\"Ж\",VLOOKUP(C199,Гонки!$E$2:$P$16,11,FALSE),VLOOKUP(C199,Гонки!$E$2:$P$16,12,FALSE))","v":51},"Герасевич Максим",null,"Gerasevich Maksim","Герасевич Максим / Gerasevich Maksim / ","М",41,21.568627450980387,94.36]
[{"$f":"Гонки!$C$4","v":"Жук-трейл # 4 Минское Море "},{"$f":"Гонки!$D$5","v":"Трейл 16"},"Жук-трейл # 4 Минское Море  Трейл 16",19.14,"М",{"$f":"IF(E200=\"Ж\",VLOOKUP(C200,Гонки!$E$2:$P$16,11,FALSE),VLOOKUP(C200,Гонки!$E$2:$P$16,12,FALSE))","v":51},"Аржаников Евгений",1976,"Arzhanikov Evgenij","Аржаников Евгений / Arzhanikov Evgenij / 1976","М",42,19.607843137254903,85.78]
[{"$f":"Гонки!$C$4","v":"Жук-трейл # 4 Минское Море "},{"$f":"Гонки!$D$5","v":"Трейл 16"},"Жук-трейл # 4 Минское Море  Трейл 16",19.14,"М",{"$f":"IF(E201=\"Ж\",VLOOKUP(C201,Гонки!$E$2:$P$16,11,FALSE),VLOOKUP(C201,Гонки!$E$2:$P$16,12,FALSE))","v":51},"Кузьменок Денис",1979,"Kuzmenok Denis","Кузьменок Денис / Kuzmenok Denis / 1979","М",43,17.64705882352942,77.2]
[{"$f":"Гонки!$C$4","v":"Жук-трейл # 4 Минское Море "},{"$f":"Гонки!$D$5","v":"Трейл 16"},"Жук-трейл # 4 Минское Море  Трейл 16",19.14,"М",{"$f":"IF(E202=\"Ж\",VLOOKUP(C202,Гонки!$E$2:$P$16,11,FALSE),VLOOKUP(C202,Гонки!$E$2:$P$16,12,FALSE))","v":51},"Якимченко Анатолий",1967,"Yakimchenko Anatolij","Якимченко Анатолий / Yakimchenko Anatolij / 1967","М",44,15.686274509803923,68.63]
[{"$f":"Гонки!$C$4","v":"Жук-трейл # 4 Минское Море "},{"$f":"Гонки!$D$6","v":"Трейл 8"},"Жук-трейл # 4 Минское Море  Трейл 8",9.57,"Ж",{"$f":"IF(E203=\"Ж\",VLOOKUP(C203,Гонки!$E$2:$P$16,11,FALSE),VLOOKUP(C203,Гонки!$E$2:$P$16,12,FALSE))","v":24},"Пехтерева Татьяна",1987,"Pehtereva Tatyana","Пехтерева Татьяна / Pehtereva Tatyana / 1987","Ж",1,100,309.35000000000002]
[{"$f":"Гонки!$C$4","v":"Жук-трейл # 4 Минское Море "},{"$f":"Гонки!$D$6","v":"Трейл 8"},"Жук-трейл # 4 Минское Море  Трейл 8",9.57,"Ж",{"$f":"IF(E204=\"Ж\",VLOOKUP(C204,Гонки!$E$2:$P$16,11,FALSE),VLOOKUP(C204,Гонки!$E$2:$P$16,12,FALSE))","v":24},"Черкас Александра",1992,"Cherkas Aleksandra","Черкас Александра / Cherkas Aleksandra / 1992","Ж",2,95.833333333333329,296.45999999999998]
[{"$f":"Гонки!$C$4","v":"Жук-трейл # 4 Минское Море "},{"$f":"Гонки!$D$6","v":"Трейл 8"},"Жук-трейл # 4 Минское Море  Трейл 8",9.57,"Ж",{"$f":"IF(E205=\"Ж\",VLOOKUP(C205,Гонки!$E$2:$P$16,11,FALSE),VLOOKUP(C205,Гонки!$E$2:$P$16,12,FALSE))","v":24},"Хлопцева Инга",1982,"Hloptseva Inga","Хлопцева Инга / Hloptseva Inga / 1982","Ж",3,91.666666666666671,283.57]
[{"$f":"Гонки!$C$4","v":"Жук-трейл # 4 Минское Море "},{"$f":"Гонки!$D$6","v":"Трейл 8"},"Жук-трейл # 4 Минское Море  Трейл 8",9.57,"Ж",{"$f":"IF(E206=\"Ж\",VLOOKUP(C206,Гонки!$E$2:$P$16,11,FALSE),VLOOKUP(C206,Гонки!$E$2:$P$16,12,FALSE))","v":24},"Чеснокова Надежда",1988,"Chesnokova Nadezhda","Чеснокова Надежда / Chesnokova Nadezhda / 1988","Ж",4,87.5,270.68]
[{"$f":"Гонки!$C$4","v":"Жук-трейл # 4 Минское Море "},{"$f":"Гонки!$D$6","v":"Трейл 8"},"Жук-трейл # 4 Минское Море  Трейл 8",9.57,"Ж",{"$f":"IF(E207=\"Ж\",VLOOKUP(C207,Гонки!$E$2:$P$16,11,FALSE),VLOOKUP(C207,Гонки!$E$2:$P$16,12,FALSE))","v":24},"Шаповалова Ирина",1993,"Shapovalova Irina","Шаповалова Ирина / Shapovalova Irina / 1993","Ж",5,83.333333333333343,257.8]
[{"$f":"Гонки!$C$4","v":"Жук-трейл # 4 Минское Море "},{"$f":"Гонки!$D$6","v":"Трейл 8"},"Жук-трейл # 4 Минское Море  Трейл 8",9.57,"Ж",{"$f":"IF(E208=\"Ж\",VLOOKUP(C208,Гонки!$E$2:$P$16,11,FALSE),VLOOKUP(C208,Гонки!$E$2:$P$16,12,FALSE))","v":24},"Полякова Анна",1987,"Polyakova Anna","Полякова Анна / Polyakova Anna / 1987","Ж",6,79.166666666666657,244.91]
[{"$f":"Гонки!$C$4","v":"Жук-трейл # 4 Минское Море "},{"$f":"Гонки!$D$6","v":"Трейл 8"},"Жук-трейл # 4 Минское Море  Трейл 8",9.57,"Ж",{"$f":"IF(E209=\"Ж\",VLOOKUP(C209,Гонки!$E$2:$P$16,11,FALSE),VLOOKUP(C209,Гонки!$E$2:$P$16,12,FALSE))","v":24},"Жданович Александра",1985,"Zhdanovich Aleksandra","Жданович Александра / Zhdanovich Aleksandra / 1985","Ж",7,75,232.02]
[{"$f":"Гонки!$C$4","v":"Жук-трейл # 4 Минское Море "},{"$f":"Гонки!$D$6","v":"Трейл 8"},"Жук-трейл # 4 Минское Море  Трейл 8",9.57,"Ж",{"$f":"IF(E210=\"Ж\",VLOOKUP(C210,Гонки!$E$2:$P$16,11,FALSE),VLOOKUP(C210,Гонки!$E$2:$P$16,12,FALSE))","v":24},"Гриб Екатерина",1981,"Grib Ekaterina","Гриб Екатерина / Grib Ekaterina / 1981","Ж",8,70.833333333333329,219.13]
[{"$f":"Гонки!$C$4","v":"Жук-трейл # 4 Минское Море "},{"$f":"Гонки!$D$6","v":"Трейл 8"},"Жук-трейл # 4 Минское Море  Трейл 8",9.57,"Ж",{"$f":"IF(E211=\"Ж\",VLOOKUP(C211,Гонки!$E$2:$P$16,11,FALSE),VLOOKUP(C211,Гонки!$E$2:$P$16,12,FALSE))","v":24},"Малышко Татьяна",1983,"Malyshko Tatyana","Малышко Татьяна / Malyshko Tatyana / 1983","Ж",9,66.666666666666671,206.24]
[{"$f":"Гонки!$C$4","v":"Жук-трейл # 4 Минское Море "},{"$f":"Гонки!$D$6","v":"Трейл 8"},"Жук-трейл # 4 Минское Море  Трейл 8",9.57,"Ж",{"$f":"IF(E212=\"Ж\",VLOOKUP(C212,Гонки!$E$2:$P$16,11,FALSE),VLOOKUP(C212,Гонки!$E$2:$P$16,12,FALSE))","v":24},"Коновалова Елена",1975,"Konovalova Elena","Коновалова Елена / Konovalova Elena / 1975","Ж",10,62.5,193.35]
[{"$f":"Гонки!$C$4","v":"Жук-трейл # 4 Минское Море "},{"$f":"Гонки!$D$6","v":"Трейл 8"},"Жук-трейл # 4 Минское Море  Трейл 8",9.57,"Ж",{"$f":"IF(E213=\"Ж\",VLOOKUP(C213,Гонки!$E$2:$P$16,11,FALSE),VLOOKUP(C213,Гонки!$E$2:$P$16,12,FALSE))","v":24},"Широкова Анастасия",1988,"Shirokova Anastasiya","Широкова Анастасия / Shirokova Anastasiya / 1988","Ж",11,58.333333333333329,180.46]
[{"$f":"Гонки!$C$4","v":"Жук-трейл # 4 Минское Море "},{"$f":"Гонки!$D$6","v":"Трейл 8"},"Жук-трейл # 4 Минское Море  Трейл 8",9.57,"Ж",{"$f":"IF(E214=\"Ж\",VLOOKUP(C214,Гонки!$E$2:$P$16,11,FALSE),VLOOKUP(C214,Гонки!$E$2:$P$16,12,FALSE))","v":24},"Селищева Ирина",1983,"Selischeva Irina","Селищева Ирина / Selischeva Irina / 1983","Ж",12,54.166666666666671,167.57]
[{"$f":"Гонки!$C$4","v":"Жук-трейл # 4 Минское Море "},{"$f":"Гонки!$D$6","v":"Трейл 8"},"Жук-трейл # 4 Минское Море  Трейл 8",9.57,"Ж",{"$f":"IF(E215=\"Ж\",VLOOKUP(C215,Гонки!$E$2:$P$16,11,FALSE),VLOOKUP(C215,Гонки!$E$2:$P$16,12,FALSE))","v":24},"Жучина Катерина",1986,"Zhuchina Katerina","Жучина Катерина / Zhuchina Katerina / 1986","Ж",13,50,154.68]
[{"$f":"Гонки!$C$4","v":"Жук-трейл # 4 Минское Море "},{"$f":"Гонки!$D$6","v":"Трейл 8"},"Жук-трейл # 4 Минское Море  Трейл 8",9.57,"Ж",{"$f":"IF(E216=\"Ж\",VLOOKUP(C216,Гонки!$E$2:$P$16,11,FALSE),VLOOKUP(C216,Гонки!$E$2:$P$16,12,FALSE))","v":24},"Кукобникова Вита",1993,"Kukobnikova Vita","Кукобникова Вита / Kukobnikova Vita / 1993","Ж",14,45.833333333333336,141.79]
[{"$f":"Гонки!$C$4","v":"Жук-трейл # 4 Минское Море "},{"$f":"Гонки!$D$6","v":"Трейл 8"},"Жук-трейл # 4 Минское Море  Трейл 8",9.57,"Ж",{"$f":"IF(E217=\"Ж\",VLOOKUP(C217,Гонки!$E$2:$P$16,11,FALSE),VLOOKUP(C217,Гонки!$E$2:$P$16,12,FALSE))","v":24},"Зеленко Диана",1988,"Zelenko Diana","Зеленко Диана / Zelenko Diana / 1988","Ж",15,41.666666666666664,128.9]
[{"$f":"Гонки!$C$4","v":"Жук-трейл # 4 Минское Море "},{"$f":"Гонки!$D$6","v":"Трейл 8"},"Жук-трейл # 4 Минское Море  Трейл 8",9.57,"Ж",{"$f":"IF(E218=\"Ж\",VLOOKUP(C218,Гонки!$E$2:$P$16,11,FALSE),VLOOKUP(C218,Гонки!$E$2:$P$16,12,FALSE))","v":24},"Белоцкая Елена",1987,"Belotskaya Elena","Белоцкая Елена / Belotskaya Elena / 1987","Ж",16,37.5,116.01]
[{"$f":"Гонки!$C$4","v":"Жук-трейл # 4 Минское Море "},{"$f":"Гонки!$D$6","v":"Трейл 8"},"Жук-трейл # 4 Минское Море  Трейл 8",9.57,"Ж",{"$f":"IF(E219=\"Ж\",VLOOKUP(C219,Гонки!$E$2:$P$16,11,FALSE),VLOOKUP(C219,Гонки!$E$2:$P$16,12,FALSE))","v":24},"Гладкова Анна",1985,"Gladkova Anna","Гладкова Анна / Gladkova Anna / 1985","Ж",17,33.333333333333343,103.12]
[{"$f":"Гонки!$C$4","v":"Жук-трейл # 4 Минское Море "},{"$f":"Гонки!$D$6","v":"Трейл 8"},"Жук-трейл # 4 Минское Море  Трейл 8",9.57,"Ж",{"$f":"IF(E220=\"Ж\",VLOOKUP(C220,Гонки!$E$2:$P$16,11,FALSE),VLOOKUP(C220,Гонки!$E$2:$P$16,12,FALSE))","v":24},"Когалёнок Елена",1979,"Kogaljonok Elena","Когалёнок Елена / Kogaljonok Elena / 1979","Ж",18,29.166666666666657,90.23]
[{"$f":"Гонки!$C$4","v":"Жук-трейл # 4 Минское Море "},{"$f":"Гонки!$D$6","v":"Трейл 8"},"Жук-трейл # 4 Минское Море  Трейл 8",9.57,"Ж",{"$f":"IF(E221=\"Ж\",VLOOKUP(C221,Гонки!$E$2:$P$16,11,FALSE),VLOOKUP(C221,Гонки!$E$2:$P$16,12,FALSE))","v":24},"Шкрабо Ольга",1985,"Shkrabo Olga","Шкрабо Ольга / Shkrabo Olga / 1985","Ж",19,25,77.34]
[{"$f":"Гонки!$C$4","v":"Жук-трейл # 4 Минское Море "},{"$f":"Гонки!$D$6","v":"Трейл 8"},"Жук-трейл # 4 Минское Море  Трейл 8",9.57,"Ж",{"$f":"IF(E222=\"Ж\",VLOOKUP(C222,Гонки!$E$2:$P$16,11,FALSE),VLOOKUP(C222,Гонки!$E$2:$P$16,12,FALSE))","v":24},"Круглова Александра",1989,"Kruglova Aleksandra","Круглова Александра / Kruglova Aleksandra / 1989","Ж",20,20.833333333333343,64.45]
[{"$f":"Гонки!$C$4","v":"Жук-трейл # 4 Минское Море "},{"$f":"Гонки!$D$6","v":"Трейл 8"},"Жук-трейл # 4 Минское Море  Трейл 8",9.57,"Ж",{"$f":"IF(E223=\"Ж\",VLOOKUP(C223,Гонки!$E$2:$P$16,11,FALSE),VLOOKUP(C223,Гонки!$E$2:$P$16,12,FALSE))","v":24},"Ладутько Наталья",1974,"Ladutko Natalya","Ладутько Наталья / Ladutko Natalya / 1974","Ж",21,16.666666666666657,51.56]
[{"$f":"Гонки!$C$4","v":"Жук-трейл # 4 Минское Море "},{"$f":"Гонки!$D$6","v":"Трейл 8"},"Жук-трейл # 4 Минское Море  Трейл 8",9.57,"Ж",{"$f":"IF(E224=\"Ж\",VLOOKUP(C224,Гонки!$E$2:$P$16,11,FALSE),VLOOKUP(C224,Гонки!$E$2:$P$16,12,FALSE))","v":24},"Федченко Ярослава",2002,"Fedchenko Yaroslava","Федченко Ярослава / Fedchenko Yaroslava / 2002","Ж",22,12.5,38.67]
[{"$f":"Гонки!$C$4","v":"Жук-трейл # 4 Минское Море "},{"$f":"Гонки!$D$6","v":"Трейл 8"},"Жук-трейл # 4 Минское Море  Трейл 8",9.57,"Ж",{"$f":"IF(E225=\"Ж\",VLOOKUP(C225,Гонки!$E$2:$P$16,11,FALSE),VLOOKUP(C225,Гонки!$E$2:$P$16,12,FALSE))","v":24},"Лабунская Ирина",1983,"Labunskaya Irina","Лабунская Ирина / Labunskaya Irina / 1983","Ж",23,8.3333333333333428,25.78]
[{"$f":"Гонки!$C$4","v":"Жук-трейл # 4 Минское Море "},{"$f":"Гонки!$D$6","v":"Трейл 8"},"Жук-трейл # 4 Минское Море  Трейл 8",9.57,"Ж",{"$f":"IF(E226=\"Ж\",VLOOKUP(C226,Гонки!$E$2:$P$16,11,FALSE),VLOOKUP(C226,Гонки!$E$2:$P$16,12,FALSE))","v":24},"Клауч Екатерина",1987,"Klauch Ekaterina","Клауч Екатерина / Klauch Ekaterina / 1987","Ж",24,4.1666666666666572,12.89]
[{"$f":"Гонки!$C$4","v":"Жук-трейл # 4 Минское Море "},{"$f":"Гонки!$D$6","v":"Трейл 8"},"Жук-трейл # 4 Минское Море  Трейл 8",9.57,"М",{"$f":"IF(E227=\"Ж\",VLOOKUP(C227,Гонки!$E$2:$P$16,11,FALSE),VLOOKUP(C227,Гонки!$E$2:$P$16,12,FALSE))","v":36},"Гидлевский Дмитрий",1986,"Gidlevskij Dmitrij","Гидлевский Дмитрий / Gidlevskij Dmitrij / 1986","М",1,100,309.35000000000002]
[{"$f":"Гонки!$C$4","v":"Жук-трейл # 4 Минское Море "},{"$f":"Гонки!$D$6","v":"Трейл 8"},"Жук-трейл # 4 Минское Море  Трейл 8",9.57,"М",{"$f":"IF(E228=\"Ж\",VLOOKUP(C228,Гонки!$E$2:$P$16,11,FALSE),VLOOKUP(C228,Гонки!$E$2:$P$16,12,FALSE))","v":36},"Шипунов Олег",1992,"Shipunov Oleg","Шипунов Олег / Shipunov Oleg / 1992","М",2,97.222222222222229,300.76]
[{"$f":"Гонки!$C$4","v":"Жук-трейл # 4 Минское Море "},{"$f":"Гонки!$D$6","v":"Трейл 8"},"Жук-трейл # 4 Минское Море  Трейл 8",9.57,"М",{"$f":"IF(E229=\"Ж\",VLOOKUP(C229,Гонки!$E$2:$P$16,11,FALSE),VLOOKUP(C229,Гонки!$E$2:$P$16,12,FALSE))","v":36},"Хорошавин Вячеслав",1985,"Horoshavin Vyacheslav","Хорошавин Вячеслав / Horoshavin Vyacheslav / 1985","М",3,94.444444444444443,292.17]
[{"$f":"Гонки!$C$4","v":"Жук-трейл # 4 Минское Море "},{"$f":"Гонки!$D$6","v":"Трейл 8"},"Жук-трейл # 4 Минское Море  Трейл 8",9.57,"М",{"$f":"IF(E230=\"Ж\",VLOOKUP(C230,Гонки!$E$2:$P$16,11,FALSE),VLOOKUP(C230,Гонки!$E$2:$P$16,12,FALSE))","v":36},"Жучин Алексей",1983,"Zhuchin Aleksej","Жучин Алексей / Zhuchin Aleksej / 1983","М",4,91.666666666666671,283.57]
[{"$f":"Гонки!$C$4","v":"Жук-трейл # 4 Минское Море "},{"$f":"Гонки!$D$6","v":"Трейл 8"},"Жук-трейл # 4 Минское Море  Трейл 8",9.57,"М",{"$f":"IF(E231=\"Ж\",VLOOKUP(C231,Гонки!$E$2:$P$16,11,FALSE),VLOOKUP(C231,Гонки!$E$2:$P$16,12,FALSE))","v":36},"Католиков Роман",1985,"Katolikov Roman","Католиков Роман / Katolikov Roman / 1985","М",5,88.888888888888886,274.98]
[{"$f":"Гонки!$C$4","v":"Жук-трейл # 4 Минское Море "},{"$f":"Гонки!$D$6","v":"Трейл 8"},"Жук-трейл # 4 Минское Море  Трейл 8",9.57,"М",{"$f":"IF(E232=\"Ж\",VLOOKUP(C232,Гонки!$E$2:$P$16,11,FALSE),VLOOKUP(C232,Гонки!$E$2:$P$16,12,FALSE))","v":36},"Симогостицкий Александр",1987,"Simogostitskij Aleksandr","Симогостицкий Александр / Simogostitskij Aleksandr / 1987","М",6,86.111111111111114,266.39]
[{"$f":"Гонки!$C$4","v":"Жук-трейл # 4 Минское Море "},{"$f":"Гонки!$D$6","v":"Трейл 8"},"Жук-трейл # 4 Минское Море  Трейл 8",9.57,"М",{"$f":"IF(E233=\"Ж\",VLOOKUP(C233,Гонки!$E$2:$P$16,11,FALSE),VLOOKUP(C233,Гонки!$E$2:$P$16,12,FALSE))","v":36},"Мацко Сергей",1991,"Matsko Sergej","Мацко Сергей / Matsko Sergej / 1991","М",7,83.333333333333343,257.8]
[{"$f":"Гонки!$C$4","v":"Жук-трейл # 4 Минское Море "},{"$f":"Гонки!$D$6","v":"Трейл 8"},"Жук-трейл # 4 Минское Море  Трейл 8",9.57,"М",{"$f":"IF(E234=\"Ж\",VLOOKUP(C234,Гонки!$E$2:$P$16,11,FALSE),VLOOKUP(C234,Гонки!$E$2:$P$16,12,FALSE))","v":36},"Синица Кирилл",1981,"Sinitsa Kirill","Синица Кирилл / Sinitsa Kirill / 1981","М",8,80.555555555555557,249.2]
[{"$f":"Гонки!$C$4","v":"Жук-трейл # 4 Минское Море "},{"$f":"Гонки!$D$6","v":"Трейл 8"},"Жук-трейл # 4 Минское Море  Трейл 8",9.57,"М",{"$f":"IF(E235=\"Ж\",VLOOKUP(C235,Гонки!$E$2:$P$16,11,FALSE),VLOOKUP(C235,Гонки!$E$2:$P$16,12,FALSE))","v":36},"Потапов Сергей",1988,"Potapov Sergej","Потапов Сергей / Potapov Sergej / 1988","М",9,77.777777777777771,240.61]
[{"$f":"Гонки!$C$4","v":"Жук-трейл # 4 Минское Море "},{"$f":"Гонки!$D$6","v":"Трейл 8"},"Жук-трейл # 4 Минское Море  Трейл 8",9.57,"М",{"$f":"IF(E236=\"Ж\",VLOOKUP(C236,Гонки!$E$2:$P$16,11,FALSE),VLOOKUP(C236,Гонки!$E$2:$P$16,12,FALSE))","v":36},"Григорович Руслан",1987,"Grigorovich Ruslan","Григорович Руслан / Grigorovich Ruslan / 1987","М",10,75,232.02]
[{"$f":"Гонки!$C$4","v":"Жук-трейл # 4 Минское Море "},{"$f":"Гонки!$D$6","v":"Трейл 8"},"Жук-трейл # 4 Минское Море  Трейл 8",9.57,"М",{"$f":"IF(E237=\"Ж\",VLOOKUP(C237,Гонки!$E$2:$P$16,11,FALSE),VLOOKUP(C237,Гонки!$E$2:$P$16,12,FALSE))","v":36},"Макарский Сергей",1987,"Makarskij Sergej","Макарский Сергей / Makarskij Sergej / 1987","М",11,72.222222222222229,223.42]
[{"$f":"Гонки!$C$4","v":"Жук-трейл # 4 Минское Море "},{"$f":"Гонки!$D$6","v":"Трейл 8"},"Жук-трейл # 4 Минское Море  Трейл 8",9.57,"М",{"$f":"IF(E238=\"Ж\",VLOOKUP(C238,Гонки!$E$2:$P$16,11,FALSE),VLOOKUP(C238,Гонки!$E$2:$P$16,12,FALSE))","v":36},"Сухобаевский Николай",1986,"Suhobaevskij Nikolaj","Сухобаевский Николай / Suhobaevskij Nikolaj / 1986","М",12,69.444444444444443,214.83]
[{"$f":"Гонки!$C$4","v":"Жук-трейл # 4 Минское Море "},{"$f":"Гонки!$D$6","v":"Трейл 8"},"Жук-трейл # 4 Минское Море  Трейл 8",9.57,"М",{"$f":"IF(E239=\"Ж\",VLOOKUP(C239,Гонки!$E$2:$P$16,11,FALSE),VLOOKUP(C239,Гонки!$E$2:$P$16,12,FALSE))","v":36},"Володько Андрей",1986,"Volodko Andrej","Володько Андрей / Volodko Andrej / 1986","М",13,66.666666666666671,206.24]
[{"$f":"Гонки!$C$4","v":"Жук-трейл # 4 Минское Море "},{"$f":"Гонки!$D$6","v":"Трейл 8"},"Жук-трейл # 4 Минское Море  Трейл 8",9.57,"М",{"$f":"IF(E240=\"Ж\",VLOOKUP(C240,Гонки!$E$2:$P$16,11,FALSE),VLOOKUP(C240,Гонки!$E$2:$P$16,12,FALSE))","v":36},"Королёв Максим",1989,"Koroljov Maksim","Королёв Максим / Koroljov Maksim / 1989","М",14,63.888888888888893,197.64]
[{"$f":"Гонки!$C$4","v":"Жук-трейл # 4 Минское Море "},{"$f":"Гонки!$D$6","v":"Трейл 8"},"Жук-трейл # 4 Минское Море  Трейл 8",9.57,"М",{"$f":"IF(E241=\"Ж\",VLOOKUP(C241,Гонки!$E$2:$P$16,11,FALSE),VLOOKUP(C241,Гонки!$E$2:$P$16,12,FALSE))","v":36},"Барсумян Артур",1992,"Barsumyan Artur","Барсумян Артур / Barsumyan Artur / 1992","М",15,61.111111111111107,189.05]
[{"$f":"Гонки!$C$4","v":"Жук-трейл # 4 Минское Море "},{"$f":"Гонки!$D$6","v":"Трейл 8"},"Жук-трейл # 4 Минское Море  Трейл 8",9.57,"М",{"$f":"IF(E242=\"Ж\",VLOOKUP(C242,Гонки!$E$2:$P$16,11,FALSE),VLOOKUP(C242,Гонки!$E$2:$P$16,12,FALSE))","v":36},"Нежаветс Сергей",1989,"Nezhavets Sergej","Нежаветс Сергей / Nezhavets Sergej / 1989","М",16,58.333333333333329,180.46]
[{"$f":"Гонки!$C$4","v":"Жук-трейл # 4 Минское Море "},{"$f":"Гонки!$D$6","v":"Трейл 8"},"Жук-трейл # 4 Минское Море  Трейл 8",9.57,"М",{"$f":"IF(E243=\"Ж\",VLOOKUP(C243,Гонки!$E$2:$P$16,11,FALSE),VLOOKUP(C243,Гонки!$E$2:$P$16,12,FALSE))","v":36},"Палий Андрей",1984,"Palij Andrej","Палий Андрей / Palij Andrej / 1984","М",17,55.555555555555557,171.86]
[{"$f":"Гонки!$C$4","v":"Жук-трейл # 4 Минское Море "},{"$f":"Гонки!$D$6","v":"Трейл 8"},"Жук-трейл # 4 Минское Море  Трейл 8",9.57,"М",{"$f":"IF(E244=\"Ж\",VLOOKUP(C244,Гонки!$E$2:$P$16,11,FALSE),VLOOKUP(C244,Гонки!$E$2:$P$16,12,FALSE))","v":36},"Фигурин Дмитрий",1982,"Figurin Dmitrij","Фигурин Дмитрий / Figurin Dmitrij / 1982","М",18,52.777777777777779,163.27000000000001]
[{"$f":"Гонки!$C$4","v":"Жук-трейл # 4 Минское Море "},{"$f":"Гонки!$D$6","v":"Трейл 8"},"Жук-трейл # 4 Минское Море  Трейл 8",9.57,"М",{"$f":"IF(E245=\"Ж\",VLOOKUP(C245,Гонки!$E$2:$P$16,11,FALSE),VLOOKUP(C245,Гонки!$E$2:$P$16,12,FALSE))","v":36},"Явтушенко Вадим",1981,"Yavtushenko Vadim","Явтушенко Вадим / Yavtushenko Vadim / 1981","М",19,50,154.68]
[{"$f":"Гонки!$C$4","v":"Жук-трейл # 4 Минское Море "},{"$f":"Гонки!$D$6","v":"Трейл 8"},"Жук-трейл # 4 Минское Море  Трейл 8",9.57,"М",{"$f":"IF(E246=\"Ж\",VLOOKUP(C246,Гонки!$E$2:$P$16,11,FALSE),VLOOKUP(C246,Гонки!$E$2:$P$16,12,FALSE))","v":36},"Медвецкий Денис",1986,"Medvetskij Denis","Медвецкий Денис / Medvetskij Denis / 1986","М",20,47.222222222222221,146.08000000000001]
[{"$f":"Гонки!$C$4","v":"Жук-трейл # 4 Минское Море "},{"$f":"Гонки!$D$6","v":"Трейл 8"},"Жук-трейл # 4 Минское Море  Трейл 8",9.57,"М",{"$f":"IF(E247=\"Ж\",VLOOKUP(C247,Гонки!$E$2:$P$16,11,FALSE),VLOOKUP(C247,Гонки!$E$2:$P$16,12,FALSE))","v":36},"Кравчук Александр",1983,"Kravchuk Aleksandr","Кравчук Александр / Kravchuk Aleksandr / 1983","М",21,44.444444444444443,137.49]
[{"$f":"Гонки!$C$4","v":"Жук-трейл # 4 Минское Море "},{"$f":"Гонки!$D$6","v":"Трейл 8"},"Жук-трейл # 4 Минское Море  Трейл 8",9.57,"М",{"$f":"IF(E248=\"Ж\",VLOOKUP(C248,Гонки!$E$2:$P$16,11,FALSE),VLOOKUP(C248,Гонки!$E$2:$P$16,12,FALSE))","v":36},"Дундуков Андрей",1985,"Dundukov Andrej","Дундуков Андрей / Dundukov Andrej / 1985","М",22,41.666666666666664,128.9]
[{"$f":"Гонки!$C$4","v":"Жук-трейл # 4 Минское Море "},{"$f":"Гонки!$D$6","v":"Трейл 8"},"Жук-трейл # 4 Минское Море  Трейл 8",9.57,"М",{"$f":"IF(E249=\"Ж\",VLOOKUP(C249,Гонки!$E$2:$P$16,11,FALSE),VLOOKUP(C249,Гонки!$E$2:$P$16,12,FALSE))","v":36},"Вайтешонок Сергей",1981,"Vajteshonok Sergej","Вайтешонок Сергей / Vajteshonok Sergej / 1981","М",23,38.888888888888886,120.3]
[{"$f":"Гонки!$C$4","v":"Жук-трейл # 4 Минское Море "},{"$f":"Гонки!$D$6","v":"Трейл 8"},"Жук-трейл # 4 Минское Море  Трейл 8",9.57,"М",{"$f":"IF(E250=\"Ж\",VLOOKUP(C250,Гонки!$E$2:$P$16,11,FALSE),VLOOKUP(C250,Гонки!$E$2:$P$16,12,FALSE))","v":36},"Метелица Антон",1989,"Metelitsa Anton","Метелица Антон / Metelitsa Anton / 1989","М",24,36.111111111111114,111.71]
[{"$f":"Гонки!$C$4","v":"Жук-трейл # 4 Минское Море "},{"$f":"Гонки!$D$6","v":"Трейл 8"},"Жук-трейл # 4 Минское Море  Трейл 8",9.57,"М",{"$f":"IF(E251=\"Ж\",VLOOKUP(C251,Гонки!$E$2:$P$16,11,FALSE),VLOOKUP(C251,Гонки!$E$2:$P$16,12,FALSE))","v":36},"Кузьменко Иван",1981,"Kuzmenko Ivan","Кузьменко Иван / Kuzmenko Ivan / 1981","М",25,33.333333333333343,103.12]
[{"$f":"Гонки!$C$4","v":"Жук-трейл # 4 Минское Море "},{"$f":"Гонки!$D$6","v":"Трейл 8"},"Жук-трейл # 4 Минское Море  Трейл 8",9.57,"М",{"$f":"IF(E252=\"Ж\",VLOOKUP(C252,Гонки!$E$2:$P$16,11,FALSE),VLOOKUP(C252,Гонки!$E$2:$P$16,12,FALSE))","v":36},"Пехтерев Сергей",1979,"Pehterev Sergej","Пехтерев Сергей / Pehterev Sergej / 1979","М",26,30.555555555555557,94.52]
[{"$f":"Гонки!$C$4","v":"Жук-трейл # 4 Минское Море "},{"$f":"Гонки!$D$6","v":"Трейл 8"},"Жук-трейл # 4 Минское Море  Трейл 8",9.57,"М",{"$f":"IF(E253=\"Ж\",VLOOKUP(C253,Гонки!$E$2:$P$16,11,FALSE),VLOOKUP(C253,Гонки!$E$2:$P$16,12,FALSE))","v":36},"Капустин Егор",2004,"Kapustin Egor","Капустин Егор / Kapustin Egor / 2004","М",27,27.777777777777786,85.93]
[{"$f":"Гонки!$C$4","v":"Жук-трейл # 4 Минское Море "},{"$f":"Гонки!$D$6","v":"Трейл 8"},"Жук-трейл # 4 Минское Море  Трейл 8",9.57,"М",{"$f":"IF(E254=\"Ж\",VLOOKUP(C254,Гонки!$E$2:$P$16,11,FALSE),VLOOKUP(C254,Гонки!$E$2:$P$16,12,FALSE))","v":36},"Захаров Иван",1979,"Zaharov Ivan","Захаров Иван / Zaharov Ivan / 1979","М",28,25,77.34]
[{"$f":"Гонки!$C$4","v":"Жук-трейл # 4 Минское Море "},{"$f":"Гонки!$D$6","v":"Трейл 8"},"Жук-трейл # 4 Минское Море  Трейл 8",9.57,"М",{"$f":"IF(E255=\"Ж\",VLOOKUP(C255,Гонки!$E$2:$P$16,11,FALSE),VLOOKUP(C255,Гонки!$E$2:$P$16,12,FALSE))","v":36},"Лазаренок Глеб",1982,"Lazarenok Gleb","Лазаренок Глеб / Lazarenok Gleb / 1982","М",29,22.222222222222214,68.75]
[{"$f":"Гонки!$C$4","v":"Жук-трейл # 4 Минское Море "},{"$f":"Гонки!$D$6","v":"Трейл 8"},"Жук-трейл # 4 Минское Море  Трейл 8",9.57,"М",{"$f":"IF(E256=\"Ж\",VLOOKUP(C256,Гонки!$E$2:$P$16,11,FALSE),VLOOKUP(C256,Гонки!$E$2:$P$16,12,FALSE))","v":36},"Шульпенков Александр",1986,"Shulpenkov Aleksandr","Шульпенков Александр / Shulpenkov Aleksandr / 1986","М",30,19.444444444444443,60.15]
[{"$f":"Гонки!$C$4","v":"Жук-трейл # 4 Минское Море "},{"$f":"Гонки!$D$6","v":"Трейл 8"},"Жук-трейл # 4 Минское Море  Трейл 8",9.57,"М",{"$f":"IF(E257=\"Ж\",VLOOKUP(C257,Гонки!$E$2:$P$16,11,FALSE),VLOOKUP(C257,Гонки!$E$2:$P$16,12,FALSE))","v":36},"Рускевич Максим",1990,"Ruskevich Maksim","Рускевич Максим / Ruskevich Maksim / 1990","М",31,16.666666666666657,51.56]
[{"$f":"Гонки!$C$4","v":"Жук-трейл # 4 Минское Море "},{"$f":"Гонки!$D$6","v":"Трейл 8"},"Жук-трейл # 4 Минское Море  Трейл 8",{"$f":"VLOOKUP(C258,Список_гонок,10,FALSE)","v":9.57},"М",{"$f":"IF(E258=\"Ж\",VLOOKUP(C258,Гонки!$E$2:$P$16,11,FALSE),VLOOKUP(C258,Гонки!$E$2:$P$16,12,FALSE))","v":36},"Моргачев Андрей",1981,"Morgachev Andrej","Моргачев Андрей / Morgachev Andrej / 1981","М",32,13.888888888888886,42.97]
[{"$f":"Гонки!$C$4","v":"Жук-трейл # 4 Минское Море "},{"$f":"Гонки!$D$6","v":"Трейл 8"},{"$f":"CONCATENATE(A259,\" \",B259)","v":"Жук-трейл # 4 Минское Море  Трейл 8"},9.57,"М",{"$f":"IF(E259=\"Ж\",VLOOKUP(C259,Гонки!$E$2:$P$16,11,FALSE),VLOOKUP(C259,Гонки!$E$2:$P$16,12,FALSE))","v":36},"Выробов Дмитрий",1988,{"$f":"Translit(G259)","v":"Vyrobov Dmitrij"},{"$f":"CONCATENATE(G259,\" / \",I259,\" / \",H259)","v":"Выробов Дмитрий / Vyrobov Dmitrij / 1988"},{"$f":"E259","v":"М"},33,{"$f":"100-((L259-1)/F259)*100","v":11.111111111111114},{"$f":"ROUND(SQRT(D259)*M259,2)","v":34.369999999999997}]
[{"$f":"Гонки!$C$4","v":"Жук-трейл # 4 Минское Море "},{"$f":"Гонки!$D$6","v":"Трейл 8"},"Жук-трейл # 4 Минское Море  Трейл 8",9.57,"М",{"$f":"IF(E260=\"Ж\",VLOOKUP(C260,Гонки!$E$2:$P$16,11,FALSE),VLOOKUP(C260,Гонки!$E$2:$P$16,12,FALSE))","v":36},"Чалый Николай",1980,"Chalyj Nikolaj","Чалый Николай / Chalyj Nikolaj / 1980","М",34,8.3333333333333428,25.78]
[{"$f":"Гонки!$C$4","v":"Жук-трейл # 4 Минское Море "},{"$f":"Гонки!$D$6","v":"Трейл 8"},"Жук-трейл # 4 Минское Море  Трейл 8",9.57,"М",{"$f":"IF(E261=\"Ж\",VLOOKUP(C261,Гонки!$E$2:$P$16,11,FALSE),VLOOKUP(C261,Гонки!$E$2:$P$16,12,FALSE))","v":36},"Манкевич Алексей",1972,"Mankevich Aleksej","Манкевич Алексей / Mankevich Aleksej / 1972","М",35,5.5555555555555571,17.190000000000001]
[{"$f":"Гонки!$C$4","v":"Жук-трейл # 4 Минское Море "},{"$f":"Гонки!$D$6","v":"Трейл 8"},"Жук-трейл # 4 Минское Море  Трейл 8",9.57,"М",{"$f":"IF(E262=\"Ж\",VLOOKUP(C262,Гонки!$E$2:$P$16,11,FALSE),VLOOKUP(C262,Гонки!$E$2:$P$16,12,FALSE))","v":36},"Клауч Виктор",1988,"Klauch Viktor","Клауч Виктор / Klauch Viktor / 1988","М",36,2.7777777777777857,8.59]
[{"$f":"Гонки!$C$7","v":"Жук-трейл # 5 Крево"},{"$f":"Гонки!$D$7","v":"Трейл 70"},"Жук-трейл # 5 Крево Трейл 70",80.010000000000005,"Ж",{"$f":"IF(E263=\"Ж\",VLOOKUP(C263,Гонки!$E$2:$P$16,11,FALSE),VLOOKUP(C263,Гонки!$E$2:$P$16,12,FALSE))","v":3},"Сулимчик Оксана",1986,"Sulimchik Oksana","Сулимчик Оксана / Sulimchik Oksana / 1986","Ж",1,100,894.48]
[{"$f":"Гонки!$C$7","v":"Жук-трейл # 5 Крево"},{"$f":"Гонки!$D$7","v":"Трейл 70"},"Жук-трейл # 5 Крево Трейл 70",80.010000000000005,"Ж",{"$f":"IF(E264=\"Ж\",VLOOKUP(C264,Гонки!$E$2:$P$16,11,FALSE),VLOOKUP(C264,Гонки!$E$2:$P$16,12,FALSE))","v":3},"Скирук Юлия",1988,"Skiruk Yuliya","Скирук Юлия / Skiruk Yuliya / 1988","Ж",2,66.666666666666671,596.32000000000005]
[{"$f":"Гонки!$C$7","v":"Жук-трейл # 5 Крево"},{"$f":"Гонки!$D$7","v":"Трейл 70"},"Жук-трейл # 5 Крево Трейл 70",80.010000000000005,"Ж",{"$f":"IF(E265=\"Ж\",VLOOKUP(C265,Гонки!$E$2:$P$16,11,FALSE),VLOOKUP(C265,Гонки!$E$2:$P$16,12,FALSE))","v":3},"Жила Анастасия",1994,"Zhila Anastasiya","Жила Анастасия / Zhila Anastasiya / 1994","Ж",3,33.333333333333343,298.16000000000003]
[{"$f":"Гонки!$C$7","v":"Жук-трейл # 5 Крево"},{"$f":"Гонки!$D$7","v":"Трейл 70"},"Жук-трейл # 5 Крево Трейл 70",80.010000000000005,"М",{"$f":"IF(E266=\"Ж\",VLOOKUP(C266,Гонки!$E$2:$P$16,11,FALSE),VLOOKUP(C266,Гонки!$E$2:$P$16,12,FALSE))","v":15},"Синица Кирилл",1981,"Sinitsa Kirill","Синица Кирилл / Sinitsa Kirill / 1981","М",1,100,894.48]
[{"$f":"Гонки!$C$7","v":"Жук-трейл # 5 Крево"},{"$f":"Гонки!$D$7","v":"Трейл 70"},"Жук-трейл # 5 Крево Трейл 70",80.010000000000005,"М",{"$f":"IF(E267=\"Ж\",VLOOKUP(C267,Гонки!$E$2:$P$16,11,FALSE),VLOOKUP(C267,Гонки!$E$2:$P$16,12,FALSE))","v":15},"Рагойша Пётр",1976,"Ragojsha Pjotr","Рагойша Пётр / Ragojsha Pjotr / 1976","М",2,93.333333333333329,834.85]
[{"$f":"Гонки!$C$7","v":"Жук-трейл # 5 Крево"},{"$f":"Гонки!$D$7","v":"Трейл 70"},"Жук-трейл # 5 Крево Трейл 70",80.010000000000005,"М",{"$f":"IF(E268=\"Ж\",VLOOKUP(C268,Гонки!$E$2:$P$16,11,FALSE),VLOOKUP(C268,Гонки!$E$2:$P$16,12,FALSE))","v":15},"Молочко Александр",1981,"Molochko Aleksandr","Молочко Александр / Molochko Aleksandr / 1981","М",3,86.666666666666671,775.22]
[{"$f":"Гонки!$C$7","v":"Жук-трейл # 5 Крево"},{"$f":"Гонки!$D$7","v":"Трейл 70"},"Жук-трейл # 5 Крево Трейл 70",80.010000000000005,"М",{"$f":"IF(E269=\"Ж\",VLOOKUP(C269,Гонки!$E$2:$P$16,11,FALSE),VLOOKUP(C269,Гонки!$E$2:$P$16,12,FALSE))","v":15},"Тюев Даниил",1977,"Tyuev Daniil","Тюев Даниил / Tyuev Daniil / 1977","М",4,80,715.59]
[{"$f":"Гонки!$C$7","v":"Жук-трейл # 5 Крево"},{"$f":"Гонки!$D$7","v":"Трейл 70"},"Жук-трейл # 5 Крево Трейл 70",80.010000000000005,"М",{"$f":"IF(E270=\"Ж\",VLOOKUP(C270,Гонки!$E$2:$P$16,11,FALSE),VLOOKUP(C270,Гонки!$E$2:$P$16,12,FALSE))","v":15},"Суховей Михаил",1991,"Suhovej Mihail","Суховей Михаил / Suhovej Mihail / 1991","М",5,73.333333333333329,655.95]
[{"$f":"Гонки!$C$7","v":"Жук-трейл # 5 Крево"},{"$f":"Гонки!$D$7","v":"Трейл 70"},"Жук-трейл # 5 Крево Трейл 70",80.010000000000005,"М",{"$f":"IF(E271=\"Ж\",VLOOKUP(C271,Гонки!$E$2:$P$16,11,FALSE),VLOOKUP(C271,Гонки!$E$2:$P$16,12,FALSE))","v":15},"Кислицын Артем",1992,"Kislitsyn Artem","Кислицын Артем / Kislitsyn Artem / 1992","М",6,66.666666666666671,596.32000000000005]
[{"$f":"Гонки!$C$7","v":"Жук-трейл # 5 Крево"},{"$f":"Гонки!$D$7","v":"Трейл 70"},"Жук-трейл # 5 Крево Трейл 70",80.010000000000005,"М",{"$f":"IF(E272=\"Ж\",VLOOKUP(C272,Гонки!$E$2:$P$16,11,FALSE),VLOOKUP(C272,Гонки!$E$2:$P$16,12,FALSE))","v":15},"Тофоров Дмитрий",1991,"Toforov Dmitrij","Тофоров Дмитрий / Toforov Dmitrij / 1991","М",7,60,536.69000000000005]
[{"$f":"Гонки!$C$7","v":"Жук-трейл # 5 Крево"},{"$f":"Гонки!$D$7","v":"Трейл 70"},"Жук-трейл # 5 Крево Трейл 70",80.010000000000005,"М",{"$f":"IF(E273=\"Ж\",VLOOKUP(C273,Гонки!$E$2:$P$16,11,FALSE),VLOOKUP(C273,Гонки!$E$2:$P$16,12,FALSE))","v":15},"Мартысевич Роман",1993,"Martysevich Roman","Мартысевич Роман / Martysevich Roman / 1993","М",8,53.333333333333336,477.06]
[{"$f":"Гонки!$C$7","v":"Жук-трейл # 5 Крево"},{"$f":"Гонки!$D$7","v":"Трейл 70"},"Жук-трейл # 5 Крево Трейл 70",80.010000000000005,"М",{"$f":"IF(E274=\"Ж\",VLOOKUP(C274,Гонки!$E$2:$P$16,11,FALSE),VLOOKUP(C274,Гонки!$E$2:$P$16,12,FALSE))","v":15},"Глушков Александр",1980,"Glushkov Aleksandr","Глушков Александр / Glushkov Aleksandr / 1980","М",9,46.666666666666664,417.43]
[{"$f":"Гонки!$C$7","v":"Жук-трейл # 5 Крево"},{"$f":"Гонки!$D$7","v":"Трейл 70"},"Жук-трейл # 5 Крево Трейл 70",80.010000000000005,"М",{"$f":"IF(E275=\"Ж\",VLOOKUP(C275,Гонки!$E$2:$P$16,11,FALSE),VLOOKUP(C275,Гонки!$E$2:$P$16,12,FALSE))","v":15},"Харитонов Иван",1973,"Haritonov Ivan","Харитонов Иван / Haritonov Ivan / 1973","М",9,46.666666666666664,417.43]
[{"$f":"Гонки!$C$7","v":"Жук-трейл # 5 Крево"},{"$f":"Гонки!$D$7","v":"Трейл 70"},"Жук-трейл # 5 Крево Трейл 70",80.010000000000005,"М",{"$f":"IF(E276=\"Ж\",VLOOKUP(C276,Гонки!$E$2:$P$16,11,FALSE),VLOOKUP(C276,Гонки!$E$2:$P$16,12,FALSE))","v":15},"Анацко Леонид",1961,"Anatsko Leonid","Анацко Леонид / Anatsko Leonid / 1961","М",11,33.333333333333343,298.16000000000003]
[{"$f":"Гонки!$C$7","v":"Жук-трейл # 5 Крево"},{"$f":"Гонки!$D$7","v":"Трейл 70"},"Жук-трейл # 5 Крево Трейл 70",80.010000000000005,"М",{"$f":"IF(E277=\"Ж\",VLOOKUP(C277,Гонки!$E$2:$P$16,11,FALSE),VLOOKUP(C277,Гонки!$E$2:$P$16,12,FALSE))","v":15},"Драгун Борис",1970,"Dragun Boris","Драгун Борис / Dragun Boris / 1970","М",11,33.333333333333343,298.16000000000003]
[{"$f":"Гонки!$C$7","v":"Жук-трейл # 5 Крево"},{"$f":"Гонки!$D$8","v":"Трейл 45"},"Жук-трейл # 5 Крево Трейл 45",51.02,"Ж",{"$f":"IF(E278=\"Ж\",VLOOKUP(C278,Гонки!$E$2:$P$16,11,FALSE),VLOOKUP(C278,Гонки!$E$2:$P$16,12,FALSE))","v":3},"Борисевич Анастасия",1985,"Borisevich Anastasiya","Борисевич Анастасия / Borisevich Anastasiya / 1985","Ж",1,100,714.28]
[{"$f":"Гонки!$C$7","v":"Жук-трейл # 5 Крево"},{"$f":"Гонки!$D$8","v":"Трейл 45"},"Жук-трейл # 5 Крево Трейл 45",51.02,"Ж",{"$f":"IF(E279=\"Ж\",VLOOKUP(C279,Гонки!$E$2:$P$16,11,FALSE),VLOOKUP(C279,Гонки!$E$2:$P$16,12,FALSE))","v":3},"Михно Алла",1979,"Mihno Alla","Михно Алла / Mihno Alla / 1979","Ж",2,66.666666666666671,476.19]
[{"$f":"Гонки!$C$7","v":"Жук-трейл # 5 Крево"},{"$f":"Гонки!$D$8","v":"Трейл 45"},"Жук-трейл # 5 Крево Трейл 45",51.02,"Ж",{"$f":"IF(E280=\"Ж\",VLOOKUP(C280,Гонки!$E$2:$P$16,11,FALSE),VLOOKUP(C280,Гонки!$E$2:$P$16,12,FALSE))","v":3},"Зятикова Наталья",1983,"Zyatikova Natalya","Зятикова Наталья / Zyatikova Natalya / 1983","Ж",3,33.333333333333343,238.09]
[{"$f":"Гонки!$C$7","v":"Жук-трейл # 5 Крево"},{"$f":"Гонки!$D$8","v":"Трейл 45"},"Жук-трейл # 5 Крево Трейл 45",51.02,"М",{"$f":"IF(E281=\"Ж\",VLOOKUP(C281,Гонки!$E$2:$P$16,11,FALSE),VLOOKUP(C281,Гонки!$E$2:$P$16,12,FALSE))","v":20},"Брагин Иван",1986,"Bragin Ivan","Брагин Иван / Bragin Ivan / 1986","М",1,100,714.28]
[{"$f":"Гонки!$C$7","v":"Жук-трейл # 5 Крево"},{"$f":"Гонки!$D$8","v":"Трейл 45"},"Жук-трейл # 5 Крево Трейл 45",51.02,"М",{"$f":"IF(E282=\"Ж\",VLOOKUP(C282,Гонки!$E$2:$P$16,11,FALSE),VLOOKUP(C282,Гонки!$E$2:$P$16,12,FALSE))","v":20},"Тихонов Василий",1993,"Tihonov Vasilij","Тихонов Василий / Tihonov Vasilij / 1993","М",2,95,678.57]
[{"$f":"Гонки!$C$7","v":"Жук-трейл # 5 Крево"},{"$f":"Гонки!$D$8","v":"Трейл 45"},"Жук-трейл # 5 Крево Трейл 45",51.02,"М",{"$f":"IF(E283=\"Ж\",VLOOKUP(C283,Гонки!$E$2:$P$16,11,FALSE),VLOOKUP(C283,Гонки!$E$2:$P$16,12,FALSE))","v":20},"Храмов Антон",1991,"Hramov Anton","Храмов Антон / Hramov Anton / 1991","М",3,90,642.85]
[{"$f":"Гонки!$C$7","v":"Жук-трейл # 5 Крево"},{"$f":"Гонки!$D$8","v":"Трейл 45"},"Жук-трейл # 5 Крево Трейл 45",51.02,"М",{"$f":"IF(E284=\"Ж\",VLOOKUP(C284,Гонки!$E$2:$P$16,11,FALSE),VLOOKUP(C284,Гонки!$E$2:$P$16,12,FALSE))","v":20},"Крисенков Алексей",1983,"Krisenkov Aleksej","Крисенков Алексей / Krisenkov Aleksej / 1983","М",4,85,607.14]
[{"$f":"Гонки!$C$7","v":"Жук-трейл # 5 Крево"},{"$f":"Гонки!$D$8","v":"Трейл 45"},"Жук-трейл # 5 Крево Трейл 45",51.02,"М",{"$f":"IF(E285=\"Ж\",VLOOKUP(C285,Гонки!$E$2:$P$16,11,FALSE),VLOOKUP(C285,Гонки!$E$2:$P$16,12,FALSE))","v":20},"Тарасенко Павел",1983,"Tarasenko Pavel","Тарасенко Павел / Tarasenko Pavel / 1983","М",5,80,571.42999999999995]
[{"$f":"Гонки!$C$7","v":"Жук-трейл # 5 Крево"},{"$f":"Гонки!$D$8","v":"Трейл 45"},"Жук-трейл # 5 Крево Трейл 45",51.02,"М",{"$f":"IF(E286=\"Ж\",VLOOKUP(C286,Гонки!$E$2:$P$16,11,FALSE),VLOOKUP(C286,Гонки!$E$2:$P$16,12,FALSE))","v":20},"Попадюк Игорь",1982,"Popadyuk Igor","Попадюк Игорь / Popadyuk Igor / 1982","М",6,75,535.71]
[{"$f":"Гонки!$C$7","v":"Жук-трейл # 5 Крево"},{"$f":"Гонки!$D$8","v":"Трейл 45"},"Жук-трейл # 5 Крево Трейл 45",51.02,"М",{"$f":"IF(E287=\"Ж\",VLOOKUP(C287,Гонки!$E$2:$P$16,11,FALSE),VLOOKUP(C287,Гонки!$E$2:$P$16,12,FALSE))","v":20},"Алексеев Алексей",1980,"Alekseev Aleksej","Алексеев Алексей / Alekseev Aleksej / 1980","М",7,70,500]
[{"$f":"Гонки!$C$7","v":"Жук-трейл # 5 Крево"},{"$f":"Гонки!$D$8","v":"Трейл 45"},"Жук-трейл # 5 Крево Трейл 45",51.02,"М",{"$f":"IF(E288=\"Ж\",VLOOKUP(C288,Гонки!$E$2:$P$16,11,FALSE),VLOOKUP(C288,Гонки!$E$2:$P$16,12,FALSE))","v":20},"Шило Руслан",1993,"Shilo Ruslan","Шило Руслан / Shilo Ruslan / 1993","М",8,65,464.28]
[{"$f":"Гонки!$C$7","v":"Жук-трейл # 5 Крево"},{"$f":"Гонки!$D$8","v":"Трейл 45"},"Жук-трейл # 5 Крево Трейл 45",51.02,"М",{"$f":"IF(E289=\"Ж\",VLOOKUP(C289,Гонки!$E$2:$P$16,11,FALSE),VLOOKUP(C289,Гонки!$E$2:$P$16,12,FALSE))","v":20},"Федорович Николай",1959,"Fedorovich Nikolaj","Федорович Николай / Fedorovich Nikolaj / 1959","М",9,60,428.57]
[{"$f":"Гонки!$C$7","v":"Жук-трейл # 5 Крево"},{"$f":"Гонки!$D$8","v":"Трейл 45"},"Жук-трейл # 5 Крево Трейл 45",51.02,"М",{"$f":"IF(E290=\"Ж\",VLOOKUP(C290,Гонки!$E$2:$P$16,11,FALSE),VLOOKUP(C290,Гонки!$E$2:$P$16,12,FALSE))","v":20},"Иванчик Константин",1983,"Ivanchik Konstantin","Иванчик Константин / Ivanchik Konstantin / 1983","М",10,55,392.86]
[{"$f":"Гонки!$C$7","v":"Жук-трейл # 5 Крево"},{"$f":"Гонки!$D$8","v":"Трейл 45"},"Жук-трейл # 5 Крево Трейл 45",51.02,"М",{"$f":"IF(E291=\"Ж\",VLOOKUP(C291,Гонки!$E$2:$P$16,11,FALSE),VLOOKUP(C291,Гонки!$E$2:$P$16,12,FALSE))","v":20},"Лисовский Виктор",1964,"Lisovskij Viktor","Лисовский Виктор / Lisovskij Viktor / 1964","М",11,50,357.14]
[{"$f":"Гонки!$C$7","v":"Жук-трейл # 5 Крево"},{"$f":"Гонки!$D$8","v":"Трейл 45"},"Жук-трейл # 5 Крево Трейл 45",51.02,"М",{"$f":"IF(E292=\"Ж\",VLOOKUP(C292,Гонки!$E$2:$P$16,11,FALSE),VLOOKUP(C292,Гонки!$E$2:$P$16,12,FALSE))","v":20},"Коровец Богдан",1976,"Korovets Bogdan","Коровец Богдан / Korovets Bogdan / 1976","М",12,44.999999999999993,321.43]
[{"$f":"Гонки!$C$7","v":"Жук-трейл # 5 Крево"},{"$f":"Гонки!$D$8","v":"Трейл 45"},"Жук-трейл # 5 Крево Трейл 45",51.02,"М",{"$f":"IF(E293=\"Ж\",VLOOKUP(C293,Гонки!$E$2:$P$16,11,FALSE),VLOOKUP(C293,Гонки!$E$2:$P$16,12,FALSE))","v":20},"Шапелевич Максим",1987,"Shapelevich Maksim","Шапелевич Максим / Shapelevich Maksim / 1987","М",13,40,285.70999999999998]
[{"$f":"Гонки!$C$7","v":"Жук-трейл # 5 Крево"},{"$f":"Гонки!$D$8","v":"Трейл 45"},"Жук-трейл # 5 Крево Трейл 45",51.02,"М",{"$f":"IF(E294=\"Ж\",VLOOKUP(C294,Гонки!$E$2:$P$16,11,FALSE),VLOOKUP(C294,Гонки!$E$2:$P$16,12,FALSE))","v":20},"Шклярик Олег",1970,"Shklyarik Oleg","Шклярик Олег / Shklyarik Oleg / 1970","М",14,35,250]
[{"$f":"Гонки!$C$7","v":"Жук-трейл # 5 Крево"},{"$f":"Гонки!$D$8","v":"Трейл 45"},"Жук-трейл # 5 Крево Трейл 45",51.02,"М",{"$f":"IF(E295=\"Ж\",VLOOKUP(C295,Гонки!$E$2:$P$16,11,FALSE),VLOOKUP(C295,Гонки!$E$2:$P$16,12,FALSE))","v":20},"Карпович Владимир",1983,"Karpovich Vladimir","Карпович Владимир / Karpovich Vladimir / 1983","М",15,30,214.28]
[{"$f":"Гонки!$C$7","v":"Жук-трейл # 5 Крево"},{"$f":"Гонки!$D$8","v":"Трейл 45"},"Жук-трейл # 5 Крево Трейл 45",51.02,"М",{"$f":"IF(E296=\"Ж\",VLOOKUP(C296,Гонки!$E$2:$P$16,11,FALSE),VLOOKUP(C296,Гонки!$E$2:$P$16,12,FALSE))","v":20},"Жучков Алексей",1985,"Zhuchkov Aleksej","Жучков Алексей / Zhuchkov Aleksej / 1985","М",16,25,178.57]
[{"$f":"Гонки!$C$7","v":"Жук-трейл # 5 Крево"},{"$f":"Гонки!$D$8","v":"Трейл 45"},"Жук-трейл # 5 Крево Трейл 45",51.02,"М",{"$f":"IF(E297=\"Ж\",VLOOKUP(C297,Гонки!$E$2:$P$16,11,FALSE),VLOOKUP(C297,Гонки!$E$2:$P$16,12,FALSE))","v":20},"Зятиков Евгений",1982,"Zyatikov Evgenij","Зятиков Евгений / Zyatikov Evgenij / 1982","М",17,20,142.86000000000001]
[{"$f":"Гонки!$C$7","v":"Жук-трейл # 5 Крево"},{"$f":"Гонки!$D$8","v":"Трейл 45"},"Жук-трейл # 5 Крево Трейл 45",51.02,"М",{"$f":"IF(E298=\"Ж\",VLOOKUP(C298,Гонки!$E$2:$P$16,11,FALSE),VLOOKUP(C298,Гонки!$E$2:$P$16,12,FALSE))","v":20},"Михно Борис",1982,"Mihno Boris","Михно Борис / Mihno Boris / 1982","М",17,20,142.86000000000001]
[{"$f":"Гонки!$C$7","v":"Жук-трейл # 5 Крево"},{"$f":"Гонки!$D$8","v":"Трейл 45"},"Жук-трейл # 5 Крево Трейл 45",51.02,"М",{"$f":"IF(E299=\"Ж\",VLOOKUP(C299,Гонки!$E$2:$P$16,11,FALSE),VLOOKUP(C299,Гонки!$E$2:$P$16,12,FALSE))","v":20},"Ben Bilel",1981,"Ben Bilel","Ben Bilel / Ben Bilel / 1981","М",19,10,71.430000000000007]
[{"$f":"Гонки!$C$7","v":"Жук-трейл # 5 Крево"},{"$f":"Гонки!$D$9","v":"Трейл 21"},"Жук-трейл # 5 Крево Трейл 21",24.380000000000003,"Ж",{"$f":"IF(E300=\"Ж\",VLOOKUP(C300,Гонки!$E$2:$P$16,11,FALSE),VLOOKUP(C300,Гонки!$E$2:$P$16,12,FALSE))","v":15},"Цвирбут Юлия",1992,"Tsvirbut Yuliya","Цвирбут Юлия / Tsvirbut Yuliya / 1992","Ж",1,100,493.76]
[{"$f":"Гонки!$C$7","v":"Жук-трейл # 5 Крево"},{"$f":"Гонки!$D$9","v":"Трейл 21"},"Жук-трейл # 5 Крево Трейл 21",24.380000000000003,"Ж",{"$f":"IF(E301=\"Ж\",VLOOKUP(C301,Гонки!$E$2:$P$16,11,FALSE),VLOOKUP(C301,Гонки!$E$2:$P$16,12,FALSE))","v":15},"Трубкина Анастасия",1989,"Trubkina Anastasiya","Трубкина Анастасия / Trubkina Anastasiya / 1989","Ж",2,93.333333333333329,460.84]
[{"$f":"Гонки!$C$7","v":"Жук-трейл # 5 Крево"},{"$f":"Гонки!$D$9","v":"Трейл 21"},"Жук-трейл # 5 Крево Трейл 21",24.380000000000003,"Ж",{"$f":"IF(E302=\"Ж\",VLOOKUP(C302,Гонки!$E$2:$P$16,11,FALSE),VLOOKUP(C302,Гонки!$E$2:$P$16,12,FALSE))","v":15},"Новик Анастасия",1985,"Novik Anastasiya","Новик Анастасия / Novik Anastasiya / 1985","Ж",3,86.666666666666671,427.93]
[{"$f":"Гонки!$C$7","v":"Жук-трейл # 5 Крево"},{"$f":"Гонки!$D$9","v":"Трейл 21"},"Жук-трейл # 5 Крево Трейл 21",24.380000000000003,"Ж",{"$f":"IF(E303=\"Ж\",VLOOKUP(C303,Гонки!$E$2:$P$16,11,FALSE),VLOOKUP(C303,Гонки!$E$2:$P$16,12,FALSE))","v":15},"Чернель Татьяна",1982,"Chernel Tatyana","Чернель Татьяна / Chernel Tatyana / 1982","Ж",4,80,395.01]
[{"$f":"Гонки!$C$7","v":"Жук-трейл # 5 Крево"},{"$f":"Гонки!$D$9","v":"Трейл 21"},"Жук-трейл # 5 Крево Трейл 21",24.380000000000003,"Ж",{"$f":"IF(E304=\"Ж\",VLOOKUP(C304,Гонки!$E$2:$P$16,11,FALSE),VLOOKUP(C304,Гонки!$E$2:$P$16,12,FALSE))","v":15},"Кордунская Екатерина",1983,"Kordunskaya Ekaterina","Кордунская Екатерина / Kordunskaya Ekaterina / 1983","Ж",5,73.333333333333329,362.09]
[{"$f":"Гонки!$C$7","v":"Жук-трейл # 5 Крево"},{"$f":"Гонки!$D$9","v":"Трейл 21"},"Жук-трейл # 5 Крево Трейл 21",24.380000000000003,"Ж",{"$f":"IF(E305=\"Ж\",VLOOKUP(C305,Гонки!$E$2:$P$16,11,FALSE),VLOOKUP(C305,Гонки!$E$2:$P$16,12,FALSE))","v":15},"Сильванович Валерия",1998,"Silvanovich Valeriya","Сильванович Валерия / Silvanovich Valeriya / 1998","Ж",6,66.666666666666671,329.17]
[{"$f":"Гонки!$C$7","v":"Жук-трейл # 5 Крево"},{"$f":"Гонки!$D$9","v":"Трейл 21"},"Жук-трейл # 5 Крево Трейл 21",24.380000000000003,"Ж",{"$f":"IF(E306=\"Ж\",VLOOKUP(C306,Гонки!$E$2:$P$16,11,FALSE),VLOOKUP(C306,Гонки!$E$2:$P$16,12,FALSE))","v":15},"Коротких Елена",1984,"Korotkih Elena","Коротких Елена / Korotkih Elena / 1984","Ж",7,60,296.26]
[{"$f":"Гонки!$C$7","v":"Жук-трейл # 5 Крево"},{"$f":"Гонки!$D$9","v":"Трейл 21"},"Жук-трейл # 5 Крево Трейл 21",24.380000000000003,"Ж",{"$f":"IF(E307=\"Ж\",VLOOKUP(C307,Гонки!$E$2:$P$16,11,FALSE),VLOOKUP(C307,Гонки!$E$2:$P$16,12,FALSE))","v":15},"Швайковская Ольга",1979,"Shvajkovskaya Olga","Швайковская Ольга / Shvajkovskaya Olga / 1979","Ж",8,53.333333333333336,263.33999999999997]
[{"$f":"Гонки!$C$7","v":"Жук-трейл # 5 Крево"},{"$f":"Гонки!$D$9","v":"Трейл 21"},"Жук-трейл # 5 Крево Трейл 21",24.380000000000003,"Ж",{"$f":"IF(E308=\"Ж\",VLOOKUP(C308,Гонки!$E$2:$P$16,11,FALSE),VLOOKUP(C308,Гонки!$E$2:$P$16,12,FALSE))","v":15},"Арловская Кристина",1989,"Arlovskaya Kristina","Арловская Кристина / Arlovskaya Kristina / 1989","Ж",9,46.666666666666664,230.42]
[{"$f":"Гонки!$C$7","v":"Жук-трейл # 5 Крево"},{"$f":"Гонки!$D$9","v":"Трейл 21"},"Жук-трейл # 5 Крево Трейл 21",24.380000000000003,"Ж",{"$f":"IF(E309=\"Ж\",VLOOKUP(C309,Гонки!$E$2:$P$16,11,FALSE),VLOOKUP(C309,Гонки!$E$2:$P$16,12,FALSE))","v":15},"Липницкая Виктория",1987,"Lipnitskaya Viktoriya","Липницкая Виктория / Lipnitskaya Viktoriya / 1987","Ж",10,40,197.5]
[{"$f":"Гонки!$C$7","v":"Жук-трейл # 5 Крево"},{"$f":"Гонки!$D$9","v":"Трейл 21"},"Жук-трейл # 5 Крево Трейл 21",24.380000000000003,"Ж",{"$f":"IF(E310=\"Ж\",VLOOKUP(C310,Гонки!$E$2:$P$16,11,FALSE),VLOOKUP(C310,Гонки!$E$2:$P$16,12,FALSE))","v":15},"Грейд Юлия",1986,"Grejd Yuliya","Грейд Юлия / Grejd Yuliya / 1986","Ж",11,33.333333333333343,164.59]
[{"$f":"Гонки!$C$7","v":"Жук-трейл # 5 Крево"},{"$f":"Гонки!$D$9","v":"Трейл 21"},"Жук-трейл # 5 Крево Трейл 21",24.380000000000003,"Ж",{"$f":"IF(E311=\"Ж\",VLOOKUP(C311,Гонки!$E$2:$P$16,11,FALSE),VLOOKUP(C311,Гонки!$E$2:$P$16,12,FALSE))","v":15},"Федченко Ярослава",2002,"Fedchenko Yaroslava","Федченко Ярослава / Fedchenko Yaroslava / 2002","Ж",12,26.666666666666671,131.66999999999999]
[{"$f":"Гонки!$C$7","v":"Жук-трейл # 5 Крево"},{"$f":"Гонки!$D$9","v":"Трейл 21"},"Жук-трейл # 5 Крево Трейл 21",24.380000000000003,"Ж",{"$f":"IF(E312=\"Ж\",VLOOKUP(C312,Гонки!$E$2:$P$16,11,FALSE),VLOOKUP(C312,Гонки!$E$2:$P$16,12,FALSE))","v":15},"Вдовиченко Ирина",1989,"Vdovichenko Irina","Вдовиченко Ирина / Vdovichenko Irina / 1989","Ж",13,20,98.75]
[{"$f":"Гонки!$C$7","v":"Жук-трейл # 5 Крево"},{"$f":"Гонки!$D$9","v":"Трейл 21"},"Жук-трейл # 5 Крево Трейл 21",24.380000000000003,"Ж",{"$f":"IF(E313=\"Ж\",VLOOKUP(C313,Гонки!$E$2:$P$16,11,FALSE),VLOOKUP(C313,Гонки!$E$2:$P$16,12,FALSE))","v":15},"Якимчук Надежда",1986,"Yakimchuk Nadezhda","Якимчук Надежда / Yakimchuk Nadezhda / 1986","Ж",14,13.333333333333329,65.83]
[{"$f":"Гонки!$C$7","v":"Жук-трейл # 5 Крево"},{"$f":"Гонки!$D$9","v":"Трейл 21"},"Жук-трейл # 5 Крево Трейл 21",24.380000000000003,"Ж",{"$f":"IF(E314=\"Ж\",VLOOKUP(C314,Гонки!$E$2:$P$16,11,FALSE),VLOOKUP(C314,Гонки!$E$2:$P$16,12,FALSE))","v":15},"Федченко Олеся",1977,"Fedchenko Olesya","Федченко Олеся / Fedchenko Olesya / 1977","Ж",15,6.6666666666666714,32.92]
[{"$f":"Гонки!$C$7","v":"Жук-трейл # 5 Крево"},{"$f":"Гонки!$D$9","v":"Трейл 21"},"Жук-трейл # 5 Крево Трейл 21",24.380000000000003,"М",{"$f":"IF(E315=\"Ж\",VLOOKUP(C315,Гонки!$E$2:$P$16,11,FALSE),VLOOKUP(C315,Гонки!$E$2:$P$16,12,FALSE))","v":45},"Мальков Валентин",1988,"Malkov Valentin","Мальков Валентин / Malkov Valentin / 1988","М",1,100,493.76]
[{"$f":"Гонки!$C$7","v":"Жук-трейл # 5 Крево"},{"$f":"Гонки!$D$9","v":"Трейл 21"},"Жук-трейл # 5 Крево Трейл 21",24.380000000000003,"М",{"$f":"IF(E316=\"Ж\",VLOOKUP(C316,Гонки!$E$2:$P$16,11,FALSE),VLOOKUP(C316,Гонки!$E$2:$P$16,12,FALSE))","v":45},"Овсиюк Богдан",1993,"Ovsiyuk Bogdan","Овсиюк Богдан / Ovsiyuk Bogdan / 1993","М",2,97.777777777777771,482.79]
[{"$f":"Гонки!$C$7","v":"Жук-трейл # 5 Крево"},{"$f":"Гонки!$D$9","v":"Трейл 21"},"Жук-трейл # 5 Крево Трейл 21",24.380000000000003,"М",{"$f":"IF(E317=\"Ж\",VLOOKUP(C317,Гонки!$E$2:$P$16,11,FALSE),VLOOKUP(C317,Гонки!$E$2:$P$16,12,FALSE))","v":45},"Ласюк Юрий",1987,"Lasyuk Yurij","Ласюк Юрий / Lasyuk Yurij / 1987","М",3,95.555555555555557,471.82]
[{"$f":"Гонки!$C$7","v":"Жук-трейл # 5 Крево"},{"$f":"Гонки!$D$9","v":"Трейл 21"},"Жук-трейл # 5 Крево Трейл 21",24.380000000000003,"М",{"$f":"IF(E318=\"Ж\",VLOOKUP(C318,Гонки!$E$2:$P$16,11,FALSE),VLOOKUP(C318,Гонки!$E$2:$P$16,12,FALSE))","v":45},"Вагин Андрей",1989,"Vagin Andrej","Вагин Андрей / Vagin Andrej / 1989","М",4,93.333333333333329,460.84]
[{"$f":"Гонки!$C$7","v":"Жук-трейл # 5 Крево"},{"$f":"Гонки!$D$9","v":"Трейл 21"},"Жук-трейл # 5 Крево Трейл 21",24.380000000000003,"М",{"$f":"IF(E319=\"Ж\",VLOOKUP(C319,Гонки!$E$2:$P$16,11,FALSE),VLOOKUP(C319,Гонки!$E$2:$P$16,12,FALSE))","v":45},"Бузо Александр",1982,"Buzo Aleksandr","Бузо Александр / Buzo Aleksandr / 1982","М",5,91.111111111111114,449.87]
[{"$f":"Гонки!$C$7","v":"Жук-трейл # 5 Крево"},{"$f":"Гонки!$D$9","v":"Трейл 21"},"Жук-трейл # 5 Крево Трейл 21",24.380000000000003,"М",{"$f":"IF(E320=\"Ж\",VLOOKUP(C320,Гонки!$E$2:$P$16,11,FALSE),VLOOKUP(C320,Гонки!$E$2:$P$16,12,FALSE))","v":45},"Никонов Максим",1979,"Nikonov Maksim","Никонов Максим / Nikonov Maksim / 1979","М",6,88.888888888888886,438.9]
[{"$f":"Гонки!$C$7","v":"Жук-трейл # 5 Крево"},{"$f":"Гонки!$D$9","v":"Трейл 21"},"Жук-трейл # 5 Крево Трейл 21",24.380000000000003,"М",{"$f":"IF(E321=\"Ж\",VLOOKUP(C321,Гонки!$E$2:$P$16,11,FALSE),VLOOKUP(C321,Гонки!$E$2:$P$16,12,FALSE))","v":45},"Насвит Дмитрий",1986,"Nasvit Dmitrij","Насвит Дмитрий / Nasvit Dmitrij / 1986","М",7,86.666666666666671,427.93]
[{"$f":"Гонки!$C$7","v":"Жук-трейл # 5 Крево"},{"$f":"Гонки!$D$9","v":"Трейл 21"},"Жук-трейл # 5 Крево Трейл 21",{"$f":"VLOOKUP(C322,Список_гонок,10,FALSE)","v":24.380000000000003},"М",{"$f":"IF(E322=\"Ж\",VLOOKUP(C322,Гонки!$E$2:$P$16,11,FALSE),VLOOKUP(C322,Гонки!$E$2:$P$16,12,FALSE))","v":45},"Лойко Сергей",1985,"Lojko Sergej","Лойко Сергей / Lojko Sergej / 1985","М",8,84.444444444444443,416.95]
[{"$f":"Гонки!$C$7","v":"Жук-трейл # 5 Крево"},{"$f":"Гонки!$D$9","v":"Трейл 21"},{"$f":"CONCATENATE(A323,\" \",B323)","v":"Жук-трейл # 5 Крево Трейл 21"},24.380000000000003,"М",{"$f":"IF(E323=\"Ж\",VLOOKUP(C323,Гонки!$E$2:$P$16,11,FALSE),VLOOKUP(C323,Гонки!$E$2:$P$16,12,FALSE))","v":45},"Скуратович Антон",1985,{"$f":"Translit(G323)","v":"Skuratovich Anton"},{"$f":"CONCATENATE(G323,\" / \",I323,\" / \",H323)","v":"Скуратович Антон / Skuratovich Anton / 1985"},{"$f":"E323","v":"М"},9,{"$f":"100-((L323-1)/F323)*100","v":82.222222222222229},{"$f":"ROUND(SQRT(D323)*M323,2)","v":405.98}]
[{"$f":"Гонки!$C$7","v":"Жук-трейл # 5 Крево"},{"$f":"Гонки!$D$9","v":"Трейл 21"},"Жук-трейл # 5 Крево Трейл 21",24.380000000000003,"М",{"$f":"IF(E324=\"Ж\",VLOOKUP(C324,Гонки!$E$2:$P$16,11,FALSE),VLOOKUP(C324,Гонки!$E$2:$P$16,12,FALSE))","v":45},"Кирcанов Алексей",1981,"Kircanov Aleksej","Кирcанов Алексей / Kircanov Aleksej / 1981","М",10,80,395.01]
[{"$f":"Гонки!$C$7","v":"Жук-трейл # 5 Крево"},{"$f":"Гонки!$D$9","v":"Трейл 21"},"Жук-трейл # 5 Крево Трейл 21",24.380000000000003,"М",{"$f":"IF(E325=\"Ж\",VLOOKUP(C325,Гонки!$E$2:$P$16,11,FALSE),VLOOKUP(C325,Гонки!$E$2:$P$16,12,FALSE))","v":45},"Ермохин Максим",1975,"Ermohin Maksim","Ермохин Максим / Ermohin Maksim / 1975","М",11,77.777777777777771,384.04]
[{"$f":"Гонки!$C$7","v":"Жук-трейл # 5 Крево"},{"$f":"Гонки!$D$9","v":"Трейл 21"},"Жук-трейл # 5 Крево Трейл 21",24.380000000000003,"М",{"$f":"IF(E326=\"Ж\",VLOOKUP(C326,Гонки!$E$2:$P$16,11,FALSE),VLOOKUP(C326,Гонки!$E$2:$P$16,12,FALSE))","v":45},"Молчан Александр",1988,"Molchan Aleksandr","Молчан Александр / Molchan Aleksandr / 1988","М",12,75.555555555555557,373.06]
[{"$f":"Гонки!$C$7","v":"Жук-трейл # 5 Крево"},{"$f":"Гонки!$D$9","v":"Трейл 21"},"Жук-трейл # 5 Крево Трейл 21",24.380000000000003,"М",{"$f":"IF(E327=\"Ж\",VLOOKUP(C327,Гонки!$E$2:$P$16,11,FALSE),VLOOKUP(C327,Гонки!$E$2:$P$16,12,FALSE))","v":45},"Кусов Иван",1993,"Kusov Ivan","Кусов Иван / Kusov Ivan / 1993","М",13,73.333333333333329,362.09]
[{"$f":"Гонки!$C$7","v":"Жук-трейл # 5 Крево"},{"$f":"Гонки!$D$9","v":"Трейл 21"},"Жук-трейл # 5 Крево Трейл 21",24.380000000000003,"М",{"$f":"IF(E328=\"Ж\",VLOOKUP(C328,Гонки!$E$2:$P$16,11,FALSE),VLOOKUP(C328,Гонки!$E$2:$P$16,12,FALSE))","v":45},"Выборный Александр",1985,"Vybornyj Aleksandr","Выборный Александр / Vybornyj Aleksandr / 1985","М",14,71.111111111111114,351.12]
[{"$f":"Гонки!$C$7","v":"Жук-трейл # 5 Крево"},{"$f":"Гонки!$D$9","v":"Трейл 21"},"Жук-трейл # 5 Крево Трейл 21",24.380000000000003,"М",{"$f":"IF(E329=\"Ж\",VLOOKUP(C329,Гонки!$E$2:$P$16,11,FALSE),VLOOKUP(C329,Гонки!$E$2:$P$16,12,FALSE))","v":45},"Юкевич Александр",1983,"Yukevich Aleksandr","Юкевич Александр / Yukevich Aleksandr / 1983","М",15,68.888888888888886,340.15]
[{"$f":"Гонки!$C$7","v":"Жук-трейл # 5 Крево"},{"$f":"Гонки!$D$9","v":"Трейл 21"},"Жук-трейл # 5 Крево Трейл 21",24.380000000000003,"М",{"$f":"IF(E330=\"Ж\",VLOOKUP(C330,Гонки!$E$2:$P$16,11,FALSE),VLOOKUP(C330,Гонки!$E$2:$P$16,12,FALSE))","v":45},"Евсюченя Александр",1991,"Evsyuchenya Aleksandr","Евсюченя Александр / Evsyuchenya Aleksandr / 1991","М",16,66.666666666666671,329.17]
[{"$f":"Гонки!$C$7","v":"Жук-трейл # 5 Крево"},{"$f":"Гонки!$D$9","v":"Трейл 21"},"Жук-трейл # 5 Крево Трейл 21",24.380000000000003,"М",{"$f":"IF(E331=\"Ж\",VLOOKUP(C331,Гонки!$E$2:$P$16,11,FALSE),VLOOKUP(C331,Гонки!$E$2:$P$16,12,FALSE))","v":45},"Левчук Александр",1970,"Levchuk Aleksandr","Левчук Александр / Levchuk Aleksandr / 1970","М",17,64.444444444444443,318.2]
[{"$f":"Гонки!$C$7","v":"Жук-трейл # 5 Крево"},{"$f":"Гонки!$D$9","v":"Трейл 21"},"Жук-трейл # 5 Крево Трейл 21",24.380000000000003,"М",{"$f":"IF(E332=\"Ж\",VLOOKUP(C332,Гонки!$E$2:$P$16,11,FALSE),VLOOKUP(C332,Гонки!$E$2:$P$16,12,FALSE))","v":45},"Андуро Сергей",1986,"Anduro Sergej","Андуро Сергей / Anduro Sergej / 1986","М",18,62.222222222222221,307.23]
[{"$f":"Гонки!$C$7","v":"Жук-трейл # 5 Крево"},{"$f":"Гонки!$D$9","v":"Трейл 21"},"Жук-трейл # 5 Крево Трейл 21",24.380000000000003,"М",{"$f":"IF(E333=\"Ж\",VLOOKUP(C333,Гонки!$E$2:$P$16,11,FALSE),VLOOKUP(C333,Гонки!$E$2:$P$16,12,FALSE))","v":45},"Володько Андрей",1986,"Volodko Andrej","Володько Андрей / Volodko Andrej / 1986","М",19,60,296.26]
[{"$f":"Гонки!$C$7","v":"Жук-трейл # 5 Крево"},{"$f":"Гонки!$D$9","v":"Трейл 21"},"Жук-трейл # 5 Крево Трейл 21",24.380000000000003,"М",{"$f":"IF(E334=\"Ж\",VLOOKUP(C334,Гонки!$E$2:$P$16,11,FALSE),VLOOKUP(C334,Гонки!$E$2:$P$16,12,FALSE))","v":45},"Кожан Михаил",1946,"Kozhan Mihail","Кожан Михаил / Kozhan Mihail / 1946","М",20,57.777777777777779,285.27999999999997]
[{"$f":"Гонки!$C$7","v":"Жук-трейл # 5 Крево"},{"$f":"Гонки!$D$9","v":"Трейл 21"},"Жук-трейл # 5 Крево Трейл 21",24.380000000000003,"М",{"$f":"IF(E335=\"Ж\",VLOOKUP(C335,Гонки!$E$2:$P$16,11,FALSE),VLOOKUP(C335,Гонки!$E$2:$P$16,12,FALSE))","v":45},"Веремейчик Юрий",1979,"Veremejchik Yurij","Веремейчик Юрий / Veremejchik Yurij / 1979","М",21,55.555555555555557,274.31]
[{"$f":"Гонки!$C$7","v":"Жук-трейл # 5 Крево"},{"$f":"Гонки!$D$9","v":"Трейл 21"},"Жук-трейл # 5 Крево Трейл 21",24.380000000000003,"М",{"$f":"IF(E336=\"Ж\",VLOOKUP(C336,Гонки!$E$2:$P$16,11,FALSE),VLOOKUP(C336,Гонки!$E$2:$P$16,12,FALSE))","v":45},"Иолтуховский Владислав",1971,"Ioltuhovskij Vladislav","Иолтуховский Владислав / Ioltuhovskij Vladislav / 1971","М",22,53.333333333333336,263.33999999999997]
[{"$f":"Гонки!$C$7","v":"Жук-трейл # 5 Крево"},{"$f":"Гонки!$D$9","v":"Трейл 21"},"Жук-трейл # 5 Крево Трейл 21",24.380000000000003,"М",{"$f":"IF(E337=\"Ж\",VLOOKUP(C337,Гонки!$E$2:$P$16,11,FALSE),VLOOKUP(C337,Гонки!$E$2:$P$16,12,FALSE))","v":45},"Шепетько Сергей",1987,"Shepetko Sergej","Шепетько Сергей / Shepetko Sergej / 1987","М",23,51.111111111111114,252.37]
[{"$f":"Гонки!$C$7","v":"Жук-трейл # 5 Крево"},{"$f":"Гонки!$D$9","v":"Трейл 21"},"Жук-трейл # 5 Крево Трейл 21",24.380000000000003,"М",{"$f":"IF(E338=\"Ж\",VLOOKUP(C338,Гонки!$E$2:$P$16,11,FALSE),VLOOKUP(C338,Гонки!$E$2:$P$16,12,FALSE))","v":45},"Печёнов Георгий",1975,"Pechjonov Georgij","Печёнов Георгий / Pechjonov Georgij / 1975","М",24,48.888888888888893,241.39]
[{"$f":"Гонки!$C$7","v":"Жук-трейл # 5 Крево"},{"$f":"Гонки!$D$9","v":"Трейл 21"},"Жук-трейл # 5 Крево Трейл 21",24.380000000000003,"М",{"$f":"IF(E339=\"Ж\",VLOOKUP(C339,Гонки!$E$2:$P$16,11,FALSE),VLOOKUP(C339,Гонки!$E$2:$P$16,12,FALSE))","v":45},"Грек Илья",1992,"Grek Ilya","Грек Илья / Grek Ilya / 1992","М",25,46.666666666666664,230.42]
[{"$f":"Гонки!$C$7","v":"Жук-трейл # 5 Крево"},{"$f":"Гонки!$D$9","v":"Трейл 21"},"Жук-трейл # 5 Крево Трейл 21",24.380000000000003,"М",{"$f":"IF(E340=\"Ж\",VLOOKUP(C340,Гонки!$E$2:$P$16,11,FALSE),VLOOKUP(C340,Гонки!$E$2:$P$16,12,FALSE))","v":45},"Юкевич Андрей",1990,"Yukevich Andrej","Юкевич Андрей / Yukevich Andrej / 1990","М",26,44.444444444444443,219.45]
[{"$f":"Гонки!$C$7","v":"Жук-трейл # 5 Крево"},{"$f":"Гонки!$D$9","v":"Трейл 21"},"Жук-трейл # 5 Крево Трейл 21",24.380000000000003,"М",{"$f":"IF(E341=\"Ж\",VLOOKUP(C341,Гонки!$E$2:$P$16,11,FALSE),VLOOKUP(C341,Гонки!$E$2:$P$16,12,FALSE))","v":45},"Жидович Вадим",1984,"Zhidovich Vadim","Жидович Вадим / Zhidovich Vadim / 1984","М",27,42.222222222222229,208.48]
[{"$f":"Гонки!$C$7","v":"Жук-трейл # 5 Крево"},{"$f":"Гонки!$D$9","v":"Трейл 21"},"Жук-трейл # 5 Крево Трейл 21",24.380000000000003,"М",{"$f":"IF(E342=\"Ж\",VLOOKUP(C342,Гонки!$E$2:$P$16,11,FALSE),VLOOKUP(C342,Гонки!$E$2:$P$16,12,FALSE))","v":45},"Казарин Дмитрий",1994,"Kazarin Dmitrij","Казарин Дмитрий / Kazarin Dmitrij / 1994","М",28,40,197.5]
[{"$f":"Гонки!$C$7","v":"Жук-трейл # 5 Крево"},{"$f":"Гонки!$D$9","v":"Трейл 21"},"Жук-трейл # 5 Крево Трейл 21",24.380000000000003,"М",{"$f":"IF(E343=\"Ж\",VLOOKUP(C343,Гонки!$E$2:$P$16,11,FALSE),VLOOKUP(C343,Гонки!$E$2:$P$16,12,FALSE))","v":45},"Якубовский Игорь",1984,"Yakubovskij Igor","Якубовский Игорь / Yakubovskij Igor / 1984","М",29,37.777777777777779,186.53]
[{"$f":"Гонки!$C$7","v":"Жук-трейл # 5 Крево"},{"$f":"Гонки!$D$9","v":"Трейл 21"},"Жук-трейл # 5 Крево Трейл 21",24.380000000000003,"М",{"$f":"IF(E344=\"Ж\",VLOOKUP(C344,Гонки!$E$2:$P$16,11,FALSE),VLOOKUP(C344,Гонки!$E$2:$P$16,12,FALSE))","v":45},"Леверовский Александр",1988,"Leverovskij Aleksandr","Леверовский Александр / Leverovskij Aleksandr / 1988","М",30,35.555555555555557,175.56]
[{"$f":"Гонки!$C$7","v":"Жук-трейл # 5 Крево"},{"$f":"Гонки!$D$9","v":"Трейл 21"},"Жук-трейл # 5 Крево Трейл 21",24.380000000000003,"М",{"$f":"IF(E345=\"Ж\",VLOOKUP(C345,Гонки!$E$2:$P$16,11,FALSE),VLOOKUP(C345,Гонки!$E$2:$P$16,12,FALSE))","v":45},"Радиончик Александр",1985,"Radionchik Aleksandr","Радиончик Александр / Radionchik Aleksandr / 1985","М",31,33.333333333333343,164.59]
[{"$f":"Гонки!$C$7","v":"Жук-трейл # 5 Крево"},{"$f":"Гонки!$D$9","v":"Трейл 21"},"Жук-трейл # 5 Крево Трейл 21",24.380000000000003,"М",{"$f":"IF(E346=\"Ж\",VLOOKUP(C346,Гонки!$E$2:$P$16,11,FALSE),VLOOKUP(C346,Гонки!$E$2:$P$16,12,FALSE))","v":45},"Аржаников Евгений",1976,"Arzhanikov Evgenij","Аржаников Евгений / Arzhanikov Evgenij / 1976","М",32,31.111111111111114,153.61000000000001]
[{"$f":"Гонки!$C$7","v":"Жук-трейл # 5 Крево"},{"$f":"Гонки!$D$9","v":"Трейл 21"},"Жук-трейл # 5 Крево Трейл 21",24.380000000000003,"М",{"$f":"IF(E347=\"Ж\",VLOOKUP(C347,Гонки!$E$2:$P$16,11,FALSE),VLOOKUP(C347,Гонки!$E$2:$P$16,12,FALSE))","v":45},"Герасимов Юрий",1992,"Gerasimov Yurij","Герасимов Юрий / Gerasimov Yurij / 1992","М",33,28.888888888888886,142.63999999999999]
[{"$f":"Гонки!$C$7","v":"Жук-трейл # 5 Крево"},{"$f":"Гонки!$D$9","v":"Трейл 21"},"Жук-трейл # 5 Крево Трейл 21",24.380000000000003,"М",{"$f":"IF(E348=\"Ж\",VLOOKUP(C348,Гонки!$E$2:$P$16,11,FALSE),VLOOKUP(C348,Гонки!$E$2:$P$16,12,FALSE))","v":45},"Зеленко Алексей",1980,"Zelenko Aleksej","Зеленко Алексей / Zelenko Aleksej / 1980","М",34,26.666666666666671,131.66999999999999]
[{"$f":"Гонки!$C$7","v":"Жук-трейл # 5 Крево"},{"$f":"Гонки!$D$9","v":"Трейл 21"},"Жук-трейл # 5 Крево Трейл 21",24.380000000000003,"М",{"$f":"IF(E349=\"Ж\",VLOOKUP(C349,Гонки!$E$2:$P$16,11,FALSE),VLOOKUP(C349,Гонки!$E$2:$P$16,12,FALSE))","v":45},"Чичин Юрий",1979,"Chichin Yurij","Чичин Юрий / Chichin Yurij / 1979","М",35,24.444444444444443,120.7]
[{"$f":"Гонки!$C$7","v":"Жук-трейл # 5 Крево"},{"$f":"Гонки!$D$9","v":"Трейл 21"},"Жук-трейл # 5 Крево Трейл 21",24.380000000000003,"М",{"$f":"IF(E350=\"Ж\",VLOOKUP(C350,Гонки!$E$2:$P$16,11,FALSE),VLOOKUP(C350,Гонки!$E$2:$P$16,12,FALSE))","v":45},"Ступяк Андрей",1979,"Stupyak Andrej","Ступяк Андрей / Stupyak Andrej / 1979","М",36,22.222222222222214,109.72]
[{"$f":"Гонки!$C$7","v":"Жук-трейл # 5 Крево"},{"$f":"Гонки!$D$9","v":"Трейл 21"},"Жук-трейл # 5 Крево Трейл 21",24.380000000000003,"М",{"$f":"IF(E351=\"Ж\",VLOOKUP(C351,Гонки!$E$2:$P$16,11,FALSE),VLOOKUP(C351,Гонки!$E$2:$P$16,12,FALSE))","v":45},"Комар Артем",1998,"Komar Artem","Комар Артем / Komar Artem / 1998","М",37,20,98.75]
[{"$f":"Гонки!$C$7","v":"Жук-трейл # 5 Крево"},{"$f":"Гонки!$D$9","v":"Трейл 21"},"Жук-трейл # 5 Крево Трейл 21",24.380000000000003,"М",{"$f":"IF(E352=\"Ж\",VLOOKUP(C352,Гонки!$E$2:$P$16,11,FALSE),VLOOKUP(C352,Гонки!$E$2:$P$16,12,FALSE))","v":45},"Лакустов Алексей",1986,"Lakustov Aleksej","Лакустов Алексей / Lakustov Aleksej / 1986","М",38,17.777777777777786,87.78]
[{"$f":"Гонки!$C$7","v":"Жук-трейл # 5 Крево"},{"$f":"Гонки!$D$9","v":"Трейл 21"},"Жук-трейл # 5 Крево Трейл 21",24.380000000000003,"М",{"$f":"IF(E353=\"Ж\",VLOOKUP(C353,Гонки!$E$2:$P$16,11,FALSE),VLOOKUP(C353,Гонки!$E$2:$P$16,12,FALSE))","v":45},"Кузьменок Денис",1979,"Kuzmenok Denis","Кузьменок Денис / Kuzmenok Denis / 1979","М",39,15.555555555555557,76.81]
[{"$f":"Гонки!$C$7","v":"Жук-трейл # 5 Крево"},{"$f":"Гонки!$D$9","v":"Трейл 21"},"Жук-трейл # 5 Крево Трейл 21",24.380000000000003,"М",{"$f":"IF(E354=\"Ж\",VLOOKUP(C354,Гонки!$E$2:$P$16,11,FALSE),VLOOKUP(C354,Гонки!$E$2:$P$16,12,FALSE))","v":45},"Зуй Александр",1980,"Zuj Aleksandr","Зуй Александр / Zuj Aleksandr / 1980","М",40,13.333333333333329,65.83]
[{"$f":"Гонки!$C$7","v":"Жук-трейл # 5 Крево"},{"$f":"Гонки!$D$9","v":"Трейл 21"},"Жук-трейл # 5 Крево Трейл 21",24.380000000000003,"М",{"$f":"IF(E355=\"Ж\",VLOOKUP(C355,Гонки!$E$2:$P$16,11,FALSE),VLOOKUP(C355,Гонки!$E$2:$P$16,12,FALSE))","v":45},"Щербина Максим",1976,"Scherbina Maksim","Щербина Максим / Scherbina Maksim / 1976","М",41,11.111111111111114,54.86]
[{"$f":"Гонки!$C$7","v":"Жук-трейл # 5 Крево"},{"$f":"Гонки!$D$9","v":"Трейл 21"},"Жук-трейл # 5 Крево Трейл 21",24.380000000000003,"М",{"$f":"IF(E356=\"Ж\",VLOOKUP(C356,Гонки!$E$2:$P$16,11,FALSE),VLOOKUP(C356,Гонки!$E$2:$P$16,12,FALSE))","v":45},"Мейсак Александр",1989,"Mejsak Aleksandr","Мейсак Александр / Mejsak Aleksandr / 1989","М",42,8.8888888888888857,43.89]
[{"$f":"Гонки!$C$7","v":"Жук-трейл # 5 Крево"},{"$f":"Гонки!$D$9","v":"Трейл 21"},"Жук-трейл # 5 Крево Трейл 21",24.380000000000003,"М",{"$f":"IF(E357=\"Ж\",VLOOKUP(C357,Гонки!$E$2:$P$16,11,FALSE),VLOOKUP(C357,Гонки!$E$2:$P$16,12,FALSE))","v":45},"Самсонов Никита",1989,"Samsonov Nikita","Самсонов Никита / Samsonov Nikita / 1989","М",43,6.6666666666666714,32.92]
[{"$f":"Гонки!$C$7","v":"Жук-трейл # 5 Крево"},{"$f":"Гонки!$D$9","v":"Трейл 21"},"Жук-трейл # 5 Крево Трейл 21",24.380000000000003,"М",{"$f":"IF(E358=\"Ж\",VLOOKUP(C358,Гонки!$E$2:$P$16,11,FALSE),VLOOKUP(C358,Гонки!$E$2:$P$16,12,FALSE))","v":45},"Славинский Дмитрий",1986,"Slavinskij Dmitrij","Славинский Дмитрий / Slavinskij Dmitrij / 1986","М",44,4.4444444444444429,21.94]
[{"$f":"Гонки!$C$7","v":"Жук-трейл # 5 Крево"},{"$f":"Гонки!$D$9","v":"Трейл 21"},"Жук-трейл # 5 Крево Трейл 21",24.380000000000003,"М",{"$f":"IF(E359=\"Ж\",VLOOKUP(C359,Гонки!$E$2:$P$16,11,FALSE),VLOOKUP(C359,Гонки!$E$2:$P$16,12,FALSE))","v":45},"Коньшин Андрей",1988,"Konshin Andrej","Коньшин Андрей / Konshin Andrej / 1988","М",45,2.2222222222222285,10.97]
[{"$f":"Гонки!$C$7","v":"Жук-трейл # 5 Крево"},{"$f":"Гонки!$D$10","v":"Трейл 10"},"Жук-трейл # 5 Крево Трейл 10",13.88,"Ж",{"$f":"IF(E360=\"Ж\",VLOOKUP(C360,Гонки!$E$2:$P$16,11,FALSE),VLOOKUP(C360,Гонки!$E$2:$P$16,12,FALSE))","v":26},"Милинкевич Елена",1977,"Milinkevich Elena","Милинкевич Елена / Milinkevich Elena / 1977","Ж",1,100,372.56]
[{"$f":"Гонки!$C$7","v":"Жук-трейл # 5 Крево"},{"$f":"Гонки!$D$10","v":"Трейл 10"},"Жук-трейл # 5 Крево Трейл 10",13.88,"Ж",{"$f":"IF(E361=\"Ж\",VLOOKUP(C361,Гонки!$E$2:$P$16,11,FALSE),VLOOKUP(C361,Гонки!$E$2:$P$16,12,FALSE))","v":26},"Куцакова Татьяна",1987,"Kutsakova Tatyana","Куцакова Татьяна / Kutsakova Tatyana / 1987","Ж",2,96.15384615384616,358.23]
[{"$f":"Гонки!$C$7","v":"Жук-трейл # 5 Крево"},{"$f":"Гонки!$D$10","v":"Трейл 10"},"Жук-трейл # 5 Крево Трейл 10",13.88,"Ж",{"$f":"IF(E362=\"Ж\",VLOOKUP(C362,Гонки!$E$2:$P$16,11,FALSE),VLOOKUP(C362,Гонки!$E$2:$P$16,12,FALSE))","v":26},"Тимошенко Алена",1982,"Timoshenko Alena","Тимошенко Алена / Timoshenko Alena / 1982","Ж",3,92.307692307692307,343.9]
[{"$f":"Гонки!$C$7","v":"Жук-трейл # 5 Крево"},{"$f":"Гонки!$D$10","v":"Трейл 10"},"Жук-трейл # 5 Крево Трейл 10",13.88,"Ж",{"$f":"IF(E363=\"Ж\",VLOOKUP(C363,Гонки!$E$2:$P$16,11,FALSE),VLOOKUP(C363,Гонки!$E$2:$P$16,12,FALSE))","v":26},"Едомская Вольга",1987,"Edomskaya Volga","Едомская Вольга / Edomskaya Volga / 1987","Ж",4,88.461538461538467,329.57]
[{"$f":"Гонки!$C$7","v":"Жук-трейл # 5 Крево"},{"$f":"Гонки!$D$10","v":"Трейл 10"},"Жук-трейл # 5 Крево Трейл 10",13.88,"Ж",{"$f":"IF(E364=\"Ж\",VLOOKUP(C364,Гонки!$E$2:$P$16,11,FALSE),VLOOKUP(C364,Гонки!$E$2:$P$16,12,FALSE))","v":26},"Черкас Александра",1992,"Cherkas Aleksandra","Черкас Александра / Cherkas Aleksandra / 1992","Ж",5,84.615384615384613,315.24]
[{"$f":"Гонки!$C$7","v":"Жук-трейл # 5 Крево"},{"$f":"Гонки!$D$10","v":"Трейл 10"},"Жук-трейл # 5 Крево Трейл 10",13.88,"Ж",{"$f":"IF(E365=\"Ж\",VLOOKUP(C365,Гонки!$E$2:$P$16,11,FALSE),VLOOKUP(C365,Гонки!$E$2:$P$16,12,FALSE))","v":26},"Павловская Светлана",1984,"Pavlovskaya Svetlana","Павловская Светлана / Pavlovskaya Svetlana / 1984","Ж",6,80.769230769230774,300.91000000000003]
[{"$f":"Гонки!$C$7","v":"Жук-трейл # 5 Крево"},{"$f":"Гонки!$D$10","v":"Трейл 10"},"Жук-трейл # 5 Крево Трейл 10",13.88,"Ж",{"$f":"IF(E366=\"Ж\",VLOOKUP(C366,Гонки!$E$2:$P$16,11,FALSE),VLOOKUP(C366,Гонки!$E$2:$P$16,12,FALSE))","v":26},"Телегина София",1991,"Telegina Sofiya","Телегина София / Telegina Sofiya / 1991","Ж",7,76.92307692307692,286.58]
[{"$f":"Гонки!$C$7","v":"Жук-трейл # 5 Крево"},{"$f":"Гонки!$D$10","v":"Трейл 10"},"Жук-трейл # 5 Крево Трейл 10",13.88,"Ж",{"$f":"IF(E367=\"Ж\",VLOOKUP(C367,Гонки!$E$2:$P$16,11,FALSE),VLOOKUP(C367,Гонки!$E$2:$P$16,12,FALSE))","v":26},"Недведская Елена",1986,"Nedvedskaya Elena","Недведская Елена / Nedvedskaya Elena / 1986","Ж",8,73.07692307692308,272.25]
[{"$f":"Гонки!$C$7","v":"Жук-трейл # 5 Крево"},{"$f":"Гонки!$D$10","v":"Трейл 10"},"Жук-трейл # 5 Крево Трейл 10",13.88,"Ж",{"$f":"IF(E368=\"Ж\",VLOOKUP(C368,Гонки!$E$2:$P$16,11,FALSE),VLOOKUP(C368,Гонки!$E$2:$P$16,12,FALSE))","v":26},"Гринько Анастасия",1993,"Grinko Anastasiya","Гринько Анастасия / Grinko Anastasiya / 1993","Ж",9,69.230769230769226,257.93]
[{"$f":"Гонки!$C$7","v":"Жук-трейл # 5 Крево"},{"$f":"Гонки!$D$10","v":"Трейл 10"},"Жук-трейл # 5 Крево Трейл 10",13.88,"Ж",{"$f":"IF(E369=\"Ж\",VLOOKUP(C369,Гонки!$E$2:$P$16,11,FALSE),VLOOKUP(C369,Гонки!$E$2:$P$16,12,FALSE))","v":26},"Гриб Екатерина",1981,"Grib Ekaterina","Гриб Екатерина / Grib Ekaterina / 1981","Ж",10,65.384615384615387,243.6]
[{"$f":"Гонки!$C$7","v":"Жук-трейл # 5 Крево"},{"$f":"Гонки!$D$10","v":"Трейл 10"},"Жук-трейл # 5 Крево Трейл 10",13.88,"Ж",{"$f":"IF(E370=\"Ж\",VLOOKUP(C370,Гонки!$E$2:$P$16,11,FALSE),VLOOKUP(C370,Гонки!$E$2:$P$16,12,FALSE))","v":26},"Полякова Анна",1987,"Polyakova Anna","Полякова Анна / Polyakova Anna / 1987","Ж",11,61.538461538461533,229.27]
[{"$f":"Гонки!$C$7","v":"Жук-трейл # 5 Крево"},{"$f":"Гонки!$D$10","v":"Трейл 10"},"Жук-трейл # 5 Крево Трейл 10",13.88,"Ж",{"$f":"IF(E371=\"Ж\",VLOOKUP(C371,Гонки!$E$2:$P$16,11,FALSE),VLOOKUP(C371,Гонки!$E$2:$P$16,12,FALSE))","v":26},"Туровец Ольга",1979,"Turovets Olga","Туровец Ольга / Turovets Olga / 1979","Ж",12,57.692307692307693,214.94]
[{"$f":"Гонки!$C$7","v":"Жук-трейл # 5 Крево"},{"$f":"Гонки!$D$10","v":"Трейл 10"},"Жук-трейл # 5 Крево Трейл 10",13.88,"Ж",{"$f":"IF(E372=\"Ж\",VLOOKUP(C372,Гонки!$E$2:$P$16,11,FALSE),VLOOKUP(C372,Гонки!$E$2:$P$16,12,FALSE))","v":26},"Тумашик Екатерина",1984,"Tumashik Ekaterina","Тумашик Екатерина / Tumashik Ekaterina / 1984","Ж",13,53.846153846153847,200.61]
[{"$f":"Гонки!$C$7","v":"Жук-трейл # 5 Крево"},{"$f":"Гонки!$D$10","v":"Трейл 10"},"Жук-трейл # 5 Крево Трейл 10",13.88,"Ж",{"$f":"IF(E373=\"Ж\",VLOOKUP(C373,Гонки!$E$2:$P$16,11,FALSE),VLOOKUP(C373,Гонки!$E$2:$P$16,12,FALSE))","v":26},"Торопова Мария",1989,"Toropova Mariya","Торопова Мария / Toropova Mariya / 1989","Ж",14,50,186.28]
[{"$f":"Гонки!$C$7","v":"Жук-трейл # 5 Крево"},{"$f":"Гонки!$D$10","v":"Трейл 10"},"Жук-трейл # 5 Крево Трейл 10",13.88,"Ж",{"$f":"IF(E374=\"Ж\",VLOOKUP(C374,Гонки!$E$2:$P$16,11,FALSE),VLOOKUP(C374,Гонки!$E$2:$P$16,12,FALSE))","v":26},"Дунаева Мария",1983,"Dunaeva Mariya","Дунаева Мария / Dunaeva Mariya / 1983","Ж",15,46.153846153846153,171.95]
[{"$f":"Гонки!$C$7","v":"Жук-трейл # 5 Крево"},{"$f":"Гонки!$D$10","v":"Трейл 10"},"Жук-трейл # 5 Крево Трейл 10",13.88,"Ж",{"$f":"IF(E375=\"Ж\",VLOOKUP(C375,Гонки!$E$2:$P$16,11,FALSE),VLOOKUP(C375,Гонки!$E$2:$P$16,12,FALSE))","v":26},"Кожемякина Анна",1991,"Kozhemyakina Anna","Кожемякина Анна / Kozhemyakina Anna / 1991","Ж",16,42.307692307692314,157.62]
[{"$f":"Гонки!$C$7","v":"Жук-трейл # 5 Крево"},{"$f":"Гонки!$D$10","v":"Трейл 10"},"Жук-трейл # 5 Крево Трейл 10",13.88,"Ж",{"$f":"IF(E376=\"Ж\",VLOOKUP(C376,Гонки!$E$2:$P$16,11,FALSE),VLOOKUP(C376,Гонки!$E$2:$P$16,12,FALSE))","v":26},"Войтович Татьяна",1986,"Vojtovich Tatyana","Войтович Татьяна / Vojtovich Tatyana / 1986","Ж",17,38.46153846153846,143.29]
[{"$f":"Гонки!$C$7","v":"Жук-трейл # 5 Крево"},{"$f":"Гонки!$D$10","v":"Трейл 10"},"Жук-трейл # 5 Крево Трейл 10",13.88,"Ж",{"$f":"IF(E377=\"Ж\",VLOOKUP(C377,Гонки!$E$2:$P$16,11,FALSE),VLOOKUP(C377,Гонки!$E$2:$P$16,12,FALSE))","v":26},"Жучина Катерина",1986,"Zhuchina Katerina","Жучина Катерина / Zhuchina Katerina / 1986","Ж",18,34.615384615384613,128.96]
[{"$f":"Гонки!$C$7","v":"Жук-трейл # 5 Крево"},{"$f":"Гонки!$D$10","v":"Трейл 10"},"Жук-трейл # 5 Крево Трейл 10",13.88,"Ж",{"$f":"IF(E378=\"Ж\",VLOOKUP(C378,Гонки!$E$2:$P$16,11,FALSE),VLOOKUP(C378,Гонки!$E$2:$P$16,12,FALSE))","v":26},"Левчук Ирина",1974,"Levchuk Irina","Левчук Ирина / Levchuk Irina / 1974","Ж",19,30.769230769230774,114.63]
[{"$f":"Гонки!$C$7","v":"Жук-трейл # 5 Крево"},{"$f":"Гонки!$D$10","v":"Трейл 10"},"Жук-трейл # 5 Крево Трейл 10",13.88,"Ж",{"$f":"IF(E379=\"Ж\",VLOOKUP(C379,Гонки!$E$2:$P$16,11,FALSE),VLOOKUP(C379,Гонки!$E$2:$P$16,12,FALSE))","v":26},"Казак Наталья",1979,"Kazak Natalya","Казак Наталья / Kazak Natalya / 1979","Ж",20,26.923076923076934,100.3]
[{"$f":"Гонки!$C$7","v":"Жук-трейл # 5 Крево"},{"$f":"Гонки!$D$10","v":"Трейл 10"},"Жук-трейл # 5 Крево Трейл 10",13.88,"Ж",{"$f":"IF(E380=\"Ж\",VLOOKUP(C380,Гонки!$E$2:$P$16,11,FALSE),VLOOKUP(C380,Гонки!$E$2:$P$16,12,FALSE))","v":26},"Фамичёва Елена",1993,"Famichjova Elena","Фамичёва Елена / Famichjova Elena / 1993","Ж",21,23.076923076923066,85.98]
[{"$f":"Гонки!$C$7","v":"Жук-трейл # 5 Крево"},{"$f":"Гонки!$D$10","v":"Трейл 10"},"Жук-трейл # 5 Крево Трейл 10",13.88,"Ж",{"$f":"IF(E381=\"Ж\",VLOOKUP(C381,Гонки!$E$2:$P$16,11,FALSE),VLOOKUP(C381,Гонки!$E$2:$P$16,12,FALSE))","v":26},"Гончарик Наталья",1991,"Goncharik Natalya","Гончарик Наталья / Goncharik Natalya / 1991","Ж",22,19.230769230769226,71.650000000000006]
[{"$f":"Гонки!$C$7","v":"Жук-трейл # 5 Крево"},{"$f":"Гонки!$D$10","v":"Трейл 10"},"Жук-трейл # 5 Крево Трейл 10",13.88,"Ж",{"$f":"IF(E382=\"Ж\",VLOOKUP(C382,Гонки!$E$2:$P$16,11,FALSE),VLOOKUP(C382,Гонки!$E$2:$P$16,12,FALSE))","v":26},"Зуй Марина",1984,"Zuj Marina","Зуй Марина / Zuj Marina / 1984","Ж",23,15.384615384615387,57.32]
[{"$f":"Гонки!$C$7","v":"Жук-трейл # 5 Крево"},{"$f":"Гонки!$D$10","v":"Трейл 10"},"Жук-трейл # 5 Крево Трейл 10",13.88,"Ж",{"$f":"IF(E383=\"Ж\",VLOOKUP(C383,Гонки!$E$2:$P$16,11,FALSE),VLOOKUP(C383,Гонки!$E$2:$P$16,12,FALSE))","v":26},"Ладутько Наталья",1974,"Ladutko Natalya","Ладутько Наталья / Ladutko Natalya / 1974","Ж",24,11.538461538461547,42.99]
[{"$f":"Гонки!$C$7","v":"Жук-трейл # 5 Крево"},{"$f":"Гонки!$D$10","v":"Трейл 10"},"Жук-трейл # 5 Крево Трейл 10",13.88,"Ж",{"$f":"IF(E384=\"Ж\",VLOOKUP(C384,Гонки!$E$2:$P$16,11,FALSE),VLOOKUP(C384,Гонки!$E$2:$P$16,12,FALSE))","v":26},"Гарбуз Алла",1969,"Garbuz Alla","Гарбуз Алла / Garbuz Alla / 1969","Ж",25,7.6923076923076934,28.66]
[{"$f":"Гонки!$C$7","v":"Жук-трейл # 5 Крево"},{"$f":"Гонки!$D$10","v":"Трейл 10"},"Жук-трейл # 5 Крево Трейл 10",13.88,"Ж",{"$f":"IF(E385=\"Ж\",VLOOKUP(C385,Гонки!$E$2:$P$16,11,FALSE),VLOOKUP(C385,Гонки!$E$2:$P$16,12,FALSE))","v":26},"Карабанькова Марина",1989,"Karabankova Marina","Карабанькова Марина / Karabankova Marina / 1989","Ж",26,3.8461538461538396,14.33]
[{"$f":"Гонки!$C$7","v":"Жук-трейл # 5 Крево"},{"$f":"Гонки!$D$10","v":"Трейл 10"},"Жук-трейл # 5 Крево Трейл 10",{"$f":"VLOOKUP(C386,Список_гонок,10,FALSE)","v":13.88},"М",{"$f":"IF(E386=\"Ж\",VLOOKUP(C386,Гонки!$E$2:$P$16,11,FALSE),VLOOKUP(C386,Гонки!$E$2:$P$16,12,FALSE))","v":56},"Лещевич Валерий",1989,"Leschevich Valerij","Лещевич Валерий / Leschevich Valerij / 1989","М",1,100,372.56]
[{"$f":"Гонки!$C$7","v":"Жук-трейл # 5 Крево"},{"$f":"Гонки!$D$10","v":"Трейл 10"},{"$f":"CONCATENATE(A387,\" \",B387)","v":"Жук-трейл # 5 Крево Трейл 10"},13.88,"М",{"$f":"IF(E387=\"Ж\",VLOOKUP(C387,Гонки!$E$2:$P$16,11,FALSE),VLOOKUP(C387,Гонки!$E$2:$P$16,12,FALSE))","v":56},"Мартынов Дмитрий",1984,{"$f":"Translit(G387)","v":"Martynov Dmitrij"},{"$f":"CONCATENATE(G387,\" / \",I387,\" / \",H387)","v":"Мартынов Дмитрий / Martynov Dmitrij / 1984"},{"$f":"E387","v":"М"},2,{"$f":"100-((L387-1)/F387)*100","v":98.214285714285708},{"$f":"ROUND(SQRT(D387)*M387,2)","v":365.91}]
[{"$f":"Гонки!$C$7","v":"Жук-трейл # 5 Крево"},{"$f":"Гонки!$D$10","v":"Трейл 10"},"Жук-трейл # 5 Крево Трейл 10",13.88,"М",{"$f":"IF(E388=\"Ж\",VLOOKUP(C388,Гонки!$E$2:$P$16,11,FALSE),VLOOKUP(C388,Гонки!$E$2:$P$16,12,FALSE))","v":56},"Гидлевский Дмитрий",1986,"Gidlevskij Dmitrij","Гидлевский Дмитрий / Gidlevskij Dmitrij / 1986","М",3,96.428571428571431,359.25]
[{"$f":"Гонки!$C$7","v":"Жук-трейл # 5 Крево"},{"$f":"Гонки!$D$10","v":"Трейл 10"},"Жук-трейл # 5 Крево Трейл 10",13.88,"М",{"$f":"IF(E389=\"Ж\",VLOOKUP(C389,Гонки!$E$2:$P$16,11,FALSE),VLOOKUP(C389,Гонки!$E$2:$P$16,12,FALSE))","v":56},"Католиков Роман",1985,"Katolikov Roman","Католиков Роман / Katolikov Roman / 1985","М",4,94.642857142857139,352.6]
[{"$f":"Гонки!$C$7","v":"Жук-трейл # 5 Крево"},{"$f":"Гонки!$D$10","v":"Трейл 10"},"Жук-трейл # 5 Крево Трейл 10",13.88,"М",{"$f":"IF(E390=\"Ж\",VLOOKUP(C390,Гонки!$E$2:$P$16,11,FALSE),VLOOKUP(C390,Гонки!$E$2:$P$16,12,FALSE))","v":56},"Гамидов Тимур",1996,"Gamidov Timur","Гамидов Тимур / Gamidov Timur / 1996","М",5,92.857142857142861,345.95]
[{"$f":"Гонки!$C$7","v":"Жук-трейл # 5 Крево"},{"$f":"Гонки!$D$10","v":"Трейл 10"},"Жук-трейл # 5 Крево Трейл 10",13.88,"М",{"$f":"IF(E391=\"Ж\",VLOOKUP(C391,Гонки!$E$2:$P$16,11,FALSE),VLOOKUP(C391,Гонки!$E$2:$P$16,12,FALSE))","v":56},"Хорошавин Вячеслав",1985,"Horoshavin Vyacheslav","Хорошавин Вячеслав / Horoshavin Vyacheslav / 1985","М",5,92.857142857142861,345.95]
[{"$f":"Гонки!$C$7","v":"Жук-трейл # 5 Крево"},{"$f":"Гонки!$D$10","v":"Трейл 10"},"Жук-трейл # 5 Крево Трейл 10",13.88,"М",{"$f":"IF(E392=\"Ж\",VLOOKUP(C392,Гонки!$E$2:$P$16,11,FALSE),VLOOKUP(C392,Гонки!$E$2:$P$16,12,FALSE))","v":56},"Жучин Алексей",1983,"Zhuchin Aleksej","Жучин Алексей / Zhuchin Aleksej / 1983","М",7,89.285714285714292,332.64]
[{"$f":"Гонки!$C$7","v":"Жук-трейл # 5 Крево"},{"$f":"Гонки!$D$10","v":"Трейл 10"},"Жук-трейл # 5 Крево Трейл 10",13.88,"М",{"$f":"IF(E393=\"Ж\",VLOOKUP(C393,Гонки!$E$2:$P$16,11,FALSE),VLOOKUP(C393,Гонки!$E$2:$P$16,12,FALSE))","v":56},"Кондяр Павел",1993,"Kondyar Pavel","Кондяр Павел / Kondyar Pavel / 1993","М",8,87.5,325.99]
[{"$f":"Гонки!$C$7","v":"Жук-трейл # 5 Крево"},{"$f":"Гонки!$D$10","v":"Трейл 10"},"Жук-трейл # 5 Крево Трейл 10",13.88,"М",{"$f":"IF(E394=\"Ж\",VLOOKUP(C394,Гонки!$E$2:$P$16,11,FALSE),VLOOKUP(C394,Гонки!$E$2:$P$16,12,FALSE))","v":56},"Орловский Павел",1989,"Orlovskij Pavel","Орловский Павел / Orlovskij Pavel / 1989","М",9,85.714285714285722,319.33999999999997]
[{"$f":"Гонки!$C$7","v":"Жук-трейл # 5 Крево"},{"$f":"Гонки!$D$10","v":"Трейл 10"},"Жук-трейл # 5 Крево Трейл 10",13.88,"М",{"$f":"IF(E395=\"Ж\",VLOOKUP(C395,Гонки!$E$2:$P$16,11,FALSE),VLOOKUP(C395,Гонки!$E$2:$P$16,12,FALSE))","v":56},"Селютин Владимир",1990,"Selyutin Vladimir","Селютин Владимир / Selyutin Vladimir / 1990","М",10,83.928571428571431,312.68]
[{"$f":"Гонки!$C$7","v":"Жук-трейл # 5 Крево"},{"$f":"Гонки!$D$10","v":"Трейл 10"},"Жук-трейл # 5 Крево Трейл 10",13.88,"М",{"$f":"IF(E396=\"Ж\",VLOOKUP(C396,Гонки!$E$2:$P$16,11,FALSE),VLOOKUP(C396,Гонки!$E$2:$P$16,12,FALSE))","v":56},"Баронов Роман",1993,"Baronov Roman","Баронов Роман / Baronov Roman / 1993","М",11,82.142857142857139,306.02999999999997]
[{"$f":"Гонки!$C$7","v":"Жук-трейл # 5 Крево"},{"$f":"Гонки!$D$10","v":"Трейл 10"},"Жук-трейл # 5 Крево Трейл 10",13.88,"М",{"$f":"IF(E397=\"Ж\",VLOOKUP(C397,Гонки!$E$2:$P$16,11,FALSE),VLOOKUP(C397,Гонки!$E$2:$P$16,12,FALSE))","v":56},"Гайдуков Александр",1989,"Gajdukov Aleksandr","Гайдуков Александр / Gajdukov Aleksandr / 1989","М",12,80.357142857142861,299.38]
[{"$f":"Гонки!$C$7","v":"Жук-трейл # 5 Крево"},{"$f":"Гонки!$D$10","v":"Трейл 10"},"Жук-трейл # 5 Крево Трейл 10",13.88,"М",{"$f":"IF(E398=\"Ж\",VLOOKUP(C398,Гонки!$E$2:$P$16,11,FALSE),VLOOKUP(C398,Гонки!$E$2:$P$16,12,FALSE))","v":56},"Брытько Роман",1995,"Brytko Roman","Брытько Роман / Brytko Roman / 1995","М",13,78.571428571428569,292.72000000000003]
[{"$f":"Гонки!$C$7","v":"Жук-трейл # 5 Крево"},{"$f":"Гонки!$D$10","v":"Трейл 10"},"Жук-трейл # 5 Крево Трейл 10",13.88,"М",{"$f":"IF(E399=\"Ж\",VLOOKUP(C399,Гонки!$E$2:$P$16,11,FALSE),VLOOKUP(C399,Гонки!$E$2:$P$16,12,FALSE))","v":56},"Данченко Глеб",1986,"Danchenko Gleb","Данченко Глеб / Danchenko Gleb / 1986","М",14,76.785714285714278,286.07]
[{"$f":"Гонки!$C$7","v":"Жук-трейл # 5 Крево"},{"$f":"Гонки!$D$10","v":"Трейл 10"},"Жук-трейл # 5 Крево Трейл 10",13.88,"М",{"$f":"IF(E400=\"Ж\",VLOOKUP(C400,Гонки!$E$2:$P$16,11,FALSE),VLOOKUP(C400,Гонки!$E$2:$P$16,12,FALSE))","v":56},"Домбровский Евгений",1987,"Dombrovskij Evgenij","Домбровский Евгений / Dombrovskij Evgenij / 1987","М",15,75,279.42]
[{"$f":"Гонки!$C$7","v":"Жук-трейл # 5 Крево"},{"$f":"Гонки!$D$10","v":"Трейл 10"},"Жук-трейл # 5 Крево Трейл 10",13.88,"М",{"$f":"IF(E401=\"Ж\",VLOOKUP(C401,Гонки!$E$2:$P$16,11,FALSE),VLOOKUP(C401,Гонки!$E$2:$P$16,12,FALSE))","v":56},"Ланин Иван",1989,"Lanin Ivan","Ланин Иван / Lanin Ivan / 1989","М",16,73.214285714285722,272.77]
[{"$f":"Гонки!$C$7","v":"Жук-трейл # 5 Крево"},{"$f":"Гонки!$D$10","v":"Трейл 10"},"Жук-трейл # 5 Крево Трейл 10",13.88,"М",{"$f":"IF(E402=\"Ж\",VLOOKUP(C402,Гонки!$E$2:$P$16,11,FALSE),VLOOKUP(C402,Гонки!$E$2:$P$16,12,FALSE))","v":56},"Костев Евгений",1990,"Kostev Evgenij","Костев Евгений / Kostev Evgenij / 1990","М",17,71.428571428571431,266.11]
[{"$f":"Гонки!$C$7","v":"Жук-трейл # 5 Крево"},{"$f":"Гонки!$D$10","v":"Трейл 10"},"Жук-трейл # 5 Крево Трейл 10",13.88,"М",{"$f":"IF(E403=\"Ж\",VLOOKUP(C403,Гонки!$E$2:$P$16,11,FALSE),VLOOKUP(C403,Гонки!$E$2:$P$16,12,FALSE))","v":56},"Сіпачоў Аляксей",1979,"Sіpachou Alyaksej","Сіпачоў Аляксей / Sіpachou Alyaksej / 1979","М",18,69.642857142857139,259.45999999999998]
[{"$f":"Гонки!$C$7","v":"Жук-трейл # 5 Крево"},{"$f":"Гонки!$D$10","v":"Трейл 10"},"Жук-трейл # 5 Крево Трейл 10",13.88,"М",{"$f":"IF(E404=\"Ж\",VLOOKUP(C404,Гонки!$E$2:$P$16,11,FALSE),VLOOKUP(C404,Гонки!$E$2:$P$16,12,FALSE))","v":56},"Крус Виктор",1980,"Krus Viktor","Крус Виктор / Krus Viktor / 1980","М",19,67.857142857142861,252.81]
[{"$f":"Гонки!$C$7","v":"Жук-трейл # 5 Крево"},{"$f":"Гонки!$D$10","v":"Трейл 10"},"Жук-трейл # 5 Крево Трейл 10",13.88,"М",{"$f":"IF(E405=\"Ж\",VLOOKUP(C405,Гонки!$E$2:$P$16,11,FALSE),VLOOKUP(C405,Гонки!$E$2:$P$16,12,FALSE))","v":56},"Щербаков Илья",1989,"Scherbakov Ilya","Щербаков Илья / Scherbakov Ilya / 1989","М",20,66.071428571428569,246.15]
[{"$f":"Гонки!$C$7","v":"Жук-трейл # 5 Крево"},{"$f":"Гонки!$D$10","v":"Трейл 10"},"Жук-трейл # 5 Крево Трейл 10",13.88,"М",{"$f":"IF(E406=\"Ж\",VLOOKUP(C406,Гонки!$E$2:$P$16,11,FALSE),VLOOKUP(C406,Гонки!$E$2:$P$16,12,FALSE))","v":56},"Медвецкий Денис",1986,"Medvetskij Denis","Медвецкий Денис / Medvetskij Denis / 1986","М",21,64.285714285714278,239.5]
[{"$f":"Гонки!$C$7","v":"Жук-трейл # 5 Крево"},{"$f":"Гонки!$D$10","v":"Трейл 10"},"Жук-трейл # 5 Крево Трейл 10",13.88,"М",{"$f":"IF(E407=\"Ж\",VLOOKUP(C407,Гонки!$E$2:$P$16,11,FALSE),VLOOKUP(C407,Гонки!$E$2:$P$16,12,FALSE))","v":56},"Бегун Егор",1988,"Begun Egor","Бегун Егор / Begun Egor / 1988","М",22,62.5,232.85]
[{"$f":"Гонки!$C$7","v":"Жук-трейл # 5 Крево"},{"$f":"Гонки!$D$10","v":"Трейл 10"},"Жук-трейл # 5 Крево Трейл 10",13.88,"М",{"$f":"IF(E408=\"Ж\",VLOOKUP(C408,Гонки!$E$2:$P$16,11,FALSE),VLOOKUP(C408,Гонки!$E$2:$P$16,12,FALSE))","v":56},"Хамицевич Андрей",1983,"Hamitsevich Andrej","Хамицевич Андрей / Hamitsevich Andrej / 1983","М",23,60.714285714285715,226.2]
[{"$f":"Гонки!$C$7","v":"Жук-трейл # 5 Крево"},{"$f":"Гонки!$D$10","v":"Трейл 10"},"Жук-трейл # 5 Крево Трейл 10",13.88,"М",{"$f":"IF(E409=\"Ж\",VLOOKUP(C409,Гонки!$E$2:$P$16,11,FALSE),VLOOKUP(C409,Гонки!$E$2:$P$16,12,FALSE))","v":56},"Ладеев Дмитрий",1981,"Ladeev Dmitrij","Ладеев Дмитрий / Ladeev Dmitrij / 1981","М",24,58.928571428571431,219.54]
[{"$f":"Гонки!$C$7","v":"Жук-трейл # 5 Крево"},{"$f":"Гонки!$D$10","v":"Трейл 10"},"Жук-трейл # 5 Крево Трейл 10",13.88,"М",{"$f":"IF(E410=\"Ж\",VLOOKUP(C410,Гонки!$E$2:$P$16,11,FALSE),VLOOKUP(C410,Гонки!$E$2:$P$16,12,FALSE))","v":56},"Миканович Антон",1990,"Mikanovich Anton","Миканович Антон / Mikanovich Anton / 1990","М",25,57.142857142857146,212.89]
[{"$f":"Гонки!$C$7","v":"Жук-трейл # 5 Крево"},{"$f":"Гонки!$D$10","v":"Трейл 10"},"Жук-трейл # 5 Крево Трейл 10",13.88,"М",{"$f":"IF(E411=\"Ж\",VLOOKUP(C411,Гонки!$E$2:$P$16,11,FALSE),VLOOKUP(C411,Гонки!$E$2:$P$16,12,FALSE))","v":56},"Бычинский Владислав",1992,"Bychinskij Vladislav","Бычинский Владислав / Bychinskij Vladislav / 1992","М",26,55.357142857142854,206.24]
[{"$f":"Гонки!$C$7","v":"Жук-трейл # 5 Крево"},{"$f":"Гонки!$D$10","v":"Трейл 10"},"Жук-трейл # 5 Крево Трейл 10",13.88,"М",{"$f":"IF(E412=\"Ж\",VLOOKUP(C412,Гонки!$E$2:$P$16,11,FALSE),VLOOKUP(C412,Гонки!$E$2:$P$16,12,FALSE))","v":56},"Вирский Константин",1977,"Virskij Konstantin","Вирский Константин / Virskij Konstantin / 1977","М",27,53.571428571428569,199.59]
[{"$f":"Гонки!$C$7","v":"Жук-трейл # 5 Крево"},{"$f":"Гонки!$D$10","v":"Трейл 10"},"Жук-трейл # 5 Крево Трейл 10",13.88,"М",{"$f":"IF(E413=\"Ж\",VLOOKUP(C413,Гонки!$E$2:$P$16,11,FALSE),VLOOKUP(C413,Гонки!$E$2:$P$16,12,FALSE))","v":56},"Куликовский Ян",1992,"Kulikovskij Yan","Куликовский Ян / Kulikovskij Yan / 1992","М",28,51.785714285714285,192.93]
[{"$f":"Гонки!$C$7","v":"Жук-трейл # 5 Крево"},{"$f":"Гонки!$D$10","v":"Трейл 10"},"Жук-трейл # 5 Крево Трейл 10",13.88,"М",{"$f":"IF(E414=\"Ж\",VLOOKUP(C414,Гонки!$E$2:$P$16,11,FALSE),VLOOKUP(C414,Гонки!$E$2:$P$16,12,FALSE))","v":56},"Зуевский Роман",1986,"Zuevskij Roman","Зуевский Роман / Zuevskij Roman / 1986","М",29,50,186.28]
[{"$f":"Гонки!$C$7","v":"Жук-трейл # 5 Крево"},{"$f":"Гонки!$D$10","v":"Трейл 10"},"Жук-трейл # 5 Крево Трейл 10",13.88,"М",{"$f":"IF(E415=\"Ж\",VLOOKUP(C415,Гонки!$E$2:$P$16,11,FALSE),VLOOKUP(C415,Гонки!$E$2:$P$16,12,FALSE))","v":56},"Гамидов Нариман",1972,"Gamidov Nariman","Гамидов Нариман / Gamidov Nariman / 1972","М",30,48.214285714285708,179.63]
[{"$f":"Гонки!$C$7","v":"Жук-трейл # 5 Крево"},{"$f":"Гонки!$D$10","v":"Трейл 10"},"Жук-трейл # 5 Крево Трейл 10",13.88,"М",{"$f":"IF(E416=\"Ж\",VLOOKUP(C416,Гонки!$E$2:$P$16,11,FALSE),VLOOKUP(C416,Гонки!$E$2:$P$16,12,FALSE))","v":56},"Хомич Юрий",1970,"Homich Yurij","Хомич Юрий / Homich Yurij / 1970","М",31,46.428571428571431,172.97]
[{"$f":"Гонки!$C$7","v":"Жук-трейл # 5 Крево"},{"$f":"Гонки!$D$10","v":"Трейл 10"},"Жук-трейл # 5 Крево Трейл 10",13.88,"М",{"$f":"IF(E417=\"Ж\",VLOOKUP(C417,Гонки!$E$2:$P$16,11,FALSE),VLOOKUP(C417,Гонки!$E$2:$P$16,12,FALSE))","v":56},"Лупин Сергей",1985,"Lupin Sergej","Лупин Сергей / Lupin Sergej / 1985","М",32,44.642857142857139,166.32]
[{"$f":"Гонки!$C$7","v":"Жук-трейл # 5 Крево"},{"$f":"Гонки!$D$10","v":"Трейл 10"},"Жук-трейл # 5 Крево Трейл 10",13.88,"М",{"$f":"IF(E418=\"Ж\",VLOOKUP(C418,Гонки!$E$2:$P$16,11,FALSE),VLOOKUP(C418,Гонки!$E$2:$P$16,12,FALSE))","v":56},"Явтушенко Вадим",1981,"Yavtushenko Vadim","Явтушенко Вадим / Yavtushenko Vadim / 1981","М",33,42.857142857142861,159.66999999999999]
[{"$f":"Гонки!$C$7","v":"Жук-трейл # 5 Крево"},{"$f":"Гонки!$D$10","v":"Трейл 10"},"Жук-трейл # 5 Крево Трейл 10",13.88,"М",{"$f":"IF(E419=\"Ж\",VLOOKUP(C419,Гонки!$E$2:$P$16,11,FALSE),VLOOKUP(C419,Гонки!$E$2:$P$16,12,FALSE))","v":56},"Воробьёв Дмитрий",1988,"Vorobjov Dmitrij","Воробьёв Дмитрий / Vorobjov Dmitrij / 1988","М",34,41.071428571428569,153.02000000000001]
[{"$f":"Гонки!$C$7","v":"Жук-трейл # 5 Крево"},{"$f":"Гонки!$D$10","v":"Трейл 10"},"Жук-трейл # 5 Крево Трейл 10",13.88,"М",{"$f":"IF(E420=\"Ж\",VLOOKUP(C420,Гонки!$E$2:$P$16,11,FALSE),VLOOKUP(C420,Гонки!$E$2:$P$16,12,FALSE))","v":56},"Грицевич Виталий",1987,"Gritsevich Vitalij","Грицевич Виталий / Gritsevich Vitalij / 1987","М",35,39.285714285714292,146.36000000000001]
[{"$f":"Гонки!$C$7","v":"Жук-трейл # 5 Крево"},{"$f":"Гонки!$D$10","v":"Трейл 10"},"Жук-трейл # 5 Крево Трейл 10",13.88,"М",{"$f":"IF(E421=\"Ж\",VLOOKUP(C421,Гонки!$E$2:$P$16,11,FALSE),VLOOKUP(C421,Гонки!$E$2:$P$16,12,FALSE))","v":56},"Бортник Александр",1994,"Bortnik Aleksandr","Бортник Александр / Bortnik Aleksandr / 1994","М",36,37.5,139.71]
[{"$f":"Гонки!$C$7","v":"Жук-трейл # 5 Крево"},{"$f":"Гонки!$D$10","v":"Трейл 10"},"Жук-трейл # 5 Крево Трейл 10",13.88,"М",{"$f":"IF(E422=\"Ж\",VLOOKUP(C422,Гонки!$E$2:$P$16,11,FALSE),VLOOKUP(C422,Гонки!$E$2:$P$16,12,FALSE))","v":56},"Симогостицкий Александр",1987,"Simogostitskij Aleksandr","Симогостицкий Александр / Simogostitskij Aleksandr / 1987","М",37,35.714285714285708,133.06]
[{"$f":"Гонки!$C$7","v":"Жук-трейл # 5 Крево"},{"$f":"Гонки!$D$10","v":"Трейл 10"},"Жук-трейл # 5 Крево Трейл 10",13.88,"М",{"$f":"IF(E423=\"Ж\",VLOOKUP(C423,Гонки!$E$2:$P$16,11,FALSE),VLOOKUP(C423,Гонки!$E$2:$P$16,12,FALSE))","v":56},"Рудович Александр",1990,"Rudovich Aleksandr","Рудович Александр / Rudovich Aleksandr / 1990","М",38,33.928571428571431,126.4]
[{"$f":"Гонки!$C$7","v":"Жук-трейл # 5 Крево"},{"$f":"Гонки!$D$10","v":"Трейл 10"},"Жук-трейл # 5 Крево Трейл 10",13.88,"М",{"$f":"IF(E424=\"Ж\",VLOOKUP(C424,Гонки!$E$2:$P$16,11,FALSE),VLOOKUP(C424,Гонки!$E$2:$P$16,12,FALSE))","v":56},"Логиновский Михаил",1976,"Loginovskij Mihail","Логиновский Михаил / Loginovskij Mihail / 1976","М",39,32.142857142857139,119.75]
[{"$f":"Гонки!$C$7","v":"Жук-трейл # 5 Крево"},{"$f":"Гонки!$D$10","v":"Трейл 10"},"Жук-трейл # 5 Крево Трейл 10",13.88,"М",{"$f":"IF(E425=\"Ж\",VLOOKUP(C425,Гонки!$E$2:$P$16,11,FALSE),VLOOKUP(C425,Гонки!$E$2:$P$16,12,FALSE))","v":56},"Ремизевич Вадим",1980,"Remizevich Vadim","Ремизевич Вадим / Remizevich Vadim / 1980","М",40,30.357142857142861,113.1]
[{"$f":"Гонки!$C$7","v":"Жук-трейл # 5 Крево"},{"$f":"Гонки!$D$10","v":"Трейл 10"},"Жук-трейл # 5 Крево Трейл 10",13.88,"М",{"$f":"IF(E426=\"Ж\",VLOOKUP(C426,Гонки!$E$2:$P$16,11,FALSE),VLOOKUP(C426,Гонки!$E$2:$P$16,12,FALSE))","v":56},"Незнанов Михаил",1982,"Neznanov Mihail","Незнанов Михаил / Neznanov Mihail / 1982","М",41,28.571428571428569,106.45]
[{"$f":"Гонки!$C$7","v":"Жук-трейл # 5 Крево"},{"$f":"Гонки!$D$10","v":"Трейл 10"},"Жук-трейл # 5 Крево Трейл 10",13.88,"М",{"$f":"IF(E427=\"Ж\",VLOOKUP(C427,Гонки!$E$2:$P$16,11,FALSE),VLOOKUP(C427,Гонки!$E$2:$P$16,12,FALSE))","v":56},"Капустин Егор",2004,"Kapustin Egor","Капустин Егор / Kapustin Egor / 2004","М",42,26.785714285714292,99.79]
[{"$f":"Гонки!$C$7","v":"Жук-трейл # 5 Крево"},{"$f":"Гонки!$D$10","v":"Трейл 10"},"Жук-трейл # 5 Крево Трейл 10",13.88,"М",{"$f":"IF(E428=\"Ж\",VLOOKUP(C428,Гонки!$E$2:$P$16,11,FALSE),VLOOKUP(C428,Гонки!$E$2:$P$16,12,FALSE))","v":56},"Жукович Артем",1988,"Zhukovich Artem","Жукович Артем / Zhukovich Artem / 1988","М",43,25,93.14]
[{"$f":"Гонки!$C$7","v":"Жук-трейл # 5 Крево"},{"$f":"Гонки!$D$10","v":"Трейл 10"},"Жук-трейл # 5 Крево Трейл 10",13.88,"М",{"$f":"IF(E429=\"Ж\",VLOOKUP(C429,Гонки!$E$2:$P$16,11,FALSE),VLOOKUP(C429,Гонки!$E$2:$P$16,12,FALSE))","v":56},"Дашкевич Павел",1999,"Dashkevich Pavel","Дашкевич Павел / Dashkevich Pavel / 1999","М",44,23.214285714285708,86.49]
[{"$f":"Гонки!$C$7","v":"Жук-трейл # 5 Крево"},{"$f":"Гонки!$D$10","v":"Трейл 10"},"Жук-трейл # 5 Крево Трейл 10",13.88,"М",{"$f":"IF(E430=\"Ж\",VLOOKUP(C430,Гонки!$E$2:$P$16,11,FALSE),VLOOKUP(C430,Гонки!$E$2:$P$16,12,FALSE))","v":56},"Мороз Евгений",1985,"Moroz Evgenij","Мороз Евгений / Moroz Evgenij / 1985","М",45,21.428571428571431,79.83]
[{"$f":"Гонки!$C$7","v":"Жук-трейл # 5 Крево"},{"$f":"Гонки!$D$10","v":"Трейл 10"},"Жук-трейл # 5 Крево Трейл 10",13.88,"М",{"$f":"IF(E431=\"Ж\",VLOOKUP(C431,Гонки!$E$2:$P$16,11,FALSE),VLOOKUP(C431,Гонки!$E$2:$P$16,12,FALSE))","v":56},"Мертенс Андрей",1992,"Mertens Andrej","Мертенс Андрей / Mertens Andrej / 1992","М",46,19.642857142857139,73.180000000000007]
[{"$f":"Гонки!$C$7","v":"Жук-трейл # 5 Крево"},{"$f":"Гонки!$D$10","v":"Трейл 10"},"Жук-трейл # 5 Крево Трейл 10",13.88,"М",{"$f":"IF(E432=\"Ж\",VLOOKUP(C432,Гонки!$E$2:$P$16,11,FALSE),VLOOKUP(C432,Гонки!$E$2:$P$16,12,FALSE))","v":56},"Сим Игорь",1989,"Sim Igor","Сим Игорь / Sim Igor / 1989","М",47,17.857142857142861,66.53]
[{"$f":"Гонки!$C$7","v":"Жук-трейл # 5 Крево"},{"$f":"Гонки!$D$10","v":"Трейл 10"},"Жук-трейл # 5 Крево Трейл 10",13.88,"М",{"$f":"IF(E433=\"Ж\",VLOOKUP(C433,Гонки!$E$2:$P$16,11,FALSE),VLOOKUP(C433,Гонки!$E$2:$P$16,12,FALSE))","v":56},"Ковалев Никита",2001,"Kovalev Nikita","Ковалев Никита / Kovalev Nikita / 2001","М",48,16.071428571428569,59.88]
[{"$f":"Гонки!$C$7","v":"Жук-трейл # 5 Крево"},{"$f":"Гонки!$D$10","v":"Трейл 10"},"Жук-трейл # 5 Крево Трейл 10",13.88,"М",{"$f":"IF(E434=\"Ж\",VLOOKUP(C434,Гонки!$E$2:$P$16,11,FALSE),VLOOKUP(C434,Гонки!$E$2:$P$16,12,FALSE))","v":56},"Ковалев Михаил",1970,"Kovalev Mihail","Ковалев Михаил / Kovalev Mihail / 1970","М",49,14.285714285714292,53.22]
[{"$f":"Гонки!$C$7","v":"Жук-трейл # 5 Крево"},{"$f":"Гонки!$D$10","v":"Трейл 10"},"Жук-трейл # 5 Крево Трейл 10",13.88,"М",{"$f":"IF(E435=\"Ж\",VLOOKUP(C435,Гонки!$E$2:$P$16,11,FALSE),VLOOKUP(C435,Гонки!$E$2:$P$16,12,FALSE))","v":56},"Ковриго Сергей",1981,"Kovrigo Sergej","Ковриго Сергей / Kovrigo Sergej / 1981","М",50,12.5,46.57]
[{"$f":"Гонки!$C$7","v":"Жук-трейл # 5 Крево"},{"$f":"Гонки!$D$10","v":"Трейл 10"},"Жук-трейл # 5 Крево Трейл 10",13.88,"М",{"$f":"IF(E436=\"Ж\",VLOOKUP(C436,Гонки!$E$2:$P$16,11,FALSE),VLOOKUP(C436,Гонки!$E$2:$P$16,12,FALSE))","v":56},"Дашкевич Сергей",1996,"Dashkevich Sergej","Дашкевич Сергей / Dashkevich Sergej / 1996","М",51,10.714285714285708,39.92]
[{"$f":"Гонки!$C$7","v":"Жук-трейл # 5 Крево"},{"$f":"Гонки!$D$10","v":"Трейл 10"},"Жук-трейл # 5 Крево Трейл 10",13.88,"М",{"$f":"IF(E437=\"Ж\",VLOOKUP(C437,Гонки!$E$2:$P$16,11,FALSE),VLOOKUP(C437,Гонки!$E$2:$P$16,12,FALSE))","v":56},"Лазаренок Глеб",1982,"Lazarenok Gleb","Лазаренок Глеб / Lazarenok Gleb / 1982","М",52,8.9285714285714306,33.26]
[{"$f":"Гонки!$C$7","v":"Жук-трейл # 5 Крево"},{"$f":"Гонки!$D$10","v":"Трейл 10"},"Жук-трейл # 5 Крево Трейл 10",13.88,"М",{"$f":"IF(E438=\"Ж\",VLOOKUP(C438,Гонки!$E$2:$P$16,11,FALSE),VLOOKUP(C438,Гонки!$E$2:$P$16,12,FALSE))","v":56},"Адаменко Виталий",1985,"Adamenko Vitalij","Адаменко Виталий / Adamenko Vitalij / 1985","М",53,7.1428571428571388,26.61]
[{"$f":"Гонки!$C$7","v":"Жук-трейл # 5 Крево"},{"$f":"Гонки!$D$10","v":"Трейл 10"},"Жук-трейл # 5 Крево Трейл 10",13.88,"М",{"$f":"IF(E439=\"Ж\",VLOOKUP(C439,Гонки!$E$2:$P$16,11,FALSE),VLOOKUP(C439,Гонки!$E$2:$P$16,12,FALSE))","v":56},"Курата Кенет",1978,"Kurata Kenet","Курата Кенет / Kurata Kenet / 1978","М",54,5.3571428571428612,19.96]
[{"$f":"Гонки!$C$7","v":"Жук-трейл # 5 Крево"},{"$f":"Гонки!$D$10","v":"Трейл 10"},"Жук-трейл # 5 Крево Трейл 10",13.88,"М",{"$f":"IF(E440=\"Ж\",VLOOKUP(C440,Гонки!$E$2:$P$16,11,FALSE),VLOOKUP(C440,Гонки!$E$2:$P$16,12,FALSE))","v":56},"Кузьмич Дмитрий",1975,"Kuzmich Dmitrij","Кузьмич Дмитрий / Kuzmich Dmitrij / 1975","М",55,3.5714285714285694,13.31]
[{"$f":"Гонки!$C$7","v":"Жук-трейл # 5 Крево"},{"$f":"Гонки!$D$10","v":"Трейл 10"},"Жук-трейл # 5 Крево Трейл 10",13.88,"М",{"$f":"IF(E441=\"Ж\",VLOOKUP(C441,Гонки!$E$2:$P$16,11,FALSE),VLOOKUP(C441,Гонки!$E$2:$P$16,12,FALSE))","v":56},"Павлов Александр",1992,"Pavlov Aleksandr","Павлов Александр / Pavlov Aleksandr / 1992","М",56,1.7857142857142918,6.65]
[{"$f":"Гонки!$C$11","v":"\"Налибоки 2018\""},{"$f":"Гонки!$D$13","v":"Трейл 100"},"\"Налибоки 2018\" Трейл 100",108.39999999999999,"Ж",{"$f":"IF(E442=\"Ж\",VLOOKUP(C442,Гонки!$E$2:$P$16,11,FALSE),VLOOKUP(C442,Гонки!$E$2:$P$16,12,FALSE))","v":3},"Гурская Татьяна",1980,"Gurskaya Tatyana","Гурская Татьяна / Gurskaya Tatyana / 1980","Ж",1,100,1041.1500000000001]
[{"$f":"Гонки!$C$11","v":"\"Налибоки 2018\""},{"$f":"Гонки!$D$13","v":"Трейл 100"},"\"Налибоки 2018\" Трейл 100",108.39999999999999,"Ж",{"$f":"IF(E443=\"Ж\",VLOOKUP(C443,Гонки!$E$2:$P$16,11,FALSE),VLOOKUP(C443,Гонки!$E$2:$P$16,12,FALSE))","v":3},"Полещук Татьяна",1988,"Poleschuk Tatyana","Полещук Татьяна / Poleschuk Tatyana / 1988","Ж",2,66.666666666666671,694.1]
[{"$f":"Гонки!$C$11","v":"\"Налибоки 2018\""},{"$f":"Гонки!$D$13","v":"Трейл 100"},"\"Налибоки 2018\" Трейл 100",108.39999999999999,"М",{"$f":"IF(E444=\"Ж\",VLOOKUP(C444,Гонки!$E$2:$P$16,11,FALSE),VLOOKUP(C444,Гонки!$E$2:$P$16,12,FALSE))","v":36},"Генсировский Павел",1979,"Gensirovskij Pavel","Генсировский Павел / Gensirovskij Pavel / 1979","М",1,100,1041.1500000000001]
[{"$f":"Гонки!$C$11","v":"\"Налибоки 2018\""},{"$f":"Гонки!$D$13","v":"Трейл 100"},"\"Налибоки 2018\" Трейл 100",108.39999999999999,"М",{"$f":"IF(E445=\"Ж\",VLOOKUP(C445,Гонки!$E$2:$P$16,11,FALSE),VLOOKUP(C445,Гонки!$E$2:$P$16,12,FALSE))","v":36},"Синица Кирилл",1981,"Sinitsa Kirill","Синица Кирилл / Sinitsa Kirill / 1981","М",2,97.222222222222229,1012.23]
[{"$f":"Гонки!$C$11","v":"\"Налибоки 2018\""},{"$f":"Гонки!$D$13","v":"Трейл 100"},"\"Налибоки 2018\" Трейл 100",108.39999999999999,"М",{"$f":"IF(E446=\"Ж\",VLOOKUP(C446,Гонки!$E$2:$P$16,11,FALSE),VLOOKUP(C446,Гонки!$E$2:$P$16,12,FALSE))","v":36},"Козич Андрей",1986,"Kozich Andrej","Козич Андрей / Kozich Andrej / 1986","М",3,94.444444444444443,983.31]
[{"$f":"Гонки!$C$11","v":"\"Налибоки 2018\""},{"$f":"Гонки!$D$13","v":"Трейл 100"},"\"Налибоки 2018\" Трейл 100",108.39999999999999,"М",{"$f":"IF(E447=\"Ж\",VLOOKUP(C447,Гонки!$E$2:$P$16,11,FALSE),VLOOKUP(C447,Гонки!$E$2:$P$16,12,FALSE))","v":36},"Грабовец Павел",1981,"Grabovets Pavel","Грабовец Павел / Grabovets Pavel / 1981","М",4,91.666666666666671,954.39]
[{"$f":"Гонки!$C$11","v":"\"Налибоки 2018\""},{"$f":"Гонки!$D$13","v":"Трейл 100"},"\"Налибоки 2018\" Трейл 100",108.39999999999999,"М",{"$f":"IF(E448=\"Ж\",VLOOKUP(C448,Гонки!$E$2:$P$16,11,FALSE),VLOOKUP(C448,Гонки!$E$2:$P$16,12,FALSE))","v":36},"Молочко Александр",1981,"Molochko Aleksandr","Молочко Александр / Molochko Aleksandr / 1981","М",5,88.888888888888886,925.47]
[{"$f":"Гонки!$C$11","v":"\"Налибоки 2018\""},{"$f":"Гонки!$D$13","v":"Трейл 100"},"\"Налибоки 2018\" Трейл 100",108.39999999999999,"М",{"$f":"IF(E449=\"Ж\",VLOOKUP(C449,Гонки!$E$2:$P$16,11,FALSE),VLOOKUP(C449,Гонки!$E$2:$P$16,12,FALSE))","v":36},"Лысенко Павел",1966,"Lysenko Pavel","Лысенко Павел / Lysenko Pavel / 1966","М",6,86.111111111111114,896.55]
[{"$f":"Гонки!$C$11","v":"\"Налибоки 2018\""},{"$f":"Гонки!$D$13","v":"Трейл 100"},"\"Налибоки 2018\" Трейл 100",{"$f":"VLOOKUP(C450,Список_гонок,10,FALSE)","v":108.39999999999999},"М",{"$f":"IF(E450=\"Ж\",VLOOKUP(C450,Гонки!$E$2:$P$16,11,FALSE),VLOOKUP(C450,Гонки!$E$2:$P$16,12,FALSE))","v":36},"Побединский Александр",1983,"Pobedinskij Aleksandr","Побединский Александр / Pobedinskij Aleksandr / 1983","М",7,83.333333333333343,867.63]
[{"$f":"Гонки!$C$11","v":"\"Налибоки 2018\""},{"$f":"Гонки!$D$13","v":"Трейл 100"},{"$f":"CONCATENATE(A451,\" \",B451)","v":"\"Налибоки 2018\" Трейл 100"},108.39999999999999,"М",{"$f":"IF(E451=\"Ж\",VLOOKUP(C451,Гонки!$E$2:$P$16,11,FALSE),VLOOKUP(C451,Гонки!$E$2:$P$16,12,FALSE))","v":36},"Исаев Антон",1979,{"$f":"Translit(G451)","v":"Isaev Anton"},{"$f":"CONCATENATE(G451,\" / \",I451,\" / \",H451)","v":"Исаев Антон / Isaev Anton / 1979"},{"$f":"E451","v":"М"},8,{"$f":"100-((L451-1)/F451)*100","v":80.555555555555557},{"$f":"ROUND(SQRT(D451)*M451,2)","v":838.71}]
[{"$f":"Гонки!$C$11","v":"\"Налибоки 2018\""},{"$f":"Гонки!$D$13","v":"Трейл 100"},"\"Налибоки 2018\" Трейл 100",108.39999999999999,"М",{"$f":"IF(E452=\"Ж\",VLOOKUP(C452,Гонки!$E$2:$P$16,11,FALSE),VLOOKUP(C452,Гонки!$E$2:$P$16,12,FALSE))","v":36},"Окромешко Антон",1990,"Okromeshko Anton","Окромешко Антон / Okromeshko Anton / 1990","М",9,77.777777777777771,809.79]
[{"$f":"Гонки!$C$11","v":"\"Налибоки 2018\""},{"$f":"Гонки!$D$13","v":"Трейл 100"},"\"Налибоки 2018\" Трейл 100",108.39999999999999,"М",{"$f":"IF(E453=\"Ж\",VLOOKUP(C453,Гонки!$E$2:$P$16,11,FALSE),VLOOKUP(C453,Гонки!$E$2:$P$16,12,FALSE))","v":36},"Глушков Александр",1980,"Glushkov Aleksandr","Глушков Александр / Glushkov Aleksandr / 1980","М",10,75,780.86]
[{"$f":"Гонки!$C$11","v":"\"Налибоки 2018\""},{"$f":"Гонки!$D$13","v":"Трейл 100"},"\"Налибоки 2018\" Трейл 100",108.39999999999999,"М",{"$f":"IF(E454=\"Ж\",VLOOKUP(C454,Гонки!$E$2:$P$16,11,FALSE),VLOOKUP(C454,Гонки!$E$2:$P$16,12,FALSE))","v":36},"Храмов Антон",1991,"Hramov Anton","Храмов Антон / Hramov Anton / 1991","М",11,72.222222222222229,751.94]
[{"$f":"Гонки!$C$11","v":"\"Налибоки 2018\""},{"$f":"Гонки!$D$13","v":"Трейл 100"},"\"Налибоки 2018\" Трейл 100",108.39999999999999,"М",{"$f":"IF(E455=\"Ж\",VLOOKUP(C455,Гонки!$E$2:$P$16,11,FALSE),VLOOKUP(C455,Гонки!$E$2:$P$16,12,FALSE))","v":36},"Мартысевич Роман",1993,"Martysevich Roman","Мартысевич Роман / Martysevich Roman / 1993","М",12,69.444444444444443,723.02]
[{"$f":"Гонки!$C$11","v":"\"Налибоки 2018\""},{"$f":"Гонки!$D$13","v":"Трейл 100"},"\"Налибоки 2018\" Трейл 100",108.39999999999999,"М",{"$f":"IF(E456=\"Ж\",VLOOKUP(C456,Гонки!$E$2:$P$16,11,FALSE),VLOOKUP(C456,Гонки!$E$2:$P$16,12,FALSE))","v":36},"Новікаў Анатоль",1984,"Novіkau Anatol","Новікаў Анатоль / Novіkau Anatol / 1984","М",13,66.666666666666671,694.1]
[{"$f":"Гонки!$C$11","v":"\"Налибоки 2018\""},{"$f":"Гонки!$D$13","v":"Трейл 100"},"\"Налибоки 2018\" Трейл 100",108.39999999999999,"М",{"$f":"IF(E457=\"Ж\",VLOOKUP(C457,Гонки!$E$2:$P$16,11,FALSE),VLOOKUP(C457,Гонки!$E$2:$P$16,12,FALSE))","v":36},"Федорович Николай",1959,"Fedorovich Nikolaj","Федорович Николай / Fedorovich Nikolaj / 1959","М",14,63.888888888888893,665.18]
[{"$f":"Гонки!$C$11","v":"\"Налибоки 2018\""},{"$f":"Гонки!$D$13","v":"Трейл 100"},"\"Налибоки 2018\" Трейл 100",108.39999999999999,"М",{"$f":"IF(E458=\"Ж\",VLOOKUP(C458,Гонки!$E$2:$P$16,11,FALSE),VLOOKUP(C458,Гонки!$E$2:$P$16,12,FALSE))","v":36},"Харитонов Иван",1973,"Haritonov Ivan","Харитонов Иван / Haritonov Ivan / 1973","М",15,61.111111111111107,636.26]
[{"$f":"Гонки!$C$11","v":"\"Налибоки 2018\""},{"$f":"Гонки!$D$13","v":"Трейл 100"},"\"Налибоки 2018\" Трейл 100",108.39999999999999,"М",{"$f":"IF(E459=\"Ж\",VLOOKUP(C459,Гонки!$E$2:$P$16,11,FALSE),VLOOKUP(C459,Гонки!$E$2:$P$16,12,FALSE))","v":36},"Тюев Даниил",1977,"Tyuev Daniil","Тюев Даниил / Tyuev Daniil / 1977","М",16,58.333333333333329,607.34]
[{"$f":"Гонки!$C$11","v":"\"Налибоки 2018\""},{"$f":"Гонки!$D$13","v":"Трейл 100"},"\"Налибоки 2018\" Трейл 100",108.39999999999999,"М",{"$f":"IF(E460=\"Ж\",VLOOKUP(C460,Гонки!$E$2:$P$16,11,FALSE),VLOOKUP(C460,Гонки!$E$2:$P$16,12,FALSE))","v":36},"Гусаревич Денис",1983,"Gusarevich Denis","Гусаревич Денис / Gusarevich Denis / 1983","М",17,55.555555555555557,578.41999999999996]
[{"$f":"Гонки!$C$11","v":"\"Налибоки 2018\""},{"$f":"Гонки!$D$13","v":"Трейл 100"},"\"Налибоки 2018\" Трейл 100",108.39999999999999,"М",{"$f":"IF(E461=\"Ж\",VLOOKUP(C461,Гонки!$E$2:$P$16,11,FALSE),VLOOKUP(C461,Гонки!$E$2:$P$16,12,FALSE))","v":36},"Трасковский Дмитрий",1986,"Traskovskij Dmitrij","Трасковский Дмитрий / Traskovskij Dmitrij / 1986","М",18,52.777777777777779,549.5]
[{"$f":"Гонки!$C$11","v":"\"Налибоки 2018\""},{"$f":"Гонки!$D$13","v":"Трейл 100"},"\"Налибоки 2018\" Трейл 100",108.39999999999999,"М",{"$f":"IF(E462=\"Ж\",VLOOKUP(C462,Гонки!$E$2:$P$16,11,FALSE),VLOOKUP(C462,Гонки!$E$2:$P$16,12,FALSE))","v":36},"Величко Павел",1982,"Velichko Pavel","Величко Павел / Velichko Pavel / 1982","М",19,50,520.58000000000004]
[{"$f":"Гонки!$C$11","v":"\"Налибоки 2018\""},{"$f":"Гонки!$D$13","v":"Трейл 100"},"\"Налибоки 2018\" Трейл 100",108.39999999999999,"М",{"$f":"IF(E463=\"Ж\",VLOOKUP(C463,Гонки!$E$2:$P$16,11,FALSE),VLOOKUP(C463,Гонки!$E$2:$P$16,12,FALSE))","v":36},"Шестаков Геннадий",1962,"Shestakov Gennadij","Шестаков Геннадий / Shestakov Gennadij / 1962","М",20,47.222222222222221,491.66]
[{"$f":"Гонки!$C$11","v":"\"Налибоки 2018\""},{"$f":"Гонки!$D$13","v":"Трейл 100"},"\"Налибоки 2018\" Трейл 100",108.39999999999999,"М",{"$f":"IF(E464=\"Ж\",VLOOKUP(C464,Гонки!$E$2:$P$16,11,FALSE),VLOOKUP(C464,Гонки!$E$2:$P$16,12,FALSE))","v":36},"Суховей Михаил",1991,"Suhovej Mihail","Суховей Михаил / Suhovej Mihail / 1991","М",21,44.444444444444443,462.73]
[{"$f":"Гонки!$C$11","v":"\"Налибоки 2018\""},{"$f":"Гонки!$D$13","v":"Трейл 100"},"\"Налибоки 2018\" Трейл 100",108.39999999999999,"М",{"$f":"IF(E465=\"Ж\",VLOOKUP(C465,Гонки!$E$2:$P$16,11,FALSE),VLOOKUP(C465,Гонки!$E$2:$P$16,12,FALSE))","v":36},"Комин Игорь",1959,"Komin Igor","Комин Игорь / Komin Igor / 1959","М",22,41.666666666666664,433.81]
[{"$f":"Гонки!$C$11","v":"\"Налибоки 2018\""},{"$f":"Гонки!$D$13","v":"Трейл 100"},"\"Налибоки 2018\" Трейл 100",108.39999999999999,"М",{"$f":"IF(E466=\"Ж\",VLOOKUP(C466,Гонки!$E$2:$P$16,11,FALSE),VLOOKUP(C466,Гонки!$E$2:$P$16,12,FALSE))","v":36},"Копоть Александр",1992,"Kopot Aleksandr","Копоть Александр / Kopot Aleksandr / 1992","М",23,38.888888888888886,404.89]
[{"$f":"Гонки!$C$11","v":"\"Налибоки 2018\""},{"$f":"Гонки!$D$13","v":"Трейл 100"},"\"Налибоки 2018\" Трейл 100",108.39999999999999,"М",{"$f":"IF(E467=\"Ж\",VLOOKUP(C467,Гонки!$E$2:$P$16,11,FALSE),VLOOKUP(C467,Гонки!$E$2:$P$16,12,FALSE))","v":36},"Астапов Владимир",1977,"Astapov Vladimir","Астапов Владимир / Astapov Vladimir / 1977","М",24,36.111111111111114,375.97]
[{"$f":"Гонки!$C$11","v":"\"Налибоки 2018\""},{"$f":"Гонки!$D$13","v":"Трейл 100"},"\"Налибоки 2018\" Трейл 100",108.39999999999999,"М",{"$f":"IF(E468=\"Ж\",VLOOKUP(C468,Гонки!$E$2:$P$16,11,FALSE),VLOOKUP(C468,Гонки!$E$2:$P$16,12,FALSE))","v":36},"Титуленко Егор",1983,"Titulenko Egor","Титуленко Егор / Titulenko Egor / 1983","М",25,33.333333333333343,347.05]
[{"$f":"Гонки!$C$11","v":"\"Налибоки 2018\""},{"$f":"Гонки!$D$13","v":"Трейл 100"},"\"Налибоки 2018\" Трейл 100",108.39999999999999,"М",{"$f":"IF(E469=\"Ж\",VLOOKUP(C469,Гонки!$E$2:$P$16,11,FALSE),VLOOKUP(C469,Гонки!$E$2:$P$16,12,FALSE))","v":36},"Рачковский Николай",1985,"Rachkovskij Nikolaj","Рачковский Николай / Rachkovskij Nikolaj / 1985","М",26,30.555555555555557,318.13]
[{"$f":"Гонки!$C$11","v":"\"Налибоки 2018\""},{"$f":"Гонки!$D$13","v":"Трейл 100"},"\"Налибоки 2018\" Трейл 100",108.39999999999999,"М",{"$f":"IF(E470=\"Ж\",VLOOKUP(C470,Гонки!$E$2:$P$16,11,FALSE),VLOOKUP(C470,Гонки!$E$2:$P$16,12,FALSE))","v":36},"Ковеня Андрей",1962,"Kovenya Andrej","Ковеня Андрей / Kovenya Andrej / 1962","М",27,27.777777777777786,289.20999999999998]
[{"$f":"Гонки!$C$11","v":"\"Налибоки 2018\""},{"$f":"Гонки!$D$13","v":"Трейл 100"},"\"Налибоки 2018\" Трейл 100",108.39999999999999,"М",{"$f":"IF(E471=\"Ж\",VLOOKUP(C471,Гонки!$E$2:$P$16,11,FALSE),VLOOKUP(C471,Гонки!$E$2:$P$16,12,FALSE))","v":36},"Трасковский Геннадий",1961,"Traskovskij Gennadij","Трасковский Геннадий / Traskovskij Gennadij / 1961","М",28,25,260.29000000000002]
[{"$f":"Гонки!$C$11","v":"\"Налибоки 2018\""},{"$f":"Гонки!$D$13","v":"Трейл 100"},"\"Налибоки 2018\" Трейл 100",108.39999999999999,"М",{"$f":"IF(E472=\"Ж\",VLOOKUP(C472,Гонки!$E$2:$P$16,11,FALSE),VLOOKUP(C472,Гонки!$E$2:$P$16,12,FALSE))","v":36},"Фомин Леонид",1983,"Fomin Leonid","Фомин Леонид / Fomin Leonid / 1983","М",29,22.222222222222214,231.37]
[{"$f":"Гонки!$C$11","v":"\"Налибоки 2018\""},{"$f":"Гонки!$D$13","v":"Трейл 100"},"\"Налибоки 2018\" Трейл 100",108.39999999999999,"М",{"$f":"IF(E473=\"Ж\",VLOOKUP(C473,Гонки!$E$2:$P$16,11,FALSE),VLOOKUP(C473,Гонки!$E$2:$P$16,12,FALSE))","v":36},"Гомон Сергей",1990,"Gomon Sergej","Гомон Сергей / Gomon Sergej / 1990","М",30,19.444444444444443,202.45]
[{"$f":"Гонки!$C$11","v":"\"Налибоки 2018\""},{"$f":"Гонки!$D$12","v":"Трейл 42"},"\"Налибоки 2018\" Трейл 42",51.8,"Ж",{"$f":"IF(E474=\"Ж\",VLOOKUP(C474,Гонки!$E$2:$P$16,11,FALSE),VLOOKUP(C474,Гонки!$E$2:$P$16,12,FALSE))","v":13},"Торубарова Татьяна",1983,"Torubarova Tatyana","Торубарова Татьяна / Torubarova Tatyana / 1983","Ж",1,100,719.72]
[{"$f":"Гонки!$C$11","v":"\"Налибоки 2018\""},{"$f":"Гонки!$D$12","v":"Трейл 42"},"\"Налибоки 2018\" Трейл 42",51.8,"Ж",{"$f":"IF(E475=\"Ж\",VLOOKUP(C475,Гонки!$E$2:$P$16,11,FALSE),VLOOKUP(C475,Гонки!$E$2:$P$16,12,FALSE))","v":13},"Белая Юлия",1988,"Belaya Yuliya","Белая Юлия / Belaya Yuliya / 1988","Ж",2,92.307692307692307,664.36]
[{"$f":"Гонки!$C$11","v":"\"Налибоки 2018\""},{"$f":"Гонки!$D$12","v":"Трейл 42"},"\"Налибоки 2018\" Трейл 42",51.8,"Ж",{"$f":"IF(E476=\"Ж\",VLOOKUP(C476,Гонки!$E$2:$P$16,11,FALSE),VLOOKUP(C476,Гонки!$E$2:$P$16,12,FALSE))","v":13},"Арабиенко Татьяна",1986,"Arabienko Tatyana","Арабиенко Татьяна / Arabienko Tatyana / 1986","Ж",3,84.615384615384613,609]
[{"$f":"Гонки!$C$11","v":"\"Налибоки 2018\""},{"$f":"Гонки!$D$12","v":"Трейл 42"},"\"Налибоки 2018\" Трейл 42",51.8,"Ж",{"$f":"IF(E477=\"Ж\",VLOOKUP(C477,Гонки!$E$2:$P$16,11,FALSE),VLOOKUP(C477,Гонки!$E$2:$P$16,12,FALSE))","v":13},"Колташова Елена",1984,"Koltashova Elena","Колташова Елена / Koltashova Elena / 1984","Ж",4,76.92307692307692,553.63]
[{"$f":"Гонки!$C$11","v":"\"Налибоки 2018\""},{"$f":"Гонки!$D$12","v":"Трейл 42"},"\"Налибоки 2018\" Трейл 42",51.8,"Ж",{"$f":"IF(E478=\"Ж\",VLOOKUP(C478,Гонки!$E$2:$P$16,11,FALSE),VLOOKUP(C478,Гонки!$E$2:$P$16,12,FALSE))","v":13},"Невмержицкая Анна",1997,"Nevmerzhitskaya Anna","Невмержицкая Анна / Nevmerzhitskaya Anna / 1997","Ж",5,69.230769230769226,498.27]
[{"$f":"Гонки!$C$11","v":"\"Налибоки 2018\""},{"$f":"Гонки!$D$12","v":"Трейл 42"},"\"Налибоки 2018\" Трейл 42",51.8,"Ж",{"$f":"IF(E479=\"Ж\",VLOOKUP(C479,Гонки!$E$2:$P$16,11,FALSE),VLOOKUP(C479,Гонки!$E$2:$P$16,12,FALSE))","v":13},"Трухтанова Елена",1985,"Truhtanova Elena","Трухтанова Елена / Truhtanova Elena / 1985","Ж",6,61.538461538461533,442.91]
[{"$f":"Гонки!$C$11","v":"\"Налибоки 2018\""},{"$f":"Гонки!$D$12","v":"Трейл 42"},"\"Налибоки 2018\" Трейл 42",51.8,"Ж",{"$f":"IF(E480=\"Ж\",VLOOKUP(C480,Гонки!$E$2:$P$16,11,FALSE),VLOOKUP(C480,Гонки!$E$2:$P$16,12,FALSE))","v":13},"Ткачук Дарья",1981,"Tkachuk Darya","Ткачук Дарья / Tkachuk Darya / 1981","Ж",7,53.846153846153847,387.54]
[{"$f":"Гонки!$C$11","v":"\"Налибоки 2018\""},{"$f":"Гонки!$D$12","v":"Трейл 42"},"\"Налибоки 2018\" Трейл 42",51.8,"Ж",{"$f":"IF(E481=\"Ж\",VLOOKUP(C481,Гонки!$E$2:$P$16,11,FALSE),VLOOKUP(C481,Гонки!$E$2:$P$16,12,FALSE))","v":13},"Лавриченок Светлана",1971,"Lavrichenok Svetlana","Лавриченок Светлана / Lavrichenok Svetlana / 1971","Ж",8,46.153846153846153,332.18]
[{"$f":"Гонки!$C$11","v":"\"Налибоки 2018\""},{"$f":"Гонки!$D$12","v":"Трейл 42"},"\"Налибоки 2018\" Трейл 42",51.8,"Ж",{"$f":"IF(E482=\"Ж\",VLOOKUP(C482,Гонки!$E$2:$P$16,11,FALSE),VLOOKUP(C482,Гонки!$E$2:$P$16,12,FALSE))","v":13},"Грицук Татьяна",1973,"Gritsuk Tatyana","Грицук Татьяна / Gritsuk Tatyana / 1973","Ж",9,38.46153846153846,276.82]
[{"$f":"Гонки!$C$11","v":"\"Налибоки 2018\""},{"$f":"Гонки!$D$12","v":"Трейл 42"},"\"Налибоки 2018\" Трейл 42",51.8,"Ж",{"$f":"IF(E483=\"Ж\",VLOOKUP(C483,Гонки!$E$2:$P$16,11,FALSE),VLOOKUP(C483,Гонки!$E$2:$P$16,12,FALSE))","v":13},"Пальвинская Валерия",1996,"Palvinskaya Valeriya","Пальвинская Валерия / Palvinskaya Valeriya / 1996","Ж",10,30.769230769230774,221.45]
[{"$f":"Гонки!$C$11","v":"\"Налибоки 2018\""},{"$f":"Гонки!$D$12","v":"Трейл 42"},"\"Налибоки 2018\" Трейл 42",51.8,"Ж",{"$f":"IF(E484=\"Ж\",VLOOKUP(C484,Гонки!$E$2:$P$16,11,FALSE),VLOOKUP(C484,Гонки!$E$2:$P$16,12,FALSE))","v":13},"Кукареко Екатерина",1986,"Kukareko Ekaterina","Кукареко Екатерина / Kukareko Ekaterina / 1986","Ж",11,23.076923076923066,166.09]
[{"$f":"Гонки!$C$11","v":"\"Налибоки 2018\""},{"$f":"Гонки!$D$12","v":"Трейл 42"},"\"Налибоки 2018\" Трейл 42",51.8,"М",{"$f":"IF(E485=\"Ж\",VLOOKUP(C485,Гонки!$E$2:$P$16,11,FALSE),VLOOKUP(C485,Гонки!$E$2:$P$16,12,FALSE))","v":41},"Вагин Андрей",1989,"Vagin Andrej","Вагин Андрей / Vagin Andrej / 1989","М",1,100,719.72]
[{"$f":"Гонки!$C$11","v":"\"Налибоки 2018\""},{"$f":"Гонки!$D$12","v":"Трейл 42"},"\"Налибоки 2018\" Трейл 42",51.8,"М",{"$f":"IF(E486=\"Ж\",VLOOKUP(C486,Гонки!$E$2:$P$16,11,FALSE),VLOOKUP(C486,Гонки!$E$2:$P$16,12,FALSE))","v":41},"Попов Юрий",1969,"Popov Yurij","Попов Юрий / Popov Yurij / 1969","М",2,97.560975609756099,702.17]
[{"$f":"Гонки!$C$11","v":"\"Налибоки 2018\""},{"$f":"Гонки!$D$12","v":"Трейл 42"},"\"Налибоки 2018\" Трейл 42",51.8,"М",{"$f":"IF(E487=\"Ж\",VLOOKUP(C487,Гонки!$E$2:$P$16,11,FALSE),VLOOKUP(C487,Гонки!$E$2:$P$16,12,FALSE))","v":41},"Крисенков Алексей",1983,"Krisenkov Aleksej","Крисенков Алексей / Krisenkov Aleksej / 1983","М",3,95.121951219512198,684.61]
[{"$f":"Гонки!$C$11","v":"\"Налибоки 2018\""},{"$f":"Гонки!$D$12","v":"Трейл 42"},"\"Налибоки 2018\" Трейл 42",51.8,"М",{"$f":"IF(E488=\"Ж\",VLOOKUP(C488,Гонки!$E$2:$P$16,11,FALSE),VLOOKUP(C488,Гонки!$E$2:$P$16,12,FALSE))","v":41},"Тарасенко Павел",1983,"Tarasenko Pavel","Тарасенко Павел / Tarasenko Pavel / 1983","М",4,92.682926829268297,667.06]
[{"$f":"Гонки!$C$11","v":"\"Налибоки 2018\""},{"$f":"Гонки!$D$12","v":"Трейл 42"},"\"Налибоки 2018\" Трейл 42",51.8,"М",{"$f":"IF(E489=\"Ж\",VLOOKUP(C489,Гонки!$E$2:$P$16,11,FALSE),VLOOKUP(C489,Гонки!$E$2:$P$16,12,FALSE))","v":41},"Дегтярев Сергей",1983,"Degtyarev Sergej","Дегтярев Сергей / Degtyarev Sergej / 1983","М",5,90.243902439024396,649.51]
[{"$f":"Гонки!$C$11","v":"\"Налибоки 2018\""},{"$f":"Гонки!$D$12","v":"Трейл 42"},"\"Налибоки 2018\" Трейл 42",51.8,"М",{"$f":"IF(E490=\"Ж\",VLOOKUP(C490,Гонки!$E$2:$P$16,11,FALSE),VLOOKUP(C490,Гонки!$E$2:$P$16,12,FALSE))","v":41},"Попадюк Игорь",1982,"Popadyuk Igor","Попадюк Игорь / Popadyuk Igor / 1982","М",6,87.804878048780495,631.95000000000005]
[{"$f":"Гонки!$C$11","v":"\"Налибоки 2018\""},{"$f":"Гонки!$D$12","v":"Трейл 42"},"\"Налибоки 2018\" Трейл 42",51.8,"М",{"$f":"IF(E491=\"Ж\",VLOOKUP(C491,Гонки!$E$2:$P$16,11,FALSE),VLOOKUP(C491,Гонки!$E$2:$P$16,12,FALSE))","v":41},"Казак Дмитрий",1979,"Kazak Dmitrij","Казак Дмитрий / Kazak Dmitrij / 1979","М",7,85.365853658536594,614.4]
[{"$f":"Гонки!$C$11","v":"\"Налибоки 2018\""},{"$f":"Гонки!$D$12","v":"Трейл 42"},"\"Налибоки 2018\" Трейл 42",51.8,"М",{"$f":"IF(E492=\"Ж\",VLOOKUP(C492,Гонки!$E$2:$P$16,11,FALSE),VLOOKUP(C492,Гонки!$E$2:$P$16,12,FALSE))","v":41},"Прокопович Ростислав",1982,"Prokopovich Rostislav","Прокопович Ростислав / Prokopovich Rostislav / 1982","М",8,82.926829268292678,596.84]
[{"$f":"Гонки!$C$11","v":"\"Налибоки 2018\""},{"$f":"Гонки!$D$12","v":"Трейл 42"},"\"Налибоки 2018\" Трейл 42",51.8,"М",{"$f":"IF(E493=\"Ж\",VLOOKUP(C493,Гонки!$E$2:$P$16,11,FALSE),VLOOKUP(C493,Гонки!$E$2:$P$16,12,FALSE))","v":41},"Лещинский Владимир",1983,"Leschinskij Vladimir","Лещинский Владимир / Leschinskij Vladimir / 1983","М",9,80.487804878048777,579.29]
[{"$f":"Гонки!$C$11","v":"\"Налибоки 2018\""},{"$f":"Гонки!$D$12","v":"Трейл 42"},"\"Налибоки 2018\" Трейл 42",51.8,"М",{"$f":"IF(E494=\"Ж\",VLOOKUP(C494,Гонки!$E$2:$P$16,11,FALSE),VLOOKUP(C494,Гонки!$E$2:$P$16,12,FALSE))","v":41},"Жданович Максим",1987,"Zhdanovich Maksim","Жданович Максим / Zhdanovich Maksim / 1987","М",10,78.048780487804876,561.73]
[{"$f":"Гонки!$C$11","v":"\"Налибоки 2018\""},{"$f":"Гонки!$D$12","v":"Трейл 42"},"\"Налибоки 2018\" Трейл 42",51.8,"М",{"$f":"IF(E495=\"Ж\",VLOOKUP(C495,Гонки!$E$2:$P$16,11,FALSE),VLOOKUP(C495,Гонки!$E$2:$P$16,12,FALSE))","v":41},"Минько Алексей",1997,"Minko Aleksej","Минько Алексей / Minko Aleksej / 1997","М",11,75.609756097560975,544.17999999999995]
[{"$f":"Гонки!$C$11","v":"\"Налибоки 2018\""},{"$f":"Гонки!$D$12","v":"Трейл 42"},"\"Налибоки 2018\" Трейл 42",51.8,"М",{"$f":"IF(E496=\"Ж\",VLOOKUP(C496,Гонки!$E$2:$P$16,11,FALSE),VLOOKUP(C496,Гонки!$E$2:$P$16,12,FALSE))","v":41},"Володько Андрей",1986,"Volodko Andrej","Володько Андрей / Volodko Andrej / 1986","М",12,73.170731707317074,526.63]
[{"$f":"Гонки!$C$11","v":"\"Налибоки 2018\""},{"$f":"Гонки!$D$12","v":"Трейл 42"},"\"Налибоки 2018\" Трейл 42",51.8,"М",{"$f":"IF(E497=\"Ж\",VLOOKUP(C497,Гонки!$E$2:$P$16,11,FALSE),VLOOKUP(C497,Гонки!$E$2:$P$16,12,FALSE))","v":41},"Пучик Александр",1983,"Puchik Aleksandr","Пучик Александр / Puchik Aleksandr / 1983","М",13,70.731707317073173,509.07]
[{"$f":"Гонки!$C$11","v":"\"Налибоки 2018\""},{"$f":"Гонки!$D$12","v":"Трейл 42"},"\"Налибоки 2018\" Трейл 42",51.8,"М",{"$f":"IF(E498=\"Ж\",VLOOKUP(C498,Гонки!$E$2:$P$16,11,FALSE),VLOOKUP(C498,Гонки!$E$2:$P$16,12,FALSE))","v":41},"Жидович Вадим",1984,"Zhidovich Vadim","Жидович Вадим / Zhidovich Vadim / 1984","М",14,68.292682926829272,491.52]
[{"$f":"Гонки!$C$11","v":"\"Налибоки 2018\""},{"$f":"Гонки!$D$12","v":"Трейл 42"},"\"Налибоки 2018\" Трейл 42",51.8,"М",{"$f":"IF(E499=\"Ж\",VLOOKUP(C499,Гонки!$E$2:$P$16,11,FALSE),VLOOKUP(C499,Гонки!$E$2:$P$16,12,FALSE))","v":41},"Николаевский Станислав",1985,"Nikolaevskij Stanislav","Николаевский Станислав / Nikolaevskij Stanislav / 1985","М",15,65.853658536585357,473.96]
[{"$f":"Гонки!$C$11","v":"\"Налибоки 2018\""},{"$f":"Гонки!$D$12","v":"Трейл 42"},"\"Налибоки 2018\" Трейл 42",51.8,"М",{"$f":"IF(E500=\"Ж\",VLOOKUP(C500,Гонки!$E$2:$P$16,11,FALSE),VLOOKUP(C500,Гонки!$E$2:$P$16,12,FALSE))","v":41},"Лисовский Виктор",1964,"Lisovskij Viktor","Лисовский Виктор / Lisovskij Viktor / 1964","М",16,63.414634146341463,456.41]
[{"$f":"Гонки!$C$11","v":"\"Налибоки 2018\""},{"$f":"Гонки!$D$12","v":"Трейл 42"},"\"Налибоки 2018\" Трейл 42",51.8,"М",{"$f":"IF(E501=\"Ж\",VLOOKUP(C501,Гонки!$E$2:$P$16,11,FALSE),VLOOKUP(C501,Гонки!$E$2:$P$16,12,FALSE))","v":41},"Коровец Богдан",1976,"Korovets Bogdan","Коровец Богдан / Korovets Bogdan / 1976","М",17,60.975609756097562,438.85]
[{"$f":"Гонки!$C$11","v":"\"Налибоки 2018\""},{"$f":"Гонки!$D$12","v":"Трейл 42"},"\"Налибоки 2018\" Трейл 42",51.8,"М",{"$f":"IF(E502=\"Ж\",VLOOKUP(C502,Гонки!$E$2:$P$16,11,FALSE),VLOOKUP(C502,Гонки!$E$2:$P$16,12,FALSE))","v":41},"Миканович Антон",1990,"Mikanovich Anton","Миканович Антон / Mikanovich Anton / 1990","М",18,58.536585365853661,421.3]
[{"$f":"Гонки!$C$11","v":"\"Налибоки 2018\""},{"$f":"Гонки!$D$12","v":"Трейл 42"},"\"Налибоки 2018\" Трейл 42",51.8,"М",{"$f":"IF(E503=\"Ж\",VLOOKUP(C503,Гонки!$E$2:$P$16,11,FALSE),VLOOKUP(C503,Гонки!$E$2:$P$16,12,FALSE))","v":41},"Хамицевич Михаил",1980,"Hamitsevich Mihail","Хамицевич Михаил / Hamitsevich Mihail / 1980","М",19,56.097560975609753,403.75]
[{"$f":"Гонки!$C$11","v":"\"Налибоки 2018\""},{"$f":"Гонки!$D$12","v":"Трейл 42"},"\"Налибоки 2018\" Трейл 42",51.8,"М",{"$f":"IF(E504=\"Ж\",VLOOKUP(C504,Гонки!$E$2:$P$16,11,FALSE),VLOOKUP(C504,Гонки!$E$2:$P$16,12,FALSE))","v":41},"Никитюк Алексей",1985,"Nikityuk Aleksej","Никитюк Алексей / Nikityuk Aleksej / 1985","М",20,53.658536585365852,386.19]
[{"$f":"Гонки!$C$11","v":"\"Налибоки 2018\""},{"$f":"Гонки!$D$12","v":"Трейл 42"},"\"Налибоки 2018\" Трейл 42",51.8,"М",{"$f":"IF(E505=\"Ж\",VLOOKUP(C505,Гонки!$E$2:$P$16,11,FALSE),VLOOKUP(C505,Гонки!$E$2:$P$16,12,FALSE))","v":41},"Труханов Сергей",1987,"Truhanov Sergej","Труханов Сергей / Truhanov Sergej / 1987","М",21,51.219512195121951,368.64]
[{"$f":"Гонки!$C$11","v":"\"Налибоки 2018\""},{"$f":"Гонки!$D$12","v":"Трейл 42"},"\"Налибоки 2018\" Трейл 42",51.8,"М",{"$f":"IF(E506=\"Ж\",VLOOKUP(C506,Гонки!$E$2:$P$16,11,FALSE),VLOOKUP(C506,Гонки!$E$2:$P$16,12,FALSE))","v":41},"Асаевич Роман",1964,"Asaevich Roman","Асаевич Роман / Asaevich Roman / 1964","М",22,48.780487804878049,351.08]
[{"$f":"Гонки!$C$11","v":"\"Налибоки 2018\""},{"$f":"Гонки!$D$12","v":"Трейл 42"},"\"Налибоки 2018\" Трейл 42",51.8,"М",{"$f":"IF(E507=\"Ж\",VLOOKUP(C507,Гонки!$E$2:$P$16,11,FALSE),VLOOKUP(C507,Гонки!$E$2:$P$16,12,FALSE))","v":41},"Юлов Герман",1993,"Yulov German","Юлов Герман / Yulov German / 1993","М",23,46.341463414634141,333.53]
[{"$f":"Гонки!$C$11","v":"\"Налибоки 2018\""},{"$f":"Гонки!$D$12","v":"Трейл 42"},"\"Налибоки 2018\" Трейл 42",51.8,"М",{"$f":"IF(E508=\"Ж\",VLOOKUP(C508,Гонки!$E$2:$P$16,11,FALSE),VLOOKUP(C508,Гонки!$E$2:$P$16,12,FALSE))","v":41},"Радиончик Александр",1985,"Radionchik Aleksandr","Радиончик Александр / Radionchik Aleksandr / 1985","М",24,43.90243902439024,315.98]
[{"$f":"Гонки!$C$11","v":"\"Налибоки 2018\""},{"$f":"Гонки!$D$12","v":"Трейл 42"},"\"Налибоки 2018\" Трейл 42",51.8,"М",{"$f":"IF(E509=\"Ж\",VLOOKUP(C509,Гонки!$E$2:$P$16,11,FALSE),VLOOKUP(C509,Гонки!$E$2:$P$16,12,FALSE))","v":41},"Сафонов Юрий",1983,"Safonov Yurij","Сафонов Юрий / Safonov Yurij / 1983","М",25,41.463414634146346,298.42]
[{"$f":"Гонки!$C$11","v":"\"Налибоки 2018\""},{"$f":"Гонки!$D$12","v":"Трейл 42"},"\"Налибоки 2018\" Трейл 42",51.8,"М",{"$f":"IF(E510=\"Ж\",VLOOKUP(C510,Гонки!$E$2:$P$16,11,FALSE),VLOOKUP(C510,Гонки!$E$2:$P$16,12,FALSE))","v":41},"Студенков Александр",1984,"Studenkov Aleksandr","Студенков Александр / Studenkov Aleksandr / 1984","М",26,39.024390243902438,280.87]
[{"$f":"Гонки!$C$11","v":"\"Налибоки 2018\""},{"$f":"Гонки!$D$12","v":"Трейл 42"},"\"Налибоки 2018\" Трейл 42",51.8,"М",{"$f":"IF(E511=\"Ж\",VLOOKUP(C511,Гонки!$E$2:$P$16,11,FALSE),VLOOKUP(C511,Гонки!$E$2:$P$16,12,FALSE))","v":41},"Греков Игорь",1970,"Grekov Igor","Греков Игорь / Grekov Igor / 1970","М",27,36.585365853658537,263.31]
[{"$f":"Гонки!$C$11","v":"\"Налибоки 2018\""},{"$f":"Гонки!$D$12","v":"Трейл 42"},"\"Налибоки 2018\" Трейл 42",51.8,"М",{"$f":"IF(E512=\"Ж\",VLOOKUP(C512,Гонки!$E$2:$P$16,11,FALSE),VLOOKUP(C512,Гонки!$E$2:$P$16,12,FALSE))","v":41},"Куцуха Александр",1992,"Kutsuha Aleksandr","Куцуха Александр / Kutsuha Aleksandr / 1992","М",28,34.146341463414629,245.76]
[{"$f":"Гонки!$C$11","v":"\"Налибоки 2018\""},{"$f":"Гонки!$D$12","v":"Трейл 42"},"\"Налибоки 2018\" Трейл 42",51.8,"М",{"$f":"IF(E513=\"Ж\",VLOOKUP(C513,Гонки!$E$2:$P$16,11,FALSE),VLOOKUP(C513,Гонки!$E$2:$P$16,12,FALSE))","v":41},"Ланин Иван",1989,"Lanin Ivan","Ланин Иван / Lanin Ivan / 1989","М",29,31.707317073170728,228.2]
[{"$f":"Гонки!$C$11","v":"\"Налибоки 2018\""},{"$f":"Гонки!$D$12","v":"Трейл 42"},"\"Налибоки 2018\" Трейл 42",{"$f":"VLOOKUP(C514,Список_гонок,10,FALSE)","v":51.8},"М",{"$f":"IF(E514=\"Ж\",VLOOKUP(C514,Гонки!$E$2:$P$16,11,FALSE),VLOOKUP(C514,Гонки!$E$2:$P$16,12,FALSE))","v":41},"Волостных Сергей",1989,"Volostnyh Sergej","Волостных Сергей / Volostnyh Sergej / 1989","М",30,29.268292682926827,210.65]
[{"$f":"Гонки!$C$11","v":"\"Налибоки 2018\""},{"$f":"Гонки!$D$12","v":"Трейл 42"},{"$f":"CONCATENATE(A515,\" \",B515)","v":"\"Налибоки 2018\" Трейл 42"},51.8,"М",{"$f":"IF(E515=\"Ж\",VLOOKUP(C515,Гонки!$E$2:$P$16,11,FALSE),VLOOKUP(C515,Гонки!$E$2:$P$16,12,FALSE))","v":41},"Жучков Алексей",1985,{"$f":"Translit(G515)","v":"Zhuchkov Aleksej"},{"$f":"CONCATENATE(G515,\" / \",I515,\" / \",H515)","v":"Жучков Алексей / Zhuchkov Aleksej / 1985"},{"$f":"E515","v":"М"},31,{"$f":"100-((L515-1)/F515)*100","v":26.829268292682926},{"$f":"ROUND(SQRT(D515)*M515,2)","v":193.1}]
[{"$f":"Гонки!$C$11","v":"\"Налибоки 2018\""},{"$f":"Гонки!$D$12","v":"Трейл 42"},"\"Налибоки 2018\" Трейл 42",51.8,"М",{"$f":"IF(E516=\"Ж\",VLOOKUP(C516,Гонки!$E$2:$P$16,11,FALSE),VLOOKUP(C516,Гонки!$E$2:$P$16,12,FALSE))","v":41},"Покульницкий Алексей",1988,"Pokulnitskij Aleksej","Покульницкий Алексей / Pokulnitskij Aleksej / 1988","М",32,24.390243902439025,175.54]
[{"$f":"Гонки!$C$11","v":"\"Налибоки 2018\""},{"$f":"Гонки!$D$12","v":"Трейл 42"},"\"Налибоки 2018\" Трейл 42",51.8,"М",{"$f":"IF(E517=\"Ж\",VLOOKUP(C517,Гонки!$E$2:$P$16,11,FALSE),VLOOKUP(C517,Гонки!$E$2:$P$16,12,FALSE))","v":41},"Бизюк Игорь",1956,"Bizyuk Igor","Бизюк Игорь / Bizyuk Igor / 1956","М",33,21.951219512195124,157.99]
[{"$f":"Гонки!$C$11","v":"\"Налибоки 2018\""},{"$f":"Гонки!$D$12","v":"Трейл 42"},"\"Налибоки 2018\" Трейл 42",51.8,"М",{"$f":"IF(E518=\"Ж\",VLOOKUP(C518,Гонки!$E$2:$P$16,11,FALSE),VLOOKUP(C518,Гонки!$E$2:$P$16,12,FALSE))","v":41},"Загорнов Александр",1966,"Zagornov Aleksandr","Загорнов Александр / Zagornov Aleksandr / 1966","М",34,19.512195121951208,140.43]
[{"$f":"Гонки!$C$11","v":"\"Налибоки 2018\""},{"$f":"Гонки!$D$12","v":"Трейл 42"},"\"Налибоки 2018\" Трейл 42",51.8,"М",{"$f":"IF(E519=\"Ж\",VLOOKUP(C519,Гонки!$E$2:$P$16,11,FALSE),VLOOKUP(C519,Гонки!$E$2:$P$16,12,FALSE))","v":41},"Фидек Виталий",1966,"Fidek Vitalij","Фидек Виталий / Fidek Vitalij / 1966","М",35,17.073170731707322,122.88]
[{"$f":"Гонки!$C$11","v":"\"Налибоки 2018\""},{"$f":"Гонки!$D$12","v":"Трейл 42"},"\"Налибоки 2018\" Трейл 42",51.8,"М",{"$f":"IF(E520=\"Ж\",VLOOKUP(C520,Гонки!$E$2:$P$16,11,FALSE),VLOOKUP(C520,Гонки!$E$2:$P$16,12,FALSE))","v":41},"Дубровский Виктор",1961,"Dubrovskij Viktor","Дубровский Виктор / Dubrovskij Viktor / 1961","М",36,14.634146341463421,105.33]
[{"$f":"Гонки!$C$11","v":"\"Налибоки 2018\""},{"$f":"Гонки!$D$12","v":"Трейл 42"},"\"Налибоки 2018\" Трейл 42",51.8,"М",{"$f":"IF(E521=\"Ж\",VLOOKUP(C521,Гонки!$E$2:$P$16,11,FALSE),VLOOKUP(C521,Гонки!$E$2:$P$16,12,FALSE))","v":41},"Дубровский Евгений",1984,"Dubrovskij Evgenij","Дубровский Евгений / Dubrovskij Evgenij / 1984","М",37,12.195121951219505,87.77]
[{"$f":"Гонки!$C$11","v":"\"Налибоки 2018\""},{"$f":"Гонки!$D$12","v":"Трейл 42"},"\"Налибоки 2018\" Трейл 42",51.8,"М",{"$f":"IF(E522=\"Ж\",VLOOKUP(C522,Гонки!$E$2:$P$16,11,FALSE),VLOOKUP(C522,Гонки!$E$2:$P$16,12,FALSE))","v":41},"Кудрейко Михаил",1981,"Kudrejko Mihail","Кудрейко Михаил / Kudrejko Mihail / 1981","М",38,9.7560975609756042,70.22]
[{"$f":"Гонки!$C$11","v":"\"Налибоки 2018\""},{"$f":"Гонки!$D$12","v":"Трейл 42"},"\"Налибоки 2018\" Трейл 42",51.8,"М",{"$f":"IF(E523=\"Ж\",VLOOKUP(C523,Гонки!$E$2:$P$16,11,FALSE),VLOOKUP(C523,Гонки!$E$2:$P$16,12,FALSE))","v":41},"Луцевич Eвгений",1964,"Lutsevich Evgenij","Луцевич Eвгений / Lutsevich Evgenij / 1964","М",39,7.3170731707317032,52.66]
[{"$f":"Гонки!$C$11","v":"\"Налибоки 2018\""},{"$f":"Гонки!$D$12","v":"Трейл 42"},"\"Налибоки 2018\" Трейл 42",51.8,"М",{"$f":"IF(E524=\"Ж\",VLOOKUP(C524,Гонки!$E$2:$P$16,11,FALSE),VLOOKUP(C524,Гонки!$E$2:$P$16,12,FALSE))","v":41},"Зументс Роберт",1979,"Zuments Robert","Зументс Роберт / Zuments Robert / 1979","М",40,4.8780487804878021,35.11]
[{"$f":"Гонки!$C$11","v":"\"Налибоки 2018\""},{"$f":"Гонки!$D$11","v":"Трейл 21"},"\"Налибоки 2018\" Трейл 21",25.03,"Ж",{"$f":"IF(E525=\"Ж\",VLOOKUP(C525,Гонки!$E$2:$P$16,11,FALSE),VLOOKUP(C525,Гонки!$E$2:$P$16,12,FALSE))","v":40},"Скирук Юлия",1988,"Skiruk Yuliya","Скирук Юлия / Skiruk Yuliya / 1988","Ж",1,100,500.3]
[{"$f":"Гонки!$C$11","v":"\"Налибоки 2018\""},{"$f":"Гонки!$D$11","v":"Трейл 21"},"\"Налибоки 2018\" Трейл 21",25.03,"Ж",{"$f":"IF(E526=\"Ж\",VLOOKUP(C526,Гонки!$E$2:$P$16,11,FALSE),VLOOKUP(C526,Гонки!$E$2:$P$16,12,FALSE))","v":40},"Зеленкевич Валентина",1999,"Zelenkevich Valentina","Зеленкевич Валентина / Zelenkevich Valentina / 1999","Ж",2,97.5,487.79]
[{"$f":"Гонки!$C$11","v":"\"Налибоки 2018\""},{"$f":"Гонки!$D$11","v":"Трейл 21"},"\"Налибоки 2018\" Трейл 21",25.03,"Ж",{"$f":"IF(E527=\"Ж\",VLOOKUP(C527,Гонки!$E$2:$P$16,11,FALSE),VLOOKUP(C527,Гонки!$E$2:$P$16,12,FALSE))","v":40},"Цвирбут Юлия",1992,"Tsvirbut Yuliya","Цвирбут Юлия / Tsvirbut Yuliya / 1992","Ж",3,95,475.28]
[{"$f":"Гонки!$C$11","v":"\"Налибоки 2018\""},{"$f":"Гонки!$D$11","v":"Трейл 21"},"\"Налибоки 2018\" Трейл 21",25.03,"Ж",{"$f":"IF(E528=\"Ж\",VLOOKUP(C528,Гонки!$E$2:$P$16,11,FALSE),VLOOKUP(C528,Гонки!$E$2:$P$16,12,FALSE))","v":40},"Черкас Александра",1992,"Cherkas Aleksandra","Черкас Александра / Cherkas Aleksandra / 1992","Ж",4,92.5,462.78]
[{"$f":"Гонки!$C$11","v":"\"Налибоки 2018\""},{"$f":"Гонки!$D$11","v":"Трейл 21"},"\"Налибоки 2018\" Трейл 21",25.03,"Ж",{"$f":"IF(E529=\"Ж\",VLOOKUP(C529,Гонки!$E$2:$P$16,11,FALSE),VLOOKUP(C529,Гонки!$E$2:$P$16,12,FALSE))","v":40},"Калвинковская Ольга",1994,"Kalvinkovskaya Olga","Калвинковская Ольга / Kalvinkovskaya Olga / 1994","Ж",5,90,450.27]
[{"$f":"Гонки!$C$11","v":"\"Налибоки 2018\""},{"$f":"Гонки!$D$11","v":"Трейл 21"},"\"Налибоки 2018\" Трейл 21",25.03,"Ж",{"$f":"IF(E530=\"Ж\",VLOOKUP(C530,Гонки!$E$2:$P$16,11,FALSE),VLOOKUP(C530,Гонки!$E$2:$P$16,12,FALSE))","v":40},"Делендик Надежда",1987,"Delendik Nadezhda","Делендик Надежда / Delendik Nadezhda / 1987","Ж",6,87.5,437.76]
[{"$f":"Гонки!$C$11","v":"\"Налибоки 2018\""},{"$f":"Гонки!$D$11","v":"Трейл 21"},"\"Налибоки 2018\" Трейл 21",25.03,"Ж",{"$f":"IF(E531=\"Ж\",VLOOKUP(C531,Гонки!$E$2:$P$16,11,FALSE),VLOOKUP(C531,Гонки!$E$2:$P$16,12,FALSE))","v":40},"Адамович Ирина",1973,"Adamovich Irina","Адамович Ирина / Adamovich Irina / 1973","Ж",7,85,425.25]
[{"$f":"Гонки!$C$11","v":"\"Налибоки 2018\""},{"$f":"Гонки!$D$11","v":"Трейл 21"},"\"Налибоки 2018\" Трейл 21",25.03,"Ж",{"$f":"IF(E532=\"Ж\",VLOOKUP(C532,Гонки!$E$2:$P$16,11,FALSE),VLOOKUP(C532,Гонки!$E$2:$P$16,12,FALSE))","v":40},"Драгун Алина",1993,"Dragun Alina","Драгун Алина / Dragun Alina / 1993","Ж",8,82.5,412.75]
[{"$f":"Гонки!$C$11","v":"\"Налибоки 2018\""},{"$f":"Гонки!$D$11","v":"Трейл 21"},"\"Налибоки 2018\" Трейл 21",25.03,"Ж",{"$f":"IF(E533=\"Ж\",VLOOKUP(C533,Гонки!$E$2:$P$16,11,FALSE),VLOOKUP(C533,Гонки!$E$2:$P$16,12,FALSE))","v":40},"Коледа Татьяна",1990,"Koleda Tatyana","Коледа Татьяна / Koleda Tatyana / 1990","Ж",9,80,400.24]
[{"$f":"Гонки!$C$11","v":"\"Налибоки 2018\""},{"$f":"Гонки!$D$11","v":"Трейл 21"},"\"Налибоки 2018\" Трейл 21",25.03,"Ж",{"$f":"IF(E534=\"Ж\",VLOOKUP(C534,Гонки!$E$2:$P$16,11,FALSE),VLOOKUP(C534,Гонки!$E$2:$P$16,12,FALSE))","v":40},"Медведева Ольга",1991,"Medvedeva Olga","Медведева Ольга / Medvedeva Olga / 1991","Ж",10,77.5,387.73]
[{"$f":"Гонки!$C$11","v":"\"Налибоки 2018\""},{"$f":"Гонки!$D$11","v":"Трейл 21"},"\"Налибоки 2018\" Трейл 21",25.03,"Ж",{"$f":"IF(E535=\"Ж\",VLOOKUP(C535,Гонки!$E$2:$P$16,11,FALSE),VLOOKUP(C535,Гонки!$E$2:$P$16,12,FALSE))","v":40},"Янченко Ксения",1997,"Yanchenko Kseniya","Янченко Ксения / Yanchenko Kseniya / 1997","Ж",11,75,375.22]
[{"$f":"Гонки!$C$11","v":"\"Налибоки 2018\""},{"$f":"Гонки!$D$11","v":"Трейл 21"},"\"Налибоки 2018\" Трейл 21",25.03,"Ж",{"$f":"IF(E536=\"Ж\",VLOOKUP(C536,Гонки!$E$2:$P$16,11,FALSE),VLOOKUP(C536,Гонки!$E$2:$P$16,12,FALSE))","v":40},"Кликун Татьяна",1989,"Klikun Tatyana","Кликун Татьяна / Klikun Tatyana / 1989","Ж",12,72.5,362.72]
[{"$f":"Гонки!$C$11","v":"\"Налибоки 2018\""},{"$f":"Гонки!$D$11","v":"Трейл 21"},"\"Налибоки 2018\" Трейл 21",25.03,"Ж",{"$f":"IF(E537=\"Ж\",VLOOKUP(C537,Гонки!$E$2:$P$16,11,FALSE),VLOOKUP(C537,Гонки!$E$2:$P$16,12,FALSE))","v":40},"Варданян Кристина",1981,"Vardanyan Kristina","Варданян Кристина / Vardanyan Kristina / 1981","Ж",13,70,350.21]
[{"$f":"Гонки!$C$11","v":"\"Налибоки 2018\""},{"$f":"Гонки!$D$11","v":"Трейл 21"},"\"Налибоки 2018\" Трейл 21",25.03,"Ж",{"$f":"IF(E538=\"Ж\",VLOOKUP(C538,Гонки!$E$2:$P$16,11,FALSE),VLOOKUP(C538,Гонки!$E$2:$P$16,12,FALSE))","v":40},"Кальвинковская Екатерина",1993,"Kalvinkovskaya Ekaterina","Кальвинковская Екатерина / Kalvinkovskaya Ekaterina / 1993","Ж",14,67.5,337.7]
[{"$f":"Гонки!$C$11","v":"\"Налибоки 2018\""},{"$f":"Гонки!$D$11","v":"Трейл 21"},"\"Налибоки 2018\" Трейл 21",25.03,"Ж",{"$f":"IF(E539=\"Ж\",VLOOKUP(C539,Гонки!$E$2:$P$16,11,FALSE),VLOOKUP(C539,Гонки!$E$2:$P$16,12,FALSE))","v":40},"Пухаева Светлана",1980,"Puhaeva Svetlana","Пухаева Светлана / Puhaeva Svetlana / 1980","Ж",15,65,325.19]
[{"$f":"Гонки!$C$11","v":"\"Налибоки 2018\""},{"$f":"Гонки!$D$11","v":"Трейл 21"},"\"Налибоки 2018\" Трейл 21",25.03,"Ж",{"$f":"IF(E540=\"Ж\",VLOOKUP(C540,Гонки!$E$2:$P$16,11,FALSE),VLOOKUP(C540,Гонки!$E$2:$P$16,12,FALSE))","v":40},"Полякова Анна",1987,"Polyakova Anna","Полякова Анна / Polyakova Anna / 1987","Ж",16,62.5,312.69]
[{"$f":"Гонки!$C$11","v":"\"Налибоки 2018\""},{"$f":"Гонки!$D$11","v":"Трейл 21"},"\"Налибоки 2018\" Трейл 21",25.03,"Ж",{"$f":"IF(E541=\"Ж\",VLOOKUP(C541,Гонки!$E$2:$P$16,11,FALSE),VLOOKUP(C541,Гонки!$E$2:$P$16,12,FALSE))","v":40},"Мурашкина Галина",1988,"Murashkina Galina","Мурашкина Галина / Murashkina Galina / 1988","Ж",17,60,300.18]
[{"$f":"Гонки!$C$11","v":"\"Налибоки 2018\""},{"$f":"Гонки!$D$11","v":"Трейл 21"},"\"Налибоки 2018\" Трейл 21",25.03,"Ж",{"$f":"IF(E542=\"Ж\",VLOOKUP(C542,Гонки!$E$2:$P$16,11,FALSE),VLOOKUP(C542,Гонки!$E$2:$P$16,12,FALSE))","v":40},"Широкова Анастасия",1988,"Shirokova Anastasiya","Широкова Анастасия / Shirokova Anastasiya / 1988","Ж",18,57.5,287.67]
[{"$f":"Гонки!$C$11","v":"\"Налибоки 2018\""},{"$f":"Гонки!$D$11","v":"Трейл 21"},"\"Налибоки 2018\" Трейл 21",25.03,"Ж",{"$f":"IF(E543=\"Ж\",VLOOKUP(C543,Гонки!$E$2:$P$16,11,FALSE),VLOOKUP(C543,Гонки!$E$2:$P$16,12,FALSE))","v":40},"Бондарь Юлия",1993,"Bondar Yuliya","Бондарь Юлия / Bondar Yuliya / 1993","Ж",19,55,275.16000000000003]
[{"$f":"Гонки!$C$11","v":"\"Налибоки 2018\""},{"$f":"Гонки!$D$11","v":"Трейл 21"},"\"Налибоки 2018\" Трейл 21",25.03,"Ж",{"$f":"IF(E544=\"Ж\",VLOOKUP(C544,Гонки!$E$2:$P$16,11,FALSE),VLOOKUP(C544,Гонки!$E$2:$P$16,12,FALSE))","v":40},"Кузеева Марина",1986,"Kuzeeva Marina","Кузеева Марина / Kuzeeva Marina / 1986","Ж",20,52.5,262.66000000000003]
[{"$f":"Гонки!$C$11","v":"\"Налибоки 2018\""},{"$f":"Гонки!$D$11","v":"Трейл 21"},"\"Налибоки 2018\" Трейл 21",25.03,"Ж",{"$f":"IF(E545=\"Ж\",VLOOKUP(C545,Гонки!$E$2:$P$16,11,FALSE),VLOOKUP(C545,Гонки!$E$2:$P$16,12,FALSE))","v":40},"Марченко Людмила",1972,"Marchenko Lyudmila","Марченко Людмила / Marchenko Lyudmila / 1972","Ж",21,50,250.15]
[{"$f":"Гонки!$C$11","v":"\"Налибоки 2018\""},{"$f":"Гонки!$D$11","v":"Трейл 21"},"\"Налибоки 2018\" Трейл 21",25.03,"Ж",{"$f":"IF(E546=\"Ж\",VLOOKUP(C546,Гонки!$E$2:$P$16,11,FALSE),VLOOKUP(C546,Гонки!$E$2:$P$16,12,FALSE))","v":40},"Нефедова Оксана",1979,"Nefedova Oksana","Нефедова Оксана / Nefedova Oksana / 1979","Ж",22,47.5,237.64]
[{"$f":"Гонки!$C$11","v":"\"Налибоки 2018\""},{"$f":"Гонки!$D$11","v":"Трейл 21"},"\"Налибоки 2018\" Трейл 21",25.03,"Ж",{"$f":"IF(E547=\"Ж\",VLOOKUP(C547,Гонки!$E$2:$P$16,11,FALSE),VLOOKUP(C547,Гонки!$E$2:$P$16,12,FALSE))","v":40},"Харик Анна",1986,"Harik Anna","Харик Анна / Harik Anna / 1986","Ж",23,44.999999999999993,225.13]
[{"$f":"Гонки!$C$11","v":"\"Налибоки 2018\""},{"$f":"Гонки!$D$11","v":"Трейл 21"},"\"Налибоки 2018\" Трейл 21",25.03,"Ж",{"$f":"IF(E548=\"Ж\",VLOOKUP(C548,Гонки!$E$2:$P$16,11,FALSE),VLOOKUP(C548,Гонки!$E$2:$P$16,12,FALSE))","v":40},"Корожан Наталья",1974,"Korozhan Natalya","Корожан Наталья / Korozhan Natalya / 1974","Ж",24,42.500000000000007,212.63]
[{"$f":"Гонки!$C$11","v":"\"Налибоки 2018\""},{"$f":"Гонки!$D$11","v":"Трейл 21"},"\"Налибоки 2018\" Трейл 21",25.03,"Ж",{"$f":"IF(E549=\"Ж\",VLOOKUP(C549,Гонки!$E$2:$P$16,11,FALSE),VLOOKUP(C549,Гонки!$E$2:$P$16,12,FALSE))","v":40},"Красовская Инна",1975,"Krasovskaya Inna","Красовская Инна / Krasovskaya Inna / 1975","Ж",25,40,200.12]
[{"$f":"Гонки!$C$11","v":"\"Налибоки 2018\""},{"$f":"Гонки!$D$11","v":"Трейл 21"},"\"Налибоки 2018\" Трейл 21",25.03,"Ж",{"$f":"IF(E550=\"Ж\",VLOOKUP(C550,Гонки!$E$2:$P$16,11,FALSE),VLOOKUP(C550,Гонки!$E$2:$P$16,12,FALSE))","v":40},"Островцова Марина",1987,"Ostrovtsova Marina","Островцова Марина / Ostrovtsova Marina / 1987","Ж",26,37.5,187.61]
[{"$f":"Гонки!$C$11","v":"\"Налибоки 2018\""},{"$f":"Гонки!$D$11","v":"Трейл 21"},"\"Налибоки 2018\" Трейл 21",25.03,"Ж",{"$f":"IF(E551=\"Ж\",VLOOKUP(C551,Гонки!$E$2:$P$16,11,FALSE),VLOOKUP(C551,Гонки!$E$2:$P$16,12,FALSE))","v":40},"Куликовских Иванна",1974,"Kulikovskih Ivanna","Куликовских Иванна / Kulikovskih Ivanna / 1974","Ж",27,35,175.1]
[{"$f":"Гонки!$C$11","v":"\"Налибоки 2018\""},{"$f":"Гонки!$D$11","v":"Трейл 21"},"\"Налибоки 2018\" Трейл 21",25.03,"Ж",{"$f":"IF(E552=\"Ж\",VLOOKUP(C552,Гонки!$E$2:$P$16,11,FALSE),VLOOKUP(C552,Гонки!$E$2:$P$16,12,FALSE))","v":40},"Кузнецова Наталья",1984,"Kuznetsova Natalya","Кузнецова Наталья / Kuznetsova Natalya / 1984","Ж",28,32.5,162.6]
[{"$f":"Гонки!$C$11","v":"\"Налибоки 2018\""},{"$f":"Гонки!$D$11","v":"Трейл 21"},"\"Налибоки 2018\" Трейл 21",25.03,"Ж",{"$f":"IF(E553=\"Ж\",VLOOKUP(C553,Гонки!$E$2:$P$16,11,FALSE),VLOOKUP(C553,Гонки!$E$2:$P$16,12,FALSE))","v":40},"Хинец Анна",1986,"Hinets Anna","Хинец Анна / Hinets Anna / 1986","Ж",29,30,150.09]
[{"$f":"Гонки!$C$11","v":"\"Налибоки 2018\""},{"$f":"Гонки!$D$11","v":"Трейл 21"},"\"Налибоки 2018\" Трейл 21",25.03,"Ж",{"$f":"IF(E554=\"Ж\",VLOOKUP(C554,Гонки!$E$2:$P$16,11,FALSE),VLOOKUP(C554,Гонки!$E$2:$P$16,12,FALSE))","v":40},"Борисевич Анастасия",1985,"Borisevich Anastasiya","Борисевич Анастасия / Borisevich Anastasiya / 1985","Ж",30,27.5,137.58000000000001]
[{"$f":"Гонки!$C$11","v":"\"Налибоки 2018\""},{"$f":"Гонки!$D$11","v":"Трейл 21"},"\"Налибоки 2018\" Трейл 21",25.03,"Ж",{"$f":"IF(E555=\"Ж\",VLOOKUP(C555,Гонки!$E$2:$P$16,11,FALSE),VLOOKUP(C555,Гонки!$E$2:$P$16,12,FALSE))","v":40},"Морозова Екатерина",1978,"Morozova Ekaterina","Морозова Екатерина / Morozova Ekaterina / 1978","Ж",31,25,125.07]
[{"$f":"Гонки!$C$11","v":"\"Налибоки 2018\""},{"$f":"Гонки!$D$11","v":"Трейл 21"},"\"Налибоки 2018\" Трейл 21",25.03,"Ж",{"$f":"IF(E556=\"Ж\",VLOOKUP(C556,Гонки!$E$2:$P$16,11,FALSE),VLOOKUP(C556,Гонки!$E$2:$P$16,12,FALSE))","v":40},"Фам Вероника",1982,"Fam Veronika","Фам Вероника / Fam Veronika / 1982","Ж",32,22.5,112.57]
[{"$f":"Гонки!$C$11","v":"\"Налибоки 2018\""},{"$f":"Гонки!$D$11","v":"Трейл 21"},"\"Налибоки 2018\" Трейл 21",25.03,"Ж",{"$f":"IF(E557=\"Ж\",VLOOKUP(C557,Гонки!$E$2:$P$16,11,FALSE),VLOOKUP(C557,Гонки!$E$2:$P$16,12,FALSE))","v":40},"Тимкина Наталья",1982,"Timkina Natalya","Тимкина Наталья / Timkina Natalya / 1982","Ж",33,20,100.06]
[{"$f":"Гонки!$C$11","v":"\"Налибоки 2018\""},{"$f":"Гонки!$D$11","v":"Трейл 21"},"\"Налибоки 2018\" Трейл 21",25.03,"Ж",{"$f":"IF(E558=\"Ж\",VLOOKUP(C558,Гонки!$E$2:$P$16,11,FALSE),VLOOKUP(C558,Гонки!$E$2:$P$16,12,FALSE))","v":40},"Забелова Юлия",1978,"Zabelova Yuliya","Забелова Юлия / Zabelova Yuliya / 1978","Ж",34,17.5,87.55]
[{"$f":"Гонки!$C$11","v":"\"Налибоки 2018\""},{"$f":"Гонки!$D$11","v":"Трейл 21"},"\"Налибоки 2018\" Трейл 21",25.03,"Ж",{"$f":"IF(E559=\"Ж\",VLOOKUP(C559,Гонки!$E$2:$P$16,11,FALSE),VLOOKUP(C559,Гонки!$E$2:$P$16,12,FALSE))","v":40},"Жук Лия",1980,"Zhuk Liya","Жук Лия / Zhuk Liya / 1980","Ж",35,15,75.040000000000006]
[{"$f":"Гонки!$C$11","v":"\"Налибоки 2018\""},{"$f":"Гонки!$D$11","v":"Трейл 21"},"\"Налибоки 2018\" Трейл 21",25.03,"Ж",{"$f":"IF(E560=\"Ж\",VLOOKUP(C560,Гонки!$E$2:$P$16,11,FALSE),VLOOKUP(C560,Гонки!$E$2:$P$16,12,FALSE))","v":40},"Иванова Екатерина",1989,"Ivanova Ekaterina","Иванова Екатерина / Ivanova Ekaterina / 1989","Ж",36,12.5,62.54]
[{"$f":"Гонки!$C$11","v":"\"Налибоки 2018\""},{"$f":"Гонки!$D$11","v":"Трейл 21"},"\"Налибоки 2018\" Трейл 21",25.03,"Ж",{"$f":"IF(E561=\"Ж\",VLOOKUP(C561,Гонки!$E$2:$P$16,11,FALSE),VLOOKUP(C561,Гонки!$E$2:$P$16,12,FALSE))","v":40},"Прокопенко Анна",1980,"Prokopenko Anna","Прокопенко Анна / Prokopenko Anna / 1980","Ж",37,10,50.03]
[{"$f":"Гонки!$C$11","v":"\"Налибоки 2018\""},{"$f":"Гонки!$D$11","v":"Трейл 21"},"\"Налибоки 2018\" Трейл 21",25.03,"Ж",{"$f":"IF(E562=\"Ж\",VLOOKUP(C562,Гонки!$E$2:$P$16,11,FALSE),VLOOKUP(C562,Гонки!$E$2:$P$16,12,FALSE))","v":40},"Будыхина Татьяна",1985,"Budyhina Tatyana","Будыхина Татьяна / Budyhina Tatyana / 1985","Ж",38,7.5,37.520000000000003]
[{"$f":"Гонки!$C$11","v":"\"Налибоки 2018\""},{"$f":"Гонки!$D$11","v":"Трейл 21"},"\"Налибоки 2018\" Трейл 21",25.03,"Ж",{"$f":"IF(E563=\"Ж\",VLOOKUP(C563,Гонки!$E$2:$P$16,11,FALSE),VLOOKUP(C563,Гонки!$E$2:$P$16,12,FALSE))","v":40},"Поволоцкая Кристина",1990,"Povolotskaya Kristina","Поволоцкая Кристина / Povolotskaya Kristina / 1990","Ж",39,5,25.01]
[{"$f":"Гонки!$C$11","v":"\"Налибоки 2018\""},{"$f":"Гонки!$D$11","v":"Трейл 21"},"\"Налибоки 2018\" Трейл 21",25.03,"Ж",{"$f":"IF(E564=\"Ж\",VLOOKUP(C564,Гонки!$E$2:$P$16,11,FALSE),VLOOKUP(C564,Гонки!$E$2:$P$16,12,FALSE))","v":40},"Дурейко Анна",1987,"Durejko Anna","Дурейко Анна / Durejko Anna / 1987","Ж",40,2.5,12.51]
[{"$f":"Гонки!$C$11","v":"\"Налибоки 2018\""},{"$f":"Гонки!$D$11","v":"Трейл 21"},"\"Налибоки 2018\" Трейл 21",25.03,"М",{"$f":"IF(E565=\"Ж\",VLOOKUP(C565,Гонки!$E$2:$P$16,11,FALSE),VLOOKUP(C565,Гонки!$E$2:$P$16,12,FALSE))","v":55},"Толкачев Дмитрий",1971,"Tolkachev Dmitrij","Толкачев Дмитрий / Tolkachev Dmitrij / 1971","М",1,100,500.3]
[{"$f":"Гонки!$C$11","v":"\"Налибоки 2018\""},{"$f":"Гонки!$D$11","v":"Трейл 21"},"\"Налибоки 2018\" Трейл 21",25.03,"М",{"$f":"IF(E566=\"Ж\",VLOOKUP(C566,Гонки!$E$2:$P$16,11,FALSE),VLOOKUP(C566,Гонки!$E$2:$P$16,12,FALSE))","v":55},"Плодунов Захар",1993,"Plodunov Zahar","Плодунов Захар / Plodunov Zahar / 1993","М",2,98.181818181818187,491.2]
[{"$f":"Гонки!$C$11","v":"\"Налибоки 2018\""},{"$f":"Гонки!$D$11","v":"Трейл 21"},"\"Налибоки 2018\" Трейл 21",25.03,"М",{"$f":"IF(E567=\"Ж\",VLOOKUP(C567,Гонки!$E$2:$P$16,11,FALSE),VLOOKUP(C567,Гонки!$E$2:$P$16,12,FALSE))","v":55},"Хорошавин Вячеслав",1985,"Horoshavin Vyacheslav","Хорошавин Вячеслав / Horoshavin Vyacheslav / 1985","М",3,96.36363636363636,482.11]
[{"$f":"Гонки!$C$11","v":"\"Налибоки 2018\""},{"$f":"Гонки!$D$11","v":"Трейл 21"},"\"Налибоки 2018\" Трейл 21",25.03,"М",{"$f":"IF(E568=\"Ж\",VLOOKUP(C568,Гонки!$E$2:$P$16,11,FALSE),VLOOKUP(C568,Гонки!$E$2:$P$16,12,FALSE))","v":55},"Мосийчук Максим",1984,"Mosijchuk Maksim","Мосийчук Максим / Mosijchuk Maksim / 1984","М",4,94.545454545454547,473.01]
[{"$f":"Гонки!$C$11","v":"\"Налибоки 2018\""},{"$f":"Гонки!$D$11","v":"Трейл 21"},"\"Налибоки 2018\" Трейл 21",25.03,"М",{"$f":"IF(E569=\"Ж\",VLOOKUP(C569,Гонки!$E$2:$P$16,11,FALSE),VLOOKUP(C569,Гонки!$E$2:$P$16,12,FALSE))","v":55},"Лойко Сергей",1985,"Lojko Sergej","Лойко Сергей / Lojko Sergej / 1985","М",5,92.727272727272734,463.91]
[{"$f":"Гонки!$C$11","v":"\"Налибоки 2018\""},{"$f":"Гонки!$D$11","v":"Трейл 21"},"\"Налибоки 2018\" Трейл 21",25.03,"М",{"$f":"IF(E570=\"Ж\",VLOOKUP(C570,Гонки!$E$2:$P$16,11,FALSE),VLOOKUP(C570,Гонки!$E$2:$P$16,12,FALSE))","v":55},"Мальков Валентин",1988,"Malkov Valentin","Мальков Валентин / Malkov Valentin / 1988","М",6,90.909090909090907,454.82]
[{"$f":"Гонки!$C$11","v":"\"Налибоки 2018\""},{"$f":"Гонки!$D$11","v":"Трейл 21"},"\"Налибоки 2018\" Трейл 21",25.03,"М",{"$f":"IF(E571=\"Ж\",VLOOKUP(C571,Гонки!$E$2:$P$16,11,FALSE),VLOOKUP(C571,Гонки!$E$2:$P$16,12,FALSE))","v":55},"Лукьяненко Александр",1984,"Lukyanenko Aleksandr","Лукьяненко Александр / Lukyanenko Aleksandr / 1984","М",7,89.090909090909093,445.72]
[{"$f":"Гонки!$C$11","v":"\"Налибоки 2018\""},{"$f":"Гонки!$D$11","v":"Трейл 21"},"\"Налибоки 2018\" Трейл 21",25.03,"М",{"$f":"IF(E572=\"Ж\",VLOOKUP(C572,Гонки!$E$2:$P$16,11,FALSE),VLOOKUP(C572,Гонки!$E$2:$P$16,12,FALSE))","v":55},"Куратник Юрий",1987,"Kuratnik Yurij","Куратник Юрий / Kuratnik Yurij / 1987","М",8,87.27272727272728,436.63]
[{"$f":"Гонки!$C$11","v":"\"Налибоки 2018\""},{"$f":"Гонки!$D$11","v":"Трейл 21"},"\"Налибоки 2018\" Трейл 21",25.03,"М",{"$f":"IF(E573=\"Ж\",VLOOKUP(C573,Гонки!$E$2:$P$16,11,FALSE),VLOOKUP(C573,Гонки!$E$2:$P$16,12,FALSE))","v":55},"Леденёв Андрей",1971,"Ledenjov Andrej","Леденёв Андрей / Ledenjov Andrej / 1971","М",9,85.454545454545453,427.53]
[{"$f":"Гонки!$C$11","v":"\"Налибоки 2018\""},{"$f":"Гонки!$D$11","v":"Трейл 21"},"\"Налибоки 2018\" Трейл 21",25.03,"М",{"$f":"IF(E574=\"Ж\",VLOOKUP(C574,Гонки!$E$2:$P$16,11,FALSE),VLOOKUP(C574,Гонки!$E$2:$P$16,12,FALSE))","v":55},"Молчан Александр",1988,"Molchan Aleksandr","Молчан Александр / Molchan Aleksandr / 1988","М",10,83.63636363636364,418.43]
[{"$f":"Гонки!$C$11","v":"\"Налибоки 2018\""},{"$f":"Гонки!$D$11","v":"Трейл 21"},"\"Налибоки 2018\" Трейл 21",25.03,"М",{"$f":"IF(E575=\"Ж\",VLOOKUP(C575,Гонки!$E$2:$P$16,11,FALSE),VLOOKUP(C575,Гонки!$E$2:$P$16,12,FALSE))","v":55},"Балашов Никита",1983,"Balashov Nikita","Балашов Никита / Balashov Nikita / 1983","М",11,81.818181818181813,409.34]
[{"$f":"Гонки!$C$11","v":"\"Налибоки 2018\""},{"$f":"Гонки!$D$11","v":"Трейл 21"},"\"Налибоки 2018\" Трейл 21",25.03,"М",{"$f":"IF(E576=\"Ж\",VLOOKUP(C576,Гонки!$E$2:$P$16,11,FALSE),VLOOKUP(C576,Гонки!$E$2:$P$16,12,FALSE))","v":55},"Кирcанов Алексей",1981,"Kircanov Aleksej","Кирcанов Алексей / Kircanov Aleksej / 1981","М",12,80,400.24]
[{"$f":"Гонки!$C$11","v":"\"Налибоки 2018\""},{"$f":"Гонки!$D$11","v":"Трейл 21"},"\"Налибоки 2018\" Трейл 21",25.03,"М",{"$f":"IF(E577=\"Ж\",VLOOKUP(C577,Гонки!$E$2:$P$16,11,FALSE),VLOOKUP(C577,Гонки!$E$2:$P$16,12,FALSE))","v":55},"Маркевич Денис",1981,"Markevich Denis","Маркевич Денис / Markevich Denis / 1981","М",13,78.181818181818187,391.14]
[{"$f":"Гонки!$C$11","v":"\"Налибоки 2018\""},{"$f":"Гонки!$D$11","v":"Трейл 21"},"\"Налибоки 2018\" Трейл 21",{"$f":"VLOOKUP(C578,Список_гонок,10,FALSE)","v":25.03},"М",{"$f":"IF(E578=\"Ж\",VLOOKUP(C578,Гонки!$E$2:$P$16,11,FALSE),VLOOKUP(C578,Гонки!$E$2:$P$16,12,FALSE))","v":55},"Яцкевич Кирилл",2001,"Yatskevich Kirill","Яцкевич Кирилл / Yatskevich Kirill / 2001","М",14,76.36363636363636,382.05]
[{"$f":"Гонки!$C$11","v":"\"Налибоки 2018\""},{"$f":"Гонки!$D$11","v":"Трейл 21"},{"$f":"CONCATENATE(A579,\" \",B579)","v":"\"Налибоки 2018\" Трейл 21"},25.03,"М",{"$f":"IF(E579=\"Ж\",VLOOKUP(C579,Гонки!$E$2:$P$16,11,FALSE),VLOOKUP(C579,Гонки!$E$2:$P$16,12,FALSE))","v":55},"Кошур Александр",1988,{"$f":"Translit(G579)","v":"Koshur Aleksandr"},{"$f":"CONCATENATE(G579,\" / \",I579,\" / \",H579)","v":"Кошур Александр / Koshur Aleksandr / 1988"},{"$f":"E579","v":"М"},15,{"$f":"100-((L579-1)/F579)*100","v":74.545454545454547},{"$f":"ROUND(SQRT(D579)*M579,2)","v":372.95}]
[{"$f":"Гонки!$C$11","v":"\"Налибоки 2018\""},{"$f":"Гонки!$D$11","v":"Трейл 21"},"\"Налибоки 2018\" Трейл 21",25.03,"М",{"$f":"IF(E580=\"Ж\",VLOOKUP(C580,Гонки!$E$2:$P$16,11,FALSE),VLOOKUP(C580,Гонки!$E$2:$P$16,12,FALSE))","v":55},"Палий Андрей",1984,"Palij Andrej","Палий Андрей / Palij Andrej / 1984","М",16,72.727272727272734,363.85]
[{"$f":"Гонки!$C$11","v":"\"Налибоки 2018\""},{"$f":"Гонки!$D$11","v":"Трейл 21"},"\"Налибоки 2018\" Трейл 21",25.03,"М",{"$f":"IF(E581=\"Ж\",VLOOKUP(C581,Гонки!$E$2:$P$16,11,FALSE),VLOOKUP(C581,Гонки!$E$2:$P$16,12,FALSE))","v":55},"Гладковский Владислав",1990,"Gladkovskij Vladislav","Гладковский Владислав / Gladkovskij Vladislav / 1990","М",17,70.909090909090907,354.76]
[{"$f":"Гонки!$C$11","v":"\"Налибоки 2018\""},{"$f":"Гонки!$D$11","v":"Трейл 21"},"\"Налибоки 2018\" Трейл 21",25.03,"М",{"$f":"IF(E582=\"Ж\",VLOOKUP(C582,Гонки!$E$2:$P$16,11,FALSE),VLOOKUP(C582,Гонки!$E$2:$P$16,12,FALSE))","v":55},"Бабич Виталий",1981,"Babich Vitalij","Бабич Виталий / Babich Vitalij / 1981","М",18,69.090909090909093,345.66]
[{"$f":"Гонки!$C$11","v":"\"Налибоки 2018\""},{"$f":"Гонки!$D$11","v":"Трейл 21"},"\"Налибоки 2018\" Трейл 21",25.03,"М",{"$f":"IF(E583=\"Ж\",VLOOKUP(C583,Гонки!$E$2:$P$16,11,FALSE),VLOOKUP(C583,Гонки!$E$2:$P$16,12,FALSE))","v":55},"Корожан Александр",1971,"Korozhan Aleksandr","Корожан Александр / Korozhan Aleksandr / 1971","М",19,67.27272727272728,336.57]
[{"$f":"Гонки!$C$11","v":"\"Налибоки 2018\""},{"$f":"Гонки!$D$11","v":"Трейл 21"},"\"Налибоки 2018\" Трейл 21",25.03,"М",{"$f":"IF(E584=\"Ж\",VLOOKUP(C584,Гонки!$E$2:$P$16,11,FALSE),VLOOKUP(C584,Гонки!$E$2:$P$16,12,FALSE))","v":55},"Коледа Константин",1976,"Koleda Konstantin","Коледа Константин / Koleda Konstantin / 1976","М",20,65.454545454545453,327.47000000000003]
[{"$f":"Гонки!$C$11","v":"\"Налибоки 2018\""},{"$f":"Гонки!$D$11","v":"Трейл 21"},"\"Налибоки 2018\" Трейл 21",25.03,"М",{"$f":"IF(E585=\"Ж\",VLOOKUP(C585,Гонки!$E$2:$P$16,11,FALSE),VLOOKUP(C585,Гонки!$E$2:$P$16,12,FALSE))","v":55},"Шепетько Сергей",1987,"Shepetko Sergej","Шепетько Сергей / Shepetko Sergej / 1987","М",21,63.636363636363633,318.37]
[{"$f":"Гонки!$C$11","v":"\"Налибоки 2018\""},{"$f":"Гонки!$D$11","v":"Трейл 21"},"\"Налибоки 2018\" Трейл 21",25.03,"М",{"$f":"IF(E586=\"Ж\",VLOOKUP(C586,Гонки!$E$2:$P$16,11,FALSE),VLOOKUP(C586,Гонки!$E$2:$P$16,12,FALSE))","v":55},"Герасимук Юрий",1992,"Gerasimuk Yurij","Герасимук Юрий / Gerasimuk Yurij / 1992","М",22,61.818181818181813,309.27999999999997]
[{"$f":"Гонки!$C$11","v":"\"Налибоки 2018\""},{"$f":"Гонки!$D$11","v":"Трейл 21"},"\"Налибоки 2018\" Трейл 21",25.03,"М",{"$f":"IF(E587=\"Ж\",VLOOKUP(C587,Гонки!$E$2:$P$16,11,FALSE),VLOOKUP(C587,Гонки!$E$2:$P$16,12,FALSE))","v":55},"Буховецкий Андрей",1987,"Buhovetskij Andrej","Буховецкий Андрей / Buhovetskij Andrej / 1987","М",23,60,300.18]
[{"$f":"Гонки!$C$11","v":"\"Налибоки 2018\""},{"$f":"Гонки!$D$11","v":"Трейл 21"},"\"Налибоки 2018\" Трейл 21",25.03,"М",{"$f":"IF(E588=\"Ж\",VLOOKUP(C588,Гонки!$E$2:$P$16,11,FALSE),VLOOKUP(C588,Гонки!$E$2:$P$16,12,FALSE))","v":55},"Чудаков Владислав",1977,"Chudakov Vladislav","Чудаков Владислав / Chudakov Vladislav / 1977","М",24,58.181818181818187,291.08]
[{"$f":"Гонки!$C$11","v":"\"Налибоки 2018\""},{"$f":"Гонки!$D$11","v":"Трейл 21"},"\"Налибоки 2018\" Трейл 21",25.03,"М",{"$f":"IF(E589=\"Ж\",VLOOKUP(C589,Гонки!$E$2:$P$16,11,FALSE),VLOOKUP(C589,Гонки!$E$2:$P$16,12,FALSE))","v":55},"Галка Дмитрий",1988,"Galka Dmitrij","Галка Дмитрий / Galka Dmitrij / 1988","М",25,56.363636363636367,281.99]
[{"$f":"Гонки!$C$11","v":"\"Налибоки 2018\""},{"$f":"Гонки!$D$11","v":"Трейл 21"},"\"Налибоки 2018\" Трейл 21",25.03,"М",{"$f":"IF(E590=\"Ж\",VLOOKUP(C590,Гонки!$E$2:$P$16,11,FALSE),VLOOKUP(C590,Гонки!$E$2:$P$16,12,FALSE))","v":55},"Костян Денис",1977,"Kostyan Denis","Костян Денис / Kostyan Denis / 1977","М",26,54.545454545454547,272.89]
[{"$f":"Гонки!$C$11","v":"\"Налибоки 2018\""},{"$f":"Гонки!$D$11","v":"Трейл 21"},"\"Налибоки 2018\" Трейл 21",25.03,"М",{"$f":"IF(E591=\"Ж\",VLOOKUP(C591,Гонки!$E$2:$P$16,11,FALSE),VLOOKUP(C591,Гонки!$E$2:$P$16,12,FALSE))","v":55},"Аржаников Евгений",1976,"Arzhanikov Evgenij","Аржаников Евгений / Arzhanikov Evgenij / 1976","М",27,52.727272727272727,263.79000000000002]
[{"$f":"Гонки!$C$11","v":"\"Налибоки 2018\""},{"$f":"Гонки!$D$11","v":"Трейл 21"},"\"Налибоки 2018\" Трейл 21",25.03,"М",{"$f":"IF(E592=\"Ж\",VLOOKUP(C592,Гонки!$E$2:$P$16,11,FALSE),VLOOKUP(C592,Гонки!$E$2:$P$16,12,FALSE))","v":55},"Шабанов Олег",1971,"Shabanov Oleg","Шабанов Олег / Shabanov Oleg / 1971","М",28,50.909090909090907,254.7]
[{"$f":"Гонки!$C$11","v":"\"Налибоки 2018\""},{"$f":"Гонки!$D$11","v":"Трейл 21"},"\"Налибоки 2018\" Трейл 21",25.03,"М",{"$f":"IF(E593=\"Ж\",VLOOKUP(C593,Гонки!$E$2:$P$16,11,FALSE),VLOOKUP(C593,Гонки!$E$2:$P$16,12,FALSE))","v":55},"Князев Родион",1995,"Knyazev Rodion","Князев Родион / Knyazev Rodion / 1995","М",29,49.090909090909093,245.6]
[{"$f":"Гонки!$C$11","v":"\"Налибоки 2018\""},{"$f":"Гонки!$D$11","v":"Трейл 21"},"\"Налибоки 2018\" Трейл 21",25.03,"М",{"$f":"IF(E594=\"Ж\",VLOOKUP(C594,Гонки!$E$2:$P$16,11,FALSE),VLOOKUP(C594,Гонки!$E$2:$P$16,12,FALSE))","v":55},"Винтергрин Андрей",1981,"Vintergrin Andrej","Винтергрин Андрей / Vintergrin Andrej / 1981","М",30,47.27272727272728,236.51]
[{"$f":"Гонки!$C$11","v":"\"Налибоки 2018\""},{"$f":"Гонки!$D$11","v":"Трейл 21"},"\"Налибоки 2018\" Трейл 21",25.03,"М",{"$f":"IF(E595=\"Ж\",VLOOKUP(C595,Гонки!$E$2:$P$16,11,FALSE),VLOOKUP(C595,Гонки!$E$2:$P$16,12,FALSE))","v":55},"Казарин Дмитрий",1994,"Kazarin Dmitrij","Казарин Дмитрий / Kazarin Dmitrij / 1994","М",31,45.45454545454546,227.41]
[{"$f":"Гонки!$C$11","v":"\"Налибоки 2018\""},{"$f":"Гонки!$D$11","v":"Трейл 21"},"\"Налибоки 2018\" Трейл 21",25.03,"М",{"$f":"IF(E596=\"Ж\",VLOOKUP(C596,Гонки!$E$2:$P$16,11,FALSE),VLOOKUP(C596,Гонки!$E$2:$P$16,12,FALSE))","v":55},"Борисевич Александр",1989,"Borisevich Aleksandr","Борисевич Александр / Borisevich Aleksandr / 1989","М",32,43.63636363636364,218.31]
[{"$f":"Гонки!$C$11","v":"\"Налибоки 2018\""},{"$f":"Гонки!$D$11","v":"Трейл 21"},"\"Налибоки 2018\" Трейл 21",25.03,"М",{"$f":"IF(E597=\"Ж\",VLOOKUP(C597,Гонки!$E$2:$P$16,11,FALSE),VLOOKUP(C597,Гонки!$E$2:$P$16,12,FALSE))","v":55},"Шестеров Андрей",1986,"Shesterov Andrej","Шестеров Андрей / Shesterov Andrej / 1986","М",33,41.81818181818182,209.22]
[{"$f":"Гонки!$C$11","v":"\"Налибоки 2018\""},{"$f":"Гонки!$D$11","v":"Трейл 21"},"\"Налибоки 2018\" Трейл 21",25.03,"М",{"$f":"IF(E598=\"Ж\",VLOOKUP(C598,Гонки!$E$2:$P$16,11,FALSE),VLOOKUP(C598,Гонки!$E$2:$P$16,12,FALSE))","v":55},"Заречанский Юрий",1980,"Zarechanskij Yurij","Заречанский Юрий / Zarechanskij Yurij / 1980","М",34,40,200.12]
[{"$f":"Гонки!$C$11","v":"\"Налибоки 2018\""},{"$f":"Гонки!$D$11","v":"Трейл 21"},"\"Налибоки 2018\" Трейл 21",25.03,"М",{"$f":"IF(E599=\"Ж\",VLOOKUP(C599,Гонки!$E$2:$P$16,11,FALSE),VLOOKUP(C599,Гонки!$E$2:$P$16,12,FALSE))","v":55},"Кулак Александр",1989,"Kulak Aleksandr","Кулак Александр / Kulak Aleksandr / 1989","М",35,38.181818181818187,191.02]
[{"$f":"Гонки!$C$11","v":"\"Налибоки 2018\""},{"$f":"Гонки!$D$11","v":"Трейл 21"},"\"Налибоки 2018\" Трейл 21",25.03,"М",{"$f":"IF(E600=\"Ж\",VLOOKUP(C600,Гонки!$E$2:$P$16,11,FALSE),VLOOKUP(C600,Гонки!$E$2:$P$16,12,FALSE))","v":55},"Чернявский Артем",1987,"Chernyavskij Artem","Чернявский Артем / Chernyavskij Artem / 1987","М",36,36.363636363636367,181.93]
[{"$f":"Гонки!$C$11","v":"\"Налибоки 2018\""},{"$f":"Гонки!$D$11","v":"Трейл 21"},"\"Налибоки 2018\" Трейл 21",25.03,"М",{"$f":"IF(E601=\"Ж\",VLOOKUP(C601,Гонки!$E$2:$P$16,11,FALSE),VLOOKUP(C601,Гонки!$E$2:$P$16,12,FALSE))","v":55},"Будник Владимир",1987,"Budnik Vladimir","Будник Владимир / Budnik Vladimir / 1987","М",37,34.545454545454547,172.83]
[{"$f":"Гонки!$C$11","v":"\"Налибоки 2018\""},{"$f":"Гонки!$D$11","v":"Трейл 21"},"\"Налибоки 2018\" Трейл 21",25.03,"М",{"$f":"IF(E602=\"Ж\",VLOOKUP(C602,Гонки!$E$2:$P$16,11,FALSE),VLOOKUP(C602,Гонки!$E$2:$P$16,12,FALSE))","v":55},"Кузьменок Денис",1979,"Kuzmenok Denis","Кузьменок Денис / Kuzmenok Denis / 1979","М",38,32.727272727272734,163.72999999999999]
[{"$f":"Гонки!$C$11","v":"\"Налибоки 2018\""},{"$f":"Гонки!$D$11","v":"Трейл 21"},"\"Налибоки 2018\" Трейл 21",25.03,"М",{"$f":"IF(E603=\"Ж\",VLOOKUP(C603,Гонки!$E$2:$P$16,11,FALSE),VLOOKUP(C603,Гонки!$E$2:$P$16,12,FALSE))","v":55},"Иванов Денис",1990,"Ivanov Denis","Иванов Денис / Ivanov Denis / 1990","М",39,30.909090909090907,154.63999999999999]
[{"$f":"Гонки!$C$11","v":"\"Налибоки 2018\""},{"$f":"Гонки!$D$11","v":"Трейл 21"},"\"Налибоки 2018\" Трейл 21",25.03,"М",{"$f":"IF(E604=\"Ж\",VLOOKUP(C604,Гонки!$E$2:$P$16,11,FALSE),VLOOKUP(C604,Гонки!$E$2:$P$16,12,FALSE))","v":55},"Кудрявец Валерий",1975,"Kudryavets Valerij","Кудрявец Валерий / Kudryavets Valerij / 1975","М",40,29.090909090909093,145.54]
[{"$f":"Гонки!$C$11","v":"\"Налибоки 2018\""},{"$f":"Гонки!$D$11","v":"Трейл 21"},"\"Налибоки 2018\" Трейл 21",25.03,"М",{"$f":"IF(E605=\"Ж\",VLOOKUP(C605,Гонки!$E$2:$P$16,11,FALSE),VLOOKUP(C605,Гонки!$E$2:$P$16,12,FALSE))","v":55},"Филипович Никита",1993,"Filipovich Nikita","Филипович Никита / Filipovich Nikita / 1993","М",41,27.272727272727266,136.44999999999999]
[{"$f":"Гонки!$C$11","v":"\"Налибоки 2018\""},{"$f":"Гонки!$D$11","v":"Трейл 21"},"\"Налибоки 2018\" Трейл 21",25.03,"М",{"$f":"IF(E606=\"Ж\",VLOOKUP(C606,Гонки!$E$2:$P$16,11,FALSE),VLOOKUP(C606,Гонки!$E$2:$P$16,12,FALSE))","v":55},"Шуленков Роман",1990,"Shulenkov Roman","Шуленков Роман / Shulenkov Roman / 1990","М",42,25.454545454545453,127.35]
[{"$f":"Гонки!$C$11","v":"\"Налибоки 2018\""},{"$f":"Гонки!$D$11","v":"Трейл 21"},"\"Налибоки 2018\" Трейл 21",25.03,"М",{"$f":"IF(E607=\"Ж\",VLOOKUP(C607,Гонки!$E$2:$P$16,11,FALSE),VLOOKUP(C607,Гонки!$E$2:$P$16,12,FALSE))","v":55},"Зуй Александр",1980,"Zuj Aleksandr","Зуй Александр / Zuj Aleksandr / 1980","М",43,23.636363636363626,118.25]
[{"$f":"Гонки!$C$11","v":"\"Налибоки 2018\""},{"$f":"Гонки!$D$11","v":"Трейл 21"},"\"Налибоки 2018\" Трейл 21",25.03,"М",{"$f":"IF(E608=\"Ж\",VLOOKUP(C608,Гонки!$E$2:$P$16,11,FALSE),VLOOKUP(C608,Гонки!$E$2:$P$16,12,FALSE))","v":55},"Лакустов Алексей",1986,"Lakustov Aleksej","Лакустов Алексей / Lakustov Aleksej / 1986","М",44,21.818181818181813,109.16]
[{"$f":"Гонки!$C$11","v":"\"Налибоки 2018\""},{"$f":"Гонки!$D$11","v":"Трейл 21"},"\"Налибоки 2018\" Трейл 21",25.03,"М",{"$f":"IF(E609=\"Ж\",VLOOKUP(C609,Гонки!$E$2:$P$16,11,FALSE),VLOOKUP(C609,Гонки!$E$2:$P$16,12,FALSE))","v":55},"Лунский Сергей",1995,"Lunskij Sergej","Лунский Сергей / Lunskij Sergej / 1995","М",45,20,100.06]
[{"$f":"Гонки!$C$11","v":"\"Налибоки 2018\""},{"$f":"Гонки!$D$11","v":"Трейл 21"},"\"Налибоки 2018\" Трейл 21",25.03,"М",{"$f":"IF(E610=\"Ж\",VLOOKUP(C610,Гонки!$E$2:$P$16,11,FALSE),VLOOKUP(C610,Гонки!$E$2:$P$16,12,FALSE))","v":55},"Белицкий Денис",1990,"Belitskij Denis","Белицкий Денис / Belitskij Denis / 1990","М",46,18.181818181818173,90.96]
[{"$f":"Гонки!$C$11","v":"\"Налибоки 2018\""},{"$f":"Гонки!$D$11","v":"Трейл 21"},"\"Налибоки 2018\" Трейл 21",25.03,"М",{"$f":"IF(E611=\"Ж\",VLOOKUP(C611,Гонки!$E$2:$P$16,11,FALSE),VLOOKUP(C611,Гонки!$E$2:$P$16,12,FALSE))","v":55},"Бычков Александр",1990,"Bychkov Aleksandr","Бычков Александр / Bychkov Aleksandr / 1990","М",47,16.363636363636374,81.87]
[{"$f":"Гонки!$C$11","v":"\"Налибоки 2018\""},{"$f":"Гонки!$D$11","v":"Трейл 21"},"\"Налибоки 2018\" Трейл 21",25.03,"М",{"$f":"IF(E612=\"Ж\",VLOOKUP(C612,Гонки!$E$2:$P$16,11,FALSE),VLOOKUP(C612,Гонки!$E$2:$P$16,12,FALSE))","v":55},"Городко Игорь",1970,"Gorodko Igor","Городко Игорь / Gorodko Igor / 1970","М",48,14.545454545454547,72.77]
[{"$f":"Гонки!$C$11","v":"\"Налибоки 2018\""},{"$f":"Гонки!$D$11","v":"Трейл 21"},"\"Налибоки 2018\" Трейл 21",25.03,"М",{"$f":"IF(E613=\"Ж\",VLOOKUP(C613,Гонки!$E$2:$P$16,11,FALSE),VLOOKUP(C613,Гонки!$E$2:$P$16,12,FALSE))","v":55},"Вирт Олег",1980,"Virt Oleg","Вирт Олег / Virt Oleg / 1980","М",49,12.727272727272734,63.67]
[{"$f":"Гонки!$C$11","v":"\"Налибоки 2018\""},{"$f":"Гонки!$D$11","v":"Трейл 21"},"\"Налибоки 2018\" Трейл 21",25.03,"М",{"$f":"IF(E614=\"Ж\",VLOOKUP(C614,Гонки!$E$2:$P$16,11,FALSE),VLOOKUP(C614,Гонки!$E$2:$P$16,12,FALSE))","v":55},"Новосяд Владимир",1968,"Novosyad Vladimir","Новосяд Владимир / Novosyad Vladimir / 1968","М",50,10.909090909090907,54.58]
[{"$f":"Гонки!$C$11","v":"\"Налибоки 2018\""},{"$f":"Гонки!$D$11","v":"Трейл 21"},"\"Налибоки 2018\" Трейл 21",25.03,"М",{"$f":"IF(E615=\"Ж\",VLOOKUP(C615,Гонки!$E$2:$P$16,11,FALSE),VLOOKUP(C615,Гонки!$E$2:$P$16,12,FALSE))","v":55},"Скребец Сергей",1963,"Skrebets Sergej","Скребец Сергей / Skrebets Sergej / 1963","М",51,9.0909090909090935,45.48]
[{"$f":"Гонки!$C$11","v":"\"Налибоки 2018\""},{"$f":"Гонки!$D$11","v":"Трейл 21"},"\"Налибоки 2018\" Трейл 21",25.03,"М",{"$f":"IF(E616=\"Ж\",VLOOKUP(C616,Гонки!$E$2:$P$16,11,FALSE),VLOOKUP(C616,Гонки!$E$2:$P$16,12,FALSE))","v":55},"Островцов Александр",1988,"Ostrovtsov Aleksandr","Островцов Александр / Ostrovtsov Aleksandr / 1988","М",52,7.2727272727272805,36.39]
[{"$f":"Гонки!$C$11","v":"\"Налибоки 2018\""},{"$f":"Гонки!$D$11","v":"Трейл 21"},"\"Налибоки 2018\" Трейл 21",25.03,"М",{"$f":"IF(E617=\"Ж\",VLOOKUP(C617,Гонки!$E$2:$P$16,11,FALSE),VLOOKUP(C617,Гонки!$E$2:$P$16,12,FALSE))","v":55},"Минчук Александр",1974,"Minchuk Aleksandr","Минчук Александр / Minchuk Aleksandr / 1974","М",53,5.4545454545454533,27.29]
[{"$f":"Гонки!$C$11","v":"\"Налибоки 2018\""},{"$f":"Гонки!$D$11","v":"Трейл 21"},"\"Налибоки 2018\" Трейл 21",25.03,"М",{"$f":"IF(E618=\"Ж\",VLOOKUP(C618,Гонки!$E$2:$P$16,11,FALSE),VLOOKUP(C618,Гонки!$E$2:$P$16,12,FALSE))","v":55},"Томашев Игорь",1965,"Tomashev Igor","Томашев Игорь / Tomashev Igor / 1965","М",54,3.6363636363636402,18.190000000000001]
[{"$f":"Гонки!$C$11","v":"\"Налибоки 2018\""},{"$f":"Гонки!$D$11","v":"Трейл 21"},"\"Налибоки 2018\" Трейл 21",25.03,"М",{"$f":"IF(E619=\"Ж\",VLOOKUP(C619,Гонки!$E$2:$P$16,11,FALSE),VLOOKUP(C619,Гонки!$E$2:$P$16,12,FALSE))","v":55},"Поволоцкий Даниил",1990,"Povolotskij Daniil","Поволоцкий Даниил / Povolotskij Daniil / 1990","М",55,1.818181818181813,9.1]
[{"$f":"Гонки!$C$14","v":"Жук-трейл #6 Купалье"},{"$f":"Гонки!$D$14","v":"Трейл 5"},"Жук-трейл #6 Купалье Трейл 5",5.6800000000000006,"Ж",{"$f":"IF(E620=\"Ж\",VLOOKUP(C620,Гонки!$E$2:$P$16,11,FALSE),VLOOKUP(C620,Гонки!$E$2:$P$16,12,FALSE))","v":27},"Скирук Юлия",1988,"Skiruk Yuliya","Скирук Юлия / Skiruk Yuliya / 1988","Ж",1,100,238.33]
[{"$f":"Гонки!$C$14","v":"Жук-трейл #6 Купалье"},{"$f":"Гонки!$D$14","v":"Трейл 5"},"Жук-трейл #6 Купалье Трейл 5",5.6800000000000006,"Ж",{"$f":"IF(E621=\"Ж\",VLOOKUP(C621,Гонки!$E$2:$P$16,11,FALSE),VLOOKUP(C621,Гонки!$E$2:$P$16,12,FALSE))","v":27},"Пиньковская Ирина",1986,"Pinkovskaya Irina","Пиньковская Ирина / Pinkovskaya Irina / 1986","Ж",2,96.296296296296291,229.5]
[{"$f":"Гонки!$C$14","v":"Жук-трейл #6 Купалье"},{"$f":"Гонки!$D$14","v":"Трейл 5"},"Жук-трейл #6 Купалье Трейл 5",5.6800000000000006,"Ж",{"$f":"IF(E622=\"Ж\",VLOOKUP(C622,Гонки!$E$2:$P$16,11,FALSE),VLOOKUP(C622,Гонки!$E$2:$P$16,12,FALSE))","v":27},"Зеленцова Галина",1988,"Zelentsova Galina","Зеленцова Галина / Zelentsova Galina / 1988","Ж",3,92.592592592592595,220.67]
[{"$f":"Гонки!$C$14","v":"Жук-трейл #6 Купалье"},{"$f":"Гонки!$D$14","v":"Трейл 5"},"Жук-трейл #6 Купалье Трейл 5",5.6800000000000006,"Ж",{"$f":"IF(E623=\"Ж\",VLOOKUP(C623,Гонки!$E$2:$P$16,11,FALSE),VLOOKUP(C623,Гонки!$E$2:$P$16,12,FALSE))","v":27},"Едомская Вольга",1987,"Edomskaya Volga","Едомская Вольга / Edomskaya Volga / 1987","Ж",4,88.888888888888886,211.85]
[{"$f":"Гонки!$C$14","v":"Жук-трейл #6 Купалье"},{"$f":"Гонки!$D$14","v":"Трейл 5"},"Жук-трейл #6 Купалье Трейл 5",5.6800000000000006,"Ж",{"$f":"IF(E624=\"Ж\",VLOOKUP(C624,Гонки!$E$2:$P$16,11,FALSE),VLOOKUP(C624,Гонки!$E$2:$P$16,12,FALSE))","v":27},"Молочко Анна",2006,"Molochko Anna","Молочко Анна / Molochko Anna / 2006","Ж",5,85.18518518518519,203.02]
[{"$f":"Гонки!$C$14","v":"Жук-трейл #6 Купалье"},{"$f":"Гонки!$D$14","v":"Трейл 5"},"Жук-трейл #6 Купалье Трейл 5",5.6800000000000006,"Ж",{"$f":"IF(E625=\"Ж\",VLOOKUP(C625,Гонки!$E$2:$P$16,11,FALSE),VLOOKUP(C625,Гонки!$E$2:$P$16,12,FALSE))","v":27},"Недведская Елена",1986,"Nedvedskaya Elena","Недведская Елена / Nedvedskaya Elena / 1986","Ж",6,81.481481481481481,194.19]
[{"$f":"Гонки!$C$14","v":"Жук-трейл #6 Купалье"},{"$f":"Гонки!$D$14","v":"Трейл 5"},"Жук-трейл #6 Купалье Трейл 5",5.6800000000000006,"Ж",{"$f":"IF(E626=\"Ж\",VLOOKUP(C626,Гонки!$E$2:$P$16,11,FALSE),VLOOKUP(C626,Гонки!$E$2:$P$16,12,FALSE))","v":27},"Силивонова Виктория",1994,"Silivonova Viktoriya","Силивонова Виктория / Silivonova Viktoriya / 1994","Ж",7,77.777777777777771,185.37]
[{"$f":"Гонки!$C$14","v":"Жук-трейл #6 Купалье"},{"$f":"Гонки!$D$14","v":"Трейл 5"},"Жук-трейл #6 Купалье Трейл 5",5.6800000000000006,"Ж",{"$f":"IF(E627=\"Ж\",VLOOKUP(C627,Гонки!$E$2:$P$16,11,FALSE),VLOOKUP(C627,Гонки!$E$2:$P$16,12,FALSE))","v":27},"Скабицкая Анна",1987,"Skabitskaya Anna","Скабицкая Анна / Skabitskaya Anna / 1987","Ж",8,74.074074074074076,176.54]
[{"$f":"Гонки!$C$14","v":"Жук-трейл #6 Купалье"},{"$f":"Гонки!$D$14","v":"Трейл 5"},"Жук-трейл #6 Купалье Трейл 5",5.6800000000000006,"Ж",{"$f":"IF(E628=\"Ж\",VLOOKUP(C628,Гонки!$E$2:$P$16,11,FALSE),VLOOKUP(C628,Гонки!$E$2:$P$16,12,FALSE))","v":27},"Крипа Светлана",1989,"Kripa Svetlana","Крипа Светлана / Kripa Svetlana / 1989","Ж",9,70.370370370370381,167.71]
[{"$f":"Гонки!$C$14","v":"Жук-трейл #6 Купалье"},{"$f":"Гонки!$D$14","v":"Трейл 5"},"Жук-трейл #6 Купалье Трейл 5",5.6800000000000006,"Ж",{"$f":"IF(E629=\"Ж\",VLOOKUP(C629,Гонки!$E$2:$P$16,11,FALSE),VLOOKUP(C629,Гонки!$E$2:$P$16,12,FALSE))","v":27},"Минич Ольга",1989,"Minich Olga","Минич Ольга / Minich Olga / 1989","Ж",10,66.666666666666671,158.88999999999999]
[{"$f":"Гонки!$C$14","v":"Жук-трейл #6 Купалье"},{"$f":"Гонки!$D$14","v":"Трейл 5"},"Жук-трейл #6 Купалье Трейл 5",5.6800000000000006,"Ж",{"$f":"IF(E630=\"Ж\",VLOOKUP(C630,Гонки!$E$2:$P$16,11,FALSE),VLOOKUP(C630,Гонки!$E$2:$P$16,12,FALSE))","v":27},"Стракович Екатерина",1991,"Strakovich Ekaterina","Стракович Екатерина / Strakovich Ekaterina / 1991","Ж",11,62.962962962962962,150.06]
[{"$f":"Гонки!$C$14","v":"Жук-трейл #6 Купалье"},{"$f":"Гонки!$D$14","v":"Трейл 5"},"Жук-трейл #6 Купалье Трейл 5",5.6800000000000006,"Ж",{"$f":"IF(E631=\"Ж\",VLOOKUP(C631,Гонки!$E$2:$P$16,11,FALSE),VLOOKUP(C631,Гонки!$E$2:$P$16,12,FALSE))","v":27},"Бурак Анжелика",1994,"Burak Anzhelika","Бурак Анжелика / Burak Anzhelika / 1994","Ж",12,59.25925925925926,141.22999999999999]
[{"$f":"Гонки!$C$14","v":"Жук-трейл #6 Купалье"},{"$f":"Гонки!$D$14","v":"Трейл 5"},"Жук-трейл #6 Купалье Трейл 5",5.6800000000000006,"Ж",{"$f":"IF(E632=\"Ж\",VLOOKUP(C632,Гонки!$E$2:$P$16,11,FALSE),VLOOKUP(C632,Гонки!$E$2:$P$16,12,FALSE))","v":27},"Моисеева Вероника",1983,"Moiseeva Veronika","Моисеева Вероника / Moiseeva Veronika / 1983","Ж",13,55.555555555555557,132.4]
[{"$f":"Гонки!$C$14","v":"Жук-трейл #6 Купалье"},{"$f":"Гонки!$D$14","v":"Трейл 5"},"Жук-трейл #6 Купалье Трейл 5",5.6800000000000006,"Ж",{"$f":"IF(E633=\"Ж\",VLOOKUP(C633,Гонки!$E$2:$P$16,11,FALSE),VLOOKUP(C633,Гонки!$E$2:$P$16,12,FALSE))","v":27},"Таранко Марта",1990,"Taranko Marta","Таранко Марта / Taranko Marta / 1990","Ж",14,51.851851851851855,123.58]
[{"$f":"Гонки!$C$14","v":"Жук-трейл #6 Купалье"},{"$f":"Гонки!$D$14","v":"Трейл 5"},"Жук-трейл #6 Купалье Трейл 5",5.6800000000000006,"Ж",{"$f":"IF(E634=\"Ж\",VLOOKUP(C634,Гонки!$E$2:$P$16,11,FALSE),VLOOKUP(C634,Гонки!$E$2:$P$16,12,FALSE))","v":27},"Кожемякина Анна",1991,"Kozhemyakina Anna","Кожемякина Анна / Kozhemyakina Anna / 1991","Ж",15,48.148148148148152,114.75]
[{"$f":"Гонки!$C$14","v":"Жук-трейл #6 Купалье"},{"$f":"Гонки!$D$14","v":"Трейл 5"},"Жук-трейл #6 Купалье Трейл 5",5.6800000000000006,"Ж",{"$f":"IF(E635=\"Ж\",VLOOKUP(C635,Гонки!$E$2:$P$16,11,FALSE),VLOOKUP(C635,Гонки!$E$2:$P$16,12,FALSE))","v":27},"Абаркина Елена",1983,"Abarkina Elena","Абаркина Елена / Abarkina Elena / 1983","Ж",16,44.444444444444443,105.92]
[{"$f":"Гонки!$C$14","v":"Жук-трейл #6 Купалье"},{"$f":"Гонки!$D$14","v":"Трейл 5"},"Жук-трейл #6 Купалье Трейл 5",5.6800000000000006,"Ж",{"$f":"IF(E636=\"Ж\",VLOOKUP(C636,Гонки!$E$2:$P$16,11,FALSE),VLOOKUP(C636,Гонки!$E$2:$P$16,12,FALSE))","v":27},"Якубовская Виктория",1984,"Yakubovskaya Viktoriya","Якубовская Виктория / Yakubovskaya Viktoriya / 1984","Ж",17,40.740740740740748,97.1]
[{"$f":"Гонки!$C$14","v":"Жук-трейл #6 Купалье"},{"$f":"Гонки!$D$14","v":"Трейл 5"},"Жук-трейл #6 Купалье Трейл 5",5.6800000000000006,"Ж",{"$f":"IF(E637=\"Ж\",VLOOKUP(C637,Гонки!$E$2:$P$16,11,FALSE),VLOOKUP(C637,Гонки!$E$2:$P$16,12,FALSE))","v":27},"Ладутько Наталья",1974,"Ladutko Natalya","Ладутько Наталья / Ladutko Natalya / 1974","Ж",18,37.037037037037038,88.27]
[{"$f":"Гонки!$C$14","v":"Жук-трейл #6 Купалье"},{"$f":"Гонки!$D$14","v":"Трейл 5"},"Жук-трейл #6 Купалье Трейл 5",5.6800000000000006,"Ж",{"$f":"IF(E638=\"Ж\",VLOOKUP(C638,Гонки!$E$2:$P$16,11,FALSE),VLOOKUP(C638,Гонки!$E$2:$P$16,12,FALSE))","v":27},"Самусик Елена",1992,"Samusik Elena","Самусик Елена / Samusik Elena / 1992","Ж",19,33.333333333333343,79.44]
[{"$f":"Гонки!$C$14","v":"Жук-трейл #6 Купалье"},{"$f":"Гонки!$D$14","v":"Трейл 5"},"Жук-трейл #6 Купалье Трейл 5",5.6800000000000006,"Ж",{"$f":"IF(E639=\"Ж\",VLOOKUP(C639,Гонки!$E$2:$P$16,11,FALSE),VLOOKUP(C639,Гонки!$E$2:$P$16,12,FALSE))","v":27},"Орлова Татьяна",1990,"Orlova Tatyana","Орлова Татьяна / Orlova Tatyana / 1990","Ж",20,29.629629629629633,70.62]
[{"$f":"Гонки!$C$14","v":"Жук-трейл #6 Купалье"},{"$f":"Гонки!$D$14","v":"Трейл 5"},"Жук-трейл #6 Купалье Трейл 5",5.6800000000000006,"Ж",{"$f":"IF(E640=\"Ж\",VLOOKUP(C640,Гонки!$E$2:$P$16,11,FALSE),VLOOKUP(C640,Гонки!$E$2:$P$16,12,FALSE))","v":27},"Липская Яна",2007,"Lipskaya Yana","Липская Яна / Lipskaya Yana / 2007","Ж",21,25.925925925925924,61.79]
[{"$f":"Гонки!$C$14","v":"Жук-трейл #6 Купалье"},{"$f":"Гонки!$D$14","v":"Трейл 5"},"Жук-трейл #6 Купалье Трейл 5",5.6800000000000006,"Ж",{"$f":"IF(E641=\"Ж\",VLOOKUP(C641,Гонки!$E$2:$P$16,11,FALSE),VLOOKUP(C641,Гонки!$E$2:$P$16,12,FALSE))","v":27},"Липская Наталья",1977,"Lipskaya Natalya","Липская Наталья / Lipskaya Natalya / 1977","Ж",22,22.222222222222214,52.96]
[{"$f":"Гонки!$C$14","v":"Жук-трейл #6 Купалье"},{"$f":"Гонки!$D$14","v":"Трейл 5"},"Жук-трейл #6 Купалье Трейл 5",{"$f":"VLOOKUP(C642,Список_гонок,10,FALSE)","v":5.6800000000000006},"Ж",{"$f":"IF(E642=\"Ж\",VLOOKUP(C642,Гонки!$E$2:$P$16,11,FALSE),VLOOKUP(C642,Гонки!$E$2:$P$16,12,FALSE))","v":27},"Гладкова Анна",1985,"Gladkova Anna","Гладкова Анна / Gladkova Anna / 1985","Ж",23,18.518518518518519,44.13]
[{"$f":"Гонки!$C$14","v":"Жук-трейл #6 Купалье"},{"$f":"Гонки!$D$14","v":"Трейл 5"},{"$f":"CONCATENATE(A643,\" \",B643)","v":"Жук-трейл #6 Купалье Трейл 5"},5.6800000000000006,"Ж",{"$f":"IF(E643=\"Ж\",VLOOKUP(C643,Гонки!$E$2:$P$16,11,FALSE),VLOOKUP(C643,Гонки!$E$2:$P$16,12,FALSE))","v":27},"Родионова Светлана",1981,{"$f":"Translit(G643)","v":"Rodionova Svetlana"},{"$f":"CONCATENATE(G643,\" / \",I643,\" / \",H643)","v":"Родионова Светлана / Rodionova Svetlana / 1981"},{"$f":"E643","v":"Ж"},24,{"$f":"100-((L643-1)/F643)*100","v":14.81481481481481},{"$f":"ROUND(SQRT(D643)*M643,2)","v":35.31}]
[{"$f":"Гонки!$C$14","v":"Жук-трейл #6 Купалье"},{"$f":"Гонки!$D$14","v":"Трейл 5"},"Жук-трейл #6 Купалье Трейл 5",5.6800000000000006,"Ж",{"$f":"IF(E644=\"Ж\",VLOOKUP(C644,Гонки!$E$2:$P$16,11,FALSE),VLOOKUP(C644,Гонки!$E$2:$P$16,12,FALSE))","v":27},"Ветохина София",2010,"Vetohina Sofiya","Ветохина София / Vetohina Sofiya / 2010","Ж",25,11.111111111111114,26.48]
[{"$f":"Гонки!$C$14","v":"Жук-трейл #6 Купалье"},{"$f":"Гонки!$D$14","v":"Трейл 5"},"Жук-трейл #6 Купалье Трейл 5",5.6800000000000006,"Ж",{"$f":"IF(E645=\"Ж\",VLOOKUP(C645,Гонки!$E$2:$P$16,11,FALSE),VLOOKUP(C645,Гонки!$E$2:$P$16,12,FALSE))","v":27},"Казак Наталья",1979,"Kazak Natalya","Казак Наталья / Kazak Natalya / 1979","Ж",26,7.4074074074074048,17.649999999999999]
[{"$f":"Гонки!$C$14","v":"Жук-трейл #6 Купалье"},{"$f":"Гонки!$D$14","v":"Трейл 5"},"Жук-трейл #6 Купалье Трейл 5",5.6800000000000006,"Ж",{"$f":"IF(E646=\"Ж\",VLOOKUP(C646,Гонки!$E$2:$P$16,11,FALSE),VLOOKUP(C646,Гонки!$E$2:$P$16,12,FALSE))","v":27},"Гарбуз Алла",1969,"Garbuz Alla","Гарбуз Алла / Garbuz Alla / 1969","Ж",26,7.4074074074074048,17.649999999999999]
[{"$f":"Гонки!$C$14","v":"Жук-трейл #6 Купалье"},{"$f":"Гонки!$D$14","v":"Трейл 5"},"Жук-трейл #6 Купалье Трейл 5",5.6800000000000006,"М",{"$f":"IF(E647=\"Ж\",VLOOKUP(C647,Гонки!$E$2:$P$16,11,FALSE),VLOOKUP(C647,Гонки!$E$2:$P$16,12,FALSE))","v":23},"Католиков Роман",1985,"Katolikov Roman","Католиков Роман / Katolikov Roman / 1985","М",1,100,238.33]
[{"$f":"Гонки!$C$14","v":"Жук-трейл #6 Купалье"},{"$f":"Гонки!$D$14","v":"Трейл 5"},"Жук-трейл #6 Купалье Трейл 5",5.6800000000000006,"М",{"$f":"IF(E648=\"Ж\",VLOOKUP(C648,Гонки!$E$2:$P$16,11,FALSE),VLOOKUP(C648,Гонки!$E$2:$P$16,12,FALSE))","v":23},"Крус Виктор",1980,"Krus Viktor","Крус Виктор / Krus Viktor / 1980","М",2,95.652173913043484,227.97]
[{"$f":"Гонки!$C$14","v":"Жук-трейл #6 Купалье"},{"$f":"Гонки!$D$14","v":"Трейл 5"},"Жук-трейл #6 Купалье Трейл 5",5.6800000000000006,"М",{"$f":"IF(E649=\"Ж\",VLOOKUP(C649,Гонки!$E$2:$P$16,11,FALSE),VLOOKUP(C649,Гонки!$E$2:$P$16,12,FALSE))","v":23},"Дашин Михаил",null,"Dashin Mihail","Дашин Михаил / Dashin Mihail / ","М",3,91.304347826086953,217.6]
[{"$f":"Гонки!$C$14","v":"Жук-трейл #6 Купалье"},{"$f":"Гонки!$D$14","v":"Трейл 5"},"Жук-трейл #6 Купалье Трейл 5",5.6800000000000006,"М",{"$f":"IF(E650=\"Ж\",VLOOKUP(C650,Гонки!$E$2:$P$16,11,FALSE),VLOOKUP(C650,Гонки!$E$2:$P$16,12,FALSE))","v":23},"Геранин Дмитрий",null,"Geranin Dmitrij","Геранин Дмитрий / Geranin Dmitrij / ","М",4,86.956521739130437,207.24]
[{"$f":"Гонки!$C$14","v":"Жук-трейл #6 Купалье"},{"$f":"Гонки!$D$14","v":"Трейл 5"},"Жук-трейл #6 Купалье Трейл 5",5.6800000000000006,"М",{"$f":"IF(E651=\"Ж\",VLOOKUP(C651,Гонки!$E$2:$P$16,11,FALSE),VLOOKUP(C651,Гонки!$E$2:$P$16,12,FALSE))","v":23},"Щербо Виктор",1961,"Scherbo Viktor","Щербо Виктор / Scherbo Viktor / 1961","М",5,82.608695652173907,196.88]
[{"$f":"Гонки!$C$14","v":"Жук-трейл #6 Купалье"},{"$f":"Гонки!$D$14","v":"Трейл 5"},"Жук-трейл #6 Купалье Трейл 5",5.6800000000000006,"М",{"$f":"IF(E652=\"Ж\",VLOOKUP(C652,Гонки!$E$2:$P$16,11,FALSE),VLOOKUP(C652,Гонки!$E$2:$P$16,12,FALSE))","v":23},"Володько Владимир",2001,"Volodko Vladimir","Володько Владимир / Volodko Vladimir / 2001","М",6,78.260869565217391,186.52]
[{"$f":"Гонки!$C$14","v":"Жук-трейл #6 Купалье"},{"$f":"Гонки!$D$14","v":"Трейл 5"},"Жук-трейл #6 Купалье Трейл 5",5.6800000000000006,"М",{"$f":"IF(E653=\"Ж\",VLOOKUP(C653,Гонки!$E$2:$P$16,11,FALSE),VLOOKUP(C653,Гонки!$E$2:$P$16,12,FALSE))","v":23},"Воробьёв Дмитрий",1988,"Vorobjov Dmitrij","Воробьёв Дмитрий / Vorobjov Dmitrij / 1988","М",7,73.913043478260875,176.16]
[{"$f":"Гонки!$C$14","v":"Жук-трейл #6 Купалье"},{"$f":"Гонки!$D$14","v":"Трейл 5"},"Жук-трейл #6 Купалье Трейл 5",5.6800000000000006,"М",{"$f":"IF(E654=\"Ж\",VLOOKUP(C654,Гонки!$E$2:$P$16,11,FALSE),VLOOKUP(C654,Гонки!$E$2:$P$16,12,FALSE))","v":23},"Бойко Евгений",1985,"Bojko Evgenij","Бойко Евгений / Bojko Evgenij / 1985","М",8,69.565217391304344,165.79]
[{"$f":"Гонки!$C$14","v":"Жук-трейл #6 Купалье"},{"$f":"Гонки!$D$14","v":"Трейл 5"},"Жук-трейл #6 Купалье Трейл 5",5.6800000000000006,"М",{"$f":"IF(E655=\"Ж\",VLOOKUP(C655,Гонки!$E$2:$P$16,11,FALSE),VLOOKUP(C655,Гонки!$E$2:$P$16,12,FALSE))","v":23},"Круглик Игорь",1985,"Kruglik Igor","Круглик Игорь / Kruglik Igor / 1985","М",9,65.217391304347828,155.43]
[{"$f":"Гонки!$C$14","v":"Жук-трейл #6 Купалье"},{"$f":"Гонки!$D$14","v":"Трейл 5"},"Жук-трейл #6 Купалье Трейл 5",5.6800000000000006,"М",{"$f":"IF(E656=\"Ж\",VLOOKUP(C656,Гонки!$E$2:$P$16,11,FALSE),VLOOKUP(C656,Гонки!$E$2:$P$16,12,FALSE))","v":23},"Чирская Юлия",1992,"Chirskaya Yuliya","Чирская Юлия / Chirskaya Yuliya / 1992","М",10,60.869565217391305,145.07]
[{"$f":"Гонки!$C$14","v":"Жук-трейл #6 Купалье"},{"$f":"Гонки!$D$14","v":"Трейл 5"},"Жук-трейл #6 Купалье Трейл 5",5.6800000000000006,"М",{"$f":"IF(E657=\"Ж\",VLOOKUP(C657,Гонки!$E$2:$P$16,11,FALSE),VLOOKUP(C657,Гонки!$E$2:$P$16,12,FALSE))","v":23},"Казак Константин",2004,"Kazak Konstantin","Казак Константин / Kazak Konstantin / 2004","М",11,56.521739130434781,134.71]
[{"$f":"Гонки!$C$14","v":"Жук-трейл #6 Купалье"},{"$f":"Гонки!$D$14","v":"Трейл 5"},"Жук-трейл #6 Купалье Трейл 5",5.6800000000000006,"М",{"$f":"IF(E658=\"Ж\",VLOOKUP(C658,Гонки!$E$2:$P$16,11,FALSE),VLOOKUP(C658,Гонки!$E$2:$P$16,12,FALSE))","v":23},"Лазаренок Глеб",1982,"Lazarenok Gleb","Лазаренок Глеб / Lazarenok Gleb / 1982","М",12,52.173913043478258,124.34]
[{"$f":"Гонки!$C$14","v":"Жук-трейл #6 Купалье"},{"$f":"Гонки!$D$14","v":"Трейл 5"},"Жук-трейл #6 Купалье Трейл 5",5.6800000000000006,"М",{"$f":"IF(E659=\"Ж\",VLOOKUP(C659,Гонки!$E$2:$P$16,11,FALSE),VLOOKUP(C659,Гонки!$E$2:$P$16,12,FALSE))","v":23},"Бутурля Александр",1981,"Buturlya Aleksandr","Бутурля Александр / Buturlya Aleksandr / 1981","М",13,47.826086956521742,113.98]
[{"$f":"Гонки!$C$14","v":"Жук-трейл #6 Купалье"},{"$f":"Гонки!$D$14","v":"Трейл 5"},"Жук-трейл #6 Купалье Трейл 5",5.6800000000000006,"М",{"$f":"IF(E660=\"Ж\",VLOOKUP(C660,Гонки!$E$2:$P$16,11,FALSE),VLOOKUP(C660,Гонки!$E$2:$P$16,12,FALSE))","v":23},"Герасевич Максим",null,"Gerasevich Maksim","Герасевич Максим / Gerasevich Maksim / ","М",14,43.478260869565219,103.62]
[{"$f":"Гонки!$C$14","v":"Жук-трейл #6 Купалье"},{"$f":"Гонки!$D$14","v":"Трейл 5"},"Жук-трейл #6 Купалье Трейл 5",5.6800000000000006,"М",{"$f":"IF(E661=\"Ж\",VLOOKUP(C661,Гонки!$E$2:$P$16,11,FALSE),VLOOKUP(C661,Гонки!$E$2:$P$16,12,FALSE))","v":23},"Соколов Артем",1986,"Sokolov Artem","Соколов Артем / Sokolov Artem / 1986","М",15,39.130434782608688,93.26]
[{"$f":"Гонки!$C$14","v":"Жук-трейл #6 Купалье"},{"$f":"Гонки!$D$14","v":"Трейл 5"},"Жук-трейл #6 Купалье Трейл 5",5.6800000000000006,"М",{"$f":"IF(E662=\"Ж\",VLOOKUP(C662,Гонки!$E$2:$P$16,11,FALSE),VLOOKUP(C662,Гонки!$E$2:$P$16,12,FALSE))","v":23},"Якубовский Игорь",1984,"Yakubovskij Igor","Якубовский Игорь / Yakubovskij Igor / 1984","М",16,34.782608695652172,82.9]
[{"$f":"Гонки!$C$14","v":"Жук-трейл #6 Купалье"},{"$f":"Гонки!$D$14","v":"Трейл 5"},"Жук-трейл #6 Купалье Трейл 5",5.6800000000000006,"М",{"$f":"IF(E663=\"Ж\",VLOOKUP(C663,Гонки!$E$2:$P$16,11,FALSE),VLOOKUP(C663,Гонки!$E$2:$P$16,12,FALSE))","v":23},"Стешко Фёдор",1990,"Steshko Fjodor","Стешко Фёдор / Steshko Fjodor / 1990","М",17,30.434782608695656,72.53]
[{"$f":"Гонки!$C$14","v":"Жук-трейл #6 Купалье"},{"$f":"Гонки!$D$14","v":"Трейл 5"},"Жук-трейл #6 Купалье Трейл 5",5.6800000000000006,"М",{"$f":"IF(E664=\"Ж\",VLOOKUP(C664,Гонки!$E$2:$P$16,11,FALSE),VLOOKUP(C664,Гонки!$E$2:$P$16,12,FALSE))","v":23},"Шульпенков Александр",1986,"Shulpenkov Aleksandr","Шульпенков Александр / Shulpenkov Aleksandr / 1986","М",18,26.08695652173914,62.17]
[{"$f":"Гонки!$C$14","v":"Жук-трейл #6 Купалье"},{"$f":"Гонки!$D$14","v":"Трейл 5"},"Жук-трейл #6 Купалье Трейл 5",5.6800000000000006,"М",{"$f":"IF(E665=\"Ж\",VLOOKUP(C665,Гонки!$E$2:$P$16,11,FALSE),VLOOKUP(C665,Гонки!$E$2:$P$16,12,FALSE))","v":23},"Федоринчик Дмитрий",1988,"Fedorinchik Dmitrij","Федоринчик Дмитрий / Fedorinchik Dmitrij / 1988","М",19,21.739130434782609,51.81]
[{"$f":"Гонки!$C$14","v":"Жук-трейл #6 Купалье"},{"$f":"Гонки!$D$14","v":"Трейл 5"},"Жук-трейл #6 Купалье Трейл 5",5.6800000000000006,"М",{"$f":"IF(E666=\"Ж\",VLOOKUP(C666,Гонки!$E$2:$P$16,11,FALSE),VLOOKUP(C666,Гонки!$E$2:$P$16,12,FALSE))","v":23},"Ветохин Иван",1987,"Vetohin Ivan","Ветохин Иван / Vetohin Ivan / 1987","М",20,17.391304347826093,41.45]
[{"$f":"Гонки!$C$14","v":"Жук-трейл #6 Купалье"},{"$f":"Гонки!$D$14","v":"Трейл 5"},"Жук-трейл #6 Купалье Трейл 5",5.6800000000000006,"М",{"$f":"IF(E667=\"Ж\",VLOOKUP(C667,Гонки!$E$2:$P$16,11,FALSE),VLOOKUP(C667,Гонки!$E$2:$P$16,12,FALSE))","v":23},"Молочко Николай",2004,"Molochko Nikolaj","Молочко Николай / Molochko Nikolaj / 2004","М",21,13.043478260869563,31.09]
[{"$f":"Гонки!$C$14","v":"Жук-трейл #6 Купалье"},{"$f":"Гонки!$D$14","v":"Трейл 5"},"Жук-трейл #6 Купалье Трейл 5",5.6800000000000006,"М",{"$f":"IF(E668=\"Ж\",VLOOKUP(C668,Гонки!$E$2:$P$16,11,FALSE),VLOOKUP(C668,Гонки!$E$2:$P$16,12,FALSE))","v":23},"Сысков Никита",1985,"Syskov Nikita","Сысков Никита / Syskov Nikita / 1985","М",22,8.6956521739130466,20.72]
[{"$f":"Гонки!$C$14","v":"Жук-трейл #6 Купалье"},{"$f":"Гонки!$D$14","v":"Трейл 5"},"Жук-трейл #6 Купалье Трейл 5",5.6800000000000006,"М",{"$f":"IF(E669=\"Ж\",VLOOKUP(C669,Гонки!$E$2:$P$16,11,FALSE),VLOOKUP(C669,Гонки!$E$2:$P$16,12,FALSE))","v":23},"Кожемякин Алексей",1986,"Kozhemyakin Aleksej","Кожемякин Алексей / Kozhemyakin Aleksej / 1986","М",23,4.3478260869565162,10.36]
[{"$f":"Гонки!$C$14","v":"Жук-трейл #6 Купалье"},{"$f":"Гонки!D15","v":"Трейл 10"},"Жук-трейл #6 Купалье Трейл 10",9.3600000000000012,"М",{"$f":"IF(E670=\"Ж\",VLOOKUP(C670,Гонки!$E$2:$P$16,11,FALSE),VLOOKUP(C670,Гонки!$E$2:$P$16,12,FALSE))","v":57},"Афанасьев Иван",1979,"Afanasev Ivan","Афанасьев Иван / Afanasev Ivan / 1979","М",1,{"$f":"100-((L670-1)/F670)*100","v":100},305.94]
[{"$f":"Гонки!$C$14","v":"Жук-трейл #6 Купалье"},{"$f":"$B$670","v":"Трейл 10"},"Жук-трейл #6 Купалье Трейл 10",9.3600000000000012,"М",{"$f":"IF(E671=\"Ж\",VLOOKUP(C671,Гонки!$E$2:$P$16,11,FALSE),VLOOKUP(C671,Гонки!$E$2:$P$16,12,FALSE))","v":57},"Хорошавин Вячеслав",1985,"Horoshavin Vyacheslav","Хорошавин Вячеслав / Horoshavin Vyacheslav / 1985","М",2,98.245614035087726,300.57]
[{"$f":"Гонки!$C$14","v":"Жук-трейл #6 Купалье"},{"$f":"$B$670","v":"Трейл 10"},"Жук-трейл #6 Купалье Трейл 10",9.3600000000000012,"М",{"$f":"IF(E672=\"Ж\",VLOOKUP(C672,Гонки!$E$2:$P$16,11,FALSE),VLOOKUP(C672,Гонки!$E$2:$P$16,12,FALSE))","v":57},"Николаевич Дмитрий",1999,"Nikolaevich Dmitrij","Николаевич Дмитрий / Nikolaevich Dmitrij / 1999","М",3,96.491228070175438,295.20999999999998]
[{"$f":"Гонки!$C$14","v":"Жук-трейл #6 Купалье"},"Трейл 10","Жук-трейл #6 Купалье Трейл 10",9.3600000000000012,"М",{"$f":"IF(E673=\"Ж\",VLOOKUP(C673,Гонки!$E$2:$P$16,11,FALSE),VLOOKUP(C673,Гонки!$E$2:$P$16,12,FALSE))","v":57},"Кондяр Павел",1993,"Kondyar Pavel","Кондяр Павел / Kondyar Pavel / 1993","М",4,94.736842105263165,289.83999999999997]
[{"$f":"Гонки!$C$14","v":"Жук-трейл #6 Купалье"},"Трейл 10","Жук-трейл #6 Купалье Трейл 10",9.3600000000000012,"М",{"$f":"IF(E674=\"Ж\",VLOOKUP(C674,Гонки!$E$2:$P$16,11,FALSE),VLOOKUP(C674,Гонки!$E$2:$P$16,12,FALSE))","v":57},"Брытько Роман",1995,"Brytko Roman","Брытько Роман / Brytko Roman / 1995","М",5,92.982456140350877,284.47000000000003]
[{"$f":"Гонки!$C$14","v":"Жук-трейл #6 Купалье"},"Трейл 10","Жук-трейл #6 Купалье Трейл 10",9.3600000000000012,"М",{"$f":"IF(E675=\"Ж\",VLOOKUP(C675,Гонки!$E$2:$P$16,11,FALSE),VLOOKUP(C675,Гонки!$E$2:$P$16,12,FALSE))","v":57},"Зиновенко Павел",1997,"Zinovenko Pavel","Зиновенко Павел / Zinovenko Pavel / 1997","М",6,91.228070175438603,279.10000000000002]
[{"$f":"Гонки!$C$14","v":"Жук-трейл #6 Купалье"},"Трейл 10","Жук-трейл #6 Купалье Трейл 10",9.3600000000000012,"М",{"$f":"IF(E676=\"Ж\",VLOOKUP(C676,Гонки!$E$2:$P$16,11,FALSE),VLOOKUP(C676,Гонки!$E$2:$P$16,12,FALSE))","v":57},"Набоков Дмитрий",1998,"Nabokov Dmitrij","Набоков Дмитрий / Nabokov Dmitrij / 1998","М",7,89.473684210526315,273.74]
[{"$f":"Гонки!$C$14","v":"Жук-трейл #6 Купалье"},"Трейл 10","Жук-трейл #6 Купалье Трейл 10",9.3600000000000012,"М",{"$f":"IF(E677=\"Ж\",VLOOKUP(C677,Гонки!$E$2:$P$16,11,FALSE),VLOOKUP(C677,Гонки!$E$2:$P$16,12,FALSE))","v":57},"Стародуб Евгений",2000,"Starodub Evgenij","Стародуб Евгений / Starodub Evgenij / 2000","М",8,87.719298245614041,268.37]
[{"$f":"Гонки!$C$14","v":"Жук-трейл #6 Купалье"},"Трейл 10","Жук-трейл #6 Купалье Трейл 10",9.3600000000000012,"М",{"$f":"IF(E678=\"Ж\",VLOOKUP(C678,Гонки!$E$2:$P$16,11,FALSE),VLOOKUP(C678,Гонки!$E$2:$P$16,12,FALSE))","v":57},"Крисенков Алексей",1983,"Krisenkov Aleksej","Крисенков Алексей / Krisenkov Aleksej / 1983","М",9,85.964912280701753,263]
[{"$f":"Гонки!$C$14","v":"Жук-трейл #6 Купалье"},"Трейл 10","Жук-трейл #6 Купалье Трейл 10",9.3600000000000012,"М",{"$f":"IF(E679=\"Ж\",VLOOKUP(C679,Гонки!$E$2:$P$16,11,FALSE),VLOOKUP(C679,Гонки!$E$2:$P$16,12,FALSE))","v":57},"Симонов Александр",1999,"Simonov Aleksandr","Симонов Александр / Simonov Aleksandr / 1999","М",10,84.21052631578948,257.63]
[{"$f":"Гонки!$C$14","v":"Жук-трейл #6 Купалье"},"Трейл 10","Жук-трейл #6 Купалье Трейл 10",9.3600000000000012,"М",{"$f":"IF(E680=\"Ж\",VLOOKUP(C680,Гонки!$E$2:$P$16,11,FALSE),VLOOKUP(C680,Гонки!$E$2:$P$16,12,FALSE))","v":57},"Селютин Владимир",1990,"Selyutin Vladimir","Селютин Владимир / Selyutin Vladimir / 1990","М",11,82.456140350877192,252.27]
[{"$f":"Гонки!$C$14","v":"Жук-трейл #6 Купалье"},"Трейл 10","Жук-трейл #6 Купалье Трейл 10",9.3600000000000012,"М",{"$f":"IF(E681=\"Ж\",VLOOKUP(C681,Гонки!$E$2:$P$16,11,FALSE),VLOOKUP(C681,Гонки!$E$2:$P$16,12,FALSE))","v":57},"Нечаев Владимир",1995,"Nechaev Vladimir","Нечаев Владимир / Nechaev Vladimir / 1995","М",12,80.701754385964918,246.9]
[{"$f":"Гонки!$C$14","v":"Жук-трейл #6 Купалье"},"Трейл 10","Жук-трейл #6 Купалье Трейл 10",9.3600000000000012,"М",{"$f":"IF(E682=\"Ж\",VLOOKUP(C682,Гонки!$E$2:$P$16,11,FALSE),VLOOKUP(C682,Гонки!$E$2:$P$16,12,FALSE))","v":57},"Мельников Павел",1998,"Melnikov Pavel","Мельников Павел / Melnikov Pavel / 1998","М",13,78.94736842105263,241.53]
[{"$f":"Гонки!$C$14","v":"Жук-трейл #6 Купалье"},"Трейл 10","Жук-трейл #6 Купалье Трейл 10",9.3600000000000012,"М",{"$f":"IF(E683=\"Ж\",VLOOKUP(C683,Гонки!$E$2:$P$16,11,FALSE),VLOOKUP(C683,Гонки!$E$2:$P$16,12,FALSE))","v":57},"Остаповец Евгений",1990,"Ostapovets Evgenij","Остаповец Евгений / Ostapovets Evgenij / 1990","М",14,77.192982456140356,236.17]
[{"$f":"Гонки!$C$14","v":"Жук-трейл #6 Купалье"},"Трейл 10","Жук-трейл #6 Купалье Трейл 10",9.3600000000000012,"М",{"$f":"IF(E684=\"Ж\",VLOOKUP(C684,Гонки!$E$2:$P$16,11,FALSE),VLOOKUP(C684,Гонки!$E$2:$P$16,12,FALSE))","v":57},"Федькович Виталий",1995,"Fedkovich Vitalij","Федькович Виталий / Fedkovich Vitalij / 1995","М",15,75.438596491228068,230.8]
[{"$f":"Гонки!$C$14","v":"Жук-трейл #6 Купалье"},"Трейл 10","Жук-трейл #6 Купалье Трейл 10",9.3600000000000012,"М",{"$f":"IF(E685=\"Ж\",VLOOKUP(C685,Гонки!$E$2:$P$16,11,FALSE),VLOOKUP(C685,Гонки!$E$2:$P$16,12,FALSE))","v":57},"Богдевич Анатолий",1999,"Bogdevich Anatolij","Богдевич Анатолий / Bogdevich Anatolij / 1999","М",15,75.438596491228068,230.8]
[{"$f":"Гонки!$C$14","v":"Жук-трейл #6 Купалье"},"Трейл 10","Жук-трейл #6 Купалье Трейл 10",9.3600000000000012,"М",{"$f":"IF(E686=\"Ж\",VLOOKUP(C686,Гонки!$E$2:$P$16,11,FALSE),VLOOKUP(C686,Гонки!$E$2:$P$16,12,FALSE))","v":57},"Баронов Роман",1993,"Baronov Roman","Баронов Роман / Baronov Roman / 1993","М",17,71.929824561403507,220.06]
[{"$f":"Гонки!$C$14","v":"Жук-трейл #6 Купалье"},"Трейл 10","Жук-трейл #6 Купалье Трейл 10",9.3600000000000012,"М",{"$f":"IF(E687=\"Ж\",VLOOKUP(C687,Гонки!$E$2:$P$16,11,FALSE),VLOOKUP(C687,Гонки!$E$2:$P$16,12,FALSE))","v":57},"Савостеня Виктор",1989,"Savostenya Viktor","Савостеня Виктор / Savostenya Viktor / 1989","М",18,70.175438596491233,214.7]
[{"$f":"Гонки!$C$14","v":"Жук-трейл #6 Купалье"},"Трейл 10","Жук-трейл #6 Купалье Трейл 10",9.3600000000000012,"М",{"$f":"IF(E688=\"Ж\",VLOOKUP(C688,Гонки!$E$2:$P$16,11,FALSE),VLOOKUP(C688,Гонки!$E$2:$P$16,12,FALSE))","v":57},"Иванцов Вячеслав",1986,"Ivantsov Vyacheslav","Иванцов Вячеслав / Ivantsov Vyacheslav / 1986","М",19,68.421052631578945,209.33]
[{"$f":"Гонки!$C$14","v":"Жук-трейл #6 Купалье"},"Трейл 10","Жук-трейл #6 Купалье Трейл 10",9.3600000000000012,"М",{"$f":"IF(E689=\"Ж\",VLOOKUP(C689,Гонки!$E$2:$P$16,11,FALSE),VLOOKUP(C689,Гонки!$E$2:$P$16,12,FALSE))","v":57},"Комар Артем",1998,"Komar Artem","Комар Артем / Komar Artem / 1998","М",20,66.666666666666671,203.96]
[{"$f":"Гонки!$C$14","v":"Жук-трейл #6 Купалье"},"Трейл 10","Жук-трейл #6 Купалье Трейл 10",9.3600000000000012,"М",{"$f":"IF(E690=\"Ж\",VLOOKUP(C690,Гонки!$E$2:$P$16,11,FALSE),VLOOKUP(C690,Гонки!$E$2:$P$16,12,FALSE))","v":57},"Коваленко Леонид",1999,"Kovalenko Leonid","Коваленко Леонид / Kovalenko Leonid / 1999","М",21,64.912280701754383,198.59]
[{"$f":"Гонки!$C$14","v":"Жук-трейл #6 Купалье"},"Трейл 10","Жук-трейл #6 Купалье Трейл 10",9.3600000000000012,"М",{"$f":"IF(E691=\"Ж\",VLOOKUP(C691,Гонки!$E$2:$P$16,11,FALSE),VLOOKUP(C691,Гонки!$E$2:$P$16,12,FALSE))","v":57},"Дедков Никита",1998,"Dedkov Nikita","Дедков Никита / Dedkov Nikita / 1998","М",22,63.15789473684211,193.23]
[{"$f":"Гонки!$C$14","v":"Жук-трейл #6 Купалье"},"Трейл 10","Жук-трейл #6 Купалье Трейл 10",9.3600000000000012,"М",{"$f":"IF(E692=\"Ж\",VLOOKUP(C692,Гонки!$E$2:$P$16,11,FALSE),VLOOKUP(C692,Гонки!$E$2:$P$16,12,FALSE))","v":57},"Жевняк Андрей",1986,"Zhevnyak Andrej","Жевняк Андрей / Zhevnyak Andrej / 1986","М",23,61.403508771929829,187.86]
[{"$f":"Гонки!$C$14","v":"Жук-трейл #6 Купалье"},"Трейл 10","Жук-трейл #6 Купалье Трейл 10",9.3600000000000012,"М",{"$f":"IF(E693=\"Ж\",VLOOKUP(C693,Гонки!$E$2:$P$16,11,FALSE),VLOOKUP(C693,Гонки!$E$2:$P$16,12,FALSE))","v":57},"Дышлевич Сергей",1982,"Dyshlevich Sergej","Дышлевич Сергей / Dyshlevich Sergej / 1982","М",24,59.649122807017548,182.49]
[{"$f":"Гонки!$C$14","v":"Жук-трейл #6 Купалье"},"Трейл 10","Жук-трейл #6 Купалье Трейл 10",9.3600000000000012,"М",{"$f":"IF(E694=\"Ж\",VLOOKUP(C694,Гонки!$E$2:$P$16,11,FALSE),VLOOKUP(C694,Гонки!$E$2:$P$16,12,FALSE))","v":57},"Легчеков Дмитрий",1984,"Legchekov Dmitrij","Легчеков Дмитрий / Legchekov Dmitrij / 1984","М",25,57.894736842105267,177.12]
[{"$f":"Гонки!$C$14","v":"Жук-трейл #6 Купалье"},"Трейл 10","Жук-трейл #6 Купалье Трейл 10",9.3600000000000012,"М",{"$f":"IF(E695=\"Ж\",VLOOKUP(C695,Гонки!$E$2:$P$16,11,FALSE),VLOOKUP(C695,Гонки!$E$2:$P$16,12,FALSE))","v":57},"Нещик Алексей",1983,"Neschik Aleksej","Нещик Алексей / Neschik Aleksej / 1983","М",26,56.140350877192986,171.76]
[{"$f":"Гонки!$C$14","v":"Жук-трейл #6 Купалье"},"Трейл 10","Жук-трейл #6 Купалье Трейл 10",9.3600000000000012,"М",{"$f":"IF(E696=\"Ж\",VLOOKUP(C696,Гонки!$E$2:$P$16,11,FALSE),VLOOKUP(C696,Гонки!$E$2:$P$16,12,FALSE))","v":57},"Новиков Денис",1989,"Novikov Denis","Новиков Денис / Novikov Denis / 1989","М",27,54.385964912280706,166.39]
[{"$f":"Гонки!$C$14","v":"Жук-трейл #6 Купалье"},"Трейл 10","Жук-трейл #6 Купалье Трейл 10",9.3600000000000012,"М",{"$f":"IF(E697=\"Ж\",VLOOKUP(C697,Гонки!$E$2:$P$16,11,FALSE),VLOOKUP(C697,Гонки!$E$2:$P$16,12,FALSE))","v":57},"Савич Евгений",1980,"Savich Evgenij","Савич Евгений / Savich Evgenij / 1980","М",28,52.631578947368425,161.02000000000001]
[{"$f":"Гонки!$C$14","v":"Жук-трейл #6 Купалье"},"Трейл 10","Жук-трейл #6 Купалье Трейл 10",9.3600000000000012,"М",{"$f":"IF(E698=\"Ж\",VLOOKUP(C698,Гонки!$E$2:$P$16,11,FALSE),VLOOKUP(C698,Гонки!$E$2:$P$16,12,FALSE))","v":57},"Малявко Сергей",1990,"Malyavko Sergej","Малявко Сергей / Malyavko Sergej / 1990","М",29,50.877192982456144,155.65]
[{"$f":"Гонки!$C$14","v":"Жук-трейл #6 Купалье"},"Трейл 10","Жук-трейл #6 Купалье Трейл 10",9.3600000000000012,"М",{"$f":"IF(E699=\"Ж\",VLOOKUP(C699,Гонки!$E$2:$P$16,11,FALSE),VLOOKUP(C699,Гонки!$E$2:$P$16,12,FALSE))","v":57},"Суматохин Виталий",1989,"Sumatohin Vitalij","Суматохин Виталий / Sumatohin Vitalij / 1989","М",30,49.122807017543856,150.29]
[{"$f":"Гонки!$C$14","v":"Жук-трейл #6 Купалье"},"Трейл 10","Жук-трейл #6 Купалье Трейл 10",9.3600000000000012,"М",{"$f":"IF(E700=\"Ж\",VLOOKUP(C700,Гонки!$E$2:$P$16,11,FALSE),VLOOKUP(C700,Гонки!$E$2:$P$16,12,FALSE))","v":57},"Делендик Максим",1992,"Delendik Maksim","Делендик Максим / Delendik Maksim / 1992","М",31,47.368421052631582,144.91999999999999]
[{"$f":"Гонки!$C$14","v":"Жук-трейл #6 Купалье"},"Трейл 10","Жук-трейл #6 Купалье Трейл 10",9.3600000000000012,"М",{"$f":"IF(E701=\"Ж\",VLOOKUP(C701,Гонки!$E$2:$P$16,11,FALSE),VLOOKUP(C701,Гонки!$E$2:$P$16,12,FALSE))","v":57},"Щербаков Илья",1989,"Scherbakov Ilya","Щербаков Илья / Scherbakov Ilya / 1989","М",32,45.614035087719294,139.55000000000001]
[{"$f":"Гонки!$C$14","v":"Жук-трейл #6 Купалье"},"Трейл 10","Жук-трейл #6 Купалье Трейл 10",9.3600000000000012,"М",{"$f":"IF(E702=\"Ж\",VLOOKUP(C702,Гонки!$E$2:$P$16,11,FALSE),VLOOKUP(C702,Гонки!$E$2:$P$16,12,FALSE))","v":57},"Станкевич Владимир",1982,"Stankevich Vladimir","Станкевич Владимир / Stankevich Vladimir / 1982","М",33,43.859649122807021,134.18]
[{"$f":"Гонки!$C$14","v":"Жук-трейл #6 Купалье"},"Трейл 10","Жук-трейл #6 Купалье Трейл 10",9.3600000000000012,"М",{"$f":"IF(E703=\"Ж\",VLOOKUP(C703,Гонки!$E$2:$P$16,11,FALSE),VLOOKUP(C703,Гонки!$E$2:$P$16,12,FALSE))","v":57},"Агаев Руслан",1995,"Agaev Ruslan","Агаев Руслан / Agaev Ruslan / 1995","М",34,42.105263157894733,128.82]
[{"$f":"Гонки!$C$14","v":"Жук-трейл #6 Купалье"},"Трейл 10","Жук-трейл #6 Купалье Трейл 10",9.3600000000000012,"М",{"$f":"IF(E704=\"Ж\",VLOOKUP(C704,Гонки!$E$2:$P$16,11,FALSE),VLOOKUP(C704,Гонки!$E$2:$P$16,12,FALSE))","v":57},"Белоусов Александр",1981,"Belousov Aleksandr","Белоусов Александр / Belousov Aleksandr / 1981","М",35,40.350877192982459,123.45]
[{"$f":"Гонки!$C$14","v":"Жук-трейл #6 Купалье"},"Трейл 10","Жук-трейл #6 Купалье Трейл 10",9.3600000000000012,"М",{"$f":"IF(E705=\"Ж\",VLOOKUP(C705,Гонки!$E$2:$P$16,11,FALSE),VLOOKUP(C705,Гонки!$E$2:$P$16,12,FALSE))","v":57},"Леонович Виталий",1984,"Leonovich Vitalij","Леонович Виталий / Leonovich Vitalij / 1984","М",36,38.596491228070171,118.08]
[{"$f":"Гонки!$C$14","v":"Жук-трейл #6 Купалье"},"Трейл 10","Жук-трейл #6 Купалье Трейл 10",{"$f":"VLOOKUP(C706,Список_гонок,10,FALSE)","v":9.3600000000000012},"М",{"$f":"IF(E706=\"Ж\",VLOOKUP(C706,Гонки!$E$2:$P$16,11,FALSE),VLOOKUP(C706,Гонки!$E$2:$P$16,12,FALSE))","v":57},"Чудаков Владислав",1977,"Chudakov Vladislav","Чудаков Владислав / Chudakov Vladislav / 1977","М",37,36.842105263157897,112.72]
[{"$f":"Гонки!$C$14","v":"Жук-трейл #6 Купалье"},"Трейл 10","Жук-трейл #6 Купалье Трейл 10",9.3600000000000012,"М",{"$f":"IF(E707=\"Ж\",VLOOKUP(C707,Гонки!$E$2:$P$16,11,FALSE),VLOOKUP(C707,Гонки!$E$2:$P$16,12,FALSE))","v":57},"Суворов Александр",1983,{"$f":"Translit(G707)","v":"Suvorov Aleksandr"},{"$f":"CONCATENATE(G707,\" / \",I707,\" / \",H707)","v":"Суворов Александр / Suvorov Aleksandr / 1983"},{"$f":"E707","v":"М"},38,35.087719298245617,{"$f":"ROUND(SQRT(D707)*M707,2)","v":107.35}]
[{"$f":"Гонки!$C$14","v":"Жук-трейл #6 Купалье"},"Трейл 10",{"$f":"CONCATENATE(A708,\" \",B708)","v":"Жук-трейл #6 Купалье Трейл 10"},9.3600000000000012,"М",{"$f":"IF(E708=\"Ж\",VLOOKUP(C708,Гонки!$E$2:$P$16,11,FALSE),VLOOKUP(C708,Гонки!$E$2:$P$16,12,FALSE))","v":57},"Дашкевич Павел",1999,"Dashkevich Pavel","Дашкевич Павел / Dashkevich Pavel / 1999","М",39,33.333333333333343,101.98]
[{"$f":"Гонки!$C$14","v":"Жук-трейл #6 Купалье"},"Трейл 10","Жук-трейл #6 Купалье Трейл 10",9.3600000000000012,"М",{"$f":"IF(E709=\"Ж\",VLOOKUP(C709,Гонки!$E$2:$P$16,11,FALSE),VLOOKUP(C709,Гонки!$E$2:$P$16,12,FALSE))","v":57},"Куликовский Ян",1992,"Kulikovskij Yan","Куликовский Ян / Kulikovskij Yan / 1992","М",40,31.578947368421055,96.61]
[{"$f":"Гонки!$C$14","v":"Жук-трейл #6 Купалье"},"Трейл 10","Жук-трейл #6 Купалье Трейл 10",9.3600000000000012,"М",{"$f":"IF(E710=\"Ж\",VLOOKUP(C710,Гонки!$E$2:$P$16,11,FALSE),VLOOKUP(C710,Гонки!$E$2:$P$16,12,FALSE))","v":57},"Ращинский Александр",1990,"Raschinskij Aleksandr","Ращинский Александр / Raschinskij Aleksandr / 1990","М",41,29.824561403508781,91.25]
[{"$f":"Гонки!$C$14","v":"Жук-трейл #6 Купалье"},"Трейл 10","Жук-трейл #6 Купалье Трейл 10",9.3600000000000012,"М",{"$f":"IF(E711=\"Ж\",VLOOKUP(C711,Гонки!$E$2:$P$16,11,FALSE),VLOOKUP(C711,Гонки!$E$2:$P$16,12,FALSE))","v":57},"Дундуков Андрей",1985,"Dundukov Andrej","Дундуков Андрей / Dundukov Andrej / 1985","М",42,28.070175438596493,85.88]
[{"$f":"Гонки!$C$14","v":"Жук-трейл #6 Купалье"},"Трейл 10","Жук-трейл #6 Купалье Трейл 10",9.3600000000000012,"М",{"$f":"IF(E712=\"Ж\",VLOOKUP(C712,Гонки!$E$2:$P$16,11,FALSE),VLOOKUP(C712,Гонки!$E$2:$P$16,12,FALSE))","v":57},"Даник Даниил",1982,"Danik Daniil","Даник Даниил / Danik Daniil / 1982","М",43,26.31578947368422,80.510000000000005]
[{"$f":"Гонки!$C$14","v":"Жук-трейл #6 Купалье"},"Трейл 10","Жук-трейл #6 Купалье Трейл 10",9.3600000000000012,"М",{"$f":"IF(E713=\"Ж\",VLOOKUP(C713,Гонки!$E$2:$P$16,11,FALSE),VLOOKUP(C713,Гонки!$E$2:$P$16,12,FALSE))","v":57},"Щукин Макс",1992,"Schukin Maks","Щукин Макс / Schukin Maks / 1992","М",44,24.561403508771932,75.14]
[{"$f":"Гонки!$C$14","v":"Жук-трейл #6 Купалье"},"Трейл 10","Жук-трейл #6 Купалье Трейл 10",9.3600000000000012,"М",{"$f":"IF(E714=\"Ж\",VLOOKUP(C714,Гонки!$E$2:$P$16,11,FALSE),VLOOKUP(C714,Гонки!$E$2:$P$16,12,FALSE))","v":57},"Кислов Михаил",1992,"Kislov Mihail","Кислов Михаил / Kislov Mihail / 1992","М",45,22.807017543859658,69.78]
[{"$f":"Гонки!$C$14","v":"Жук-трейл #6 Купалье"},"Трейл 10","Жук-трейл #6 Купалье Трейл 10",9.3600000000000012,"М",{"$f":"IF(E715=\"Ж\",VLOOKUP(C715,Гонки!$E$2:$P$16,11,FALSE),VLOOKUP(C715,Гонки!$E$2:$P$16,12,FALSE))","v":57},"Липский Александр",1977,"Lipskij Aleksandr","Липский Александр / Lipskij Aleksandr / 1977","М",46,21.05263157894737,64.41]
[{"$f":"Гонки!$C$14","v":"Жук-трейл #6 Купалье"},"Трейл 10","Жук-трейл #6 Купалье Трейл 10",9.3600000000000012,"М",{"$f":"IF(E716=\"Ж\",VLOOKUP(C716,Гонки!$E$2:$P$16,11,FALSE),VLOOKUP(C716,Гонки!$E$2:$P$16,12,FALSE))","v":57},"Артихович Александр",1972,"Artihovich Aleksandr","Артихович Александр / Artihovich Aleksandr / 1972","М",47,19.298245614035096,59.04]
[{"$f":"Гонки!$C$14","v":"Жук-трейл #6 Купалье"},"Трейл 10","Жук-трейл #6 Купалье Трейл 10",9.3600000000000012,"М",{"$f":"IF(E717=\"Ж\",VLOOKUP(C717,Гонки!$E$2:$P$16,11,FALSE),VLOOKUP(C717,Гонки!$E$2:$P$16,12,FALSE))","v":57},"Бердников Дмитрий",null,"Berdnikov Dmitrij","Бердников Дмитрий / Berdnikov Dmitrij / ","М",48,17.543859649122808,53.67]
[{"$f":"Гонки!$C$14","v":"Жук-трейл #6 Купалье"},"Трейл 10","Жук-трейл #6 Купалье Трейл 10",9.3600000000000012,"М",{"$f":"IF(E718=\"Ж\",VLOOKUP(C718,Гонки!$E$2:$P$16,11,FALSE),VLOOKUP(C718,Гонки!$E$2:$P$16,12,FALSE))","v":57},"Мертенс Андрей",1992,"Mertens Andrej","Мертенс Андрей / Mertens Andrej / 1992","М",49,15.789473684210535,48.31]
[{"$f":"Гонки!$C$14","v":"Жук-трейл #6 Купалье"},"Трейл 10","Жук-трейл #6 Купалье Трейл 10",9.3600000000000012,"М",{"$f":"IF(E719=\"Ж\",VLOOKUP(C719,Гонки!$E$2:$P$16,11,FALSE),VLOOKUP(C719,Гонки!$E$2:$P$16,12,FALSE))","v":57},"Самсонов Никита",1989,"Samsonov Nikita","Самсонов Никита / Samsonov Nikita / 1989","М",50,14.035087719298247,42.94]
[{"$f":"Гонки!$C$14","v":"Жук-трейл #6 Купалье"},"Трейл 10","Жук-трейл #6 Купалье Трейл 10",9.3600000000000012,"М",{"$f":"IF(E720=\"Ж\",VLOOKUP(C720,Гонки!$E$2:$P$16,11,FALSE),VLOOKUP(C720,Гонки!$E$2:$P$16,12,FALSE))","v":57},"Йоцюс Виталий",null,"Jotsyus Vitalij","Йоцюс Виталий / Jotsyus Vitalij / ","М",51,12.280701754385973,37.57]
[{"$f":"Гонки!$C$14","v":"Жук-трейл #6 Купалье"},"Трейл 10","Жук-трейл #6 Купалье Трейл 10",9.3600000000000012,"М",{"$f":"IF(E721=\"Ж\",VLOOKUP(C721,Гонки!$E$2:$P$16,11,FALSE),VLOOKUP(C721,Гонки!$E$2:$P$16,12,FALSE))","v":57},"Халомзик Дмитрий",1972,"Halomzik Dmitrij","Халомзик Дмитрий / Halomzik Dmitrij / 1972","М",52,10.526315789473685,32.200000000000003]
[{"$f":"Гонки!$C$14","v":"Жук-трейл #6 Купалье"},"Трейл 10","Жук-трейл #6 Купалье Трейл 10",9.3600000000000012,"М",{"$f":"IF(E722=\"Ж\",VLOOKUP(C722,Гонки!$E$2:$P$16,11,FALSE),VLOOKUP(C722,Гонки!$E$2:$P$16,12,FALSE))","v":57},"Пилецкий Максим",1991,"Piletskij Maksim","Пилецкий Максим / Piletskij Maksim / 1991","М",53,8.7719298245614112,26.84]
[{"$f":"Гонки!$C$14","v":"Жук-трейл #6 Купалье"},"Трейл 10","Жук-трейл #6 Купалье Трейл 10",9.3600000000000012,"М",{"$f":"IF(E723=\"Ж\",VLOOKUP(C723,Гонки!$E$2:$P$16,11,FALSE),VLOOKUP(C723,Гонки!$E$2:$P$16,12,FALSE))","v":57},"Калюжный Дмитрий",1986,"Kalyuzhnyj Dmitrij","Калюжный Дмитрий / Kalyuzhnyj Dmitrij / 1986","М",54,7.0175438596491233,21.47]
[{"$f":"Гонки!$C$14","v":"Жук-трейл #6 Купалье"},"Трейл 10","Жук-трейл #6 Купалье Трейл 10",9.3600000000000012,"М",{"$f":"IF(E724=\"Ж\",VLOOKUP(C724,Гонки!$E$2:$P$16,11,FALSE),VLOOKUP(C724,Гонки!$E$2:$P$16,12,FALSE))","v":57},"Троцкий Игнат",2002,"Trotskij Ignat","Троцкий Игнат / Trotskij Ignat / 2002","М",55,5.2631578947368496,16.100000000000001]
[{"$f":"Гонки!$C$14","v":"Жук-трейл #6 Купалье"},"Трейл 10","Жук-трейл #6 Купалье Трейл 10",9.3600000000000012,"М",{"$f":"IF(E725=\"Ж\",VLOOKUP(C725,Гонки!$E$2:$P$16,11,FALSE),VLOOKUP(C725,Гонки!$E$2:$P$16,12,FALSE))","v":57},"Кузьмич Дмитрий",1975,"Kuzmich Dmitrij","Кузьмич Дмитрий / Kuzmich Dmitrij / 1975","М",56,3.5087719298245617,10.73]
[{"$f":"Гонки!$C$14","v":"Жук-трейл #6 Купалье"},"Трейл 10","Жук-трейл #6 Купалье Трейл 10",9.3600000000000012,"М",{"$f":"IF(E726=\"Ж\",VLOOKUP(C726,Гонки!$E$2:$P$16,11,FALSE),VLOOKUP(C726,Гонки!$E$2:$P$16,12,FALSE))","v":57},"Гречишкин Алексей",1983,"Grechishkin Aleksej","Гречишкин Алексей / Grechishkin Aleksej / 1983","М",57,1.7543859649122879,5.37]
[{"$f":"Гонки!$C$14","v":"Жук-трейл #6 Купалье"},"Трейл 10","Жук-трейл #6 Купалье Трейл 10",9.3600000000000012,"Ж",{"$f":"IF(E727=\"Ж\",VLOOKUP(C727,Гонки!$E$2:$P$16,11,FALSE),VLOOKUP(C727,Гонки!$E$2:$P$16,12,FALSE))","v":33},"Гилевич Диана",1993,"Gilevich Diana","Гилевич Диана / Gilevich Diana / 1993","Ж",1,100,305.94]
[{"$f":"Гонки!$C$14","v":"Жук-трейл #6 Купалье"},"Трейл 10","Жук-трейл #6 Купалье Трейл 10",9.3600000000000012,"Ж",{"$f":"IF(E728=\"Ж\",VLOOKUP(C728,Гонки!$E$2:$P$16,11,FALSE),VLOOKUP(C728,Гонки!$E$2:$P$16,12,FALSE))","v":33},"Милинкевич Елена",1977,"Milinkevich Elena","Милинкевич Елена / Milinkevich Elena / 1977","Ж",2,96.969696969696969,296.67]
[{"$f":"Гонки!$C$14","v":"Жук-трейл #6 Купалье"},"Трейл 10","Жук-трейл #6 Купалье Трейл 10",9.3600000000000012,"Ж",{"$f":"IF(E729=\"Ж\",VLOOKUP(C729,Гонки!$E$2:$P$16,11,FALSE),VLOOKUP(C729,Гонки!$E$2:$P$16,12,FALSE))","v":33},"Козич Галина",1990,"Kozich Galina","Козич Галина / Kozich Galina / 1990","Ж",3,93.939393939393938,287.39999999999998]
[{"$f":"Гонки!$C$14","v":"Жук-трейл #6 Купалье"},"Трейл 10","Жук-трейл #6 Купалье Трейл 10",9.3600000000000012,"Ж",{"$f":"IF(E730=\"Ж\",VLOOKUP(C730,Гонки!$E$2:$P$16,11,FALSE),VLOOKUP(C730,Гонки!$E$2:$P$16,12,FALSE))","v":33},"Титова Инна",1986,"Titova Inna","Титова Инна / Titova Inna / 1986","Ж",4,90.909090909090907,278.13]
[{"$f":"Гонки!$C$14","v":"Жук-трейл #6 Купалье"},"Трейл 10","Жук-трейл #6 Купалье Трейл 10",9.3600000000000012,"Ж",{"$f":"IF(E731=\"Ж\",VLOOKUP(C731,Гонки!$E$2:$P$16,11,FALSE),VLOOKUP(C731,Гонки!$E$2:$P$16,12,FALSE))","v":33},"Шахметова Наташа",1992,"Shahmetova Natasha","Шахметова Наташа / Shahmetova Natasha / 1992","Ж",5,87.878787878787875,268.86]
[{"$f":"Гонки!$C$14","v":"Жук-трейл #6 Купалье"},"Трейл 10","Жук-трейл #6 Купалье Трейл 10",9.3600000000000012,"Ж",{"$f":"IF(E732=\"Ж\",VLOOKUP(C732,Гонки!$E$2:$P$16,11,FALSE),VLOOKUP(C732,Гонки!$E$2:$P$16,12,FALSE))","v":33},"Журавлёва Оксана",1980,"Zhuravljova Oksana","Журавлёва Оксана / Zhuravljova Oksana / 1980","Ж",6,84.848484848484844,259.58999999999997]
[{"$f":"Гонки!$C$14","v":"Жук-трейл #6 Купалье"},"Трейл 10","Жук-трейл #6 Купалье Трейл 10",9.3600000000000012,"Ж",{"$f":"IF(E733=\"Ж\",VLOOKUP(C733,Гонки!$E$2:$P$16,11,FALSE),VLOOKUP(C733,Гонки!$E$2:$P$16,12,FALSE))","v":33},"Малькевич Елена",1984,"Malkevich Elena","Малькевич Елена / Malkevich Elena / 1984","Ж",7,81.818181818181813,250.32]
[{"$f":"Гонки!$C$14","v":"Жук-трейл #6 Купалье"},"Трейл 10","Жук-трейл #6 Купалье Трейл 10",9.3600000000000012,"Ж",{"$f":"IF(E734=\"Ж\",VLOOKUP(C734,Гонки!$E$2:$P$16,11,FALSE),VLOOKUP(C734,Гонки!$E$2:$P$16,12,FALSE))","v":33},"Верамейчик Елена",null,"Veramejchik Elena","Верамейчик Елена / Veramejchik Elena / ","Ж",8,{"$f":"100-((L734-1)/F734)*100","v":78.787878787878782},241.04]
[{"$f":"Гонки!$C$14","v":"Жук-трейл #6 Купалье"},"Трейл 10","Жук-трейл #6 Купалье Трейл 10",9.3600000000000012,"Ж",{"$f":"IF(E735=\"Ж\",VLOOKUP(C735,Гонки!$E$2:$P$16,11,FALSE),VLOOKUP(C735,Гонки!$E$2:$P$16,12,FALSE))","v":33},"Будрик Юлия",1995,"Budrik Yuliya","Будрик Юлия / Budrik Yuliya / 1995","Ж",9,75.757575757575751,231.77]
[{"$f":"Гонки!$C$14","v":"Жук-трейл #6 Купалье"},{"$f":"$B$670","v":"Трейл 10"},"Жук-трейл #6 Купалье Трейл 10",9.3600000000000012,"Ж",{"$f":"IF(E736=\"Ж\",VLOOKUP(C736,Гонки!$E$2:$P$16,11,FALSE),VLOOKUP(C736,Гонки!$E$2:$P$16,12,FALSE))","v":33},"Лесникович Лиана",1988,"Lesnikovich Liana","Лесникович Лиана / Lesnikovich Liana / 1988","Ж",10,72.727272727272734,222.5]
[{"$f":"Гонки!$C$14","v":"Жук-трейл #6 Купалье"},"Трейл 10","Жук-трейл #6 Купалье Трейл 10",9.3600000000000012,"Ж",{"$f":"IF(E737=\"Ж\",VLOOKUP(C737,Гонки!$E$2:$P$16,11,FALSE),VLOOKUP(C737,Гонки!$E$2:$P$16,12,FALSE))","v":33},"Жила Анастасия",1994,"Zhila Anastasiya","Жила Анастасия / Zhila Anastasiya / 1994","Ж",11,69.696969696969688,213.23]
[{"$f":"Гонки!$C$14","v":"Жук-трейл #6 Купалье"},"Трейл 10","Жук-трейл #6 Купалье Трейл 10",9.3600000000000012,"Ж",{"$f":"IF(E738=\"Ж\",VLOOKUP(C738,Гонки!$E$2:$P$16,11,FALSE),VLOOKUP(C738,Гонки!$E$2:$P$16,12,FALSE))","v":33},"Пархимович Ирина",1988,"Parhimovich Irina","Пархимович Ирина / Parhimovich Irina / 1988","Ж",12,66.666666666666671,203.96]
[{"$f":"Гонки!$C$14","v":"Жук-трейл #6 Купалье"},"Трейл 10","Жук-трейл #6 Купалье Трейл 10",9.3600000000000012,"Ж",{"$f":"IF(E739=\"Ж\",VLOOKUP(C739,Гонки!$E$2:$P$16,11,FALSE),VLOOKUP(C739,Гонки!$E$2:$P$16,12,FALSE))","v":33},"Жданович Александра",1985,"Zhdanovich Aleksandra","Жданович Александра / Zhdanovich Aleksandra / 1985","Ж",13,63.636363636363633,194.69]
[{"$f":"Гонки!$C$14","v":"Жук-трейл #6 Купалье"},"Трейл 10","Жук-трейл #6 Купалье Трейл 10",9.3600000000000012,"Ж",{"$f":"IF(E740=\"Ж\",VLOOKUP(C740,Гонки!$E$2:$P$16,11,FALSE),VLOOKUP(C740,Гонки!$E$2:$P$16,12,FALSE))","v":33},"Павлова Анна",1992,"Pavlova Anna","Павлова Анна / Pavlova Anna / 1992","Ж",14,60.606060606060609,185.42]
[{"$f":"Гонки!$C$14","v":"Жук-трейл #6 Купалье"},"Трейл 10","Жук-трейл #6 Купалье Трейл 10",9.3600000000000012,"Ж",{"$f":"IF(E741=\"Ж\",VLOOKUP(C741,Гонки!$E$2:$P$16,11,FALSE),VLOOKUP(C741,Гонки!$E$2:$P$16,12,FALSE))","v":33},"Полякова Анна",1987,"Polyakova Anna","Полякова Анна / Polyakova Anna / 1987","Ж",15,57.575757575757578,176.15]
[{"$f":"Гонки!$C$14","v":"Жук-трейл #6 Купалье"},"Трейл 10","Жук-трейл #6 Купалье Трейл 10",9.3600000000000012,"Ж",{"$f":"IF(E742=\"Ж\",VLOOKUP(C742,Гонки!$E$2:$P$16,11,FALSE),VLOOKUP(C742,Гонки!$E$2:$P$16,12,FALSE))","v":33},"Рудковская Татьяна",1997,"Rudkovskaya Tatyana","Рудковская Татьяна / Rudkovskaya Tatyana / 1997","Ж",16,54.545454545454547,166.88]
[{"$f":"Гонки!$C$14","v":"Жук-трейл #6 Купалье"},"Трейл 10","Жук-трейл #6 Купалье Трейл 10",9.3600000000000012,"Ж",{"$f":"IF(E743=\"Ж\",VLOOKUP(C743,Гонки!$E$2:$P$16,11,FALSE),VLOOKUP(C743,Гонки!$E$2:$P$16,12,FALSE))","v":33},"Павловская Светлана",1984,"Pavlovskaya Svetlana","Павловская Светлана / Pavlovskaya Svetlana / 1984","Ж",17,51.515151515151516,157.61000000000001]
[{"$f":"Гонки!$C$14","v":"Жук-трейл #6 Купалье"},"Трейл 10","Жук-трейл #6 Купалье Трейл 10",9.3600000000000012,"Ж",{"$f":"IF(E744=\"Ж\",VLOOKUP(C744,Гонки!$E$2:$P$16,11,FALSE),VLOOKUP(C744,Гонки!$E$2:$P$16,12,FALSE))","v":33},"Необердина Мария",1987,"Neoberdina Mariya","Необердина Мария / Neoberdina Mariya / 1987","Ж",18,48.484848484848484,148.34]
[{"$f":"Гонки!$C$14","v":"Жук-трейл #6 Купалье"},"Трейл 10","Жук-трейл #6 Купалье Трейл 10",9.3600000000000012,"Ж",{"$f":"IF(E745=\"Ж\",VLOOKUP(C745,Гонки!$E$2:$P$16,11,FALSE),VLOOKUP(C745,Гонки!$E$2:$P$16,12,FALSE))","v":33},"Григорьева Светлана",1984,"Grigoreva Svetlana","Григорьева Светлана / Grigoreva Svetlana / 1984","Ж",19,45.45454545454546,139.06]
[{"$f":"Гонки!$C$14","v":"Жук-трейл #6 Купалье"},"Трейл 10","Жук-трейл #6 Купалье Трейл 10",9.3600000000000012,"Ж",{"$f":"IF(E746=\"Ж\",VLOOKUP(C746,Гонки!$E$2:$P$16,11,FALSE),VLOOKUP(C746,Гонки!$E$2:$P$16,12,FALSE))","v":33},"Русакова Татьяна",1979,"Rusakova Tatyana","Русакова Татьяна / Rusakova Tatyana / 1979","Ж",20,42.424242424242422,129.79]
[{"$f":"Гонки!$C$14","v":"Жук-трейл #6 Купалье"},"Трейл 10","Жук-трейл #6 Купалье Трейл 10",9.3600000000000012,"Ж",{"$f":"IF(E747=\"Ж\",VLOOKUP(C747,Гонки!$E$2:$P$16,11,FALSE),VLOOKUP(C747,Гонки!$E$2:$P$16,12,FALSE))","v":33},"Гарбар Екатерина",1989,"Garbar Ekaterina","Гарбар Екатерина / Garbar Ekaterina / 1989","Ж",21,39.393939393939391,120.52]
[{"$f":"Гонки!$C$14","v":"Жук-трейл #6 Купалье"},"Трейл 10","Жук-трейл #6 Купалье Трейл 10",9.3600000000000012,"Ж",{"$f":"IF(E748=\"Ж\",VLOOKUP(C748,Гонки!$E$2:$P$16,11,FALSE),VLOOKUP(C748,Гонки!$E$2:$P$16,12,FALSE))","v":33},"Ковалёва Катерина",1987,"Kovaljova Katerina","Ковалёва Катерина / Kovaljova Katerina / 1987","Ж",22,36.363636363636367,111.25]
[{"$f":"Гонки!$C$14","v":"Жук-трейл #6 Купалье"},"Трейл 10","Жук-трейл #6 Купалье Трейл 10",9.3600000000000012,"Ж",{"$f":"IF(E749=\"Ж\",VLOOKUP(C749,Гонки!$E$2:$P$16,11,FALSE),VLOOKUP(C749,Гонки!$E$2:$P$16,12,FALSE))","v":33},"Кукобникова Вита",1993,"Kukobnikova Vita","Кукобникова Вита / Kukobnikova Vita / 1993","Ж",23,33.333333333333343,101.98]
[{"$f":"Гонки!$C$14","v":"Жук-трейл #6 Купалье"},"Трейл 10","Жук-трейл #6 Купалье Трейл 10",9.3600000000000012,"Ж",{"$f":"IF(E750=\"Ж\",VLOOKUP(C750,Гонки!$E$2:$P$16,11,FALSE),VLOOKUP(C750,Гонки!$E$2:$P$16,12,FALSE))","v":33},"Терехова Татьяна",1982,"Terehova Tatyana","Терехова Татьяна / Terehova Tatyana / 1982","Ж",24,30.303030303030297,92.71]
[{"$f":"Гонки!$C$14","v":"Жук-трейл #6 Купалье"},"Трейл 10","Жук-трейл #6 Купалье Трейл 10",9.3600000000000012,"Ж",{"$f":"IF(E751=\"Ж\",VLOOKUP(C751,Гонки!$E$2:$P$16,11,FALSE),VLOOKUP(C751,Гонки!$E$2:$P$16,12,FALSE))","v":33},"Нехайчик Мария",1995,"Nehajchik Mariya","Нехайчик Мария / Nehajchik Mariya / 1995","Ж",25,27.272727272727266,83.44]
[{"$f":"Гонки!$C$14","v":"Жук-трейл #6 Купалье"},"Трейл 10","Жук-трейл #6 Купалье Трейл 10",9.3600000000000012,"Ж",{"$f":"IF(E752=\"Ж\",VLOOKUP(C752,Гонки!$E$2:$P$16,11,FALSE),VLOOKUP(C752,Гонки!$E$2:$P$16,12,FALSE))","v":33},"Ружицкая Елена",1983,"Ruzhitskaya Elena","Ружицкая Елена / Ruzhitskaya Elena / 1983","Ж",26,24.242424242424249,74.17]
[{"$f":"Гонки!$C$14","v":"Жук-трейл #6 Купалье"},"Трейл 10","Жук-трейл #6 Купалье Трейл 10",9.3600000000000012,"Ж",{"$f":"IF(E753=\"Ж\",VLOOKUP(C753,Гонки!$E$2:$P$16,11,FALSE),VLOOKUP(C753,Гонки!$E$2:$P$16,12,FALSE))","v":33},"Гракович Ольга",1994,"Grakovich Olga","Гракович Ольга / Grakovich Olga / 1994","Ж",27,21.212121212121218,64.900000000000006]
[{"$f":"Гонки!$C$14","v":"Жук-трейл #6 Купалье"},"Трейл 10","Жук-трейл #6 Купалье Трейл 10",9.3600000000000012,"Ж",{"$f":"IF(E754=\"Ж\",VLOOKUP(C754,Гонки!$E$2:$P$16,11,FALSE),VLOOKUP(C754,Гонки!$E$2:$P$16,12,FALSE))","v":33},"Завалова Анастасия",1994,"Zavalova Anastasiya","Завалова Анастасия / Zavalova Anastasiya / 1994","Ж",28,18.181818181818173,55.63]
[{"$f":"Гонки!$C$14","v":"Жук-трейл #6 Купалье"},"Трейл 10","Жук-трейл #6 Купалье Трейл 10",9.3600000000000012,"Ж",{"$f":"IF(E755=\"Ж\",VLOOKUP(C755,Гонки!$E$2:$P$16,11,FALSE),VLOOKUP(C755,Гонки!$E$2:$P$16,12,FALSE))","v":33},"Кривальцевич Валентина",1984,"Krivaltsevich Valentina","Кривальцевич Валентина / Krivaltsevich Valentina / 1984","Ж",29,15.151515151515156,46.35]
[{"$f":"Гонки!$C$14","v":"Жук-трейл #6 Купалье"},"Трейл 10","Жук-трейл #6 Купалье Трейл 10",9.3600000000000012,"Ж",{"$f":"IF(E756=\"Ж\",VLOOKUP(C756,Гонки!$E$2:$P$16,11,FALSE),VLOOKUP(C756,Гонки!$E$2:$P$16,12,FALSE))","v":33},"Ковальчук Екатерина",1987,"Kovalchuk Ekaterina","Ковальчук Екатерина / Kovalchuk Ekaterina / 1987","Ж",29,15.151515151515156,46.35]
[{"$f":"Гонки!$C$14","v":"Жук-трейл #6 Купалье"},"Трейл 10","Жук-трейл #6 Купалье Трейл 10",9.3600000000000012,"Ж",{"$f":"IF(E757=\"Ж\",VLOOKUP(C757,Гонки!$E$2:$P$16,11,FALSE),VLOOKUP(C757,Гонки!$E$2:$P$16,12,FALSE))","v":33},"Михайлова Марина",1988,"Mihajlova Marina","Михайлова Марина / Mihajlova Marina / 1988","Ж",31,9.0909090909090935,27.81]
[{"$f":"Гонки!$C$14","v":"Жук-трейл #6 Купалье"},"Трейл 10","Жук-трейл #6 Купалье Трейл 10",9.3600000000000012,"Ж",{"$f":"IF(E758=\"Ж\",VLOOKUP(C758,Гонки!$E$2:$P$16,11,FALSE),VLOOKUP(C758,Гонки!$E$2:$P$16,12,FALSE))","v":33},"Зятикова Наталья",1983,"Zyatikova Natalya","Зятикова Наталья / Zyatikova Natalya / 1983","Ж",32,6.0606060606060623,18.54]
[{"$f":"Гонки!$C$14","v":"Жук-трейл #6 Купалье"},"Трейл 10","Жук-трейл #6 Купалье Трейл 10",9.3600000000000012,"Ж",{"$f":"IF(E759=\"Ж\",VLOOKUP(C759,Гонки!$E$2:$P$16,11,FALSE),VLOOKUP(C759,Гонки!$E$2:$P$16,12,FALSE))","v":33},"Карабанькова Марина",1989,"Karabankova Marina","Карабанькова Марина / Karabankova Marina / 1989","Ж",33,3.0303030303030312,9.27]
[{"$f":"Гонки!$C$14","v":"Жук-трейл #6 Купалье"},{"$f":"Гонки!D16","v":"Трейл 21"},"Жук-трейл #6 Купалье Трейл 21",14.720000000000002,"М",{"$f":"IF(E760=\"Ж\",VLOOKUP(C760,Гонки!$E$2:$P$16,11,FALSE),VLOOKUP(C760,Гонки!$E$2:$P$16,12,FALSE))","v":78},"Новиченко Антон",1997,"Novichenko Anton","Новиченко Антон / Novichenko Anton / 1997","М",1,100,383.67]
[{"$f":"Гонки!$C$14","v":"Жук-трейл #6 Купалье"},{"$f":"$B$760","v":"Трейл 21"},"Жук-трейл #6 Купалье Трейл 21",14.720000000000002,"М",{"$f":"IF(E761=\"Ж\",VLOOKUP(C761,Гонки!$E$2:$P$16,11,FALSE),VLOOKUP(C761,Гонки!$E$2:$P$16,12,FALSE))","v":78},"Мальков Валентин",1988,"Malkov Valentin","Мальков Валентин / Malkov Valentin / 1988","М",2,98.717948717948715,378.75]
[{"$f":"Гонки!$C$14","v":"Жук-трейл #6 Купалье"},{"$f":"$B$760","v":"Трейл 21"},"Жук-трейл #6 Купалье Трейл 21",14.720000000000002,"М",{"$f":"IF(E762=\"Ж\",VLOOKUP(C762,Гонки!$E$2:$P$16,11,FALSE),VLOOKUP(C762,Гонки!$E$2:$P$16,12,FALSE))","v":78},"Пісарчык Сяргей",1980,"Pіsarchyk Syargej","Пісарчык Сяргей / Pіsarchyk Syargej / 1980","М",3,97.435897435897431,373.83]
[{"$f":"Гонки!$C$14","v":"Жук-трейл #6 Купалье"},"Трейл 21","Жук-трейл #6 Купалье Трейл 21",14.720000000000002,"М",{"$f":"IF(E763=\"Ж\",VLOOKUP(C763,Гонки!$E$2:$P$16,11,FALSE),VLOOKUP(C763,Гонки!$E$2:$P$16,12,FALSE))","v":78},"Аноничев Александр",1982,"Anonichev Aleksandr","Аноничев Александр / Anonichev Aleksandr / 1982","М",4,96.15384615384616,368.91]
[{"$f":"Гонки!$C$14","v":"Жук-трейл #6 Купалье"},"Трейл 21","Жук-трейл #6 Купалье Трейл 21",14.720000000000002,"М",{"$f":"IF(E764=\"Ж\",VLOOKUP(C764,Гонки!$E$2:$P$16,11,FALSE),VLOOKUP(C764,Гонки!$E$2:$P$16,12,FALSE))","v":78},"Салодкин Сергей",1984,"Salodkin Sergej","Салодкин Сергей / Salodkin Sergej / 1984","М",5,94.871794871794876,363.99]
[{"$f":"Гонки!$C$14","v":"Жук-трейл #6 Купалье"},"Трейл 21","Жук-трейл #6 Купалье Трейл 21",14.720000000000002,"М",{"$f":"IF(E765=\"Ж\",VLOOKUP(C765,Гонки!$E$2:$P$16,11,FALSE),VLOOKUP(C765,Гонки!$E$2:$P$16,12,FALSE))","v":78},"Журавлёв Андрей",1978,"Zhuravljov Andrej","Журавлёв Андрей / Zhuravljov Andrej / 1978","М",6,93.589743589743591,359.07]
[{"$f":"Гонки!$C$14","v":"Жук-трейл #6 Купалье"},"Трейл 21","Жук-трейл #6 Купалье Трейл 21",14.720000000000002,"М",{"$f":"IF(E766=\"Ж\",VLOOKUP(C766,Гонки!$E$2:$P$16,11,FALSE),VLOOKUP(C766,Гонки!$E$2:$P$16,12,FALSE))","v":78},"Синица Кирилл",1981,"Sinitsa Kirill","Синица Кирилл / Sinitsa Kirill / 1981","М",7,92.307692307692307,354.15]
[{"$f":"Гонки!$C$14","v":"Жук-трейл #6 Купалье"},"Трейл 21","Жук-трейл #6 Купалье Трейл 21",14.720000000000002,"М",{"$f":"IF(E767=\"Ж\",VLOOKUP(C767,Гонки!$E$2:$P$16,11,FALSE),VLOOKUP(C767,Гонки!$E$2:$P$16,12,FALSE))","v":78},"Леонов Иван",1986,"Leonov Ivan","Леонов Иван / Leonov Ivan / 1986","М",8,91.025641025641022,349.23]
[{"$f":"Гонки!$C$14","v":"Жук-трейл #6 Купалье"},"Трейл 21","Жук-трейл #6 Купалье Трейл 21",14.720000000000002,"М",{"$f":"IF(E768=\"Ж\",VLOOKUP(C768,Гонки!$E$2:$P$16,11,FALSE),VLOOKUP(C768,Гонки!$E$2:$P$16,12,FALSE))","v":78},"Ласюк Юрий",1987,"Lasyuk Yurij","Ласюк Юрий / Lasyuk Yurij / 1987","М",9,89.743589743589752,344.32]
[{"$f":"Гонки!$C$14","v":"Жук-трейл #6 Купалье"},"Трейл 21","Жук-трейл #6 Купалье Трейл 21",14.720000000000002,"М",{"$f":"IF(E769=\"Ж\",VLOOKUP(C769,Гонки!$E$2:$P$16,11,FALSE),VLOOKUP(C769,Гонки!$E$2:$P$16,12,FALSE))","v":78},"Зуйков Антон",1995,"Zujkov Anton","Зуйков Антон / Zujkov Anton / 1995","М",10,88.461538461538467,339.4]
[{"$f":"Гонки!$C$14","v":"Жук-трейл #6 Купалье"},"Трейл 21","Жук-трейл #6 Купалье Трейл 21",{"$f":"VLOOKUP(C770,Список_гонок,10,FALSE)","v":14.720000000000002},"М",{"$f":"IF(E770=\"Ж\",VLOOKUP(C770,Гонки!$E$2:$P$16,11,FALSE),VLOOKUP(C770,Гонки!$E$2:$P$16,12,FALSE))","v":78},"Молчан Александр",1988,"Molchan Aleksandr","Молчан Александр / Molchan Aleksandr / 1988","М",11,87.179487179487182,334.48]
[{"$f":"Гонки!$C$14","v":"Жук-трейл #6 Купалье"},"Трейл 21","Жук-трейл #6 Купалье Трейл 21",14.720000000000002,"М",{"$f":"IF(E771=\"Ж\",VLOOKUP(C771,Гонки!$E$2:$P$16,11,FALSE),VLOOKUP(C771,Гонки!$E$2:$P$16,12,FALSE))","v":78},"Сидоревич Александр",1985,{"$f":"Translit(G771)","v":"Sidorevich Aleksandr"},{"$f":"CONCATENATE(G771,\" / \",I771,\" / \",H771)","v":"Сидоревич Александр / Sidorevich Aleksandr / 1985"},{"$f":"E771","v":"М"},12,85.897435897435898,{"$f":"ROUND(SQRT(D771)*M771,2)","v":329.56}]
[{"$f":"Гонки!$C$14","v":"Жук-трейл #6 Купалье"},"Трейл 21",{"$f":"CONCATENATE(A772,\" \",B772)","v":"Жук-трейл #6 Купалье Трейл 21"},14.720000000000002,"М",{"$f":"IF(E772=\"Ж\",VLOOKUP(C772,Гонки!$E$2:$P$16,11,FALSE),VLOOKUP(C772,Гонки!$E$2:$P$16,12,FALSE))","v":78},"Мосийчук Максим",1984,"Mosijchuk Maksim","Мосийчук Максим / Mosijchuk Maksim / 1984","М",13,84.615384615384613,324.64]
[{"$f":"Гонки!$C$14","v":"Жук-трейл #6 Купалье"},"Трейл 21","Жук-трейл #6 Купалье Трейл 21",14.720000000000002,"М",{"$f":"IF(E773=\"Ж\",VLOOKUP(C773,Гонки!$E$2:$P$16,11,FALSE),VLOOKUP(C773,Гонки!$E$2:$P$16,12,FALSE))","v":78},"Свечников Антон",1991,"Svechnikov Anton","Свечников Антон / Svechnikov Anton / 1991","М",14,83.333333333333343,319.72000000000003]
[{"$f":"Гонки!$C$14","v":"Жук-трейл #6 Купалье"},"Трейл 21","Жук-трейл #6 Купалье Трейл 21",14.720000000000002,"М",{"$f":"IF(E774=\"Ж\",VLOOKUP(C774,Гонки!$E$2:$P$16,11,FALSE),VLOOKUP(C774,Гонки!$E$2:$P$16,12,FALSE))","v":78},"Маханьков Александр",1983,"Mahankov Aleksandr","Маханьков Александр / Mahankov Aleksandr / 1983","М",15,82.051282051282044,314.8]
[{"$f":"Гонки!$C$14","v":"Жук-трейл #6 Купалье"},"Трейл 21","Жук-трейл #6 Купалье Трейл 21",14.720000000000002,"М",{"$f":"IF(E775=\"Ж\",VLOOKUP(C775,Гонки!$E$2:$P$16,11,FALSE),VLOOKUP(C775,Гонки!$E$2:$P$16,12,FALSE))","v":78},"Скуратович Антон",1985,"Skuratovich Anton","Скуратович Антон / Skuratovich Anton / 1985","М",16,80.769230769230774,309.88]
[{"$f":"Гонки!$C$14","v":"Жук-трейл #6 Купалье"},"Трейл 21","Жук-трейл #6 Купалье Трейл 21",14.720000000000002,"М",{"$f":"IF(E776=\"Ж\",VLOOKUP(C776,Гонки!$E$2:$P$16,11,FALSE),VLOOKUP(C776,Гонки!$E$2:$P$16,12,FALSE))","v":78},"Выборный Александр",1985,"Vybornyj Aleksandr","Выборный Александр / Vybornyj Aleksandr / 1985","М",17,79.487179487179489,304.97000000000003]
[{"$f":"Гонки!$C$14","v":"Жук-трейл #6 Купалье"},"Трейл 21","Жук-трейл #6 Купалье Трейл 21",14.720000000000002,"М",{"$f":"IF(E777=\"Ж\",VLOOKUP(C777,Гонки!$E$2:$P$16,11,FALSE),VLOOKUP(C777,Гонки!$E$2:$P$16,12,FALSE))","v":78},"Попов Александр",1986,"Popov Aleksandr","Попов Александр / Popov Aleksandr / 1986","М",18,78.205128205128204,300.05]
[{"$f":"Гонки!$C$14","v":"Жук-трейл #6 Купалье"},"Трейл 21","Жук-трейл #6 Купалье Трейл 21",14.720000000000002,"М",{"$f":"IF(E778=\"Ж\",VLOOKUP(C778,Гонки!$E$2:$P$16,11,FALSE),VLOOKUP(C778,Гонки!$E$2:$P$16,12,FALSE))","v":78},"Березовский Андрей",1973,"Berezovskij Andrej","Березовский Андрей / Berezovskij Andrej / 1973","М",19,76.92307692307692,295.13]
[{"$f":"Гонки!$C$14","v":"Жук-трейл #6 Купалье"},"Трейл 21","Жук-трейл #6 Купалье Трейл 21",14.720000000000002,"М",{"$f":"IF(E779=\"Ж\",VLOOKUP(C779,Гонки!$E$2:$P$16,11,FALSE),VLOOKUP(C779,Гонки!$E$2:$P$16,12,FALSE))","v":78},"Лойко Сергей",1985,"Lojko Sergej","Лойко Сергей / Lojko Sergej / 1985","М",20,75.641025641025635,290.20999999999998]
[{"$f":"Гонки!$C$14","v":"Жук-трейл #6 Купалье"},"Трейл 21","Жук-трейл #6 Купалье Трейл 21",14.720000000000002,"М",{"$f":"IF(E780=\"Ж\",VLOOKUP(C780,Гонки!$E$2:$P$16,11,FALSE),VLOOKUP(C780,Гонки!$E$2:$P$16,12,FALSE))","v":78},"Борисевич Леонид",1969,"Borisevich Leonid","Борисевич Леонид / Borisevich Leonid / 1969","М",20,75.641025641025635,290.20999999999998]
[{"$f":"Гонки!$C$14","v":"Жук-трейл #6 Купалье"},"Трейл 21","Жук-трейл #6 Купалье Трейл 21",14.720000000000002,"М",{"$f":"IF(E781=\"Ж\",VLOOKUP(C781,Гонки!$E$2:$P$16,11,FALSE),VLOOKUP(C781,Гонки!$E$2:$P$16,12,FALSE))","v":78},"Маркевич Денис",1981,"Markevich Denis","Маркевич Денис / Markevich Denis / 1981","М",22,73.07692307692308,280.37]
[{"$f":"Гонки!$C$14","v":"Жук-трейл #6 Купалье"},"Трейл 21","Жук-трейл #6 Купалье Трейл 21",14.720000000000002,"М",{"$f":"IF(E782=\"Ж\",VLOOKUP(C782,Гонки!$E$2:$P$16,11,FALSE),VLOOKUP(C782,Гонки!$E$2:$P$16,12,FALSE))","v":78},"Чернышев Дмитрий",1987,"Chernyshev Dmitrij","Чернышев Дмитрий / Chernyshev Dmitrij / 1987","М",23,71.794871794871796,275.45]
[{"$f":"Гонки!$C$14","v":"Жук-трейл #6 Купалье"},"Трейл 21","Жук-трейл #6 Купалье Трейл 21",14.720000000000002,"М",{"$f":"IF(E783=\"Ж\",VLOOKUP(C783,Гонки!$E$2:$P$16,11,FALSE),VLOOKUP(C783,Гонки!$E$2:$P$16,12,FALSE))","v":78},"Забабуро Сергей",1978,"Zababuro Sergej","Забабуро Сергей / Zababuro Sergej / 1978","М",24,70.512820512820511,270.52999999999997]
[{"$f":"Гонки!$C$14","v":"Жук-трейл #6 Купалье"},"Трейл 21","Жук-трейл #6 Купалье Трейл 21",14.720000000000002,"М",{"$f":"IF(E784=\"Ж\",VLOOKUP(C784,Гонки!$E$2:$P$16,11,FALSE),VLOOKUP(C784,Гонки!$E$2:$P$16,12,FALSE))","v":78},"Захарьев Алексей",1984,"Zaharev Aleksej","Захарьев Алексей / Zaharev Aleksej / 1984","М",25,69.230769230769226,265.62]
[{"$f":"Гонки!$C$14","v":"Жук-трейл #6 Купалье"},"Трейл 21","Жук-трейл #6 Купалье Трейл 21",14.720000000000002,"М",{"$f":"IF(E785=\"Ж\",VLOOKUP(C785,Гонки!$E$2:$P$16,11,FALSE),VLOOKUP(C785,Гонки!$E$2:$P$16,12,FALSE))","v":78},"Гумбар Илья",1989,"Gumbar Ilya","Гумбар Илья / Gumbar Ilya / 1989","М",26,67.948717948717956,260.7]
[{"$f":"Гонки!$C$14","v":"Жук-трейл #6 Купалье"},"Трейл 21","Жук-трейл #6 Купалье Трейл 21",14.720000000000002,"М",{"$f":"IF(E786=\"Ж\",VLOOKUP(C786,Гонки!$E$2:$P$16,11,FALSE),VLOOKUP(C786,Гонки!$E$2:$P$16,12,FALSE))","v":78},"Величко Павел",1982,"Velichko Pavel","Величко Павел / Velichko Pavel / 1982","М",27,66.666666666666671,255.78]
[{"$f":"Гонки!$C$14","v":"Жук-трейл #6 Купалье"},"Трейл 21","Жук-трейл #6 Купалье Трейл 21",14.720000000000002,"М",{"$f":"IF(E787=\"Ж\",VLOOKUP(C787,Гонки!$E$2:$P$16,11,FALSE),VLOOKUP(C787,Гонки!$E$2:$P$16,12,FALSE))","v":78},"Подрез Ярослав",1996,"Podrez Yaroslav","Подрез Ярослав / Podrez Yaroslav / 1996","М",28,65.384615384615387,250.86]
[{"$f":"Гонки!$C$14","v":"Жук-трейл #6 Купалье"},"Трейл 21","Жук-трейл #6 Купалье Трейл 21",14.720000000000002,"М",{"$f":"IF(E788=\"Ж\",VLOOKUP(C788,Гонки!$E$2:$P$16,11,FALSE),VLOOKUP(C788,Гонки!$E$2:$P$16,12,FALSE))","v":78},"Лесковец Александр",1990,"Leskovets Aleksandr","Лесковец Александр / Leskovets Aleksandr / 1990","М",29,64.102564102564102,245.94]
[{"$f":"Гонки!$C$14","v":"Жук-трейл #6 Купалье"},"Трейл 21","Жук-трейл #6 Купалье Трейл 21",14.720000000000002,"М",{"$f":"IF(E789=\"Ж\",VLOOKUP(C789,Гонки!$E$2:$P$16,11,FALSE),VLOOKUP(C789,Гонки!$E$2:$P$16,12,FALSE))","v":78},"Маковский Дмитрий",1981,"Makovskij Dmitrij","Маковский Дмитрий / Makovskij Dmitrij / 1981","М",30,62.820512820512818,241.02]
[{"$f":"Гонки!$C$14","v":"Жук-трейл #6 Купалье"},"Трейл 21","Жук-трейл #6 Купалье Трейл 21",14.720000000000002,"М",{"$f":"IF(E790=\"Ж\",VLOOKUP(C790,Гонки!$E$2:$P$16,11,FALSE),VLOOKUP(C790,Гонки!$E$2:$P$16,12,FALSE))","v":78},"Лавник Игорь",1983,"Lavnik Igor","Лавник Игорь / Lavnik Igor / 1983","М",31,61.538461538461533,236.1]
[{"$f":"Гонки!$C$14","v":"Жук-трейл #6 Купалье"},"Трейл 21","Жук-трейл #6 Купалье Трейл 21",14.720000000000002,"М",{"$f":"IF(E791=\"Ж\",VLOOKUP(C791,Гонки!$E$2:$P$16,11,FALSE),VLOOKUP(C791,Гонки!$E$2:$P$16,12,FALSE))","v":78},"Бузо Александр",1982,"Buzo Aleksandr","Бузо Александр / Buzo Aleksandr / 1982","М",32,60.256410256410255,231.18]
[{"$f":"Гонки!$C$14","v":"Жук-трейл #6 Купалье"},"Трейл 21","Жук-трейл #6 Купалье Трейл 21",14.720000000000002,"М",{"$f":"IF(E792=\"Ж\",VLOOKUP(C792,Гонки!$E$2:$P$16,11,FALSE),VLOOKUP(C792,Гонки!$E$2:$P$16,12,FALSE))","v":78},"Володько Андрей",1986,"Volodko Andrej","Володько Андрей / Volodko Andrej / 1986","М",33,58.974358974358978,226.26]
[{"$f":"Гонки!$C$14","v":"Жук-трейл #6 Купалье"},"Трейл 21","Жук-трейл #6 Купалье Трейл 21",14.720000000000002,"М",{"$f":"IF(E793=\"Ж\",VLOOKUP(C793,Гонки!$E$2:$P$16,11,FALSE),VLOOKUP(C793,Гонки!$E$2:$P$16,12,FALSE))","v":78},"Алексеев Алексей",1980,"Alekseev Aleksej","Алексеев Алексей / Alekseev Aleksej / 1980","М",34,57.692307692307693,221.35]
[{"$f":"Гонки!$C$14","v":"Жук-трейл #6 Купалье"},"Трейл 21","Жук-трейл #6 Купалье Трейл 21",14.720000000000002,"М",{"$f":"IF(E794=\"Ж\",VLOOKUP(C794,Гонки!$E$2:$P$16,11,FALSE),VLOOKUP(C794,Гонки!$E$2:$P$16,12,FALSE))","v":78},"Казак Дмитрий",1979,"Kazak Dmitrij","Казак Дмитрий / Kazak Dmitrij / 1979","М",35,56.410256410256409,216.43]
[{"$f":"Гонки!$C$14","v":"Жук-трейл #6 Купалье"},"Трейл 21","Жук-трейл #6 Купалье Трейл 21",14.720000000000002,"М",{"$f":"IF(E795=\"Ж\",VLOOKUP(C795,Гонки!$E$2:$P$16,11,FALSE),VLOOKUP(C795,Гонки!$E$2:$P$16,12,FALSE))","v":78},"Палий Андрей",1984,"Palij Andrej","Палий Андрей / Palij Andrej / 1984","М",36,55.128205128205124,211.51]
[{"$f":"Гонки!$C$14","v":"Жук-трейл #6 Купалье"},"Трейл 21","Жук-трейл #6 Купалье Трейл 21",14.720000000000002,"М",{"$f":"IF(E796=\"Ж\",VLOOKUP(C796,Гонки!$E$2:$P$16,11,FALSE),VLOOKUP(C796,Гонки!$E$2:$P$16,12,FALSE))","v":78},"Молочко Александр",1981,"Molochko Aleksandr","Молочко Александр / Molochko Aleksandr / 1981","М",37,53.846153846153847,206.59]
[{"$f":"Гонки!$C$14","v":"Жук-трейл #6 Купалье"},"Трейл 21","Жук-трейл #6 Купалье Трейл 21",14.720000000000002,"М",{"$f":"IF(E797=\"Ж\",VLOOKUP(C797,Гонки!$E$2:$P$16,11,FALSE),VLOOKUP(C797,Гонки!$E$2:$P$16,12,FALSE))","v":78},"Рагойша Пётр",1976,"Ragojsha Pjotr","Рагойша Пётр / Ragojsha Pjotr / 1976","М",38,52.564102564102569,201.67]
[{"$f":"Гонки!$C$14","v":"Жук-трейл #6 Купалье"},"Трейл 21","Жук-трейл #6 Купалье Трейл 21",14.720000000000002,"М",{"$f":"IF(E798=\"Ж\",VLOOKUP(C798,Гонки!$E$2:$P$16,11,FALSE),VLOOKUP(C798,Гонки!$E$2:$P$16,12,FALSE))","v":78},"Тюев Даниил",1977,"Tyuev Daniil","Тюев Даниил / Tyuev Daniil / 1977","М",38,{"$f":"100-((L798-1)/F798)*100","v":52.564102564102569},201.67]
[{"$f":"Гонки!$C$14","v":"Жук-трейл #6 Купалье"},"Трейл 21","Жук-трейл #6 Купалье Трейл 21",14.720000000000002,"М",{"$f":"IF(E799=\"Ж\",VLOOKUP(C799,Гонки!$E$2:$P$16,11,FALSE),VLOOKUP(C799,Гонки!$E$2:$P$16,12,FALSE))","v":78},"Попадюк Игорь",1982,"Popadyuk Igor","Попадюк Игорь / Popadyuk Igor / 1982","М",40,50,191.83]
[{"$f":"Гонки!$C$14","v":"Жук-трейл #6 Купалье"},"Трейл 21","Жук-трейл #6 Купалье Трейл 21",14.720000000000002,"М",{"$f":"IF(E800=\"Ж\",VLOOKUP(C800,Гонки!$E$2:$P$16,11,FALSE),VLOOKUP(C800,Гонки!$E$2:$P$16,12,FALSE))","v":78},"Глушков Александр",1980,"Glushkov Aleksandr","Глушков Александр / Glushkov Aleksandr / 1980","М",41,48.717948717948723,186.91]
[{"$f":"Гонки!$C$14","v":"Жук-трейл #6 Купалье"},"Трейл 21","Жук-трейл #6 Купалье Трейл 21",14.720000000000002,"М",{"$f":"IF(E801=\"Ж\",VLOOKUP(C801,Гонки!$E$2:$P$16,11,FALSE),VLOOKUP(C801,Гонки!$E$2:$P$16,12,FALSE))","v":78},"Харитонов Иван",1973,"Haritonov Ivan","Харитонов Иван / Haritonov Ivan / 1973","М",42,47.435897435897431,182]
[{"$f":"Гонки!$C$14","v":"Жук-трейл #6 Купалье"},"Трейл 21","Жук-трейл #6 Купалье Трейл 21",14.720000000000002,"М",{"$f":"IF(E802=\"Ж\",VLOOKUP(C802,Гонки!$E$2:$P$16,11,FALSE),VLOOKUP(C802,Гонки!$E$2:$P$16,12,FALSE))","v":78},"Бажанский Виталий",1982,"Bazhanskij Vitalij","Бажанский Виталий / Bazhanskij Vitalij / 1982","М",43,46.153846153846153,177.08]
[{"$f":"Гонки!$C$14","v":"Жук-трейл #6 Купалье"},"Трейл 21","Жук-трейл #6 Купалье Трейл 21",14.720000000000002,"М",{"$f":"IF(E803=\"Ж\",VLOOKUP(C803,Гонки!$E$2:$P$16,11,FALSE),VLOOKUP(C803,Гонки!$E$2:$P$16,12,FALSE))","v":78},"Шепетько Сергей",1987,"Shepetko Sergej","Шепетько Сергей / Shepetko Sergej / 1987","М",44,44.871794871794869,172.16]
[{"$f":"Гонки!$C$14","v":"Жук-трейл #6 Купалье"},"Трейл 21","Жук-трейл #6 Купалье Трейл 21",14.720000000000002,"М",{"$f":"IF(E804=\"Ж\",VLOOKUP(C804,Гонки!$E$2:$P$16,11,FALSE),VLOOKUP(C804,Гонки!$E$2:$P$16,12,FALSE))","v":78},"Утлик Максим",1985,"Utlik Maksim","Утлик Максим / Utlik Maksim / 1985","М",45,43.589743589743591,167.24]
[{"$f":"Гонки!$C$14","v":"Жук-трейл #6 Купалье"},"Трейл 21","Жук-трейл #6 Купалье Трейл 21",14.720000000000002,"М",{"$f":"IF(E805=\"Ж\",VLOOKUP(C805,Гонки!$E$2:$P$16,11,FALSE),VLOOKUP(C805,Гонки!$E$2:$P$16,12,FALSE))","v":78},"Зеленский Александр",1978,"Zelenskij Aleksandr","Зеленский Александр / Zelenskij Aleksandr / 1978","М",46,42.307692307692314,162.32]
[{"$f":"Гонки!$C$14","v":"Жук-трейл #6 Купалье"},"Трейл 21","Жук-трейл #6 Купалье Трейл 21",14.720000000000002,"М",{"$f":"IF(E806=\"Ж\",VLOOKUP(C806,Гонки!$E$2:$P$16,11,FALSE),VLOOKUP(C806,Гонки!$E$2:$P$16,12,FALSE))","v":78},"Леонов Алексей",1986,"Leonov Aleksej","Леонов Алексей / Leonov Aleksej / 1986","М",47,41.025641025641022,157.4]
[{"$f":"Гонки!$C$14","v":"Жук-трейл #6 Купалье"},"Трейл 21","Жук-трейл #6 Купалье Трейл 21",14.720000000000002,"М",{"$f":"IF(E807=\"Ж\",VLOOKUP(C807,Гонки!$E$2:$P$16,11,FALSE),VLOOKUP(C807,Гонки!$E$2:$P$16,12,FALSE))","v":78},"Барановский Алексей",1981,"Baranovskij Aleksej","Барановский Алексей / Baranovskij Aleksej / 1981","М",48,39.743589743589745,152.47999999999999]
[{"$f":"Гонки!$C$14","v":"Жук-трейл #6 Купалье"},"Трейл 21","Жук-трейл #6 Купалье Трейл 21",14.720000000000002,"М",{"$f":"IF(E808=\"Ж\",VLOOKUP(C808,Гонки!$E$2:$P$16,11,FALSE),VLOOKUP(C808,Гонки!$E$2:$P$16,12,FALSE))","v":78},"Медвецкий Денис",1986,"Medvetskij Denis","Медвецкий Денис / Medvetskij Denis / 1986","М",49,38.46153846153846,147.56]
[{"$f":"Гонки!$C$14","v":"Жук-трейл #6 Купалье"},"Трейл 21","Жук-трейл #6 Купалье Трейл 21",14.720000000000002,"М",{"$f":"IF(E809=\"Ж\",VLOOKUP(C809,Гонки!$E$2:$P$16,11,FALSE),VLOOKUP(C809,Гонки!$E$2:$P$16,12,FALSE))","v":78},"Березин Артём",1986,"Berezin Artjom","Березин Артём / Berezin Artjom / 1986","М",50,37.179487179487182,142.65]
[{"$f":"Гонки!$C$14","v":"Жук-трейл #6 Купалье"},"Трейл 21","Жук-трейл #6 Купалье Трейл 21",14.720000000000002,"М",{"$f":"IF(E810=\"Ж\",VLOOKUP(C810,Гонки!$E$2:$P$16,11,FALSE),VLOOKUP(C810,Гонки!$E$2:$P$16,12,FALSE))","v":78},"Коровец Богдан",1976,"Korovets Bogdan","Коровец Богдан / Korovets Bogdan / 1976","М",51,35.897435897435898,137.72999999999999]
[{"$f":"Гонки!$C$14","v":"Жук-трейл #6 Купалье"},"Трейл 21","Жук-трейл #6 Купалье Трейл 21",14.720000000000002,"М",{"$f":"IF(E811=\"Ж\",VLOOKUP(C811,Гонки!$E$2:$P$16,11,FALSE),VLOOKUP(C811,Гонки!$E$2:$P$16,12,FALSE))","v":78},"Федорович Николай",1959,"Fedorovich Nikolaj","Федорович Николай / Fedorovich Nikolaj / 1959","М",52,34.615384615384613,132.81]
[{"$f":"Гонки!$C$14","v":"Жук-трейл #6 Купалье"},"Трейл 21","Жук-трейл #6 Купалье Трейл 21",14.720000000000002,"М",{"$f":"IF(E812=\"Ж\",VLOOKUP(C812,Гонки!$E$2:$P$16,11,FALSE),VLOOKUP(C812,Гонки!$E$2:$P$16,12,FALSE))","v":78},"Хадорик Владимир",1986,"Hadorik Vladimir","Хадорик Владимир / Hadorik Vladimir / 1986","М",53,33.333333333333343,127.89]
[{"$f":"Гонки!$C$14","v":"Жук-трейл #6 Купалье"},"Трейл 21","Жук-трейл #6 Купалье Трейл 21",14.720000000000002,"М",{"$f":"IF(E813=\"Ж\",VLOOKUP(C813,Гонки!$E$2:$P$16,11,FALSE),VLOOKUP(C813,Гонки!$E$2:$P$16,12,FALSE))","v":78},"Искорцев Алексей",1980,"Iskortsev Aleksej","Искорцев Алексей / Iskortsev Aleksej / 1980","М",54,32.051282051282044,122.97]
[{"$f":"Гонки!$C$14","v":"Жук-трейл #6 Купалье"},"Трейл 21","Жук-трейл #6 Купалье Трейл 21",14.720000000000002,"М",{"$f":"IF(E814=\"Ж\",VLOOKUP(C814,Гонки!$E$2:$P$16,11,FALSE),VLOOKUP(C814,Гонки!$E$2:$P$16,12,FALSE))","v":78},"Борисевич Александр",1989,"Borisevich Aleksandr","Борисевич Александр / Borisevich Aleksandr / 1989","М",55,30.769230769230774,118.05]
[{"$f":"Гонки!$C$14","v":"Жук-трейл #6 Купалье"},"Трейл 21","Жук-трейл #6 Купалье Трейл 21",14.720000000000002,"М",{"$f":"IF(E815=\"Ж\",VLOOKUP(C815,Гонки!$E$2:$P$16,11,FALSE),VLOOKUP(C815,Гонки!$E$2:$P$16,12,FALSE))","v":78},"Хамицевич Михаил",1980,"Hamitsevich Mihail","Хамицевич Михаил / Hamitsevich Mihail / 1980","М",56,29.487179487179489,113.13]
[{"$f":"Гонки!$C$14","v":"Жук-трейл #6 Купалье"},"Трейл 21","Жук-трейл #6 Купалье Трейл 21",14.720000000000002,"М",{"$f":"IF(E816=\"Ж\",VLOOKUP(C816,Гонки!$E$2:$P$16,11,FALSE),VLOOKUP(C816,Гонки!$E$2:$P$16,12,FALSE))","v":78},"Симонов Вадим",1985,"Simonov Vadim","Симонов Вадим / Simonov Vadim / 1985","М",57,28.205128205128204,108.21]
[{"$f":"Гонки!$C$14","v":"Жук-трейл #6 Купалье"},"Трейл 21","Жук-трейл #6 Купалье Трейл 21",14.720000000000002,"М",{"$f":"IF(E817=\"Ж\",VLOOKUP(C817,Гонки!$E$2:$P$16,11,FALSE),VLOOKUP(C817,Гонки!$E$2:$P$16,12,FALSE))","v":78},"Сербаев Виталий",1979,"Serbaev Vitalij","Сербаев Виталий / Serbaev Vitalij / 1979","М",58,26.923076923076934,103.29]
[{"$f":"Гонки!$C$14","v":"Жук-трейл #6 Купалье"},"Трейл 21","Жук-трейл #6 Купалье Трейл 21",14.720000000000002,"М",{"$f":"IF(E818=\"Ж\",VLOOKUP(C818,Гонки!$E$2:$P$16,11,FALSE),VLOOKUP(C818,Гонки!$E$2:$P$16,12,FALSE))","v":78},"Шапелевич Максим",1987,"Shapelevich Maksim","Шапелевич Максим / Shapelevich Maksim / 1987","М",59,25.641025641025635,98.38]
[{"$f":"Гонки!$C$14","v":"Жук-трейл #6 Купалье"},"Трейл 21","Жук-трейл #6 Купалье Трейл 21",14.720000000000002,"М",{"$f":"IF(E819=\"Ж\",VLOOKUP(C819,Гонки!$E$2:$P$16,11,FALSE),VLOOKUP(C819,Гонки!$E$2:$P$16,12,FALSE))","v":78},"Ключеня Виталий",1982,"Klyuchenya Vitalij","Ключеня Виталий / Klyuchenya Vitalij / 1982","М",60,24.358974358974365,93.46]
[{"$f":"Гонки!$C$14","v":"Жук-трейл #6 Купалье"},"Трейл 21","Жук-трейл #6 Купалье Трейл 21",14.720000000000002,"М",{"$f":"IF(E820=\"Ж\",VLOOKUP(C820,Гонки!$E$2:$P$16,11,FALSE),VLOOKUP(C820,Гонки!$E$2:$P$16,12,FALSE))","v":78},"Бушковский Максим",1989,"Bushkovskij Maksim","Бушковский Максим / Bushkovskij Maksim / 1989","М",61,23.076923076923066,88.54]
[{"$f":"Гонки!$C$14","v":"Жук-трейл #6 Купалье"},"Трейл 21","Жук-трейл #6 Купалье Трейл 21",14.720000000000002,"М",{"$f":"IF(E821=\"Ж\",VLOOKUP(C821,Гонки!$E$2:$P$16,11,FALSE),VLOOKUP(C821,Гонки!$E$2:$P$16,12,FALSE))","v":78},"Орлов Максим",1990,"Orlov Maksim","Орлов Максим / Orlov Maksim / 1990","М",62,21.794871794871796,83.62]
[{"$f":"Гонки!$C$14","v":"Жук-трейл #6 Купалье"},"Трейл 21","Жук-трейл #6 Купалье Трейл 21",14.720000000000002,"М",{"$f":"IF(E822=\"Ж\",VLOOKUP(C822,Гонки!$E$2:$P$16,11,FALSE),VLOOKUP(C822,Гонки!$E$2:$P$16,12,FALSE))","v":78},"Кудрявец Валерий",1975,"Kudryavets Valerij","Кудрявец Валерий / Kudryavets Valerij / 1975","М",63,20.512820512820511,78.7]
[{"$f":"Гонки!$C$14","v":"Жук-трейл #6 Купалье"},"Трейл 21","Жук-трейл #6 Купалье Трейл 21",14.720000000000002,"М",{"$f":"IF(E823=\"Ж\",VLOOKUP(C823,Гонки!$E$2:$P$16,11,FALSE),VLOOKUP(C823,Гонки!$E$2:$P$16,12,FALSE))","v":78},"Лисовский Виктор",1964,"Lisovskij Viktor","Лисовский Виктор / Lisovskij Viktor / 1964","М",64,19.230769230769226,73.78]
[{"$f":"Гонки!$C$14","v":"Жук-трейл #6 Купалье"},"Трейл 21","Жук-трейл #6 Купалье Трейл 21",14.720000000000002,"М",{"$f":"IF(E824=\"Ж\",VLOOKUP(C824,Гонки!$E$2:$P$16,11,FALSE),VLOOKUP(C824,Гонки!$E$2:$P$16,12,FALSE))","v":78},"Жидович Вадим",1984,"Zhidovich Vadim","Жидович Вадим / Zhidovich Vadim / 1984","М",65,17.948717948717956,68.86]
[{"$f":"Гонки!$C$14","v":"Жук-трейл #6 Купалье"},"Трейл 21","Жук-трейл #6 Купалье Трейл 21",14.720000000000002,"М",{"$f":"IF(E825=\"Ж\",VLOOKUP(C825,Гонки!$E$2:$P$16,11,FALSE),VLOOKUP(C825,Гонки!$E$2:$P$16,12,FALSE))","v":78},"Шабанов Олег",1971,"Shabanov Oleg","Шабанов Олег / Shabanov Oleg / 1971","М",66,16.666666666666657,63.94]
[{"$f":"Гонки!$C$14","v":"Жук-трейл #6 Купалье"},{"$f":"$B$760","v":"Трейл 21"},"Жук-трейл #6 Купалье Трейл 21",14.720000000000002,"М",{"$f":"IF(E826=\"Ж\",VLOOKUP(C826,Гонки!$E$2:$P$16,11,FALSE),VLOOKUP(C826,Гонки!$E$2:$P$16,12,FALSE))","v":78},"Тарасенко Павел",1983,"Tarasenko Pavel","Тарасенко Павел / Tarasenko Pavel / 1983","М",66,16.666666666666657,63.94]
[{"$f":"Гонки!$C$14","v":"Жук-трейл #6 Купалье"},"Трейл 21","Жук-трейл #6 Купалье Трейл 21",14.720000000000002,"М",{"$f":"IF(E827=\"Ж\",VLOOKUP(C827,Гонки!$E$2:$P$16,11,FALSE),VLOOKUP(C827,Гонки!$E$2:$P$16,12,FALSE))","v":78},"Радиончик Александр",1985,"Radionchik Aleksandr","Радиончик Александр / Radionchik Aleksandr / 1985","М",68,14.102564102564102,54.11]
[{"$f":"Гонки!$C$14","v":"Жук-трейл #6 Купалье"},"Трейл 21","Жук-трейл #6 Купалье Трейл 21",14.720000000000002,"М",{"$f":"IF(E828=\"Ж\",VLOOKUP(C828,Гонки!$E$2:$P$16,11,FALSE),VLOOKUP(C828,Гонки!$E$2:$P$16,12,FALSE))","v":78},"Лучинович Сергей",1979,"Luchinovich Sergej","Лучинович Сергей / Luchinovich Sergej / 1979","М",69,12.820512820512818,49.19]
[{"$f":"Гонки!$C$14","v":"Жук-трейл #6 Купалье"},"Трейл 21","Жук-трейл #6 Купалье Трейл 21",14.720000000000002,"М",{"$f":"IF(E829=\"Ж\",VLOOKUP(C829,Гонки!$E$2:$P$16,11,FALSE),VLOOKUP(C829,Гонки!$E$2:$P$16,12,FALSE))","v":78},"Карпович Владимир",1983,"Karpovich Vladimir","Карпович Владимир / Karpovich Vladimir / 1983","М",70,11.538461538461547,44.27]
[{"$f":"Гонки!$C$14","v":"Жук-трейл #6 Купалье"},"Трейл 21","Жук-трейл #6 Купалье Трейл 21",14.720000000000002,"М",{"$f":"IF(E830=\"Ж\",VLOOKUP(C830,Гонки!$E$2:$P$16,11,FALSE),VLOOKUP(C830,Гонки!$E$2:$P$16,12,FALSE))","v":78},"Таран Виталий",1983,"Taran Vitalij","Таран Виталий / Taran Vitalij / 1983","М",71,10.256410256410248,39.35]
[{"$f":"Гонки!$C$14","v":"Жук-трейл #6 Купалье"},"Трейл 21","Жук-трейл #6 Купалье Трейл 21",14.720000000000002,"М",{"$f":"IF(E831=\"Ж\",VLOOKUP(C831,Гонки!$E$2:$P$16,11,FALSE),VLOOKUP(C831,Гонки!$E$2:$P$16,12,FALSE))","v":78},"Белицкий Денис",1990,"Belitskij Denis","Белицкий Денис / Belitskij Denis / 1990","М",72,8.974358974358978,34.43]
[{"$f":"Гонки!$C$14","v":"Жук-трейл #6 Купалье"},"Трейл 21","Жук-трейл #6 Купалье Трейл 21",14.720000000000002,"М",{"$f":"IF(E832=\"Ж\",VLOOKUP(C832,Гонки!$E$2:$P$16,11,FALSE),VLOOKUP(C832,Гонки!$E$2:$P$16,12,FALSE))","v":78},"Жучков Алексей",1985,"Zhuchkov Aleksej","Жучков Алексей / Zhuchkov Aleksej / 1985","М",73,7.6923076923076934,29.51]
[{"$f":"Гонки!$C$14","v":"Жук-трейл #6 Купалье"},"Трейл 21","Жук-трейл #6 Купалье Трейл 21",14.720000000000002,"М",{"$f":"IF(E833=\"Ж\",VLOOKUP(C833,Гонки!$E$2:$P$16,11,FALSE),VLOOKUP(C833,Гонки!$E$2:$P$16,12,FALSE))","v":78},"Якимченко Анатолий",1967,"Yakimchenko Anatolij","Якимченко Анатолий / Yakimchenko Anatolij / 1967","М",74,6.4102564102564088,24.59]
[{"$f":"Гонки!$C$14","v":"Жук-трейл #6 Купалье"},"Трейл 21","Жук-трейл #6 Купалье Трейл 21",{"$f":"VLOOKUP(C834,Список_гонок,10,FALSE)","v":14.720000000000002},"М",{"$f":"IF(E834=\"Ж\",VLOOKUP(C834,Гонки!$E$2:$P$16,11,FALSE),VLOOKUP(C834,Гонки!$E$2:$P$16,12,FALSE))","v":78},"Лупин Сергей",1985,"Lupin Sergej","Лупин Сергей / Lupin Sergej / 1985","М",75,5.1282051282051384,19.68]
[{"$f":"Гонки!$C$14","v":"Жук-трейл #6 Купалье"},"Трейл 21","Жук-трейл #6 Купалье Трейл 21",14.720000000000002,"М",{"$f":"IF(E835=\"Ж\",VLOOKUP(C835,Гонки!$E$2:$P$16,11,FALSE),VLOOKUP(C835,Гонки!$E$2:$P$16,12,FALSE))","v":78},"Покульницкий Алексей",1988,{"$f":"Translit(G835)","v":"Pokulnitskij Aleksej"},{"$f":"CONCATENATE(G835,\" / \",I835,\" / \",H835)","v":"Покульницкий Алексей / Pokulnitskij Aleksej / 1988"},{"$f":"E835","v":"М"},76,3.8461538461538396,{"$f":"ROUND(SQRT(D835)*M835,2)","v":14.76}]
[{"$f":"Гонки!$C$14","v":"Жук-трейл #6 Купалье"},"Трейл 21",{"$f":"CONCATENATE(A836,\" \",B836)","v":"Жук-трейл #6 Купалье Трейл 21"},14.720000000000002,"М",{"$f":"IF(E836=\"Ж\",VLOOKUP(C836,Гонки!$E$2:$P$16,11,FALSE),VLOOKUP(C836,Гонки!$E$2:$P$16,12,FALSE))","v":78},"Зятиков Евгений",1982,"Zyatikov Evgenij","Зятиков Евгений / Zyatikov Evgenij / 1982","М",77,2.5641025641025692,9.84]
[{"$f":"Гонки!$C$14","v":"Жук-трейл #6 Купалье"},"Трейл 21","Жук-трейл #6 Купалье Трейл 21",14.720000000000002,"М",{"$f":"IF(E837=\"Ж\",VLOOKUP(C837,Гонки!$E$2:$P$16,11,FALSE),VLOOKUP(C837,Гонки!$E$2:$P$16,12,FALSE))","v":78},"Анацко Леонид",1961,"Anatsko Leonid","Анацко Леонид / Anatsko Leonid / 1961","М",78,1.2820512820512704,4.92]
[{"$f":"Гонки!$C$14","v":"Жук-трейл #6 Купалье"},"Трейл 21","Жук-трейл #6 Купалье Трейл 21",14.720000000000002,"Ж",{"$f":"IF(E838=\"Ж\",VLOOKUP(C838,Гонки!$E$2:$P$16,11,FALSE),VLOOKUP(C838,Гонки!$E$2:$P$16,12,FALSE))","v":14},"Цвирбут Юлия",1992,"Tsvirbut Yuliya","Цвирбут Юлия / Tsvirbut Yuliya / 1992","Ж",1,100,383.67]
[{"$f":"Гонки!$C$14","v":"Жук-трейл #6 Купалье"},"Трейл 21","Жук-трейл #6 Купалье Трейл 21",14.720000000000002,"Ж",{"$f":"IF(E839=\"Ж\",VLOOKUP(C839,Гонки!$E$2:$P$16,11,FALSE),VLOOKUP(C839,Гонки!$E$2:$P$16,12,FALSE))","v":14},"Черкас Александра",1992,"Cherkas Aleksandra","Черкас Александра / Cherkas Aleksandra / 1992","Ж",2,92.857142857142861,356.26]
[{"$f":"Гонки!$C$14","v":"Жук-трейл #6 Купалье"},"Трейл 21","Жук-трейл #6 Купалье Трейл 21",14.720000000000002,"Ж",{"$f":"IF(E840=\"Ж\",VLOOKUP(C840,Гонки!$E$2:$P$16,11,FALSE),VLOOKUP(C840,Гонки!$E$2:$P$16,12,FALSE))","v":14},"Делендик Надежда",1987,"Delendik Nadezhda","Делендик Надежда / Delendik Nadezhda / 1987","Ж",3,85.714285714285722,328.86]
[{"$f":"Гонки!$C$14","v":"Жук-трейл #6 Купалье"},"Трейл 21","Жук-трейл #6 Купалье Трейл 21",14.720000000000002,"Ж",{"$f":"IF(E841=\"Ж\",VLOOKUP(C841,Гонки!$E$2:$P$16,11,FALSE),VLOOKUP(C841,Гонки!$E$2:$P$16,12,FALSE))","v":14},"Сулимчик Оксана",1986,"Sulimchik Oksana","Сулимчик Оксана / Sulimchik Oksana / 1986","Ж",4,78.571428571428569,301.45]
[{"$f":"Гонки!$C$14","v":"Жук-трейл #6 Купалье"},"Трейл 21","Жук-трейл #6 Купалье Трейл 21",14.720000000000002,"Ж",{"$f":"IF(E842=\"Ж\",VLOOKUP(C842,Гонки!$E$2:$P$16,11,FALSE),VLOOKUP(C842,Гонки!$E$2:$P$16,12,FALSE))","v":14},"Белая Юлия",1988,"Belaya Yuliya","Белая Юлия / Belaya Yuliya / 1988","Ж",5,71.428571428571431,274.05]
[{"$f":"Гонки!$C$14","v":"Жук-трейл #6 Купалье"},"Трейл 21","Жук-трейл #6 Купалье Трейл 21",14.720000000000002,"Ж",{"$f":"IF(E843=\"Ж\",VLOOKUP(C843,Гонки!$E$2:$P$16,11,FALSE),VLOOKUP(C843,Гонки!$E$2:$P$16,12,FALSE))","v":14},"Кликун Татьяна",1989,"Klikun Tatyana","Кликун Татьяна / Klikun Tatyana / 1989","Ж",6,64.285714285714278,246.64]
[{"$f":"Гонки!$C$14","v":"Жук-трейл #6 Купалье"},"Трейл 21","Жук-трейл #6 Купалье Трейл 21",14.720000000000002,"Ж",{"$f":"IF(E844=\"Ж\",VLOOKUP(C844,Гонки!$E$2:$P$16,11,FALSE),VLOOKUP(C844,Гонки!$E$2:$P$16,12,FALSE))","v":14},"Лисовская Наталья",1998,"Lisovskaya Natalya","Лисовская Наталья / Lisovskaya Natalya / 1998","Ж",7,57.142857142857146,219.24]
[{"$f":"Гонки!$C$14","v":"Жук-трейл #6 Купалье"},"Трейл 21","Жук-трейл #6 Купалье Трейл 21",14.720000000000002,"Ж",{"$f":"IF(E845=\"Ж\",VLOOKUP(C845,Гонки!$E$2:$P$16,11,FALSE),VLOOKUP(C845,Гонки!$E$2:$P$16,12,FALSE))","v":14},"Старовойтова Евгения",1996,"Starovojtova Evgeniya","Старовойтова Евгения / Starovojtova Evgeniya / 1996","Ж",8,50,191.83]
[{"$f":"Гонки!$C$14","v":"Жук-трейл #6 Купалье"},"Трейл 21","Жук-трейл #6 Купалье Трейл 21",14.720000000000002,"Ж",{"$f":"IF(E846=\"Ж\",VLOOKUP(C846,Гонки!$E$2:$P$16,11,FALSE),VLOOKUP(C846,Гонки!$E$2:$P$16,12,FALSE))","v":14},"Голубева Елена",1987,"Golubeva Elena","Голубева Елена / Golubeva Elena / 1987","Ж",9,42.857142857142861,164.43]
[{"$f":"Гонки!$C$14","v":"Жук-трейл #6 Купалье"},"Трейл 21","Жук-трейл #6 Купалье Трейл 21",14.720000000000002,"Ж",{"$f":"IF(E847=\"Ж\",VLOOKUP(C847,Гонки!$E$2:$P$16,11,FALSE),VLOOKUP(C847,Гонки!$E$2:$P$16,12,FALSE))","v":14},"Лапко Оля",1992,"Lapko Olya","Лапко Оля / Lapko Olya / 1992","Ж",10,35.714285714285708,137.02000000000001]
[{"$f":"Гонки!$C$14","v":"Жук-трейл #6 Купалье"},"Трейл 21","Жук-трейл #6 Купалье Трейл 21",14.720000000000002,"Ж",{"$f":"IF(E848=\"Ж\",VLOOKUP(C848,Гонки!$E$2:$P$16,11,FALSE),VLOOKUP(C848,Гонки!$E$2:$P$16,12,FALSE))","v":14},"Туровец Ольга",1979,"Turovets Olga","Туровец Ольга / Turovets Olga / 1979","Ж",11,28.571428571428569,109.62]
[{"$f":"Гонки!$C$14","v":"Жук-трейл #6 Купалье"},"Трейл 21","Жук-трейл #6 Купалье Трейл 21",14.720000000000002,"Ж",{"$f":"IF(E849=\"Ж\",VLOOKUP(C849,Гонки!$E$2:$P$16,11,FALSE),VLOOKUP(C849,Гонки!$E$2:$P$16,12,FALSE))","v":14},"Сильванович Валерия",1998,"Silvanovich Valeriya","Сильванович Валерия / Silvanovich Valeriya / 1998","Ж",12,21.428571428571431,82.21]
[{"$f":"Гонки!$C$14","v":"Жук-трейл #6 Купалье"},"Трейл 21","Жук-трейл #6 Купалье Трейл 21",14.720000000000002,"Ж",{"$f":"IF(E850=\"Ж\",VLOOKUP(C850,Гонки!$E$2:$P$16,11,FALSE),VLOOKUP(C850,Гонки!$E$2:$P$16,12,FALSE))","v":14},"Суховерхая Татьяна",1986,"Suhoverhaya Tatyana","Суховерхая Татьяна / Suhoverhaya Tatyana / 1986","Ж",13,14.285714285714292,54.81]
[{"$f":"Гонки!$C$14","v":"Жук-трейл #6 Купалье"},"Трейл 21","Жук-трейл #6 Купалье Трейл 21",14.720000000000002,"Ж",{"$f":"IF(E851=\"Ж\",VLOOKUP(C851,Гонки!$E$2:$P$16,11,FALSE),VLOOKUP(C851,Гонки!$E$2:$P$16,12,FALSE))","v":14},"Василевич Валентина",1998,"Vasilevich Valentina","Василевич Валентина / Vasilevich Valentina / 1998","Ж",14,7.1428571428571388,27.4]

{"sheet":"Сводная_алфавит","index":3,"n_rows":599,"n_cols":17,"rows_kept":599,"cut":false,"hidden":false,"merged":[]}
["Пол","(Все)"]
[]
["Сумма по полю личный рез-т соревнований","Названия столбцов"]
["Названия строк","\"Налибоки 2018\" Трейл 100","\"Налибоки 2018\" Трейл 21","\"Налибоки 2018\" Трейл 42","Жук-трейл # 4 Минское Море  Трейл 16","Жук-трейл # 4 Минское Море  Трейл 25","Жук-трейл # 4 Минское Море  Трейл 8","Жук-трейл # 5 Крево Трейл 10","Жук-трейл # 5 Крево Трейл 21","Жук-трейл # 5 Крево Трейл 45","Жук-трейл # 5 Крево Трейл 70","Жук-трейл #6 Купалье Трейл 10","Жук-трейл #6 Купалье Трейл 21","Жук-трейл #6 Купалье Трейл 5","Зима минус 100 Трейл 100","Зима минус 100 Трейл 50","Общий итог"]
["Ben Bilel / Ben Bilel / 1981",null,null,null,null,null,null,null,null,71.430000000000007,null,null,null,null,null,null,71.430000000000007]
["Абаркина Елена / Abarkina Elena / 1983",null,null,null,null,null,null,null,null,null,null,null,null,105.92,null,null,105.92]
["Агаев Руслан / Agaev Ruslan / 1995",null,null,null,null,null,null,null,null,null,null,128.82,null,null,null,null,128.82]
["Адаменко Виталий / Adamenko Vitalij / 1985",null,null,null,null,null,null,26.61,null,null,null,null,null,null,null,null,26.61]
["Адамович Ирина / Adamovich Irina / 1973",null,425.25,null,null,null,null,null,null,null,null,null,null,null,null,null,425.25]
["Алексеев Алексей / Alekseev Aleksej / 1980",null,null,null,null,331.78,null,null,null,500,null,null,221.35,null,null,null,1053.1299999999999]
["Ананич Александр / Ananich Aleksandr / 1979",null,null,null,null,null,null,null,null,null,null,null,null,null,null,108.37,108.37]
["Анацко Леонид / Anatsko Leonid / 1961",null,null,null,null,null,null,null,null,null,298.16000000000003,null,4.92,null,null,null,303.08000000000004]
["Андуро Сергей / Anduro Sergej / 1986",null,null,null,null,null,null,null,307.23,null,null,null,null,null,null,null,307.23]
["Аноничев Александр / Anonichev Aleksandr / 1982",null,null,null,null,null,null,null,null,null,null,null,368.91,null,null,null,368.91]
["Арабиенко Татьяна / Arabienko Tatyana / 1986",null,null,609,null,null,null,null,null,null,null,null,null,null,null,null,609]
["Аржаников Евгений / Arzhanikov Evgenij / 1976",null,263.79000000000002,null,85.78,null,null,null,153.61000000000001,null,null,null,null,null,null,null,503.18000000000006]
["Арловская Кристина / Arlovskaya Kristina / 1989",null,null,null,null,null,null,null,230.42,null,null,null,null,null,null,263.17,493.59000000000003]
["Артихович Александр / Artihovich Aleksandr / 1972",null,null,null,null,null,null,null,null,null,null,59.04,null,null,null,null,59.04]
["Асаевич Роман / Asaevich Roman / 1964",null,null,351.08,null,null,null,null,null,null,null,null,null,null,null,null,351.08]
["Астапов Владимир / Astapov Vladimir / 1977",375.97,null,null,null,null,null,null,null,null,null,null,null,null,null,null,375.97]
["Афанасьев Иван / Afanasev Ivan / 1979",null,null,null,null,null,null,null,null,null,null,305.94,null,null,null,null,305.94]
["Бабицкий Кирилл / Babitskij Kirill / 1998",null,null,null,null,null,null,null,null,null,null,null,null,null,null,628.52,628.52]
["Бабич Виталий / Babich Vitalij / 1981",null,345.66,null,null,null,null,null,null,null,null,null,null,null,null,null,345.66]
["Бажанский Виталий / Bazhanskij Vitalij / 1982",null,null,null,null,null,null,null,null,null,null,null,177.08,null,null,null,177.08]
["Балашов Никита / Balashov Nikita / 1983",null,409.34,null,null,null,null,null,null,null,null,null,null,null,null,null,409.34]
["Барановский Алексей / Baranovskij Aleksej / 1981",null,null,null,null,null,null,null,null,null,null,null,152.47999999999999,null,null,null,152.47999999999999]
["Баронов Роман / Baronov Roman / 1993",null,null,null,null,null,null,306.02999999999997,null,null,null,220.06,null,null,null,null,526.08999999999992]
["Барсумян Артур / Barsumyan Artur / 1992",null,null,null,null,null,189.05,null,null,null,null,null,null,null,null,null,189.05]
["Бачища Николай / Bachischa Nikolaj / 1988",null,null,null,null,null,null,null,null,null,null,null,null,null,null,238.4,238.4]
["Бегун Егор / Begun Egor / 1988",null,null,null,null,null,null,232.85,null,null,null,null,null,null,null,null,232.85]
["Белая Юлия / Belaya Yuliya / 1988",null,null,664.36,null,375.87,null,null,null,null,null,null,274.05,null,null,null,1314.28]
["Белинская Галина / Belinskaya Galina / 1980",null,null,null,null,null,null,null,null,null,null,null,null,null,null,684.25,684.25]
["Белицкий Денис / Belitskij Denis / 1990",null,90.96,null,null,null,null,null,null,null,null,null,34.43,null,null,null,125.38999999999999]
["Белоусов Александр / Belousov Aleksandr / 1981",null,null,null,null,null,null,null,null,null,null,123.45,null,null,null,null,123.45]
["Белоцкая Елена / Belotskaya Elena / 1987",null,null,null,null,null,116.01,null,null,null,null,null,null,null,null,null,116.01]
["Бердников Дмитрий / Berdnikov Dmitrij / ",null,null,null,null,null,null,null,null,null,null,53.67,null,null,null,null,53.67]
["Березин Артём / Berezin Artjom / 1986",null,null,null,null,null,null,null,null,null,null,null,142.65,null,null,null,142.65]
["Березовский Андрей / Berezovskij Andrej / 1973",null,null,null,null,465.77,null,null,null,null,null,null,295.13,null,null,693.54,1454.44]
["Бизюк Игорь / Bizyuk Igor / 1956",null,null,157.99,null,null,null,null,null,null,null,null,null,null,null,null,157.99]
["Богдевич Анатолий / Bogdevich Anatolij / 1999",null,null,null,null,null,null,null,null,null,null,230.8,null,null,null,null,230.8]
["Бойко Евгений / Bojko Evgenij / 1985",null,null,null,null,null,null,null,null,null,null,null,null,165.79,null,null,165.79]
["Бокша Сергей / Boksha Sergej / 1988",null,null,null,null,319.02,null,null,null,null,null,null,null,null,null,null,319.02]
["Бондарь Юлия / Bondar Yuliya / 1993",null,275.16000000000003,null,null,null,null,null,null,null,null,null,null,null,null,null,275.16000000000003]
["Борисевич Александр / Borisevich Aleksandr / 1989",null,218.31,null,null,null,null,null,null,null,null,null,118.05,null,null,null,336.36]
["Борисевич Анастасия / Borisevich Anastasiya / 1985",null,137.58000000000001,null,null,null,null,null,null,714.28,null,null,null,null,null,null,851.86]
["Борисевич Леонид / Borisevich Leonid / 1969",null,null,null,null,401.97,null,null,null,null,null,null,290.20999999999998,null,896.09,null,1588.27]
["Бортник Александр / Bortnik Aleksandr / 1994",null,null,null,null,null,null,139.71,null,null,null,null,null,null,null,null,139.71]
["Брагин Иван / Bragin Ivan / 1986",null,null,null,null,null,null,null,null,714.28,null,null,null,null,null,null,714.28]
["Брытько Роман / Brytko Roman / 1995",null,null,null,null,185.03,null,292.72000000000003,null,null,null,284.47000000000003,null,null,null,null,762.22]
["Будник Владимир / Budnik Vladimir / 1987",null,172.83,null,null,null,null,null,null,null,null,null,null,null,null,null,172.83]
["Будрик Юлия / Budrik Yuliya / 1995",null,null,null,null,null,null,null,null,null,null,231.77,null,null,null,null,231.77]
["Будыхина Татьяна / Budyhina Tatyana / 1985",null,37.520000000000003,null,null,null,null,null,null,null,null,null,null,null,null,null,37.520000000000003]
["Бузо Александр / Buzo Aleksandr / 1982",null,null,null,403.18,null,null,null,449.87,null,null,null,231.18,null,null,null,1084.23]
["Булеева Наталья / Buleeva Natalya / 1969",null,null,null,226.85,null,null,null,null,null,null,null,null,null,null,null,226.85]
["Бунос Анатолий / Bunos Anatolij / 1956",null,null,null,308.82,null,null,null,null,null,null,null,null,null,null,null,308.82]
["Бурак Анжелика / Burak Anzhelika / 1994",null,null,null,null,null,null,null,null,null,null,null,null,141.22999999999999,null,null,141.22999999999999]
["Бутурля Александр / Buturlya Aleksandr / 1981",null,null,null,null,null,null,null,null,null,null,null,null,113.98,null,null,113.98]
["Буховецкий Андрей / Buhovetskij Andrej / 1987",null,300.18,null,null,null,null,null,null,null,null,null,null,null,null,null,300.18]
["Бушковский Максим / Bushkovskij Maksim / 1989",null,null,null,null,null,null,null,null,null,null,null,88.54,null,null,null,88.54]
["Быков Владимир / Bykov Vladimir / 1977",null,null,null,null,null,null,null,null,null,null,null,null,null,null,346.77,346.77]
["Бычинский Владислав / Bychinskij Vladislav / 1992",null,null,null,null,null,null,206.24,null,null,null,null,null,null,null,null,206.24]
["Бычков Александр / Bychkov Aleksandr / 1990",null,81.87,null,null,null,null,null,null,null,null,null,null,null,null,null,81.87]
["Вагин Андрей / Vagin Andrej / 1989",null,null,719.72,null,491.3,null,null,460.84,null,null,null,null,null,null,null,1671.86]
["Вайтешонок Сергей / Vajteshonok Sergej / 1981",null,null,null,null,null,120.3,null,null,null,null,null,null,null,null,null,120.3]
["Варданян Кристина / Vardanyan Kristina / 1981",null,350.21,null,null,null,null,null,null,null,null,null,null,null,null,null,350.21]
["Василевич Валентина / Vasilevich Valentina / 1998",null,null,null,null,187.93,null,null,null,null,null,null,27.4,null,null,null,215.33]
["Вдовиченко Ирина / Vdovichenko Irina / 1989",null,null,null,97.22,null,null,null,98.75,null,null,null,null,null,null,null,195.97]
["Величко Павел / Velichko Pavel / 1982",520.58000000000004,null,null,null,null,null,null,null,null,null,null,255.78,null,null,null,776.36]
["Верамейчик Елена / Veramejchik Elena / ",null,null,null,null,null,null,null,null,null,null,241.04,null,null,null,null,241.04]
["Веремейчик Юрий / Veremejchik Yurij / 1979",null,null,null,null,293.5,null,null,274.31,null,null,null,null,null,null,null,567.80999999999995]
["Верещако Павел / Vereschako Pavel / 1988",null,null,null,283.08,null,null,null,null,null,null,null,null,null,null,null,283.08]
["Ветохин Иван / Vetohin Ivan / 1987",null,null,null,null,null,null,null,null,null,null,null,null,41.45,null,null,41.45]
["Ветохина София / Vetohina Sofiya / 2010",null,null,null,null,null,null,null,null,null,null,null,null,26.48,null,null,26.48]
["Винтергрин Андрей / Vintergrin Andrej / 1981",null,236.51,null,null,null,null,null,null,null,null,null,null,null,null,null,236.51]
["Вирский Константин / Virskij Konstantin / 1977",null,null,null,null,null,null,199.59,null,null,null,null,null,null,null,null,199.59]
["Вирт Олег / Virt Oleg / 1980",null,63.67,null,null,null,null,null,null,null,null,null,null,null,null,null,63.67]
["Войтович Татьяна / Vojtovich Tatyana / 1986",null,null,null,null,null,null,143.29,null,null,null,null,null,null,null,null,143.29]
["Волков Николай / Volkov Nikolaj / 1989",null,null,null,428.91,null,null,null,null,null,null,null,null,null,null,null,428.91]
["Володько Андрей / Volodko Andrej / 1986",null,null,526.63,null,null,206.24,null,296.26,null,null,null,226.26,null,null,null,1255.3900000000001]
["Володько Владимир / Volodko Vladimir / 2001",null,null,null,null,null,null,null,null,null,null,null,null,186.52,null,null,186.52]
["Волостных Сергей / Volostnyh Sergej / 1989",null,null,210.65,null,null,null,null,null,null,null,null,null,null,null,null,210.65]
["Воробьёв Дмитрий / Vorobjov Dmitrij / 1988",null,null,null,null,null,null,153.02000000000001,null,null,null,null,null,176.16,null,null,329.18]
["Выборный Александр / Vybornyj Aleksandr / 1985",null,null,null,null,null,null,null,351.12,null,null,null,304.97000000000003,null,null,null,656.09]
["Выробов Дмитрий / Vyrobov Dmitrij / 1988",null,null,null,null,null,34.369999999999997,null,null,null,null,null,null,null,null,null,34.369999999999997]
["Гайдуков Александр / Gajdukov Aleksandr / 1989",null,null,null,null,null,null,299.38,null,null,null,null,null,null,null,null,299.38]
["Галка Дмитрий / Galka Dmitrij / 1988",null,281.99,null,null,null,null,null,null,null,null,null,null,null,null,null,281.99]
["Гамидов Нариман / Gamidov Nariman / 1972",null,null,null,null,null,null,179.63,null,null,null,null,null,null,null,null,179.63]
["Гамидов Тимур / Gamidov Timur / 1996",null,null,null,null,null,null,345.95,null,null,null,null,null,null,null,null,345.95]
["Гарбар Екатерина / Garbar Ekaterina / 1989",null,null,null,null,null,null,null,null,null,null,120.52,null,null,null,null,120.52]
["Гарбуз Алла / Garbuz Alla / 1969",null,null,null,null,null,null,28.66,null,null,null,null,null,17.649999999999999,null,null,46.31]
["Генсировский Павел / Gensirovskij Pavel / 1979",1041.1500000000001,null,null,null,null,null,null,null,null,null,null,null,null,null,null,1041.1500000000001]
["Геранин Дмитрий / Geranin Dmitrij / ",null,null,null,null,null,null,null,null,null,null,null,null,207.24,null,null,207.24]
["Герасевич Максим / Gerasevich Maksim / ",null,null,null,94.36,null,null,null,null,null,null,null,null,103.62,null,null,197.98000000000002]
["Герасимов Юрий / Gerasimov Yurij / 1992",null,null,null,null,null,null,null,142.63999999999999,null,null,null,null,null,null,null,142.63999999999999]
["Герасимук Юрий / Gerasimuk Yurij / 1992",null,309.27999999999997,null,null,null,null,null,null,null,null,null,null,null,null,null,309.27999999999997]
["Гидлевский Дмитрий / Gidlevskij Dmitrij / 1986",null,null,null,null,null,309.35000000000002,359.25,null,null,null,null,null,null,null,null,668.6]
["Гилевич Диана / Gilevich Diana / 1993",null,null,null,null,516.82000000000005,null,null,null,null,null,305.94,null,null,null,null,822.76]
["Гилевич Кристина / Gilevich Kristina / 1994",null,null,null,null,469.83,null,null,null,null,null,null,null,null,null,null,469.83]
["Гладкова Анна / Gladkova Anna / 1985",null,null,null,null,null,103.12,null,null,null,null,null,null,44.13,null,null,147.25]
["Гладковский Владислав / Gladkovskij Vladislav / 1990",null,354.76,null,null,null,null,null,null,null,null,null,null,null,null,null,354.76]
["Глушаков Сергей / Glushakov Sergej / 1958",null,null,null,null,210.56,null,null,null,null,null,null,null,null,null,null,210.56]
["Глушков Александр / Glushkov Aleksandr / 1980",780.86,null,null,null,null,null,null,null,null,417.43,null,186.91,null,null,null,1385.2]
["Голубева Елена / Golubeva Elena / 1987",null,null,null,null,328.88,null,null,null,null,null,null,164.43,null,null,null,493.31]
["Гомон Сергей / Gomon Sergej / 1990",202.45,null,null,null,null,null,null,null,null,null,null,null,null,null,null,202.45]
["Гончарик Наталья / Goncharik Natalya / 1991",null,null,null,null,null,null,71.650000000000006,null,null,null,null,null,null,null,null,71.650000000000006]
["Городко Игорь / Gorodko Igor / 1970",null,72.77,null,null,null,null,null,null,null,null,null,null,null,null,null,72.77]
["Горшков Игорь / Gorshkov Igor / 1977",null,null,null,102.94,null,null,null,null,null,null,null,null,null,null,null,102.94]
["Грабовец Павел / Grabovets Pavel / 1981",954.39,null,null,null,null,null,null,null,null,null,null,null,null,null,null,954.39]
["Гракович Ольга / Grakovich Olga / 1994",null,null,null,null,null,null,null,null,null,null,64.900000000000006,null,null,null,null,64.900000000000006]
["Грейд Юлия / Grejd Yuliya / 1986",null,null,null,194.44,null,null,null,164.59,null,null,null,null,null,null,null,359.03]
["Грек Илья / Grek Ilya / 1992",null,null,null,null,null,null,null,230.42,null,null,null,null,null,null,455.14,685.56]
["Греков Игорь / Grekov Igor / 1970",null,null,263.31,null,null,null,null,null,null,null,null,null,null,null,null,263.31]
["Гречишкин Алексей / Grechishkin Aleksej / 1983",null,null,null,null,null,null,null,null,null,null,5.37,null,null,null,null,5.37]
["Гриб Екатерина / Grib Ekaterina / 1981",null,null,null,null,null,219.13,243.6,null,null,null,null,null,null,null,null,462.73]
["Григорович Руслан / Grigorovich Ruslan / 1987",null,null,null,null,null,232.02,null,null,null,null,null,null,null,null,null,232.02]
["Григорьева Светлана / Grigoreva Svetlana / 1984",null,null,null,275.45999999999998,null,null,null,null,null,null,139.06,null,null,null,null,414.52]
["Гринько Анастасия / Grinko Anastasiya / 1993",null,null,null,178.24,null,null,257.93,null,null,null,null,null,null,null,null,436.17]
["Грицевич Виталий / Gritsevich Vitalij / 1987",null,null,null,null,null,null,146.36000000000001,null,null,null,null,null,null,null,null,146.36000000000001]
["Грицук Татьяна / Gritsuk Tatyana / 1973",null,null,276.82,null,null,null,null,null,null,null,null,null,null,null,null,276.82]
["Гумбар Илья / Gumbar Ilya / 1989",null,null,null,null,null,null,null,null,null,null,null,260.7,null,null,null,260.7]
["Гурская Татьяна / Gurskaya Tatyana / 1980",1041.1500000000001,null,null,null,null,null,null,null,null,null,null,null,null,null,null,1041.1500000000001]
["Гусаревич Денис / Gusarevich Denis / 1983",578.41999999999996,null,null,null,null,null,null,null,null,null,null,null,null,null,null,578.41999999999996]
["Даник Даниил / Danik Daniil / 1982",null,null,null,null,null,null,null,null,null,null,80.510000000000005,null,null,null,null,80.510000000000005]
["Данченко Глеб / Danchenko Gleb / 1986",null,null,null,null,null,null,286.07,null,null,null,null,null,null,null,null,286.07]
["Дашин Михаил / Dashin Mihail / ",null,null,null,null,null,null,null,null,null,null,null,null,217.6,null,null,217.6]
["Дашкевич Павел / Dashkevich Pavel / 1999",null,null,null,null,null,null,86.49,null,null,null,101.98,null,null,null,null,188.47]
["Дашкевич Сергей / Dashkevich Sergej / 1996",null,null,null,null,null,null,39.92,null,null,null,null,null,null,null,null,39.92]
["Дегтярев Сергей / Degtyarev Sergej / 1983",null,null,649.51,null,191.41,null,null,null,null,null,null,null,null,null,null,840.92]
["Дедков Никита / Dedkov Nikita / 1998",null,null,null,null,null,null,null,null,null,null,193.23,null,null,null,null,193.23]
["Делендик Максим / Delendik Maksim / 1992",null,null,null,null,null,null,null,null,null,null,144.91999999999999,null,null,null,null,144.91999999999999]
["Делендик Надежда / Delendik Nadezhda / 1987",null,437.76,null,null,null,null,null,null,null,null,null,328.86,null,null,null,766.62]
["Дельянов Одиссей / Delyanov Odissej / 1979",null,null,null,null,357.31,null,null,null,null,null,null,null,null,null,null,357.31]
["Домбровский Евгений / Dombrovskij Evgenij / 1987",null,null,null,null,null,null,279.42,null,null,null,null,null,null,null,null,279.42]
["Драгун Алина / Dragun Alina / 1993",null,412.75,null,null,null,null,null,null,null,null,null,null,null,null,null,412.75]
["Драгун Борис / Dragun Boris / 1970",null,null,null,null,248.84,null,null,null,null,298.16000000000003,null,null,null,null,null,547]
["Дубровский Виктор / Dubrovskij Viktor / 1961",null,null,105.33,null,null,null,null,null,null,null,null,null,null,null,null,105.33]
["Дубровский Евгений / Dubrovskij Evgenij / 1984",null,null,87.77,null,null,null,null,null,null,null,null,null,null,null,null,87.77]
["Дунаева Мария / Dunaeva Mariya / 1983",null,null,null,null,null,null,171.95,null,null,null,null,null,null,null,null,171.95]
["Дундуков Андрей / Dundukov Andrej / 1985",null,null,null,null,null,128.9,null,null,null,null,85.88,null,null,null,null,214.78]
["Дурейко Анна / Durejko Anna / 1987",null,12.51,null,null,null,null,null,null,null,null,null,null,null,null,null,12.51]
["Дышлевич Сергей / Dyshlevich Sergej / 1982",null,null,null,null,null,null,null,null,null,null,182.49,null,null,null,null,182.49]
["Евсюченя Александр / Evsyuchenya Aleksandr / 1991",null,null,null,null,null,null,null,329.17,null,null,null,null,null,null,736.89,1066.06]
["Едомская Вольга / Edomskaya Volga / 1987",null,null,null,340.27,null,null,329.57,null,null,null,null,null,211.85,null,null,881.68999999999994]
["Ермак Алексей / Ermak Aleksej / 1984",null,null,null,null,165.89,null,null,null,null,null,null,null,null,null,null,165.89]
["Ермохин Максим / Ermohin Maksim / 1975",null,null,null,null,433.87,null,null,384.04,null,null,null,null,null,null,null,817.91000000000008]
["Жданович Александра / Zhdanovich Aleksandra / 1985",null,null,null,null,null,232.02,null,null,null,null,194.69,null,null,null,null,426.71000000000004]
["Жданович Андрей / Zhdanovich Andrej / 1973",null,null,null,null,287.12,null,null,null,null,null,null,null,null,null,null,287.12]
["Жданович Максим / Zhdanovich Maksim / 1987",null,null,561.73,null,null,null,null,null,null,null,null,null,null,null,null,561.73]
["Жевняк Андрей / Zhevnyak Andrej / 1986",null,null,null,null,null,null,null,null,null,null,187.86,null,null,null,null,187.86]
["Жидович Вадим / Zhidovich Vadim / 1984",null,null,491.52,231.61,null,null,null,208.48,null,null,null,68.86,null,null,null,1000.47]
["Жила Анастасия / Zhila Anastasiya / 1994",null,null,null,null,null,null,null,null,null,298.16000000000003,213.23,null,null,null,null,511.39]
["Жук Лия / Zhuk Liya / 1980",null,75.040000000000006,null,null,null,null,null,null,null,null,null,null,null,null,null,75.040000000000006]
["Жукович Артем / Zhukovich Artem / 1988",null,null,null,null,null,null,93.14,null,null,null,null,null,null,null,null,93.14]
["Журавлёв Андрей / Zhuravljov Andrej / 1978",null,null,null,null,484.91,null,null,null,null,null,null,359.07,null,null,null,843.98]
["Журавлёва Оксана / Zhuravljova Oksana / 1980",null,null,null,405.09,null,null,null,null,null,null,259.58999999999997,null,null,null,null,664.68]
["Жучин Алексей / Zhuchin Aleksej / 1983",null,null,null,null,null,283.57,332.64,null,null,null,null,null,null,null,null,616.21]
["Жучина Катерина / Zhuchina Katerina / 1986",null,null,null,null,null,154.68,128.96,null,null,null,null,null,null,null,null,283.64]
["Жучков Алексей / Zhuchkov Aleksej / 1985",null,null,193.1,null,140.37,null,null,null,178.57,null,null,29.51,null,null,null,541.54999999999995]
["Забабуро Сергей / Zababuro Sergej / 1978",null,null,null,null,null,null,null,null,null,null,null,270.52999999999997,null,null,null,270.52999999999997]
["Забелова Юлия / Zabelova Yuliya / 1978",null,87.55,null,null,null,null,null,null,null,null,null,null,null,null,null,87.55]
["Завалова Анастасия / Zavalova Anastasiya / 1994",null,null,null,null,null,null,null,null,null,null,55.63,null,null,null,null,55.63]
["Загорнов Александр / Zagornov Aleksandr / 1966",null,null,140.43,null,null,null,null,null,null,null,null,null,null,null,null,140.43]
["Зайчук Кирилл / Zajchuk Kirill / 1990",null,null,null,197.3,null,null,null,null,null,null,null,null,null,null,null,197.3]
["Занько Юрий / Zanko Yurij / 1982",null,null,null,null,null,null,null,null,null,null,null,null,null,null,151.71,151.71]
["Заречанский Юрий / Zarechanskij Yurij / 1980",null,200.12,null,null,null,null,null,null,null,null,null,null,null,null,null,200.12]
["Захаркин Сергей / Zaharkin Sergej / 1976",null,null,null,420.34,null,null,null,null,null,null,null,null,null,null,null,420.34]
["Захаров Иван / Zaharov Ivan / 1979",null,null,null,null,null,77.34,null,null,null,null,null,null,null,null,null,77.34]
["Захарьев Алексей / Zaharev Aleksej / 1984",null,null,null,null,null,null,null,null,null,null,null,265.62,null,null,null,265.62]
["Заяц Александр / Zayats Aleksandr / 1978",null,null,null,null,267.98,null,null,null,null,null,null,null,null,null,null,267.98]
["Зеленкевич Валентина / Zelenkevich Valentina / 1999",null,487.79,null,null,null,null,null,null,null,null,null,null,null,null,null,487.79]
["Зеленко Алексей / Zelenko Aleksej / 1980",null,null,null,null,null,null,null,131.66999999999999,null,null,null,null,null,null,null,131.66999999999999]
["Зеленко Диана / Zelenko Diana / 1988",null,null,null,null,null,128.9,null,null,null,null,null,null,null,null,null,128.9]
["Зеленко Дмитрий / Zelenko Dmitrij / 1987",null,null,null,343.13,null,null,null,null,null,null,null,null,null,null,null,343.13]
["Зеленский Александр / Zelenskij Aleksandr / 1978",null,null,null,null,null,null,null,null,null,null,null,162.32,null,null,null,162.32]
["Зеленцова Галина / Zelentsova Galina / 1988",null,null,null,null,null,null,null,null,null,null,null,null,220.67,null,null,220.67]
["Зиновенко Павел / Zinovenko Pavel / 1997",null,null,null,null,null,null,null,null,null,null,279.10000000000002,null,null,null,null,279.10000000000002]
["Зуевский Роман / Zuevskij Roman / 1986",null,null,null,null,null,null,186.28,null,null,null,null,null,null,null,null,186.28]
["Зуй Александр / Zuj Aleksandr / 1980",null,118.25,null,null,null,null,null,65.83,null,null,null,null,null,null,null,184.07999999999998]
["Зуй Марина / Zuj Marina / 1984",null,null,null,null,null,null,57.32,null,null,null,null,null,null,null,null,57.32]
["Зуйков Антон / Zujkov Anton / 1995",null,null,null,null,null,null,null,null,null,null,null,339.4,null,null,null,339.4]
["Зументс Роберт / Zuments Robert / 1979",null,null,35.11,null,null,null,null,null,null,null,null,null,null,null,null,35.11]
["Зятиков Евгений / Zyatikov Evgenij / 1982",null,null,null,null,null,null,null,null,142.86000000000001,null,null,9.84,null,null,null,152.70000000000002]
["Зятикова Наталья / Zyatikova Natalya / 1983",null,null,null,null,null,null,null,null,238.09,null,18.54,null,null,null,null,256.63]
["Иванов Денис / Ivanov Denis / 1990",null,154.63999999999999,null,null,null,null,null,null,null,null,null,null,null,null,null,154.63999999999999]
["Иванова Екатерина / Ivanova Ekaterina / 1989",null,62.54,null,null,null,null,null,null,null,null,null,null,null,null,null,62.54]
["Иванцов Вячеслав / Ivantsov Vyacheslav / 1986",null,null,null,null,null,null,null,null,null,null,209.33,null,null,null,null,209.33]
["Иванчик Александр / Ivanchik Aleksandr / 1990",null,null,null,null,null,null,null,null,null,null,null,null,null,null,303.42,303.42]
["Иванчик Константин / Ivanchik Konstantin / 1983",null,null,null,null,null,null,null,null,392.86,null,null,null,null,null,null,392.86]
["Игнатович Александр / Ignatovich Aleksandr / 1992",null,null,null,265.93,null,null,null,null,null,null,null,null,null,null,null,265.93]
["Илатовский Дмитрий / Ilatovskij Dmitrij / 1974",null,null,null,null,197.79,null,null,null,null,null,null,null,null,null,null,197.79]
["Иолтуховский Владислав / Ioltuhovskij Vladislav / 1971",null,null,null,null,121.23,null,null,263.33999999999997,null,null,null,null,null,null,null,384.57]
["Исаев Антон / Isaev Anton / 1979",838.71,null,null,null,null,null,null,null,null,null,null,null,null,1024.0999999999999,null,1862.81]
["Искорцев Алексей / Iskortsev Aleksej / 1980",null,null,null,274.51,null,null,null,null,null,null,null,122.97,null,null,null,397.48]
["Йоцюс Виталий / Jotsyus Vitalij / ",null,null,null,null,null,null,null,null,null,null,37.57,null,null,null,null,37.57]
["Казак Дмитрий / Kazak Dmitrij / 1979",null,null,614.4,null,null,null,null,null,null,null,null,216.43,null,null,null,830.82999999999993]
["Казак Константин / Kazak Konstantin / 2004",null,null,null,null,null,null,null,null,null,null,null,null,134.71,null,null,134.71]
["Казак Наталья / Kazak Natalya / 1979",null,null,null,null,null,null,100.3,null,null,null,null,null,17.649999999999999,null,null,117.94999999999999]
["Казакевич Ирина / Kazakevich Irina / 1969",null,null,null,421.29,null,null,null,null,null,null,null,null,null,null,null,421.29]
["Казарин Дмитрий / Kazarin Dmitrij / 1994",null,227.41,null,120.1,null,null,null,197.5,null,null,null,null,null,null,null,545.01]
["Калвинковская Ольга / Kalvinkovskaya Olga / 1994",null,450.27,null,null,null,null,null,null,null,null,null,null,null,null,null,450.27]
["Кальвинковская Екатерина / Kalvinkovskaya Ekaterina / 1993",null,337.7,null,null,null,null,null,null,null,null,null,null,null,null,null,337.7]
["Калюжный Дмитрий / Kalyuzhnyj Dmitrij / 1986",null,null,null,null,null,null,null,null,null,null,21.47,null,null,null,null,21.47]
["Камышкайло Анатолий / Kamyshkajlo Anatolij / 1981",null,null,null,null,427.49,null,null,null,null,null,null,null,null,null,null,427.49]
["Капустин Егор / Kapustin Egor / 2004",null,null,null,null,null,85.93,99.79,null,null,null,null,null,null,null,null,185.72000000000003]
["Карабанькова Марина / Karabankova Marina / 1989",null,null,null,null,null,null,14.33,null,null,null,9.27,null,null,null,null,23.6]
["Карпович Владимир / Karpovich Vladimir / 1983",null,null,null,null,null,null,null,null,214.28,null,null,44.27,null,null,null,258.55]
["Католиков Роман / Katolikov Roman / 1985",null,null,null,null,null,274.98,352.6,null,null,null,null,null,238.33,null,null,865.91000000000008]
["Катонов Василий / Katonov Vasilij / 1985",null,null,null,null,null,null,null,null,null,null,null,null,null,null,86.69,86.69]
["Кирcанов Алексей / Kircanov Aleksej / 1981",null,400.24,null,null,null,null,null,395.01,null,null,null,null,null,null,null,795.25]
["Кислицын Артем / Kislitsyn Artem / 1992",null,null,null,null,null,null,null,null,null,596.32000000000005,null,null,null,null,null,596.32000000000005]
["Кислов Михаил / Kislov Mihail / 1992",null,null,null,null,null,null,null,null,null,null,69.78,null,null,null,null,69.78]
["Клауч Виктор / Klauch Viktor / 1988",null,null,null,null,null,8.59,null,null,null,null,null,null,null,null,null,8.59]
["Клауч Екатерина / Klauch Ekaterina / 1987",null,null,null,null,null,12.89,null,null,null,null,null,null,null,null,null,12.89]
["Кликун Татьяна / Klikun Tatyana / 1989",null,362.72,null,null,null,null,null,null,null,null,null,246.64,null,null,null,609.36]
["Ключеня Виталий / Klyuchenya Vitalij / 1982",null,null,null,null,null,null,null,null,null,null,null,93.46,null,null,null,93.46]
["Князев Родион / Knyazev Rodion / 1995",null,245.6,null,null,null,null,null,null,null,null,null,null,null,null,null,245.6]
["Ковалев Михаил / Kovalev Mihail / 1970",null,null,null,null,null,null,53.22,null,null,null,null,null,null,null,null,53.22]
["Ковалев Никита / Kovalev Nikita / 2001",null,null,null,null,null,null,59.88,null,null,null,null,null,null,null,null,59.88]
["Ковалёва Катерина / Kovaljova Katerina / 1987",null,null,null,null,null,null,null,null,null,null,111.25,null,null,null,null,111.25]
["Коваленко Леонид / Kovalenko Leonid / 1999",null,null,null,null,null,null,null,null,null,null,198.59,null,null,null,null,198.59]
["Ковальчук Екатерина / Kovalchuk Ekaterina / 1987",null,null,null,null,null,null,null,null,null,null,46.35,null,null,null,null,46.35]
["Ковеня Андрей / Kovenya Andrej / 1962",289.20999999999998,null,null,null,null,null,null,null,null,null,null,null,null,null,null,289.20999999999998]
["Ковриго Сергей / Kovrigo Sergej / 1981",null,null,null,null,null,null,46.57,null,null,null,null,null,null,null,null,46.57]
["Когалёнок Елена / Kogaljonok Elena / 1979",null,null,null,null,null,90.23,null,null,null,null,null,null,null,null,null,90.23]
["Кожан Михаил / Kozhan Mihail / 1946",null,null,null,null,204.17,null,null,285.27999999999997,null,null,null,null,null,null,null,489.44999999999993]
["Кожемякин Алексей / Kozhemyakin Aleksej / 1986",null,null,null,null,null,null,null,null,null,null,null,null,10.36,null,null,10.36]
["Кожемякин Владимир / Kozhemyakin Vladimir / 1970",null,null,null,null,236.08,null,null,null,null,null,null,null,null,null,null,236.08]
["Кожемякина Анна / Kozhemyakina Anna / 1991",null,null,null,null,null,null,157.62,null,null,null,null,null,114.75,null,null,272.37]
["Козич Андрей / Kozich Andrej / 1986",983.31,null,null,null,null,null,null,null,null,null,null,null,null,null,null,983.31]
["Козич Галина / Kozich Galina / 1990",null,null,null,null,null,null,null,null,null,null,287.39999999999998,null,null,null,null,287.39999999999998]
["Коледа Константин / Koleda Konstantin / 1976",null,327.47000000000003,null,null,null,null,null,null,null,null,null,null,null,null,null,327.47000000000003]
["Коледа Татьяна / Koleda Tatyana / 1990",null,400.24,null,null,null,null,null,null,null,null,null,null,null,null,null,400.24]
["Колташова Елена / Koltashova Elena / 1984",null,null,553.63,null,null,null,null,null,null,null,null,null,null,null,null,553.63]
["Коляда Юрий / Kolyada Yurij / 1980",null,null,null,111.52,null,null,null,null,null,null,null,null,null,null,null,111.52]
["Комар Артем / Komar Artem / 1998",null,null,null,null,null,null,null,98.75,null,null,203.96,null,null,null,null,302.71000000000004]
["Комин Игорь / Komin Igor / 1959",433.81,null,null,null,null,null,null,null,null,null,null,null,null,null,null,433.81]
["Кондяр Павел / Kondyar Pavel / 1993",null,null,null,null,null,null,325.99,null,null,null,289.83999999999997,null,null,null,null,615.82999999999993]
["Коновалова Елена / Konovalova Elena / 1975",null,null,null,null,null,193.35,null,null,null,null,null,null,null,null,null,193.35]
["Коньшин Андрей / Konshin Andrej / 1988",null,null,null,null,null,null,null,10.97,null,null,null,null,null,null,null,10.97]
["Копоть Александр / Kopot Aleksandr / 1992",404.89,null,null,null,null,null,null,null,null,null,null,null,null,null,null,404.89]
["Кордунская Екатерина / Kordunskaya Ekaterina / 1983",null,null,null,null,null,null,null,362.09,null,null,null,null,null,null,368.44,730.53]
["Коровец Богдан / Korovets Bogdan / 1976",null,null,438.85,null,274.36,null,null,null,321.43,null,null,137.72999999999999,null,null,585.16999999999996,1757.54]
["Корожан Александр / Korozhan Aleksandr / 1971",null,336.57,null,null,null,null,null,null,null,null,null,null,null,null,null,336.57]
["Корожан Наталья / Korozhan Natalya / 1974",null,212.63,null,null,null,null,null,null,null,null,null,null,null,null,null,212.63]
["Королёв Максим / Koroljov Maksim / 1989",null,null,null,null,null,197.64,null,null,null,null,null,null,null,null,null,197.64]
["Коротких Елена / Korotkih Elena / 1984",null,null,null,null,null,null,null,296.26,null,null,null,null,null,null,null,296.26]
["Костев Евгений / Kostev Evgenij / 1990",null,null,null,null,null,null,266.11,null,null,null,null,null,null,null,null,266.11]
["Костян Денис / Kostyan Denis / 1977",null,272.89,null,null,null,null,null,null,null,null,null,null,null,null,null,272.89]
["Кохан Виталий / Kohan Vitalij / 1982",null,null,null,null,178.65,null,null,null,null,null,null,null,null,null,null,178.65]
["Кошур Александр / Koshur Aleksandr / 1988",null,372.95,null,null,null,null,null,null,null,null,null,null,null,null,null,372.95]
["Кравчук Александр / Kravchuk Aleksandr / 1983",null,null,null,null,null,137.49,null,null,null,null,null,null,null,null,null,137.49]
["Красовская Инна / Krasovskaya Inna / 1975",null,200.12,null,null,null,null,null,null,null,null,null,null,null,null,null,200.12]
["Кривальцевич Валентина / Krivaltsevich Valentina / 1984",null,null,null,null,null,null,null,null,null,null,46.35,null,null,null,null,46.35]
["Крипа Светлана / Kripa Svetlana / 1989",null,null,null,null,null,null,null,null,null,null,null,null,167.71,null,null,167.71]
["Крисенков Алексей / Krisenkov Aleksej / 1983",null,null,684.61,377.44,null,null,null,null,607.14,null,263,null,null,null,563.5,2495.69]
["Круглик Игорь / Kruglik Igor / 1985",null,null,null,null,null,null,null,null,null,null,null,null,155.43,null,null,155.43]
["Круглова Александра / Kruglova Aleksandra / 1989",null,null,null,null,null,64.45,null,null,null,null,null,null,null,null,null,64.45]
["Крус Виктор / Krus Viktor / 1980",null,null,null,null,null,null,252.81,null,null,null,null,null,227.97,null,null,480.78]
["Кудрейко Михаил / Kudrejko Mihail / 1981",null,null,70.22,null,null,null,null,null,null,null,null,null,null,null,null,70.22]
["Кудрявец Валерий / Kudryavets Valerij / 1975",null,145.54,null,null,null,null,null,null,null,null,null,78.7,null,null,null,224.24]
["Кузеева Марина / Kuzeeva Marina / 1986",null,262.66000000000003,null,null,null,null,null,null,null,null,null,null,null,null,null,262.66000000000003]
["Кузнецова Наталья / Kuznetsova Natalya / 1984",null,162.6,null,null,null,null,null,null,null,null,null,null,null,null,null,162.6]
["Кузьменко Иван / Kuzmenko Ivan / 1981",null,null,null,null,null,103.12,null,null,null,null,null,null,null,null,null,103.12]
["Кузьменок Денис / Kuzmenok Denis / 1979",null,163.72999999999999,null,77.2,null,null,null,76.81,null,null,null,null,null,null,null,317.74]
["Кузьмич Дмитрий / Kuzmich Dmitrij / 1975",null,null,null,null,null,null,13.31,null,null,null,10.73,null,null,null,216.73,240.76999999999998]
["Кукареко Екатерина / Kukareko Ekaterina / 1986",null,null,166.09,null,null,null,null,null,null,null,null,null,null,null,null,166.09]
["Кукобникова Вита / Kukobnikova Vita / 1993",null,null,null,null,null,141.79,null,null,null,null,101.98,null,null,null,null,243.76999999999998]
["Кулак Александр / Kulak Aleksandr / 1989",null,191.02,null,null,null,null,null,null,null,null,null,null,null,null,null,191.02]
["Куликовский Ян / Kulikovskij Yan / 1992",null,null,null,null,null,null,192.93,null,null,null,96.61,null,null,null,null,289.54000000000002]
["Куликовских Иванна / Kulikovskih Ivanna / 1974",null,175.1,null,null,null,null,null,null,null,null,null,null,null,null,null,175.1]
["Курата Кенет / Kurata Kenet / 1978",null,null,null,null,null,null,19.96,null,null,null,null,null,null,null,null,19.96]
["Куратник Юрий / Kuratnik Yurij / 1987",null,436.63,null,null,null,null,null,null,null,null,null,null,null,null,null,436.63]
["Кусов Иван / Kusov Ivan / 1993",null,null,null,null,null,null,null,362.09,null,null,null,null,null,null,null,362.09]
["Куцакова Татьяна / Kutsakova Tatyana / 1987",null,null,null,null,null,null,358.23,null,null,null,null,null,null,null,null,358.23]
["Куцун Надежда / Kutsun Nadezhda / 1982",null,null,null,null,null,null,null,null,null,null,null,null,null,null,578.98,578.98]
["Куцуха Александр / Kutsuha Aleksandr / 1992",null,null,245.76,null,null,null,null,null,null,null,null,null,null,null,null,245.76]
["Лабунская Ирина / Labunskaya Irina / 1983",null,null,null,null,null,25.78,null,null,null,null,null,null,null,null,null,25.78]
["Лавник Игорь / Lavnik Igor / 1983",null,null,null,null,229.7,null,null,null,null,null,null,236.1,null,null,476.81,942.6099999999999]
["Лавриченок Светлана / Lavrichenok Svetlana / 1971",null,null,332.18,null,null,null,null,null,null,null,null,null,null,null,null,332.18]
["Ладеев Дмитрий / Ladeev Dmitrij / 1981",null,null,null,248.77,null,null,219.54,null,null,null,null,null,null,null,null,468.31]
["Ладутько Наталья / Ladutko Natalya / 1974",null,null,null,null,null,51.56,42.99,null,null,null,null,null,88.27,null,null,182.82]
["Лазаренок Глеб / Lazarenok Gleb / 1982",null,null,null,null,null,68.75,33.26,null,null,null,null,null,124.34,null,null,226.35]
["Лакустов Алексей / Lakustov Aleksej / 1986",null,109.16,null,null,null,null,null,87.78,null,null,null,null,null,null,null,196.94]
["Ланин Иван / Lanin Ivan / 1989",null,null,228.2,null,null,null,272.77,null,null,null,null,null,null,null,null,500.96999999999997]
["Лапко Оля / Lapko Olya / 1992",null,null,null,null,null,null,null,null,null,null,null,137.02000000000001,null,null,null,137.02000000000001]
["Ласюк Юрий / Lasyuk Yurij / 1987",null,null,null,null,478.53,null,null,471.82,null,null,null,344.32,null,null,null,1294.6699999999998]
["Леверовский Александр / Leverovskij Aleksandr / 1988",null,null,null,null,null,null,null,175.56,null,null,null,null,null,null,281.75,457.31]
["Левчук Александр / Levchuk Aleksandr / 1970",null,null,null,null,null,null,null,318.2,null,null,null,null,null,null,null,318.2]
["Левчук Ирина / Levchuk Irina / 1974",null,null,null,null,null,null,114.63,null,null,null,null,null,null,null,null,114.63]
["Легчеков Дмитрий / Legchekov Dmitrij / 1984",null,null,null,null,null,null,null,null,null,null,177.12,null,null,null,null,177.12]
["Леденёв Андрей / Ledenjov Andrej / 1971",null,427.53,null,null,null,null,null,null,null,null,null,null,null,null,null,427.53]
["Леонов Алексей / Leonov Aleksej / 1986",null,null,null,null,null,null,null,null,null,null,null,157.4,null,null,null,157.4]
["Леонов Иван / Leonov Ivan / 1986",null,null,null,null,497.68,null,null,null,null,null,null,349.23,null,null,null,846.91000000000008]
["Леонович Виталий / Leonovich Vitalij / 1984",null,null,null,null,null,null,null,null,null,null,118.08,null,null,null,null,118.08]
["Лесковец Александр / Leskovets Aleksandr / 1990",null,null,null,null,389.21,null,null,null,null,null,null,245.94,null,682.73,null,1317.88]
["Лесникович Лиана / Lesnikovich Liana / 1988",null,null,null,null,null,null,null,null,null,null,222.5,null,null,null,null,222.5]
["Лещевич Валерий / Leschevich Valerij / 1989",null,null,null,null,null,null,372.56,null,null,null,null,null,null,null,null,372.56]
["Лещинский Владимир / Leschinskij Vladimir / 1983",null,null,579.29,null,null,null,null,null,null,null,null,null,null,null,null,579.29]
["Липницкая Виктория / Lipnitskaya Viktoriya / 1987",null,null,null,210.64,null,null,null,197.5,null,null,null,null,null,null,null,408.14]
["Липская Наталья / Lipskaya Natalya / 1977",null,null,null,null,null,null,null,null,null,null,null,null,52.96,null,null,52.96]
["Липская Яна / Lipskaya Yana / 2007",null,null,null,null,null,null,null,null,null,null,null,null,61.79,null,null,61.79]
["Липский Александр / Lipskij Aleksandr / 1977",null,null,null,null,null,null,null,null,null,null,64.41,null,null,null,null,64.41]
["Лисовская Наталья / Lisovskaya Natalya / 1998",null,null,null,null,null,null,null,null,null,null,null,219.24,null,null,null,219.24]
["Лисовский Виктор / Lisovskij Viktor / 1964",null,null,456.41,null,null,null,null,null,357.14,null,null,73.78,null,null,520.15,1407.48]
["Лисовский Павел / Lisovskij Pavel / 1986",null,null,null,null,null,null,null,null,null,null,null,null,null,null,606.85,606.85]
["Литвинка Нина / Litvinka Nina / 1991",null,null,null,null,null,null,null,null,null,null,null,null,null,null,210.54,210.54]
["Литвинская Людмила / Litvinskaya Lyudmila / 1977",null,null,null,null,281.89999999999998,null,null,null,null,null,null,null,null,null,null,281.89999999999998]
["Логиновский Михаил / Loginovskij Mihail / 1976",null,null,null,null,null,null,119.75,null,null,null,null,null,null,null,null,119.75]
["Лойко Сергей / Lojko Sergej / 1985",null,463.91,null,351.71,null,null,null,416.95,null,null,null,290.20999999999998,null,null,null,1522.78]
["Лопатик Юрий / Lopatik Yurij / 1984",null,null,null,154.41,null,null,null,null,null,null,null,null,null,null,null,154.41]
["Лукашенок Алексей / Lukashenok Aleksej / 1978",null,null,null,null,440.25,null,null,null,null,null,null,null,null,null,null,440.25]
["Лукьяненко Александр / Lukyanenko Aleksandr / 1984",null,445.72,null,null,null,null,null,null,null,null,null,null,null,null,null,445.72]
["Лукьянов Александр / Lukyanov Aleksandr / 1979",null,null,null,240.19,null,null,null,null,null,null,null,null,null,null,null,240.19]
["Лунский Сергей / Lunskij Sergej / 1995",null,100.06,null,null,null,null,null,null,null,null,null,null,null,null,null,100.06]
["Лупин Сергей / Lupin Sergej / 1985",null,null,null,null,null,null,166.32,null,null,null,null,19.68,null,null,null,186]
["Луцевич Eвгений / Lutsevich Evgenij / 1964",null,null,52.66,null,null,null,null,null,null,null,null,null,null,null,null,52.66]
["Лучинович Сергей / Luchinovich Sergej / 1979",null,null,null,null,null,null,null,null,null,null,null,49.19,null,null,null,49.19]
["Лучкин Олег / Luchkin Oleg / 1983",null,null,null,null,null,null,null,null,null,null,null,null,null,null,173.38,173.38]
["Лысенко Павел / Lysenko Pavel / 1966",896.55,null,null,null,null,null,null,null,null,null,null,null,null,938.76,null,1835.31]
["Львовский Андрей / Lvovskij Andrej / 1991",null,null,null,null,306.26,null,null,null,null,null,null,null,null,null,null,306.26]
["Лялеко Сергей / Lyaleko Sergej / 1986",null,null,null,null,null,null,null,null,null,null,null,null,null,null,195.06,195.06]
["Макарский Сергей / Makarskij Sergej / 1987",null,null,null,null,null,223.42,null,null,null,null,null,null,null,null,null,223.42]
["Маковский Дмитрий / Makovskij Dmitrij / 1981",null,null,null,null,null,null,null,null,null,null,null,241.02,null,null,null,241.02]
["Малалетников Павел / Malaletnikov Pavel / 1982",null,null,null,null,null,null,null,null,null,null,null,null,null,null,411.79,411.79]
["Малаховская Татьяна / Malahovskaya Tatyana / 1989",null,null,null,243.05,null,null,null,null,null,null,null,null,null,null,null,243.05]
["Малаховский Александр / Malahovskij Aleksandr / 1985",null,null,null,null,null,null,null,null,null,null,null,null,null,null,43.35,43.35]
["Малышко Татьяна / Malyshko Tatyana / 1983",null,null,null,null,null,206.24,null,null,null,null,null,null,null,null,null,206.24]
["Малькевич Елена / Malkevich Elena / 1984",null,null,null,null,null,null,null,null,null,null,250.32,null,null,null,null,250.32]
["Мальков Валентин / Malkov Valentin / 1988",null,454.82,null,null,null,null,null,493.76,null,null,null,378.75,null,null,null,1327.33]
["Малявко Сергей / Malyavko Sergej / 1990",null,null,null,null,null,null,null,null,null,null,155.65,null,null,null,null,155.65]
["Манкевич Алексей / Mankevich Aleksej / 1972",null,null,null,null,null,17.190000000000001,null,null,null,null,null,null,null,null,null,17.190000000000001]
["Маркевич Денис / Markevich Denis / 1981",null,391.14,null,null,363.69,null,null,null,null,null,null,280.37,null,554.72,null,1589.9199999999998]
["Мартынов Дмитрий / Martynov Dmitrij / 1984",null,null,null,null,null,null,365.91,null,null,null,null,null,null,null,null,365.91]
["Мартысевич Роман / Martysevich Roman / 1993",723.02,null,null,null,null,null,null,null,null,477.06,null,null,null,null,null,1200.08]
["Марченко Людмила / Marchenko Lyudmila / 1972",null,250.15,null,null,null,null,null,null,null,null,null,null,null,null,null,250.15]
["Марчук Александр / Marchuk Aleksandr / 1986",null,null,null,null,299.88,null,null,null,null,null,null,null,null,null,null,299.88]
["Маханьков Александр / Mahankov Aleksandr / 1983",null,null,null,null,null,null,null,null,null,null,null,314.8,null,null,null,314.8]
["Мацко Сергей / Matsko Sergej / 1991",null,null,null,null,null,257.8,null,null,null,null,null,null,null,null,null,257.8]
["Медведева Ольга / Medvedeva Olga / 1991",null,387.73,null,null,null,null,null,null,null,null,null,null,null,null,null,387.73]
["Медвецкий Денис / Medvetskij Denis / 1986",null,null,null,null,null,146.08000000000001,239.5,null,null,null,null,147.56,null,null,65.02,598.16000000000008]
["Мейсак Александр / Mejsak Aleksandr / 1989",null,null,null,null,null,null,null,43.89,null,null,null,null,null,null,null,43.89]
["Мельников Павел / Melnikov Pavel / 1998",null,null,null,null,null,null,null,null,null,null,241.53,null,null,null,null,241.53]
["Мертенс Андрей / Mertens Andrej / 1992",null,null,null,180.14,null,null,73.180000000000007,null,null,null,48.31,null,null,null,null,301.63]
["Метелица Антон / Metelitsa Anton / 1989",null,null,null,null,null,111.71,null,null,null,null,null,null,null,null,null,111.71]
["Миканович Антон / Mikanovich Anton / 1990",null,null,421.3,171.57,null,null,212.89,null,null,null,null,null,null,null,null,805.76]
["Милинкевич Елена / Milinkevich Elena / 1977",null,null,null,437.49,null,null,372.56,null,null,null,296.67,null,null,null,null,1106.72]
["Минич Ольга / Minich Olga / 1989",null,null,null,null,null,null,null,null,null,null,null,null,158.88999999999999,null,null,158.88999999999999]
["Минчук Александр / Minchuk Aleksandr / 1974",null,27.29,null,null,null,null,null,null,null,null,null,null,null,null,null,27.29]
["Минько Алексей / Minko Aleksej / 1997",null,null,544.17999999999995,null,null,null,null,null,null,null,null,null,null,null,null,544.17999999999995]
["Михайлова Марина / Mihajlova Marina / 1988",null,null,null,null,null,null,null,null,null,null,27.81,null,null,null,null,27.81]
["Михалкин Сергей / Mihalkin Sergej / 1989",null,null,null,null,516.82000000000005,null,null,null,null,null,null,null,null,null,null,516.82000000000005]
["Михно Алла / Mihno Alla / 1979",null,null,null,null,140.94999999999999,null,null,null,476.19,null,null,null,null,null,526.35,1143.49]
["Михно Борис / Mihno Boris / 1982",null,null,null,null,102.09,null,null,null,142.86000000000001,null,null,null,null,null,325.10000000000002,570.05000000000007]
["Михнюк Виктор / Mihnyuk Viktor / 1990",null,null,null,386.02,null,null,null,null,null,null,null,null,null,null,null,386.02]
["Моисеева Вероника / Moiseeva Veronika / 1983",null,null,null,null,null,null,null,null,null,null,null,null,132.4,null,null,132.4]
["Молочко Александр / Molochko Aleksandr / 1981",925.47,null,null,null,446.63,null,null,null,null,775.22,null,206.59,null,null,null,2353.91]
["Молочко Анна / Molochko Anna / 2006",null,null,null,null,null,null,null,null,null,null,null,null,203.02,null,null,203.02]
["Молочко Николай / Molochko Nikolaj / 2004",null,null,null,null,null,null,null,null,null,null,null,null,31.09,null,null,31.09]
["Молчан Александр / Molchan Aleksandr / 1988",null,418.43,null,null,null,null,null,373.06,null,null,null,334.48,null,null,null,1125.97]
["Моргачев Андрей / Morgachev Andrej / 1981",null,null,null,null,null,42.97,null,null,null,null,null,null,null,null,null,42.97]
["Мороз Евгений / Moroz Evgenij / 1985",null,null,null,null,null,null,79.83,null,null,null,null,null,null,null,null,79.83]
["Морозова Екатерина / Morozova Ekaterina / 1978",null,125.07,null,null,null,null,null,null,null,null,null,null,null,null,null,125.07]
["Мосийчук Максим / Mosijchuk Maksim / 1984",null,473.01,null,null,null,null,null,null,null,null,null,324.64,null,null,null,797.65]
["Мурашкина Галина / Murashkina Galina / 1988",null,300.18,null,129.63,null,null,null,null,null,null,null,null,null,null,null,429.81]
["Мурашов Владимир / Murashov Vladimir / 1983",null,null,null,null,108.47,null,null,null,null,null,null,null,null,null,368.44,476.90999999999997]
["Набоков Дмитрий / Nabokov Dmitrij / 1998",null,null,null,null,null,null,null,null,null,null,273.74,null,null,null,null,273.74]
["Насвит Дмитрий / Nasvit Dmitrij / 1986",null,null,null,null,null,null,null,427.93,null,null,null,null,null,null,null,427.93]
["Невмержицкая Анна / Nevmerzhitskaya Anna / 1997",null,null,498.27,307.87,null,null,null,null,null,null,null,null,null,null,null,806.14]
["Недведская Елена / Nedvedskaya Elena / 1986",null,null,null,null,null,null,272.25,null,null,null,null,null,194.19,null,null,466.44]
["Нежаветс Сергей / Nezhavets Sergej / 1989",null,null,null,null,null,180.46,null,null,null,null,null,null,null,null,null,180.46]
["Незнанов Михаил / Neznanov Mihail / 1982",null,null,null,null,null,null,106.45,null,null,null,null,null,null,null,null,106.45]
["Некрасов Василий / Nekrasov Vasilij / 1986",null,null,null,null,null,null,null,null,null,null,null,null,null,null,715.21,715.21]
["Необердина Мария / Neoberdina Mariya / 1987",null,null,null,null,null,null,null,null,null,null,148.34,null,null,null,null,148.34]
["Нестерович Сергей / Nesterovich Sergej / 1994",null,null,null,null,null,null,null,null,null,null,null,null,null,640.05999999999995,null,640.05999999999995]
["Нефедова Оксана / Nefedova Oksana / 1979",null,237.64,null,null,null,null,null,null,null,null,null,null,null,null,null,237.64]
["Нехайчик Мария / Nehajchik Mariya / 1995",null,null,null,null,null,null,null,null,null,null,83.44,null,null,null,null,83.44]
["Нечаев Владимир / Nechaev Vladimir / 1995",null,null,null,368.87,null,null,null,null,null,null,246.9,null,null,null,null,615.77]
["Нещик Алексей / Neschik Aleksej / 1983",null,null,null,null,null,null,null,null,null,null,171.76,null,null,null,null,171.76]
["Никитюк Алексей / Nikityuk Aleksej / 1985",null,null,386.19,null,null,null,null,null,null,null,null,null,null,null,null,386.19]
["Николаевич Дмитрий / Nikolaevich Dmitrij / 1999",null,null,null,null,null,null,null,null,null,null,295.20999999999998,null,null,null,null,295.20999999999998]
["Николаевский Станислав / Nikolaevskij Stanislav / 1985",null,null,473.96,null,null,null,null,null,null,null,null,null,null,null,null,473.96]
["Никонов Максим / Nikonov Maksim / 1979",null,null,null,null,null,null,null,438.9,null,null,null,null,null,null,null,438.9]
["Никрашевич Сергей / Nikrashevich Sergej / 1985",null,null,null,128.66999999999999,null,null,null,null,null,null,null,null,null,null,null,128.66999999999999]
["Новик Анастасия / Novik Anastasiya / 1985",null,null,null,null,null,null,null,427.93,null,null,null,null,null,null,null,427.93]
["Новиков Денис / Novikov Denis / 1989",null,null,null,null,null,null,null,null,null,null,166.39,null,null,null,null,166.39]
["Новиченко Антон / Novichenko Anton / 1997",null,null,null,null,null,null,null,null,null,null,null,383.67,null,null,null,383.67]
["Новікаў Анатоль / Novіkau Anatol / 1984",694.1,null,null,null,null,null,null,null,null,null,null,null,null,null,null,694.1]
["Новосяд Владимир / Novosyad Vladimir / 1968",null,54.58,null,null,null,null,null,null,null,null,null,null,null,null,null,54.58]
["Обухова Екатерина / Obuhova Ekaterina / 1978",null,null,null,null,null,null,null,null,null,null,null,null,null,null,631.62,631.62]
["Овсиюк Богдан / Ovsiyuk Bogdan / 1993",null,null,null,null,472.15,null,null,482.79,null,null,null,null,null,null,null,954.94]
["Окромешко Антон / Okromeshko Anton / 1990",809.79,null,null,null,null,null,null,null,null,null,null,null,null,null,null,809.79]
["Олин Денис / Olin Denis / 1976",null,null,null,145.83000000000001,null,null,null,null,null,null,null,null,null,512.04999999999995,null,657.88]
["Орлов Максим / Orlov Maksim / 1990",null,null,null,null,null,null,null,null,null,null,null,83.62,null,null,null,83.62]
["Орлова Татьяна / Orlova Tatyana / 1990",null,null,null,null,null,null,null,null,null,null,null,null,70.62,null,null,70.62]
["Орловский Павел / Orlovskij Pavel / 1989",null,null,null,null,350.93,null,319.33999999999997,null,null,null,null,null,null,null,null,670.27]
["Остапов Владимир / Ostapov Vladimir / 1977",null,null,null,null,370.07,null,null,null,null,null,null,null,null,null,null,370.07]
["Остаповец Евгений / Ostapovets Evgenij / 1990",null,null,null,null,395.59,null,null,null,null,null,236.17,null,null,null,null,631.76]
["Островцов Александр / Ostrovtsov Aleksandr / 1988",null,36.39,null,null,null,null,null,null,null,null,null,null,null,null,null,36.39]
["Островцова Марина / Ostrovtsova Marina / 1987",null,187.61,null,null,null,null,null,null,null,null,null,null,null,null,null,187.61]
["Павленко Юрий / Pavlenko Yurij / 1983",null,null,null,325.98,null,null,null,null,null,null,null,null,null,null,null,325.98]
["Павлов Александр / Pavlov Aleksandr / 1992",null,null,null,null,null,null,6.65,null,null,null,null,null,null,null,null,6.65]
["Павлова Анна / Pavlova Anna / 1992",null,null,null,null,null,null,null,null,null,null,185.42,null,null,null,null,185.42]
["Павловская Светлана / Pavlovskaya Svetlana / 1984",null,null,null,null,null,null,300.91000000000003,null,null,null,157.61000000000001,null,null,null,null,458.52000000000004]
["Палий Андрей / Palij Andrej / 1984",null,363.85,null,null,null,171.86,null,null,null,null,null,211.51,null,null,null,747.22]
["Пальвинская Валерия / Palvinskaya Valeriya / 1996",null,null,221.45,null,null,null,null,null,null,null,null,null,null,null,null,221.45]
["Панковец Николай / Pankovets Nikolaj / 1979",null,null,null,162.99,null,null,null,null,null,null,null,null,null,null,null,162.99]
["Пархимович Ирина / Parhimovich Irina / 1988",null,null,null,null,null,null,null,null,null,null,203.96,null,null,null,null,203.96]
["Петкевич Лилия / Petkevich Liliya / 1990",null,null,null,81.02,null,null,null,null,null,null,null,null,null,null,null,81.02]
["Пехтерев Сергей / Pehterev Sergej / 1979",null,null,null,null,null,94.52,null,null,null,null,null,null,null,null,null,94.52]
["Пехтерева Татьяна / Pehtereva Tatyana / 1987",null,null,null,null,null,309.35000000000002,null,null,null,null,null,null,null,null,null,309.35000000000002]
["Печёнов Георгий / Pechjonov Georgij / 1975",null,null,null,291.66000000000003,null,null,null,241.39,null,null,null,null,null,null,130.04,663.08999999999992]
["Пивень Андрей / Piven Andrej / 1992",null,null,null,null,null,null,null,null,null,null,null,null,null,1066.77,null,1066.77]
["Пилецкий Максим / Piletskij Maksim / 1991",null,null,null,null,null,null,null,null,null,null,26.84,null,null,null,null,26.84]
["Пиньковская Ирина / Pinkovskaya Irina / 1986",null,null,null,null,null,null,null,null,null,null,null,null,229.5,null,null,229.5]
["Писаренко Андрей / Pisarenko Andrej / 1957",null,null,null,null,216.94,null,null,null,null,null,null,null,null,null,null,216.94]
["Пісарчык Сяргей / Pіsarchyk Syargej / 1980",null,null,null,null,null,null,null,null,null,null,null,373.83,null,null,null,373.83]
["Плодунов Захар / Plodunov Zahar / 1993",null,491.2,null,null,null,null,null,null,null,null,null,null,null,null,null,491.2]
["Побединский Александр / Pobedinskij Aleksandr / 1983",867.63,null,null,null,null,null,null,null,null,null,null,null,null,null,null,867.63]
["Поволоцкая Кристина / Povolotskaya Kristina / 1990",null,25.01,null,null,null,null,null,null,null,null,null,null,null,null,null,25.01]
["Поволоцкий Даниил / Povolotskij Daniil / 1990",null,9.1,null,null,null,null,null,null,null,null,null,null,null,null,null,9.1]
["Подрез Ярослав / Podrez Yaroslav / 1996",null,null,null,null,242.46,null,null,null,null,null,null,250.86,null,853.42,null,1346.74]
["Покульницкий Алексей / Pokulnitskij Aleksej / 1988",null,null,175.54,null,null,null,null,null,null,null,null,14.76,null,null,null,190.29999999999998]
["Полещук Татьяна / Poleschuk Tatyana / 1988",694.1,null,null,null,null,null,null,null,null,null,null,null,null,null,null,694.1]
["Полякова Анна / Polyakova Anna / 1987",null,312.69,null,null,null,244.91,229.27,null,null,null,176.15,null,null,null,null,963.02]
["Попадюк Игорь / Popadyuk Igor / 1982",null,null,631.95000000000005,null,344.54,null,null,null,535.71,null,null,191.83,null,null,null,1704.03]
["Попов Александр / Popov Aleksandr / 1986",null,null,null,null,null,null,null,null,null,null,null,300.05,null,null,null,300.05]
["Попов Юрий / Popov Yurij / 1969",null,null,702.17,null,null,null,null,null,null,null,null,null,null,null,null,702.17]
["Потапов Сергей / Potapov Sergej / 1988",null,null,null,null,null,240.61,null,null,null,null,null,null,null,null,null,240.61]
["Поцелуев Сергей / Potseluev Sergej / 1973",null,null,null,null,null,null,null,null,null,null,null,null,null,null,433.46,433.46]
["Прокопенко Анна / Prokopenko Anna / 1980",null,50.03,null,null,null,null,null,null,null,null,null,null,null,null,null,50.03]
["Прокопович Ростислав / Prokopovich Rostislav / 1982",null,null,596.84,null,null,null,null,null,null,null,null,null,null,null,null,596.84]
["Пугач Вадим / Pugach Vadim / 1985",null,null,null,205.88,null,null,null,null,null,null,null,null,null,null,null,205.88]
["Пузаревский Роман / Puzarevskij Roman / 1994",null,null,null,360.29,null,null,null,null,null,null,null,null,null,null,null,360.29]
["Пухаева Светлана / Puhaeva Svetlana / 1980",null,325.19,null,372.68,null,null,null,null,null,null,null,null,null,null,null,697.87]
["Пучик Александр / Puchik Aleksandr / 1983",null,null,509.07,null,null,null,null,null,null,null,null,null,null,null,null,509.07]
["Рагойша Пётр / Ragojsha Pjotr / 1976",null,null,null,null,null,null,null,null,null,834.85,null,201.67,null,null,null,1036.52]
["Радиончик Александр / Radionchik Aleksandr / 1985",null,null,315.98,null,null,null,null,164.59,null,null,null,54.11,null,null,null,534.68000000000006]
["Радчук Алеся / Radchuk Alesya / 1996",null,null,null,null,null,null,null,null,null,null,null,null,null,null,473.71,473.71]
["Рачковский Николай / Rachkovskij Nikolaj / 1985",318.13,null,null,null,null,null,null,null,null,null,null,null,null,null,null,318.13]
["Рачковский Сергей / Rachkovskij Sergej / 1988",null,null,null,null,null,null,null,null,null,null,null,null,null,null,541.83000000000004,541.83000000000004]
["Ращинский Александр / Raschinskij Aleksandr / 1990",null,null,null,null,null,null,null,null,null,null,91.25,null,null,null,null,91.25]
["Ремизевич Вадим / Remizevich Vadim / 1980",null,null,null,null,null,null,113.1,null,null,null,null,null,null,null,null,113.1]
["Родионова Светлана / Rodionova Svetlana / 1981",null,null,null,null,null,null,null,null,null,null,null,null,35.31,null,null,35.31]
["Ролдугин Михаил / Roldugin Mihail / 1987",null,null,null,257.35000000000002,null,null,null,null,null,null,null,null,null,null,null,257.35000000000002]
["Рудковская Татьяна / Rudkovskaya Tatyana / 1997",null,null,null,null,null,null,null,null,null,null,166.88,null,null,null,null,166.88]
["Рудович Александр / Rudovich Aleksandr / 1990",null,null,null,null,null,null,126.4,null,null,null,null,null,null,null,null,126.4]
["Ружицкая Елена / Ruzhitskaya Elena / 1983",null,null,null,null,null,null,null,null,null,null,74.17,null,null,null,null,74.17]
["Русакова Татьяна / Rusakova Tatyana / 1979",null,null,null,null,null,null,null,null,null,null,129.79,null,null,null,null,129.79]
["Рускевич Максим / Ruskevich Maksim / 1990",null,null,null,null,null,51.56,null,null,null,null,null,null,null,null,null,51.56]
["Савич Евгений / Savich Evgenij / 1980",null,null,null,300.24,null,null,null,null,null,null,161.02000000000001,null,null,null,null,461.26]
["Савостеня Виктор / Savostenya Viktor / 1989",null,null,null,null,null,null,null,null,null,null,214.7,null,null,null,null,214.7]
["Салодкин Сергей / Salodkin Sergej / 1984",null,null,null,null,null,null,null,null,null,null,null,363.99,null,null,null,363.99]
["Самсонов Никита / Samsonov Nikita / 1989",null,null,null,null,null,null,null,32.92,null,null,42.94,null,null,null,null,75.86]
["Самусик Елена / Samusik Elena / 1992",null,null,null,null,null,null,null,null,null,null,null,null,79.44,null,null,79.44]
["Сафонов Юрий / Safonov Yurij / 1983",null,null,298.42,null,null,null,null,null,null,null,null,null,null,null,null,298.42]
["Свечников Антон / Svechnikov Anton / 1991",null,null,null,null,312.64,null,null,null,null,null,null,319.72000000000003,null,null,null,632.36]
["Селиванов Алексавндр / Selivanov Aleksavndr / 1970",null,null,null,null,223.32,null,null,null,null,null,null,null,null,null,null,223.32]
["Селищева Ирина / Selischeva Irina / 1983",null,null,null,null,null,167.57,null,null,null,null,null,null,null,null,null,167.57]
["Селютин Владимир / Selyutin Vladimir / 1990",null,null,null,null,376.45,null,312.68,null,null,null,252.27,null,null,810.75,null,1752.15]
["Сербаев Виталий / Serbaev Vitalij / 1979",null,null,null,null,null,null,null,null,null,null,null,103.29,null,null,null,103.29]
["Сердитов Вадим / Serditov Vadim / 1993",null,null,null,null,510.44,null,null,null,null,null,null,null,null,null,null,510.44]
["Сидоревич Александр / Sidorevich Aleksandr / 1985",null,null,null,394.6,null,null,null,null,null,null,null,329.56,null,null,671.87,1396.0300000000002]
["Сикорская Настя / Sikorskaya Nastya / 1983",null,null,null,324.07,null,null,null,null,null,null,null,null,null,null,null,324.07]
["Силивонова Виктория / Silivonova Viktoriya / 1994",null,null,null,null,null,null,null,null,null,null,null,null,185.37,null,null,185.37]
["Сильванович Валерия / Silvanovich Valeriya / 1998",null,null,null,null,null,null,null,329.17,null,null,null,82.21,null,null,null,411.38]
["Сильченко Наталья / Silchenko Natalya / ",null,null,null,145.83000000000001,null,null,null,null,null,null,null,null,null,null,null,145.83000000000001]
["Сим Игорь / Sim Igor / 1989",null,null,null,null,null,null,66.53,null,null,null,null,null,null,null,null,66.53]
["Симогостицкий Александр / Simogostitskij Aleksandr / 1987",null,null,null,null,null,266.39,133.06,null,null,null,null,null,null,null,null,399.45]
["Симонов Александр / Simonov Aleksandr / 1999",null,null,null,null,null,null,null,null,null,null,257.63,null,null,null,null,257.63]
["Симонов Вадим / Simonov Vadim / 1985",null,null,null,null,255.22,null,null,null,null,null,null,108.21,null,null,null,363.43]
["Синица Кирилл / Sinitsa Kirill / 1981",1012.23,null,null,null,null,249.2,null,null,null,894.48,null,354.15,null,981.43,null,3491.49]
["Сіпачоў Аляксей / Sіpachou Alyaksej / 1979",null,null,null,null,null,null,259.45999999999998,null,null,null,null,null,null,null,null,259.45999999999998]
["Скабицкая Анна / Skabitskaya Anna / 1987",null,null,null,null,null,null,null,null,null,null,null,null,176.54,null,null,176.54]
["Скирук Юлия / Skiruk Yuliya / 1988",null,500.3,null,null,422.85,null,null,null,null,596.32000000000005,null,null,238.33,null,736.89,2494.69]
["Скляр Антон / Sklyar Anton / 1983",null,null,null,214.46,null,null,null,null,null,null,null,null,null,null,null,214.46]
["Скребец Сергей / Skrebets Sergej / 1963",null,45.48,null,null,null,null,null,null,null,null,null,null,null,null,null,45.48]
["Скуратович Антон / Skuratovich Anton / 1985",null,null,null,null,459.39,null,null,405.98,null,null,null,309.88,null,null,650.19000000000005,1825.44]
["Славинский Дмитрий / Slavinskij Dmitrij / 1986",null,null,null,null,261.60000000000002,null,null,21.94,null,null,null,null,null,null,null,283.54000000000002]
["Слободько Дмитрий / Slobodko Dmitrij / 1984",null,null,null,317.39999999999998,null,null,null,null,null,null,null,null,null,null,null,317.39999999999998]
["Соколов Артем / Sokolov Artem / 1986",null,null,null,null,null,null,null,null,null,null,null,null,93.26,null,null,93.26]
["Солодкин Сергей / Solodkin Sergej / 1984",null,null,null,null,453.01,null,null,null,null,null,null,null,null,null,null,453.01]
["Сорокин Денис / Sorokin Denis / 1998",null,null,null,null,null,null,null,null,null,null,null,null,null,597.39,null,597.39]
["Станкевич Владимир / Stankevich Vladimir / 1982",null,null,null,null,null,null,null,null,null,null,134.18,null,null,null,null,134.18]
["Старовойтова Евгения / Starovojtova Evgeniya / 1996",null,null,null,null,null,null,null,null,null,null,null,191.83,null,null,null,191.83]
["Стародуб Евгений / Starodub Evgenij / 2000",null,null,null,null,null,null,null,null,null,null,268.37,null,null,null,null,268.37]
["Стасевич Александр / Stasevich Aleksandr / 1987",null,null,null,437.49,null,null,null,null,null,null,null,null,null,null,null,437.49]
["Стельмах Юрий / Stelmah Yurij / 1982",null,null,null,137.25,null,null,null,null,null,null,null,null,null,null,null,137.25]
["Стешко Фёдор / Steshko Fjodor / 1990",null,null,null,null,null,null,null,null,null,null,null,null,72.53,null,null,72.53]
["Стракович Екатерина / Strakovich Ekaterina / 1991",null,null,null,null,null,null,null,null,null,null,null,null,150.06,null,null,150.06]
["Студенков Александр / Studenkov Aleksandr / 1984",null,null,280.87,null,null,null,null,null,null,null,null,null,null,null,null,280.87]
["Ступяк Андрей / Stupyak Andrej / 1979",null,null,null,null,null,null,null,109.72,null,null,null,null,null,null,null,109.72]
["Суворов Александр / Suvorov Aleksandr / 1983",null,null,null,null,null,null,null,null,null,null,107.35,null,null,null,null,107.35]
["Сулимчик Оксана / Sulimchik Oksana / 1986",null,null,null,null,null,null,null,null,null,894.48,null,301.45,null,null,null,1195.93]
["Суматохин Виталий / Sumatohin Vitalij / 1989",null,null,null,null,null,null,null,null,null,null,150.29,null,null,null,null,150.29]
["Сухобаевский Николай / Suhobaevskij Nikolaj / 1986",null,null,null,null,null,214.83,null,null,null,null,null,null,null,null,null,214.83]
["Суховей Михаил / Suhovej Mihail / 1991",462.73,null,null,null,null,null,null,null,null,655.95,null,null,null,null,null,1118.68]
["Суховерхая Татьяна / Suhoverhaya Tatyana / 1986",null,null,null,null,234.92,null,null,null,null,null,null,54.81,null,1066.77,null,1356.5]
["Сысков Никита / Syskov Nikita / 1985",null,null,null,null,null,null,null,null,null,null,null,null,20.72,null,null,20.72]
["Танасейчук Анна / Tanasejchuk Anna / 1983",null,null,null,388.88,null,null,null,null,null,null,null,null,null,null,null,388.88]
["Таран Виталий / Taran Vitalij / 1983",null,null,null,null,338.16,null,null,null,null,null,null,39.35,null,null,null,377.51000000000005]
["Таранко Марта / Taranko Marta / 1990",null,null,null,291.66000000000003,null,null,null,null,null,null,null,null,123.58,null,null,415.24]
["Тарасенко Павел / Tarasenko Pavel / 1983",null,null,667.06,null,null,null,null,null,571.42999999999995,null,null,63.94,null,null,null,1302.4299999999998]
["Телегина София / Telegina Sofiya / 1991",null,null,null,null,null,null,286.58,null,null,null,null,null,null,null,null,286.58]
["Терехова Татьяна / Terehova Tatyana / 1982",null,null,null,null,null,null,null,null,null,null,92.71,null,null,null,null,92.71]
["Тимкина Наталья / Timkina Natalya / 1982",null,100.06,null,null,null,null,null,null,null,null,null,null,null,null,null,100.06]
["Тимошенко Алена / Timoshenko Alena / 1982",null,null,null,null,null,null,343.9,null,null,null,null,null,null,null,null,343.9]
["Титова Инна / Titova Inna / 1986",null,null,null,null,null,null,null,null,null,null,278.13,null,null,null,null,278.13]
["Титуленко Егор / Titulenko Egor / 1983",347.05,null,null,null,null,null,null,null,null,null,null,null,null,null,null,347.05]
["Тихонов Василий / Tihonov Vasilij / 1993",null,null,null,null,408.35,null,null,null,678.57,null,null,null,null,null,null,1086.92]
["Ткачук Дарья / Tkachuk Darya / 1981",null,null,387.54,null,null,null,null,null,null,null,null,null,null,null,null,387.54]
["Толкачев Дмитрий / Tolkachev Dmitrij / 1971",null,500.3,null,null,null,null,null,null,null,null,null,null,null,null,null,500.3]
["Томашев Игорь / Tomashev Igor / 1965",null,18.190000000000001,null,null,null,null,null,null,null,null,null,null,null,null,null,18.190000000000001]
["Торопова Мария / Toropova Mariya / 1989",null,null,null,null,null,null,186.28,null,null,null,null,null,null,null,null,186.28]
["Торубарова Татьяна / Torubarova Tatyana / 1983",null,null,719.72,null,null,null,null,null,null,null,null,null,null,null,null,719.72]
["Тофоров Дмитрий / Toforov Dmitrij / 1991",null,null,null,null,null,null,null,null,null,536.69000000000005,null,null,null,null,null,536.69000000000005]
["Трасковский Геннадий / Traskovskij Gennadij / 1961",260.29000000000002,null,null,null,null,null,null,null,null,null,null,null,null,null,null,260.29000000000002]
["Трасковский Дмитрий / Traskovskij Dmitrij / 1986",549.5,null,null,null,null,null,null,null,null,null,null,null,null,null,null,549.5]
["Тривашкевич Евгений / Trivashkevich Evgenij / 1996",null,null,null,null,382.83,null,null,null,null,null,null,null,null,null,null,382.83]
["Троцкий Игнат / Trotskij Ignat / 2002",null,null,null,null,null,null,null,null,null,null,16.100000000000001,null,null,null,null,16.100000000000001]
["Трубкина Анастасия / Trubkina Anastasiya / 1989",null,null,null,null,null,null,null,460.84,null,null,null,null,null,null,null,460.84]
["Трубкина Инна / Trubkina Inna / 1972",null,null,null,162.03,null,null,null,null,null,null,null,null,null,null,null,162.03]
["Труханов Сергей / Truhanov Sergej / 1987",null,null,368.64,null,null,null,null,null,null,null,null,null,null,null,null,368.64]
["Трухтанова Елена / Truhtanova Elena / 1985",null,null,442.91,null,null,null,null,null,null,null,null,null,null,null,null,442.91]
["Тумашик Екатерина / Tumashik Ekaterina / 1984",null,null,null,null,null,null,200.61,null,null,null,null,null,null,null,null,200.61]
["Туровец Ольга / Turovets Olga / 1979",null,null,null,113.42,null,null,214.94,null,null,null,null,109.62,null,null,null,437.98]
["Тюев Даниил / Tyuev Daniil / 1977",607.34,null,null,null,127.61,null,null,null,null,715.59,null,201.67,null,null,498.48,2150.69]
["Утлик Максим / Utlik Maksim / 1985",null,null,null,null,null,null,null,null,null,null,null,167.24,null,null,null,167.24]
["Фам Вероника / Fam Veronika / 1982",null,112.57,null,null,null,null,null,null,null,null,null,null,null,null,null,112.57]
["Фамичёва Елена / Famichjova Elena / 1993",null,null,null,null,null,null,85.98,null,null,null,null,null,null,null,null,85.98]
["Федоринчик Дмитрий / Fedorinchik Dmitrij / 1988",null,null,null,null,null,null,null,null,null,null,null,null,51.81,null,null,51.81]
["Федорович Николай / Fedorovich Nikolaj / 1959",665.18,null,null,null,280.74,null,null,null,428.57,null,null,132.81,null,null,null,1507.3]
["Федченко Олеся / Fedchenko Olesya / 1977",null,null,null,null,null,null,null,32.92,null,null,null,null,null,null,null,32.92]
["Федченко Ярослава / Fedchenko Yaroslava / 2002",null,null,null,null,null,38.67,null,131.66999999999999,null,null,null,null,null,null,null,170.33999999999997]
["Федькович Виталий / Fedkovich Vitalij / 1995",null,null,null,null,null,null,null,null,null,null,230.8,null,null,null,null,230.8]
["Фенченко Алексей / Fenchenko Aleksej / 1989",null,null,null,null,null,null,null,null,null,null,null,null,null,768.07,null,768.07]
["Фигурин Дмитрий / Figurin Dmitrij / 1982",null,null,null,null,null,163.27000000000001,null,null,null,null,null,null,null,null,null,163.27000000000001]
["Фидек Виталий / Fidek Vitalij / 1966",null,null,122.88,null,null,null,null,null,null,null,null,null,null,null,null,122.88]
["Филипович Никита / Filipovich Nikita / 1993",null,136.44999999999999,null,null,null,null,null,null,null,null,null,null,null,null,null,136.44999999999999]
["Филитарин Дмитрий / Filitarin Dmitrij / 1987",null,null,null,null,421.11,null,null,null,null,null,null,null,null,null,null,421.11]
["Фомин Леонид / Fomin Leonid / 1983",231.37,null,null,null,null,null,null,null,null,null,null,null,null,null,null,231.37]
["Хадорик Владимир / Hadorik Vladimir / 1986",null,null,null,null,null,null,null,null,null,null,null,127.89,null,null,null,127.89]
["Халомзик Дмитрий / Halomzik Dmitrij / 1972",null,null,null,null,null,null,null,null,null,null,32.200000000000003,null,null,null,null,32.200000000000003]
["Хамицевич Андрей / Hamitsevich Andrej / 1983",null,null,null,null,null,null,226.2,null,null,null,null,null,null,null,null,226.2]
["Хамицевич Михаил / Hamitsevich Mihail / 1980",null,null,403.75,null,null,null,null,null,null,null,null,113.13,null,null,null,516.88]
["Харик Анна / Harik Anna / 1986",null,225.13,null,null,null,null,null,null,null,null,null,null,null,null,null,225.13]
["Харитонов Иван / Haritonov Ivan / 1973",636.26,null,null,null,133.99,null,null,null,null,417.43,null,182,null,725.4,null,2095.08]
["Хацкевич Дмитрий / Hatskevich Dmitrij / 1985",null,null,null,188.72,null,null,null,null,null,null,null,null,null,null,null,188.72]
["Херзен Андрей / Herzen Andrej / 1984",null,null,null,null,114.85,null,null,null,null,null,null,null,null,null,null,114.85]
["Хинец Анна / Hinets Anna / 1986",null,150.09,null,null,null,null,null,null,null,null,null,null,null,null,null,150.09]
["Хлопцева Инга / Hloptseva Inga / 1982",null,null,null,null,null,283.57,null,null,null,null,null,null,null,null,null,283.57]
["Ходан Александр / Hodan Aleksandr / 1988",null,null,null,null,504.06,null,null,null,null,null,null,null,null,null,null,504.06]
["Хомич Юрий / Homich Yurij / 1970",null,null,null,null,null,null,172.97,null,null,null,null,null,null,null,null,172.97]
["Хорошавин Вячеслав / Horoshavin Vyacheslav / 1985",null,482.11,null,null,null,292.17,345.95,null,null,null,300.57,null,null,null,null,1420.8]
["Храмов Антон / Hramov Anton / 1991",751.94,null,null,null,414.73,null,null,null,642.85,null,null,null,null,null,390.12,2199.64]
["Цвирбут Юлия / Tsvirbut Yuliya / 1992",null,475.28,null,null,null,null,null,493.76,null,null,null,383.67,null,null,null,1352.71]
["Чалый Николай / Chalyj Nikolaj / 1980",null,null,null,null,null,25.78,null,null,null,null,null,null,null,null,null,25.78]
["Чеботаев Сергей / Chebotaev Sergej / 1989",null,null,null,411.76,null,null,null,null,null,null,null,null,null,null,null,411.76]
["Чеботаева Валерия / Chebotaeva Valeriya / 1993",null,null,null,259.26,null,null,null,null,null,null,null,null,null,null,null,259.26]
["Черкас Александра / Cherkas Aleksandra / 1992",null,462.78,null,null,null,296.45999999999998,315.24,null,null,null,null,356.26,null,null,null,1430.74]
["Чернель Татьяна / Chernel Tatyana / 1982",null,null,null,null,null,null,null,395.01,null,null,null,null,null,null,315.81,710.81999999999994]
["Чернышев Дмитрий / Chernyshev Dmitrij / 1987",null,null,null,null,null,null,null,null,null,null,null,275.45,null,null,null,275.45]
["Чернявский Артем / Chernyavskij Artem / 1987",null,181.93,null,null,null,null,null,null,null,null,null,null,null,null,null,181.93]
["Чеснокова Надежда / Chesnokova Nadezhda / 1988",null,null,null,null,null,270.68,null,null,null,null,null,null,null,null,null,270.68]
["Чирская Юлия / Chirskaya Yuliya / 1992",null,null,null,null,null,null,null,null,null,null,null,null,145.07,null,null,145.07]
["Чичин Юрий / Chichin Yurij / 1979",null,null,null,null,null,null,null,120.7,null,null,null,null,null,null,260.08,380.78]
["Чудаков Владислав / Chudakov Vladislav / 1977",null,291.08,null,null,null,null,null,null,null,null,112.72,null,null,null,null,403.79999999999995]
["Шабанов Олег / Shabanov Oleg / 1971",null,254.7,null,null,null,null,null,null,null,null,null,63.94,null,null,null,318.64]
["Шапелевич Максим / Shapelevich Maksim / 1987",null,null,null,null,153.13,null,null,null,285.70999999999998,null,null,98.38,null,null,null,537.22]
["Шаповалова Ирина / Shapovalova Irina / 1993",null,null,null,null,null,257.8,null,null,null,null,null,null,null,null,null,257.8]
["Шахметова Наташа / Shahmetova Natasha / 1992",null,null,null,null,null,null,null,null,null,null,268.86,null,null,null,null,268.86]
["Швайковская Ольга / Shvajkovskaya Olga / 1979",null,null,null,null,null,null,null,263.33999999999997,null,null,null,null,null,null,null,263.33999999999997]
["Шепетько Сергей / Shepetko Sergej / 1987",null,318.37,null,null,172.27,null,null,252.37,null,null,null,172.16,null,null,null,915.17]
["Шестаков Геннадий / Shestakov Gennadij / 1962",491.66,null,null,null,null,null,null,null,null,null,null,null,null,null,null,491.66]
["Шестеров Андрей / Shesterov Andrej / 1986",null,209.22,null,null,null,null,null,null,null,null,null,null,null,null,null,209.22]
["Шило Руслан / Shilo Ruslan / 1993",null,null,null,null,159.51,null,null,null,464.28,null,null,null,null,null,null,623.79]
["Шипунов Олег / Shipunov Oleg / 1992",null,null,null,null,null,300.76,null,null,null,null,null,null,null,null,null,300.76]
["Широкова Анастасия / Shirokova Anastasiya / 1988",null,287.67,null,null,null,180.46,null,null,null,null,null,null,null,null,null,468.13]
["Шклярик Олег / Shklyarik Oleg / 1970",null,null,null,null,325.39999999999998,null,null,null,250,null,null,null,null,null,null,575.4]
["Шкрабо Ольга / Shkrabo Olga / 1985",null,null,null,null,null,77.34,null,null,null,null,null,null,null,null,null,77.34]
["Шуленков Роман / Shulenkov Roman / 1990",null,127.35,null,null,null,null,null,null,null,null,null,null,null,null,null,127.35]
["Шульпенков Александр / Shulpenkov Aleksandr / 1986",null,null,null,null,null,60.15,null,null,null,null,null,null,62.17,null,null,122.32]
["Щербаков Илья / Scherbakov Ilya / 1989",null,null,null,null,null,null,246.15,null,null,null,139.55000000000001,null,null,null,null,385.70000000000005]
["Щербина Максим / Scherbina Maksim / 1976",null,null,null,null,null,null,null,54.86,null,null,null,null,null,null,null,54.86]
["Щербо Виктор / Scherbo Viktor / 1961",null,null,null,null,null,null,null,null,null,null,null,null,196.88,null,null,196.88]
["Щукин Макс / Schukin Maks / 1992",null,null,null,null,null,null,null,null,null,null,75.14,null,null,null,null,75.14]
["Юкевич Александр / Yukevich Aleksandr / 1983",null,null,null,334.55,null,null,null,340.15,null,null,null,null,null,null,null,674.7]
["Юкевич Андрей / Yukevich Andrej / 1990",null,null,null,null,null,null,null,219.45,null,null,null,null,null,null,null,219.45]
["Юлов Герман / Yulov German / 1993",null,null,333.53,null,null,null,null,null,null,null,null,null,null,null,null,333.53]
["Явтушенко Вадим / Yavtushenko Vadim / 1981",null,null,null,null,null,154.68,159.66999999999999,null,null,null,null,null,null,null,null,314.35000000000002]
["Якимченко Анатолий / Yakimchenko Anatolij / 1967",null,null,null,68.63,null,null,null,null,null,null,null,24.59,null,null,null,93.22]
["Якимчук Надежда / Yakimchuk Nadezhda / 1986",null,null,null,null,null,null,null,65.83,null,null,null,null,null,null,null,65.83]
["Якубовская Виктория / Yakubovskaya Viktoriya / 1984",null,null,null,null,null,null,null,null,null,null,null,null,97.1,null,null,97.1]
["Якубовский Игорь / Yakubovskij Igor / 1984",null,null,null,null,146.75,null,null,186.53,null,null,null,null,82.9,null,null,416.17999999999995]
["Ямбушева Катерина / Yambusheva Katerina / 1987",null,null,null,356.48,null,null,null,null,null,null,null,null,null,null,null,356.48]
["Янович Лена / Yanovich Lena / 1996",null,null,null,null,null,null,null,null,null,null,null,null,null,null,421.08,421.08]
["Янченко Ксения / Yanchenko Kseniya / 1997",null,375.22,null,null,null,null,null,null,null,null,null,null,null,null,null,375.22]
["Ярмончик Игорь / Yarmonchik Igor / 1985",null,null,null,223.04,null,null,null,null,null,null,null,null,null,null,null,223.04]
["Яцкевич Кирилл / Yatskevich Kirill / 2001",null,382.05,null,null,null,null,null,null,null,null,null,null,null,null,null,382.05]
["Общий итог",20389.239999999994,24264.499999999989,19968.580000000009,17097.490000000002,23383.8,9590.0099999999984,15654.140000000001,15306.560000000005,8928.5300000000007,8706.2999999999993,14087.93,18047.069999999996,6205.3400000000011,12118.51,18084.670000000006,231832.67000000016]

{"sheet":"4 лучших","index":4,"n_rows":596,"n_cols":24,"rows_kept":596,"cut":false,"hidden":false,"merged":[[0,17,0,20]]}
[null,null,null,null,null,null,null,null,null,null,null,null,null,null,null,null,null,"Лучшие результаты"]
["Названия строк","\"Налибоки 2018\" Трейл 100","\"Налибоки 2018\" Трейл 21","\"Налибоки 2018\" Трейл 42","Жук-трейл # 4 Минское Море  Трейл 16","Жук-трейл # 4 Минское Море  Трейл 25","Жук-трейл # 4 Минское Море  Трейл 8","Жук-трейл # 5 Крево Трейл 10","Жук-трейл # 5 Крево Трейл 21","Жук-трейл # 5 Крево Трейл 45","Жук-трейл # 5 Крево Трейл 70","Жук-трейл #6 Купалье Трейл 10","Жук-трейл #6 Купалье Трейл 21","Жук-трейл #6 Купалье Трейл 5","Зима минус 100 Трейл 100","Зима минус 100 Трейл 50","Общий итог",null,null,null,null,"Сумма баллов (принятая к зачёту)",null,"Пол"]
["Ben Bilel / Ben Bilel / 1981",null,null,null,null,null,null,null,null,71.430000000000007,null,null,null,null,null,null,71.430000000000007,{"$f":"LARGE(B3:P3,1)","v":71.430000000000007},{"$f":"IF(COUNT(B3:P3)=1,0,LARGE(B3:P3,2))","v":0},{"$f":"IF(COUNT(B3:P3)<3,0,LARGE(B3:P3,3))","v":0},{"$f":"IF(COUNT(B3:P3)<4,0,LARGE(B3:P3,4))","v":0},{"$f":"SUM(R3:U3)","v":71.430000000000007},{"$f":"V3-Q3","v":0},{"$f":"VLOOKUP(A3,'личные рез-ты по гонкам списком'!$J$1:$N$851,2,FALSE)","v":"М"}]
["Абаркина Елена / Abarkina Elena / 1983",null,null,null,null,null,null,null,null,null,null,null,null,105.92,null,null,105.92,{"$f":"LARGE(B4:P4,1)","v":105.92},{"$f":"IF(COUNT(B4:P4)=1,0,LARGE(B4:P4,2))","v":0},{"$f":"IF(COUNT(B4:P4)<3,0,LARGE(B4:P4,3))","v":0},{"$f":"IF(COUNT(B4:P4)<4,0,LARGE(B4:P4,4))","v":0},{"$f":"SUM(R4:U4)","v":105.92},{"$f":"V4-Q4","v":0},{"$f":"VLOOKUP(A4,'личные рез-ты по гонкам списком'!$J$1:$N$851,2,FALSE)","v":"Ж"}]
["Агаев Руслан / Agaev Ruslan / 1995",null,null,null,null,null,null,null,null,null,null,128.82,null,null,null,null,128.82,128.82,0,0,0,128.82,0,{"$f":"VLOOKUP(A5,'личные рез-ты по гонкам списком'!$J$1:$N$851,2,FALSE)","v":"М"}]
["Адаменко Виталий / Adamenko Vitalij / 1985",null,null,null,null,null,null,26.61,null,null,null,null,null,null,null,null,26.61,26.61,0,0,0,26.61,0,{"$f":"VLOOKUP(A6,'личные рез-ты по гонкам списком'!$J$1:$N$851,2,FALSE)","v":"М"}]
["Адамович Ирина / Adamovich Irina / 1973",null,425.25,null,null,null,null,null,null,null,null,null,null,null,null,null,425.25,425.25,0,0,0,425.25,0,{"$f":"VLOOKUP(A7,'личные рез-ты по гонкам списком'!$J$1:$N$851,2,FALSE)","v":"Ж"}]
["Алексеев Алексей / Alekseev Aleksej / 1980",null,null,null,null,331.78,null,null,null,500,null,null,221.35,null,null,null,1053.1299999999999,500,331.78,221.35,0,1053.1299999999999,0,{"$f":"VLOOKUP(A8,'личные рез-ты по гонкам списком'!$J$1:$N$851,2,FALSE)","v":"М"}]
["Ананич Александр / Ananich Aleksandr / 1979",null,null,null,null,null,null,null,null,null,null,null,null,null,null,108.37,108.37,108.37,0,0,0,108.37,0,{"$f":"VLOOKUP(A9,'личные рез-ты по гонкам списком'!$J$1:$N$851,2,FALSE)","v":"М"}]
["Анацко Леонид / Anatsko Leonid / 1961",null,null,null,null,null,null,null,null,null,298.16000000000003,null,4.92,null,null,null,303.08000000000004,298.16000000000003,4.92,0,0,303.08000000000004,0,{"$f":"VLOOKUP(A10,'личные рез-ты по гонкам списком'!$J$1:$N$851,2,FALSE)","v":"М"}]
["Андуро Сергей / Anduro Sergej / 1986",null,null,null,null,null,null,null,307.23,null,null,null,null,null,null,null,307.23,307.23,0,0,0,307.23,0,{"$f":"VLOOKUP(A11,'личные рез-ты по гонкам списком'!$J$1:$N$851,2,FALSE)","v":"М"}]
["Аноничев Александр / Anonichev Aleksandr / 1982",null,null,null,null,null,null,null,null,null,null,null,368.91,null,null,null,368.91,368.91,0,0,0,368.91,0,{"$f":"VLOOKUP(A12,'личные рез-ты по гонкам списком'!$J$1:$N$851,2,FALSE)","v":"М"}]
["Арабиенко Татьяна / Arabienko Tatyana / 1986",null,null,609,null,null,null,null,null,null,null,null,null,null,null,null,609,609,0,0,0,609,0,{"$f":"VLOOKUP(A13,'личные рез-ты по гонкам списком'!$J$1:$N$851,2,FALSE)","v":"Ж"}]
["Аржаников Евгений / Arzhanikov Evgenij / 1976",null,263.79000000000002,null,85.78,null,null,null,153.61000000000001,null,null,null,null,null,null,null,503.18000000000006,263.79000000000002,153.61000000000001,85.78,0,503.18000000000006,0,{"$f":"VLOOKUP(A14,'личные рез-ты по гонкам списком'!$J$1:$N$851,2,FALSE)","v":"М"}]
["Арловская Кристина / Arlovskaya Kristina / 1989",null,null,null,null,null,null,null,230.42,null,null,null,null,null,null,263.17,493.59000000000003,263.17,230.42,0,0,493.59000000000003,0,{"$f":"VLOOKUP(A15,'личные рез-ты по гонкам списком'!$J$1:$N$851,2,FALSE)","v":"Ж"}]
["Артихович Александр / Artihovich Aleksandr / 1972",null,null,null,null,null,null,null,null,null,null,59.04,null,null,null,null,59.04,59.04,0,0,0,59.04,0,{"$f":"VLOOKUP(A16,'личные рез-ты по гонкам списком'!$J$1:$N$851,2,FALSE)","v":"М"}]
["Асаевич Роман / Asaevich Roman / 1964",null,null,351.08,null,null,null,null,null,null,null,null,null,null,null,null,351.08,351.08,0,0,0,351.08,0,{"$f":"VLOOKUP(A17,'личные рез-ты по гонкам списком'!$J$1:$N$851,2,FALSE)","v":"М"}]
["Астапов Владимир / Astapov Vladimir / 1977",375.97,null,null,null,null,null,null,null,null,null,null,null,null,null,null,375.97,375.97,0,0,0,375.97,0,{"$f":"VLOOKUP(A18,'личные рез-ты по гонкам списком'!$J$1:$N$851,2,FALSE)","v":"М"}]
["Афанасьев Иван / Afanasev Ivan / 1979",null,null,null,null,null,null,null,null,null,null,305.94,null,null,null,null,305.94,305.94,0,0,0,305.94,0,{"$f":"VLOOKUP(A19,'личные рез-ты по гонкам списком'!$J$1:$N$851,2,FALSE)","v":"М"}]
["Бабицкий Кирилл / Babitskij Kirill / 1998",null,null,null,null,null,null,null,null,null,null,null,null,null,null,628.52,628.52,628.52,0,0,0,628.52,0,{"$f":"VLOOKUP(A20,'личные рез-ты по гонкам списком'!$J$1:$N$851,2,FALSE)","v":"М"}]
["Бабич Виталий / Babich Vitalij / 1981",null,345.66,null,null,null,null,null,null,null,null,null,null,null,null,null,345.66,345.66,0,0,0,345.66,0,{"$f":"VLOOKUP(A21,'личные рез-ты по гонкам списком'!$J$1:$N$851,2,FALSE)","v":"М"}]
["Бажанский Виталий / Bazhanskij Vitalij / 1982",null,null,null,null,null,null,null,null,null,null,null,177.08,null,null,null,177.08,177.08,0,0,0,177.08,0,{"$f":"VLOOKUP(A22,'личные рез-ты по гонкам списком'!$J$1:$N$851,2,FALSE)","v":"М"}]
["Балашов Никита / Balashov Nikita / 1983",null,409.34,null,null,null,null,null,null,null,null,null,null,null,null,null,409.34,409.34,0,0,0,409.34,0,{"$f":"VLOOKUP(A23,'личные рез-ты по гонкам списком'!$J$1:$N$851,2,FALSE)","v":"М"}]
["Барановский Алексей / Baranovskij Aleksej / 1981",null,null,null,null,null,null,null,null,null,null,null,152.47999999999999,null,null,null,152.47999999999999,152.47999999999999,0,0,0,152.47999999999999,0,{"$f":"VLOOKUP(A24,'личные рез-ты по гонкам списком'!$J$1:$N$851,2,FALSE)","v":"М"}]
["Баронов Роман / Baronov Roman / 1993",null,null,null,null,null,null,306.02999999999997,null,null,null,220.06,null,null,null,null,526.08999999999992,306.02999999999997,220.06,0,0,526.08999999999992,0,{"$f":"VLOOKUP(A25,'личные рез-ты по гонкам списком'!$J$1:$N$851,2,FALSE)","v":"М"}]
["Барсумян Артур / Barsumyan Artur / 1992",null,null,null,null,null,189.05,null,null,null,null,null,null,null,null,null,189.05,189.05,0,0,0,189.05,0,{"$f":"VLOOKUP(A26,'личные рез-ты по гонкам списком'!$J$1:$N$851,2,FALSE)","v":"М"}]
["Бачища Николай / Bachischa Nikolaj / 1988",null,null,null,null,null,null,null,null,null,null,null,null,null,null,238.4,238.4,238.4,0,0,0,238.4,0,{"$f":"VLOOKUP(A27,'личные рез-ты по гонкам списком'!$J$1:$N$851,2,FALSE)","v":"М"}]
["Бегун Егор / Begun Egor / 1988",null,null,null,null,null,null,232.85,null,null,null,null,null,null,null,null,232.85,232.85,0,0,0,232.85,0,{"$f":"VLOOKUP(A28,'личные рез-ты по гонкам списком'!$J$1:$N$851,2,FALSE)","v":"М"}]
["Белая Юлия / Belaya Yuliya / 1988",null,null,664.36,null,375.87,null,null,null,null,null,null,274.05,null,null,null,1314.28,664.36,375.87,274.05,0,1314.28,0,{"$f":"VLOOKUP(A29,'личные рез-ты по гонкам списком'!$J$1:$N$851,2,FALSE)","v":"Ж"}]
["Белинская Галина / Belinskaya Galina / 1980",null,null,null,null,null,null,null,null,null,null,null,null,null,null,684.25,684.25,684.25,0,0,0,684.25,0,{"$f":"VLOOKUP(A30,'личные рез-ты по гонкам списком'!$J$1:$N$851,2,FALSE)","v":"Ж"}]
["Белицкий Денис / Belitskij Denis / 1990",null,90.96,null,null,null,null,null,null,null,null,null,34.43,null,null,null,125.38999999999999,90.96,34.43,0,0,125.38999999999999,0,{"$f":"VLOOKUP(A31,'личные рез-ты по гонкам списком'!$J$1:$N$851,2,FALSE)","v":"М"}]
["Белоусов Александр / Belousov Aleksandr / 1981",null,null,null,null,null,null,null,null,null,null,123.45,null,null,null,null,123.45,123.45,0,0,0,123.45,0,{"$f":"VLOOKUP(A32,'личные рез-ты по гонкам списком'!$J$1:$N$851,2,FALSE)","v":"М"}]
["Белоцкая Елена / Belotskaya Elena / 1987",null,null,null,null,null,116.01,null,null,null,null,null,null,null,null,null,116.01,116.01,0,0,0,116.01,0,{"$f":"VLOOKUP(A33,'личные рез-ты по гонкам списком'!$J$1:$N$851,2,FALSE)","v":"Ж"}]
["Бердников Дмитрий / Berdnikov Dmitrij / ",null,null,null,null,null,null,null,null,null,null,53.67,null,null,null,null,53.67,53.67,0,0,0,53.67,0,{"$f":"VLOOKUP(A34,'личные рез-ты по гонкам списком'!$J$1:$N$851,2,FALSE)","v":"М"}]
["Березин Артём / Berezin Artjom / 1986",null,null,null,null,null,null,null,null,null,null,null,142.65,null,null,null,142.65,142.65,0,0,0,142.65,0,{"$f":"VLOOKUP(A35,'личные рез-ты по гонкам списком'!$J$1:$N$851,2,FALSE)","v":"М"}]
["Березовский Андрей / Berezovskij Andrej / 1973",null,null,null,null,465.77,null,null,null,null,null,null,295.13,null,null,693.54,1454.44,693.54,465.77,295.13,0,1454.44,0,{"$f":"VLOOKUP(A36,'личные рез-ты по гонкам списком'!$J$1:$N$851,2,FALSE)","v":"М"}]
["Бизюк Игорь / Bizyuk Igor / 1956",null,null,157.99,null,null,null,null,null,null,null,null,null,null,null,null,157.99,157.99,0,0,0,157.99,0,{"$f":"VLOOKUP(A37,'личные рез-ты по гонкам списком'!$J$1:$N$851,2,FALSE)","v":"М"}]
["Богдевич Анатолий / Bogdevich Anatolij / 1999",null,null,null,null,null,null,null,null,null,null,230.8,null,null,null,null,230.8,230.8,0,0,0,230.8,0,{"$f":"VLOOKUP(A38,'личные рез-ты по гонкам списком'!$J$1:$N$851,2,FALSE)","v":"М"}]
["Бойко Евгений / Bojko Evgenij / 1985",null,null,null,null,null,null,null,null,null,null,null,null,165.79,null,null,165.79,165.79,0,0,0,165.79,0,{"$f":"VLOOKUP(A39,'личные рез-ты по гонкам списком'!$J$1:$N$851,2,FALSE)","v":"М"}]
["Бокша Сергей / Boksha Sergej / 1988",null,null,null,null,319.02,null,null,null,null,null,null,null,null,null,null,319.02,319.02,0,0,0,319.02,0,{"$f":"VLOOKUP(A40,'личные рез-ты по гонкам списком'!$J$1:$N$851,2,FALSE)","v":"М"}]
["Бондарь Юлия / Bondar Yuliya / 1993",null,275.16000000000003,null,null,null,null,null,null,null,null,null,null,null,null,null,275.16000000000003,275.16000000000003,0,0,0,275.16000000000003,0,{"$f":"VLOOKUP(A41,'личные рез-ты по гонкам списком'!$J$1:$N$851,2,FALSE)","v":"Ж"}]
["Борисевич Александр / Borisevich Aleksandr / 1989",null,218.31,null,null,null,null,null,null,null,null,null,118.05,null,null,null,336.36,218.31,118.05,0,0,336.36,0,{"$f":"VLOOKUP(A42,'личные рез-ты по гонкам списком'!$J$1:$N$851,2,FALSE)","v":"М"}]
["Борисевич Анастасия / Borisevich Anastasiya / 1985",null,137.58000000000001,null,null,null,null,null,null,714.28,null,null,null,null,null,null,851.86,714.28,137.58000000000001,0,0,851.86,0,{"$f":"VLOOKUP(A43,'личные рез-ты по гонкам списком'!$J$1:$N$851,2,FALSE)","v":"Ж"}]
["Борисевич Леонид / Borisevich Leonid / 1969",null,null,null,null,401.97,null,null,null,null,null,null,290.20999999999998,null,896.09,null,1588.27,896.09,401.97,290.20999999999998,0,1588.27,0,{"$f":"VLOOKUP(A44,'личные рез-ты по гонкам списком'!$J$1:$N$851,2,FALSE)","v":"М"}]
["Бортник Александр / Bortnik Aleksandr / 1994",null,null,null,null,null,null,139.71,null,null,null,null,null,null,null,null,139.71,139.71,0,0,0,139.71,0,{"$f":"VLOOKUP(A45,'личные рез-ты по гонкам списком'!$J$1:$N$851,2,FALSE)","v":"М"}]
["Брагин Иван / Bragin Ivan / 1986",null,null,null,null,null,null,null,null,714.28,null,null,null,null,null,null,714.28,714.28,0,0,0,714.28,0,{"$f":"VLOOKUP(A46,'личные рез-ты по гонкам списком'!$J$1:$N$851,2,FALSE)","v":"М"}]
["Брытько Роман / Brytko Roman / 1995",null,null,null,null,185.03,null,292.72000000000003,null,null,null,284.47000000000003,null,null,null,null,762.22,292.72000000000003,284.47000000000003,185.03,0,762.22,0,{"$f":"VLOOKUP(A47,'личные рез-ты по гонкам списком'!$J$1:$N$851,2,FALSE)","v":"М"}]
["Будник Владимир / Budnik Vladimir / 1987",null,172.83,null,null,null,null,null,null,null,null,null,null,null,null,null,172.83,172.83,0,0,0,172.83,0,{"$f":"VLOOKUP(A48,'личные рез-ты по гонкам списком'!$J$1:$N$851,2,FALSE)","v":"М"}]
["Будрик Юлия / Budrik Yuliya / 1995",null,null,null,null,null,null,null,null,null,null,231.77,null,null,null,null,231.77,231.77,0,0,0,231.77,0,{"$f":"VLOOKUP(A49,'личные рез-ты по гонкам списком'!$J$1:$N$851,2,FALSE)","v":"Ж"}]
["Будыхина Татьяна / Budyhina Tatyana / 1985",null,37.520000000000003,null,null,null,null,null,null,null,null,null,null,null,null,null,37.520000000000003,37.520000000000003,0,0,0,37.520000000000003,0,{"$f":"VLOOKUP(A50,'личные рез-ты по гонкам списком'!$J$1:$N$851,2,FALSE)","v":"Ж"}]
["Бузо Александр / Buzo Aleksandr / 1982",null,null,null,403.18,null,null,null,449.87,null,null,null,231.18,null,null,null,1084.23,449.87,403.18,231.18,0,1084.23,0,{"$f":"VLOOKUP(A51,'личные рез-ты по гонкам списком'!$J$1:$N$851,2,FALSE)","v":"М"}]
["Булеева Наталья / Buleeva Natalya / 1969",null,null,null,226.85,null,null,null,null,null,null,null,null,null,null,null,226.85,226.85,0,0,0,226.85,0,{"$f":"VLOOKUP(A52,'личные рез-ты по гонкам списком'!$J$1:$N$851,2,FALSE)","v":"Ж"}]
["Бунос Анатолий / Bunos Anatolij / 1956",null,null,null,308.82,null,null,null,null,null,null,null,null,null,null,null,308.82,308.82,0,0,0,308.82,0,{"$f":"VLOOKUP(A53,'личные рез-ты по гонкам списком'!$J$1:$N$851,2,FALSE)","v":"М"}]
["Бурак Анжелика / Burak Anzhelika / 1994",null,null,null,null,null,null,null,null,null,null,null,null,141.22999999999999,null,null,141.22999999999999,141.22999999999999,0,0,0,141.22999999999999,0,{"$f":"VLOOKUP(A54,'личные рез-ты по гонкам списком'!$J$1:$N$851,2,FALSE)","v":"Ж"}]
["Бутурля Александр / Buturlya Aleksandr / 1981",null,null,null,null,null,null,null,null,null,null,null,null,113.98,null,null,113.98,113.98,0,0,0,113.98,0,{"$f":"VLOOKUP(A55,'личные рез-ты по гонкам списком'!$J$1:$N$851,2,FALSE)","v":"М"}]
["Буховецкий Андрей / Buhovetskij Andrej / 1987",null,300.18,null,null,null,null,null,null,null,null,null,null,null,null,null,300.18,300.18,0,0,0,300.18,0,{"$f":"VLOOKUP(A56,'личные рез-ты по гонкам списком'!$J$1:$N$851,2,FALSE)","v":"М"}]
["Бушковский Максим / Bushkovskij Maksim / 1989",null,null,null,null,null,null,null,null,null,null,null,88.54,null,null,null,88.54,88.54,0,0,0,88.54,0,{"$f":"VLOOKUP(A57,'личные рез-ты по гонкам списком'!$J$1:$N$851,2,FALSE)","v":"М"}]
["Быков Владимир / Bykov Vladimir / 1977",null,null,null,null,null,null,null,null,null,null,null,null,null,null,346.77,346.77,346.77,0,0,0,346.77,0,{"$f":"VLOOKUP(A58,'личные рез-ты по гонкам списком'!$J$1:$N$851,2,FALSE)","v":"М"}]
["Бычинский Владислав / Bychinskij Vladislav / 1992",null,null,null,null,null,null,206.24,null,null,null,null,null,null,null,null,206.24,206.24,0,0,0,206.24,0,{"$f":"VLOOKUP(A59,'личные рез-ты по гонкам списком'!$J$1:$N$851,2,FALSE)","v":"М"}]
["Бычков Александр / Bychkov Aleksandr / 1990",null,81.87,null,null,null,null,null,null,null,null,null,null,null,null,null,81.87,81.87,0,0,0,81.87,0,{"$f":"VLOOKUP(A60,'личные рез-ты по гонкам списком'!$J$1:$N$851,2,FALSE)","v":"М"}]
["Вагин Андрей / Vagin Andrej / 1989",null,null,719.72,null,491.3,null,null,460.84,null,null,null,null,null,null,null,1671.86,719.72,491.3,460.84,0,1671.86,0,{"$f":"VLOOKUP(A61,'личные рез-ты по гонкам списком'!$J$1:$N$851,2,FALSE)","v":"М"}]
["Вайтешонок Сергей / Vajteshonok Sergej / 1981",null,null,null,null,null,120.3,null,null,null,null,null,null,null,null,null,120.3,120.3,0,0,0,120.3,0,{"$f":"VLOOKUP(A62,'личные рез-ты по гонкам списком'!$J$1:$N$851,2,FALSE)","v":"М"}]
["Варданян Кристина / Vardanyan Kristina / 1981",null,350.21,null,null,null,null,null,null,null,null,null,null,null,null,null,350.21,350.21,0,0,0,350.21,0,{"$f":"VLOOKUP(A63,'личные рез-ты по гонкам списком'!$J$1:$N$851,2,FALSE)","v":"Ж"}]
["Василевич Валентина / Vasilevich Valentina / 1998",null,null,null,null,187.93,null,null,null,null,null,null,27.4,null,null,null,215.33,187.93,27.4,0,0,215.33,0,{"$f":"VLOOKUP(A64,'личные рез-ты по гонкам списком'!$J$1:$N$851,2,FALSE)","v":"Ж"}]
["Вдовиченко Ирина / Vdovichenko Irina / 1989",null,null,null,97.22,null,null,null,98.75,null,null,null,null,null,null,null,195.97,98.75,97.22,0,0,195.97,0,{"$f":"VLOOKUP(A65,'личные рез-ты по гонкам списком'!$J$1:$N$851,2,FALSE)","v":"Ж"}]
["Величко Павел / Velichko Pavel / 1982",520.58000000000004,null,null,null,null,null,null,null,null,null,null,255.78,null,null,null,776.36,520.58000000000004,255.78,0,0,776.36,0,{"$f":"VLOOKUP(A66,'личные рез-ты по гонкам списком'!$J$1:$N$851,2,FALSE)","v":"М"}]
["Верамейчик Елена / Veramejchik Elena / ",null,null,null,null,null,null,null,null,null,null,241.04,null,null,null,null,241.04,241.04,0,0,0,241.04,0,{"$f":"VLOOKUP(A67,'личные рез-ты по гонкам списком'!$J$1:$N$851,2,FALSE)","v":"Ж"}]
["Веремейчик Юрий / Veremejchik Yurij / 1979",null,null,null,null,293.5,null,null,274.31,null,null,null,null,null,null,null,567.80999999999995,{"$f":"LARGE(B68:P68,1)","v":293.5},{"$f":"IF(COUNT(B68:P68)=1,0,LARGE(B68:P68,2))","v":274.31},{"$f":"IF(COUNT(B68:P68)<3,0,LARGE(B68:P68,3))","v":0},{"$f":"IF(COUNT(B68:P68)<4,0,LARGE(B68:P68,4))","v":0},{"$f":"SUM(R68:U68)","v":567.80999999999995},{"$f":"V68-Q68","v":0},{"$f":"VLOOKUP(A68,'личные рез-ты по гонкам списком'!$J$1:$N$851,2,FALSE)","v":"М"}]
["Верещако Павел / Vereschako Pavel / 1988",null,null,null,283.08,null,null,null,null,null,null,null,null,null,null,null,283.08,283.08,0,0,0,283.08,0,{"$f":"VLOOKUP(A69,'личные рез-ты по гонкам списком'!$J$1:$N$851,2,FALSE)","v":"М"}]
["Ветохин Иван / Vetohin Ivan / 1987",null,null,null,null,null,null,null,null,null,null,null,null,41.45,null,null,41.45,41.45,0,0,0,41.45,0,{"$f":"VLOOKUP(A70,'личные рез-ты по гонкам списком'!$J$1:$N$851,2,FALSE)","v":"М"}]
["Ветохина София / Vetohina Sofiya / 2010",null,null,null,null,null,null,null,null,null,null,null,null,26.48,null,null,26.48,26.48,0,0,0,26.48,0,{"$f":"VLOOKUP(A71,'личные рез-ты по гонкам списком'!$J$1:$N$851,2,FALSE)","v":"Ж"}]
["Винтергрин Андрей / Vintergrin Andrej / 1981",null,236.51,null,null,null,null,null,null,null,null,null,null,null,null,null,236.51,236.51,0,0,0,236.51,0,{"$f":"VLOOKUP(A72,'личные рез-ты по гонкам списком'!$J$1:$N$851,2,FALSE)","v":"М"}]
["Вирский Константин / Virskij Konstantin / 1977",null,null,null,null,null,null,199.59,null,null,null,null,null,null,null,null,199.59,199.59,0,0,0,199.59,0,{"$f":"VLOOKUP(A73,'личные рез-ты по гонкам списком'!$J$1:$N$851,2,FALSE)","v":"М"}]
["Вирт Олег / Virt Oleg / 1980",null,63.67,null,null,null,null,null,null,null,null,null,null,null,null,null,63.67,63.67,0,0,0,63.67,0,{"$f":"VLOOKUP(A74,'личные рез-ты по гонкам списком'!$J$1:$N$851,2,FALSE)","v":"М"}]
["Войтович Татьяна / Vojtovich Tatyana / 1986",null,null,null,null,null,null,143.29,null,null,null,null,null,null,null,null,143.29,143.29,0,0,0,143.29,0,{"$f":"VLOOKUP(A75,'личные рез-ты по гонкам списком'!$J$1:$N$851,2,FALSE)","v":"Ж"}]
["Волков Николай / Volkov Nikolaj / 1989",null,null,null,428.91,null,null,null,null,null,null,null,null,null,null,null,428.91,428.91,0,0,0,428.91,0,{"$f":"VLOOKUP(A76,'личные рез-ты по гонкам списком'!$J$1:$N$851,2,FALSE)","v":"М"}]
["Володько Андрей / Volodko Andrej / 1986",null,null,526.63,null,null,206.24,null,296.26,null,null,null,226.26,null,null,null,1255.3900000000001,526.63,296.26,226.26,206.24,1255.3900000000001,0,{"$f":"VLOOKUP(A77,'личные рез-ты по гонкам списком'!$J$1:$N$851,2,FALSE)","v":"М"}]
["Володько Владимир / Volodko Vladimir / 2001",null,null,null,null,null,null,null,null,null,null,null,null,186.52,null,null,186.52,186.52,0,0,0,186.52,0,{"$f":"VLOOKUP(A78,'личные рез-ты по гонкам списком'!$J$1:$N$851,2,FALSE)","v":"М"}]
["Волостных Сергей / Volostnyh Sergej / 1989",null,null,210.65,null,null,null,null,null,null,null,null,null,null,null,null,210.65,210.65,0,0,0,210.65,0,{"$f":"VLOOKUP(A79,'личные рез-ты по гонкам списком'!$J$1:$N$851,2,FALSE)","v":"М"}]
["Воробьёв Дмитрий / Vorobjov Dmitrij / 1988",null,null,null,null,null,null,153.02000000000001,null,null,null,null,null,176.16,null,null,329.18,176.16,153.02000000000001,0,0,329.18,0,{"$f":"VLOOKUP(A80,'личные рез-ты по гонкам списком'!$J$1:$N$851,2,FALSE)","v":"М"}]
["Выборный Александр / Vybornyj Aleksandr / 1985",null,null,null,null,null,null,null,351.12,null,null,null,304.97000000000003,null,null,null,656.09,351.12,304.97000000000003,0,0,656.09,0,{"$f":"VLOOKUP(A81,'личные рез-ты по гонкам списком'!$J$1:$N$851,2,FALSE)","v":"М"}]
["Выробов Дмитрий / Vyrobov Dmitrij / 1988",null,null,null,null,null,34.369999999999997,null,null,null,null,null,null,null,null,null,34.369999999999997,34.369999999999997,0,0,0,34.369999999999997,0,{"$f":"VLOOKUP(A82,'личные рез-ты по гонкам списком'!$J$1:$N$851,2,FALSE)","v":"М"}]
["Гайдуков Александр / Gajdukov Aleksandr / 1989",null,null,null,null,null,null,299.38,null,null,null,null,null,null,null,null,299.38,299.38,0,0,0,299.38,0,{"$f":"VLOOKUP(A83,'личные рез-ты по гонкам списком'!$J$1:$N$851,2,FALSE)","v":"М"}]
["Галка Дмитрий / Galka Dmitrij / 1988",null,281.99,null,null,null,null,null,null,null,null,null,null,null,null,null,281.99,281.99,0,0,0,281.99,0,{"$f":"VLOOKUP(A84,'личные рез-ты по гонкам списком'!$J$1:$N$851,2,FALSE)","v":"М"}]
["Гамидов Нариман / Gamidov Nariman / 1972",null,null,null,null,null,null,179.63,null,null,null,null,null,null,null,null,179.63,179.63,0,0,0,179.63,0,{"$f":"VLOOKUP(A85,'личные рез-ты по гонкам списком'!$J$1:$N$851,2,FALSE)","v":"М"}]
["Гамидов Тимур / Gamidov Timur / 1996",null,null,null,null,null,null,345.95,null,null,null,null,null,null,null,null,345.95,345.95,0,0,0,345.95,0,{"$f":"VLOOKUP(A86,'личные рез-ты по гонкам списком'!$J$1:$N$851,2,FALSE)","v":"М"}]
["Гарбар Екатерина / Garbar Ekaterina / 1989",null,null,null,null,null,null,null,null,null,null,120.52,null,null,null,null,120.52,120.52,0,0,0,120.52,0,{"$f":"VLOOKUP(A87,'личные рез-ты по гонкам списком'!$J$1:$N$851,2,FALSE)","v":"Ж"}]
["Гарбуз Алла / Garbuz Alla / 1969",null,null,null,null,null,null,28.66,null,null,null,null,null,17.649999999999999,null,null,46.31,28.66,17.649999999999999,0,0,46.31,0,{"$f":"VLOOKUP(A88,'личные рез-ты по гонкам списком'!$J$1:$N$851,2,FALSE)","v":"Ж"}]
["Генсировский Павел / Gensirovskij Pavel / 1979",1041.1500000000001,null,null,null,null,null,null,null,null,null,null,null,null,null,null,1041.1500000000001,1041.1500000000001,0,0,0,1041.1500000000001,0,{"$f":"VLOOKUP(A89,'личные рез-ты по гонкам списком'!$J$1:$N$851,2,FALSE)","v":"М"}]
["Геранин Дмитрий / Geranin Dmitrij / ",null,null,null,null,null,null,null,null,null,null,null,null,207.24,null,null,207.24,207.24,0,0,0,207.24,0,{"$f":"VLOOKUP(A90,'личные рез-ты по гонкам списком'!$J$1:$N$851,2,FALSE)","v":"М"}]
["Герасевич Максим / Gerasevich Maksim / ",null,null,null,94.36,null,null,null,null,null,null,null,null,103.62,null,null,197.98000000000002,103.62,94.36,0,0,197.98000000000002,0,{"$f":"VLOOKUP(A91,'личные рез-ты по гонкам списком'!$J$1:$N$851,2,FALSE)","v":"М"}]
["Герасимов Юрий / Gerasimov Yurij / 1992",null,null,null,null,null,null,null,142.63999999999999,null,null,null,null,null,null,null,142.63999999999999,142.63999999999999,0,0,0,142.63999999999999,0,{"$f":"VLOOKUP(A92,'личные рез-ты по гонкам списком'!$J$1:$N$851,2,FALSE)","v":"М"}]
["Герасимук Юрий / Gerasimuk Yurij / 1992",null,309.27999999999997,null,null,null,null,null,null,null,null,null,null,null,null,null,309.27999999999997,309.27999999999997,0,0,0,309.27999999999997,0,{"$f":"VLOOKUP(A93,'личные рез-ты по гонкам списком'!$J$1:$N$851,2,FALSE)","v":"М"}]
["Гидлевский Дмитрий / Gidlevskij Dmitrij / 1986",null,null,null,null,null,309.35000000000002,359.25,null,null,null,null,null,null,null,null,668.6,359.25,309.35000000000002,0,0,668.6,0,{"$f":"VLOOKUP(A94,'личные рез-ты по гонкам списком'!$J$1:$N$851,2,FALSE)","v":"М"}]
["Гилевич Диана / Gilevich Diana / 1993",null,null,null,null,516.82000000000005,null,null,null,null,null,305.94,null,null,null,null,822.76,516.82000000000005,305.94,0,0,822.76,0,{"$f":"VLOOKUP(A95,'личные рез-ты по гонкам списком'!$J$1:$N$851,2,FALSE)","v":"Ж"}]
["Гилевич Кристина / Gilevich Kristina / 1994",null,null,null,null,469.83,null,null,null,null,null,null,null,null,null,null,469.83,469.83,0,0,0,469.83,0,{"$f":"VLOOKUP(A96,'личные рез-ты по гонкам списком'!$J$1:$N$851,2,FALSE)","v":"Ж"}]
["Гладкова Анна / Gladkova Anna / 1985",null,null,null,null,null,103.12,null,null,null,null,null,null,44.13,null,null,147.25,103.12,44.13,0,0,147.25,0,{"$f":"VLOOKUP(A97,'личные рез-ты по гонкам списком'!$J$1:$N$851,2,FALSE)","v":"Ж"}]
["Гладковский Владислав / Gladkovskij Vladislav / 1990",null,354.76,null,null,null,null,null,null,null,null,null,null,null,null,null,354.76,354.76,0,0,0,354.76,0,{"$f":"VLOOKUP(A98,'личные рез-ты по гонкам списком'!$J$1:$N$851,2,FALSE)","v":"М"}]
["Глушаков Сергей / Glushakov Sergej / 1958",null,null,null,null,210.56,null,null,null,null,null,null,null,null,null,null,210.56,210.56,0,0,0,210.56,0,{"$f":"VLOOKUP(A99,'личные рез-ты по гонкам списком'!$J$1:$N$851,2,FALSE)","v":"М"}]
["Глушков Александр / Glushkov Aleksandr / 1980",780.86,null,null,null,null,null,null,null,null,417.43,null,186.91,null,null,null,1385.2,780.86,417.43,186.91,0,1385.2,0,{"$f":"VLOOKUP(A100,'личные рез-ты по гонкам списком'!$J$1:$N$851,2,FALSE)","v":"М"}]
["Голубева Елена / Golubeva Elena / 1987",null,null,null,null,328.88,null,null,null,null,null,null,164.43,null,null,null,493.31,328.88,164.43,0,0,493.31,0,{"$f":"VLOOKUP(A101,'личные рез-ты по гонкам списком'!$J$1:$N$851,2,FALSE)","v":"Ж"}]
["Гомон Сергей / Gomon Sergej / 1990",202.45,null,null,null,null,null,null,null,null,null,null,null,null,null,null,202.45,202.45,0,0,0,202.45,0,{"$f":"VLOOKUP(A102,'личные рез-ты по гонкам списком'!$J$1:$N$851,2,FALSE)","v":"М"}]
["Гончарик Наталья / Goncharik Natalya / 1991",null,null,null,null,null,null,71.650000000000006,null,null,null,null,null,null,null,null,71.650000000000006,71.650000000000006,0,0,0,71.650000000000006,0,{"$f":"VLOOKUP(A103,'личные рез-ты по гонкам списком'!$J$1:$N$851,2,FALSE)","v":"Ж"}]
["Городко Игорь / Gorodko Igor / 1970",null,72.77,null,null,null,null,null,null,null,null,null,null,null,null,null,72.77,72.77,0,0,0,72.77,0,{"$f":"VLOOKUP(A104,'личные рез-ты по гонкам списком'!$J$1:$N$851,2,FALSE)","v":"М"}]
["Горшков Игорь / Gorshkov Igor / 1977",null,null,null,102.94,null,null,null,null,null,null,null,null,null,null,null,102.94,102.94,0,0,0,102.94,0,{"$f":"VLOOKUP(A105,'личные рез-ты по гонкам списком'!$J$1:$N$851,2,FALSE)","v":"М"}]
["Грабовец Павел / Grabovets Pavel / 1981",954.39,null,null,null,null,null,null,null,null,null,null,null,null,null,null,954.39,954.39,0,0,0,954.39,0,{"$f":"VLOOKUP(A106,'личные рез-ты по гонкам списком'!$J$1:$N$851,2,FALSE)","v":"М"}]
["Гракович Ольга / Grakovich Olga / 1994",null,null,null,null,null,null,null,null,null,null,64.900000000000006,null,null,null,null,64.900000000000006,64.900000000000006,0,0,0,64.900000000000006,0,{"$f":"VLOOKUP(A107,'личные рез-ты по гонкам списком'!$J$1:$N$851,2,FALSE)","v":"Ж"}]
["Грейд Юлия / Grejd Yuliya / 1986",null,null,null,194.44,null,null,null,164.59,null,null,null,null,null,null,null,359.03,194.44,164.59,0,0,359.03,0,{"$f":"VLOOKUP(A108,'личные рез-ты по гонкам списком'!$J$1:$N$851,2,FALSE)","v":"Ж"}]
["Грек Илья / Grek Ilya / 1992",null,null,null,null,null,null,null,230.42,null,null,null,null,null,null,455.14,685.56,455.14,230.42,0,0,685.56,0,{"$f":"VLOOKUP(A109,'личные рез-ты по гонкам списком'!$J$1:$N$851,2,FALSE)","v":"М"}]
["Греков Игорь / Grekov Igor / 1970",null,null,263.31,null,null,null,null,null,null,null,null,null,null,null,null,263.31,263.31,0,0,0,263.31,0,{"$f":"VLOOKUP(A110,'личные рез-ты по гонкам списком'!$J$1:$N$851,2,FALSE)","v":"М"}]
["Гречишкин Алексей / Grechishkin Aleksej / 1983",null,null,null,null,null,null,null,null,null,null,5.37,null,null,null,null,5.37,5.37,0,0,0,5.37,0,{"$f":"VLOOKUP(A111,'личные рез-ты по гонкам списком'!$J$1:$N$851,2,FALSE)","v":"М"}]
["Гриб Екатерина / Grib Ekaterina / 1981",null,null,null,null,null,219.13,243.6,null,null,null,null,null,null,null,null,462.73,243.6,219.13,0,0,462.73,0,{"$f":"VLOOKUP(A112,'личные рез-ты по гонкам списком'!$J$1:$N$851,2,FALSE)","v":"Ж"}]
["Григорович Руслан / Grigorovich Ruslan / 1987",null,null,null,null,null,232.02,null,null,null,null,null,null,null,null,null,232.02,232.02,0,0,0,232.02,0,{"$f":"VLOOKUP(A113,'личные рез-ты по гонкам списком'!$J$1:$N$851,2,FALSE)","v":"М"}]
["Григорьева Светлана / Grigoreva Svetlana / 1984",null,null,null,275.45999999999998,null,null,null,null,null,null,139.06,null,null,null,null,414.52,275.45999999999998,139.06,0,0,414.52,0,{"$f":"VLOOKUP(A114,'личные рез-ты по гонкам списком'!$J$1:$N$851,2,FALSE)","v":"Ж"}]
["Гринько Анастасия / Grinko Anastasiya / 1993",null,null,null,178.24,null,null,257.93,null,null,null,null,null,null,null,null,436.17,257.93,178.24,0,0,436.17,0,{"$f":"VLOOKUP(A115,'личные рез-ты по гонкам списком'!$J$1:$N$851,2,FALSE)","v":"Ж"}]
["Грицевич Виталий / Gritsevich Vitalij / 1987",null,null,null,null,null,null,146.36000000000001,null,null,null,null,null,null,null,null,146.36000000000001,146.36000000000001,0,0,0,146.36000000000001,0,{"$f":"VLOOKUP(A116,'личные рез-ты по гонкам списком'!$J$1:$N$851,2,FALSE)","v":"М"}]
["Грицук Татьяна / Gritsuk Tatyana / 1973",null,null,276.82,null,null,null,null,null,null,null,null,null,null,null,null,276.82,276.82,0,0,0,276.82,0,{"$f":"VLOOKUP(A117,'личные рез-ты по гонкам списком'!$J$1:$N$851,2,FALSE)","v":"Ж"}]
["Гумбар Илья / Gumbar Ilya / 1989",null,null,null,null,null,null,null,null,null,null,null,260.7,null,null,null,260.7,260.7,0,0,0,260.7,0,{"$f":"VLOOKUP(A118,'личные рез-ты по гонкам списком'!$J$1:$N$851,2,FALSE)","v":"М"}]
["Гурская Татьяна / Gurskaya Tatyana / 1980",1041.1500000000001,null,null,null,null,null,null,null,null,null,null,null,null,null,null,1041.1500000000001,1041.1500000000001,0,0,0,1041.1500000000001,0,{"$f":"VLOOKUP(A119,'личные рез-ты по гонкам списком'!$J$1:$N$851,2,FALSE)","v":"Ж"}]
["Гусаревич Денис / Gusarevich Denis / 1983",578.41999999999996,null,null,null,null,null,null,null,null,null,null,null,null,null,null,578.41999999999996,578.41999999999996,0,0,0,578.41999999999996,0,{"$f":"VLOOKUP(A120,'личные рез-ты по гонкам списком'!$J$1:$N$851,2,FALSE)","v":"М"}]
["Даник Даниил / Danik Daniil / 1982",null,null,null,null,null,null,null,null,null,null,80.510000000000005,null,null,null,null,80.510000000000005,80.510000000000005,0,0,0,80.510000000000005,0,{"$f":"VLOOKUP(A121,'личные рез-ты по гонкам списком'!$J$1:$N$851,2,FALSE)","v":"М"}]
["Данченко Глеб / Danchenko Gleb / 1986",null,null,null,null,null,null,286.07,null,null,null,null,null,null,null,null,286.07,286.07,0,0,0,286.07,0,{"$f":"VLOOKUP(A122,'личные рез-ты по гонкам списком'!$J$1:$N$851,2,FALSE)","v":"М"}]
["Дашин Михаил / Dashin Mihail / ",null,null,null,null,null,null,null,null,null,null,null,null,217.6,null,null,217.6,217.6,0,0,0,217.6,0,{"$f":"VLOOKUP(A123,'личные рез-ты по гонкам списком'!$J$1:$N$851,2,FALSE)","v":"М"}]
["Дашкевич Павел / Dashkevich Pavel / 1999",null,null,null,null,null,null,86.49,null,null,null,101.98,null,null,null,null,188.47,101.98,86.49,0,0,188.47,0,{"$f":"VLOOKUP(A124,'личные рез-ты по гонкам списком'!$J$1:$N$851,2,FALSE)","v":"М"}]
["Дашкевич Сергей / Dashkevich Sergej / 1996",null,null,null,null,null,null,39.92,null,null,null,null,null,null,null,null,39.92,39.92,0,0,0,39.92,0,{"$f":"VLOOKUP(A125,'личные рез-ты по гонкам списком'!$J$1:$N$851,2,FALSE)","v":"М"}]
["Дегтярев Сергей / Degtyarev Sergej / 1983",null,null,649.51,null,191.41,null,null,null,null,null,null,null,null,null,null,840.92,649.51,191.41,0,0,840.92,0,{"$f":"VLOOKUP(A126,'личные рез-ты по гонкам списком'!$J$1:$N$851,2,FALSE)","v":"М"}]
["Дедков Никита / Dedkov Nikita / 1998",null,null,null,null,null,null,null,null,null,null,193.23,null,null,null,null,193.23,193.23,0,0,0,193.23,0,{"$f":"VLOOKUP(A127,'личные рез-ты по гонкам списком'!$J$1:$N$851,2,FALSE)","v":"М"}]
["Делендик Максим / Delendik Maksim / 1992",null,null,null,null,null,null,null,null,null,null,144.91999999999999,null,null,null,null,144.91999999999999,144.91999999999999,0,0,0,144.91999999999999,0,{"$f":"VLOOKUP(A128,'личные рез-ты по гонкам списком'!$J$1:$N$851,2,FALSE)","v":"М"}]
["Делендик Надежда / Delendik Nadezhda / 1987",null,437.76,null,null,null,null,null,null,null,null,null,328.86,null,null,null,766.62,437.76,328.86,0,0,766.62,0,{"$f":"VLOOKUP(A129,'личные рез-ты по гонкам списком'!$J$1:$N$851,2,FALSE)","v":"Ж"}]
["Дельянов Одиссей / Delyanov Odissej / 1979",null,null,null,null,357.31,null,null,null,null,null,null,null,null,null,null,357.31,357.31,0,0,0,357.31,0,{"$f":"VLOOKUP(A130,'личные рез-ты по гонкам списком'!$J$1:$N$851,2,FALSE)","v":"М"}]
["Домбровский Евгений / Dombrovskij Evgenij / 1987",null,null,null,null,null,null,279.42,null,null,null,null,null,null,null,null,279.42,279.42,0,0,0,279.42,0,{"$f":"VLOOKUP(A131,'личные рез-ты по гонкам списком'!$J$1:$N$851,2,FALSE)","v":"М"}]
["Драгун Алина / Dragun Alina / 1993",null,412.75,null,null,null,null,null,null,null,null,null,null,null,null,null,412.75,{"$f":"LARGE(B132:P132,1)","v":412.75},{"$f":"IF(COUNT(B132:P132)=1,0,LARGE(B132:P132,2))","v":0},{"$f":"IF(COUNT(B132:P132)<3,0,LARGE(B132:P132,3))","v":0},{"$f":"IF(COUNT(B132:P132)<4,0,LARGE(B132:P132,4))","v":0},{"$f":"SUM(R132:U132)","v":412.75},{"$f":"V132-Q132","v":0},{"$f":"VLOOKUP(A132,'личные рез-ты по гонкам списком'!$J$1:$N$851,2,FALSE)","v":"Ж"}]
["Драгун Борис / Dragun Boris / 1970",null,null,null,null,248.84,null,null,null,null,298.16000000000003,null,null,null,null,null,547,298.16000000000003,248.84,0,0,547,0,{"$f":"VLOOKUP(A133,'личные рез-ты по гонкам списком'!$J$1:$N$851,2,FALSE)","v":"М"}]
["Дубровский Виктор / Dubrovskij Viktor / 1961",null,null,105.33,null,null,null,null,null,null,null,null,null,null,null,null,105.33,105.33,0,0,0,105.33,0,{"$f":"VLOOKUP(A134,'личные рез-ты по гонкам списком'!$J$1:$N$851,2,FALSE)","v":"М"}]
["Дубровский Евгений / Dubrovskij Evgenij / 1984",null,null,87.77,null,null,null,null,null,null,null,null,null,null,null,null,87.77,87.77,0,0,0,87.77,0,{"$f":"VLOOKUP(A135,'личные рез-ты по гонкам списком'!$J$1:$N$851,2,FALSE)","v":"М"}]
["Дунаева Мария / Dunaeva Mariya / 1983",null,null,null,null,null,null,171.95,null,null,null,null,null,null,null,null,171.95,171.95,0,0,0,171.95,0,{"$f":"VLOOKUP(A136,'личные рез-ты по гонкам списком'!$J$1:$N$851,2,FALSE)","v":"Ж"}]
["Дундуков Андрей / Dundukov Andrej / 1985",null,null,null,null,null,128.9,null,null,null,null,85.88,null,null,null,null,214.78,128.9,85.88,0,0,214.78,0,{"$f":"VLOOKUP(A137,'личные рез-ты по гонкам списком'!$J$1:$N$851,2,FALSE)","v":"М"}]
["Дурейко Анна / Durejko Anna / 1987",null,12.51,null,null,null,null,null,null,null,null,null,null,null,null,null,12.51,12.51,0,0,0,12.51,0,{"$f":"VLOOKUP(A138,'личные рез-ты по гонкам списком'!$J$1:$N$851,2,FALSE)","v":"Ж"}]
["Дышлевич Сергей / Dyshlevich Sergej / 1982",null,null,null,null,null,null,null,null,null,null,182.49,null,null,null,null,182.49,182.49,0,0,0,182.49,0,{"$f":"VLOOKUP(A139,'личные рез-ты по гонкам списком'!$J$1:$N$851,2,FALSE)","v":"М"}]
["Евсюченя Александр / Evsyuchenya Aleksandr / 1991",null,null,null,null,null,null,null,329.17,null,null,null,null,null,null,736.89,1066.06,736.89,329.17,0,0,1066.06,0,{"$f":"VLOOKUP(A140,'личные рез-ты по гонкам списком'!$J$1:$N$851,2,FALSE)","v":"М"}]
["Едомская Вольга / Edomskaya Volga / 1987",null,null,null,340.27,null,null,329.57,null,null,null,null,null,211.85,null,null,881.68999999999994,340.27,329.57,211.85,0,881.68999999999994,0,{"$f":"VLOOKUP(A141,'личные рез-ты по гонкам списком'!$J$1:$N$851,2,FALSE)","v":"Ж"}]
["Ермак Алексей / Ermak Aleksej / 1984",null,null,null,null,165.89,null,null,null,null,null,null,null,null,null,null,165.89,165.89,0,0,0,165.89,0,{"$f":"VLOOKUP(A142,'личные рез-ты по гонкам списком'!$J$1:$N$851,2,FALSE)","v":"М"}]
["Ермохин Максим / Ermohin Maksim / 1975",null,null,null,null,433.87,null,null,384.04,null,null,null,null,null,null,null,817.91000000000008,433.87,384.04,0,0,817.91000000000008,0,{"$f":"VLOOKUP(A143,'личные рез-ты по гонкам списком'!$J$1:$N$851,2,FALSE)","v":"М"}]
["Жданович Александра / Zhdanovich Aleksandra / 1985",null,null,null,null,null,232.02,null,null,null,null,194.69,null,null,null,null,426.71000000000004,232.02,194.69,0,0,426.71000000000004,0,{"$f":"VLOOKUP(A144,'личные рез-ты по гонкам списком'!$J$1:$N$851,2,FALSE)","v":"Ж"}]
["Жданович Андрей / Zhdanovich Andrej / 1973",null,null,null,null,287.12,null,null,null,null,null,null,null,null,null,null,287.12,287.12,0,0,0,287.12,0,{"$f":"VLOOKUP(A145,'личные рез-ты по гонкам списком'!$J$1:$N$851,2,FALSE)","v":"М"}]
["Жданович Максим / Zhdanovich Maksim / 1987",null,null,561.73,null,null,null,null,null,null,null,null,null,null,null,null,561.73,561.73,0,0,0,561.73,0,{"$f":"VLOOKUP(A146,'личные рез-ты по гонкам списком'!$J$1:$N$851,2,FALSE)","v":"М"}]
["Жевняк Андрей / Zhevnyak Andrej / 1986",null,null,null,null,null,null,null,null,null,null,187.86,null,null,null,null,187.86,187.86,0,0,0,187.86,0,{"$f":"VLOOKUP(A147,'личные рез-ты по гонкам списком'!$J$1:$N$851,2,FALSE)","v":"М"}]
["Жидович Вадим / Zhidovich Vadim / 1984",null,null,491.52,231.61,null,null,null,208.48,null,null,null,68.86,null,null,null,1000.47,491.52,231.61,208.48,68.86,1000.47,0,{"$f":"VLOOKUP(A148,'личные рез-ты по гонкам списком'!$J$1:$N$851,2,FALSE)","v":"М"}]
["Жила Анастасия / Zhila Anastasiya / 1994",null,null,null,null,null,null,null,null,null,298.16000000000003,213.23,null,null,null,null,511.39,298.16000000000003,213.23,0,0,511.39,0,{"$f":"VLOOKUP(A149,'личные рез-ты по гонкам списком'!$J$1:$N$851,2,FALSE)","v":"Ж"}]
["Жук Лия / Zhuk Liya / 1980",null,75.040000000000006,null,null,null,null,null,null,null,null,null,null,null,null,null,75.040000000000006,75.040000000000006,0,0,0,75.040000000000006,0,{"$f":"VLOOKUP(A150,'личные рез-ты по гонкам списком'!$J$1:$N$851,2,FALSE)","v":"Ж"}]
["Жукович Артем / Zhukovich Artem / 1988",null,null,null,null,null,null,93.14,null,null,null,null,null,null,null,null,93.14,93.14,0,0,0,93.14,0,{"$f":"VLOOKUP(A151,'личные рез-ты по гонкам списком'!$J$1:$N$851,2,FALSE)","v":"М"}]
["Журавлёв Андрей / Zhuravljov Andrej / 1978",null,null,null,null,484.91,null,null,null,null,null,null,359.07,null,null,null,843.98,484.91,359.07,0,0,843.98,0,{"$f":"VLOOKUP(A152,'личные рез-ты по гонкам списком'!$J$1:$N$851,2,FALSE)","v":"М"}]
["Журавлёва Оксана / Zhuravljova Oksana / 1980",null,null,null,405.09,null,null,null,null,null,null,259.58999999999997,null,null,null,null,664.68,405.09,259.58999999999997,0,0,664.68,0,{"$f":"VLOOKUP(A153,'личные рез-ты по гонкам списком'!$J$1:$N$851,2,FALSE)","v":"Ж"}]
["Жучин Алексей / Zhuchin Aleksej / 1983",null,null,null,null,null,283.57,332.64,null,null,null,null,null,null,null,null,616.21,332.64,283.57,0,0,616.21,0,{"$f":"VLOOKUP(A154,'личные рез-ты по гонкам списком'!$J$1:$N$851,2,FALSE)","v":"М"}]
["Жучина Катерина / Zhuchina Katerina / 1986",null,null,null,null,null,154.68,128.96,null,null,null,null,null,null,null,null,283.64,154.68,128.96,0,0,283.64,0,{"$f":"VLOOKUP(A155,'личные рез-ты по гонкам списком'!$J$1:$N$851,2,FALSE)","v":"Ж"}]
["Жучков Алексей / Zhuchkov Aleksej / 1985",null,null,193.1,null,140.37,null,null,null,178.57,null,null,29.51,null,null,null,541.54999999999995,193.1,178.57,140.37,29.51,541.54999999999995,0,{"$f":"VLOOKUP(A156,'личные рез-ты по гонкам списком'!$J$1:$N$851,2,FALSE)","v":"М"}]
["Забабуро Сергей / Zababuro Sergej / 1978",null,null,null,null,null,null,null,null,null,null,null,270.52999999999997,null,null,null,270.52999999999997,270.52999999999997,0,0,0,270.52999999999997,0,{"$f":"VLOOKUP(A157,'личные рез-ты по гонкам списком'!$J$1:$N$851,2,FALSE)","v":"М"}]
["Забелова Юлия / Zabelova Yuliya / 1978",null,87.55,null,null,null,null,null,null,null,null,null,null,null,null,null,87.55,87.55,0,0,0,87.55,0,{"$f":"VLOOKUP(A158,'личные рез-ты по гонкам списком'!$J$1:$N$851,2,FALSE)","v":"Ж"}]
["Завалова Анастасия / Zavalova Anastasiya / 1994",null,null,null,null,null,null,null,null,null,null,55.63,null,null,null,null,55.63,55.63,0,0,0,55.63,0,{"$f":"VLOOKUP(A159,'личные рез-ты по гонкам списком'!$J$1:$N$851,2,FALSE)","v":"Ж"}]
["Загорнов Александр / Zagornov Aleksandr / 1966",null,null,140.43,null,null,null,null,null,null,null,null,null,null,null,null,140.43,140.43,0,0,0,140.43,0,{"$f":"VLOOKUP(A160,'личные рез-ты по гонкам списком'!$J$1:$N$851,2,FALSE)","v":"М"}]
["Зайчук Кирилл / Zajchuk Kirill / 1990",null,null,null,197.3,null,null,null,null,null,null,null,null,null,null,null,197.3,197.3,0,0,0,197.3,0,{"$f":"VLOOKUP(A161,'личные рез-ты по гонкам списком'!$J$1:$N$851,2,FALSE)","v":"М"}]
["Занько Юрий / Zanko Yurij / 1982",null,null,null,null,null,null,null,null,null,null,null,null,null,null,151.71,151.71,151.71,0,0,0,151.71,0,{"$f":"VLOOKUP(A162,'личные рез-ты по гонкам списком'!$J$1:$N$851,2,FALSE)","v":"М"}]
["Заречанский Юрий / Zarechanskij Yurij / 1980",null,200.12,null,null,null,null,null,null,null,null,null,null,null,null,null,200.12,200.12,0,0,0,200.12,0,{"$f":"VLOOKUP(A163,'личные рез-ты по гонкам списком'!$J$1:$N$851,2,FALSE)","v":"М"}]
["Захаркин Сергей / Zaharkin Sergej / 1976",null,null,null,420.34,null,null,null,null,null,null,null,null,null,null,null,420.34,420.34,0,0,0,420.34,0,{"$f":"VLOOKUP(A164,'личные рез-ты по гонкам списком'!$J$1:$N$851,2,FALSE)","v":"М"}]
["Захаров Иван / Zaharov Ivan / 1979",null,null,null,null,null,77.34,null,null,null,null,null,null,null,null,null,77.34,77.34,0,0,0,77.34,0,{"$f":"VLOOKUP(A165,'личные рез-ты по гонкам списком'!$J$1:$N$851,2,FALSE)","v":"М"}]
["Захарьев Алексей / Zaharev Aleksej / 1984",null,null,null,null,null,null,null,null,null,null,null,265.62,null,null,null,265.62,265.62,0,0,0,265.62,0,{"$f":"VLOOKUP(A166,'личные рез-ты по гонкам списком'!$J$1:$N$851,2,FALSE)","v":"М"}]
["Заяц Александр / Zayats Aleksandr / 1978",null,null,null,null,267.98,null,null,null,null,null,null,null,null,null,null,267.98,267.98,0,0,0,267.98,0,{"$f":"VLOOKUP(A167,'личные рез-ты по гонкам списком'!$J$1:$N$851,2,FALSE)","v":"М"}]
["Зеленкевич Валентина / Zelenkevich Valentina / 1999",null,487.79,null,null,null,null,null,null,null,null,null,null,null,null,null,487.79,487.79,0,0,0,487.79,0,{"$f":"VLOOKUP(A168,'личные рез-ты по гонкам списком'!$J$1:$N$851,2,FALSE)","v":"Ж"}]
["Зеленко Алексей / Zelenko Aleksej / 1980",null,null,null,null,null,null,null,131.66999999999999,null,null,null,null,null,null,null,131.66999999999999,131.66999999999999,0,0,0,131.66999999999999,0,{"$f":"VLOOKUP(A169,'личные рез-ты по гонкам списком'!$J$1:$N$851,2,FALSE)","v":"М"}]
["Зеленко Диана / Zelenko Diana / 1988",null,null,null,null,null,128.9,null,null,null,null,null,null,null,null,null,128.9,128.9,0,0,0,128.9,0,{"$f":"VLOOKUP(A170,'личные рез-ты по гонкам списком'!$J$1:$N$851,2,FALSE)","v":"Ж"}]
["Зеленко Дмитрий / Zelenko Dmitrij / 1987",null,null,null,343.13,null,null,null,null,null,null,null,null,null,null,null,343.13,343.13,0,0,0,343.13,0,{"$f":"VLOOKUP(A171,'личные рез-ты по гонкам списком'!$J$1:$N$851,2,FALSE)","v":"М"}]
["Зеленский Александр / Zelenskij Aleksandr / 1978",null,null,null,null,null,null,null,null,null,null,null,162.32,null,null,null,162.32,162.32,0,0,0,162.32,0,{"$f":"VLOOKUP(A172,'личные рез-ты по гонкам списком'!$J$1:$N$851,2,FALSE)","v":"М"}]
["Зеленцова Галина / Zelentsova Galina / 1988",null,null,null,null,null,null,null,null,null,null,null,null,220.67,null,null,220.67,220.67,0,0,0,220.67,0,{"$f":"VLOOKUP(A173,'личные рез-ты по гонкам списком'!$J$1:$N$851,2,FALSE)","v":"Ж"}]
["Зиновенко Павел / Zinovenko Pavel / 1997",null,null,null,null,null,null,null,null,null,null,279.10000000000002,null,null,null,null,279.10000000000002,279.10000000000002,0,0,0,279.10000000000002,0,{"$f":"VLOOKUP(A174,'личные рез-ты по гонкам списком'!$J$1:$N$851,2,FALSE)","v":"М"}]
["Зуевский Роман / Zuevskij Roman / 1986",null,null,null,null,null,null,186.28,null,null,null,null,null,null,null,null,186.28,186.28,0,0,0,186.28,0,{"$f":"VLOOKUP(A175,'личные рез-ты по гонкам списком'!$J$1:$N$851,2,FALSE)","v":"М"}]
["Зуй Александр / Zuj Aleksandr / 1980",null,118.25,null,null,null,null,null,65.83,null,null,null,null,null,null,null,184.07999999999998,118.25,65.83,0,0,184.07999999999998,0,{"$f":"VLOOKUP(A176,'личные рез-ты по гонкам списком'!$J$1:$N$851,2,FALSE)","v":"М"}]
["Зуй Марина / Zuj Marina / 1984",null,null,null,null,null,null,57.32,null,null,null,null,null,null,null,null,57.32,57.32,0,0,0,57.32,0,{"$f":"VLOOKUP(A177,'личные рез-ты по гонкам списком'!$J$1:$N$851,2,FALSE)","v":"Ж"}]
["Зуйков Антон / Zujkov Anton / 1995",null,null,null,null,null,null,null,null,null,null,null,339.4,null,null,null,339.4,339.4,0,0,0,339.4,0,{"$f":"VLOOKUP(A178,'личные рез-ты по гонкам списком'!$J$1:$N$851,2,FALSE)","v":"М"}]
["Зументс Роберт / Zuments Robert / 1979",null,null,35.11,null,null,null,null,null,null,null,null,null,null,null,null,35.11,35.11,0,0,0,35.11,0,{"$f":"VLOOKUP(A179,'личные рез-ты по гонкам списком'!$J$1:$N$851,2,FALSE)","v":"М"}]
["Зятиков Евгений / Zyatikov Evgenij / 1982",null,null,null,null,null,null,null,null,142.86000000000001,null,null,9.84,null,null,null,152.70000000000002,142.86000000000001,9.84,0,0,152.70000000000002,0,{"$f":"VLOOKUP(A180,'личные рез-ты по гонкам списком'!$J$1:$N$851,2,FALSE)","v":"М"}]
["Зятикова Наталья / Zyatikova Natalya / 1983",null,null,null,null,null,null,null,null,238.09,null,18.54,null,null,null,null,256.63,238.09,18.54,0,0,256.63,0,{"$f":"VLOOKUP(A181,'личные рез-ты по гонкам списком'!$J$1:$N$851,2,FALSE)","v":"Ж"}]
["Иванов Денис / Ivanov Denis / 1990",null,154.63999999999999,null,null,null,null,null,null,null,null,null,null,null,null,null,154.63999999999999,154.63999999999999,0,0,0,154.63999999999999,0,{"$f":"VLOOKUP(A182,'личные рез-ты по гонкам списком'!$J$1:$N$851,2,FALSE)","v":"М"}]
["Иванова Екатерина / Ivanova Ekaterina / 1989",null,62.54,null,null,null,null,null,null,null,null,null,null,null,null,null,62.54,62.54,0,0,0,62.54,0,{"$f":"VLOOKUP(A183,'личные рез-ты по гонкам списком'!$J$1:$N$851,2,FALSE)","v":"Ж"}]
["Иванцов Вячеслав / Ivantsov Vyacheslav / 1986",null,null,null,null,null,null,null,null,null,null,209.33,null,null,null,null,209.33,209.33,0,0,0,209.33,0,{"$f":"VLOOKUP(A184,'личные рез-ты по гонкам списком'!$J$1:$N$851,2,FALSE)","v":"М"}]
["Иванчик Александр / Ivanchik Aleksandr / 1990",null,null,null,null,null,null,null,null,null,null,null,null,null,null,303.42,303.42,303.42,0,0,0,303.42,0,{"$f":"VLOOKUP(A185,'личные рез-ты по гонкам списком'!$J$1:$N$851,2,FALSE)","v":"М"}]
["Иванчик Константин / Ivanchik Konstantin / 1983",null,null,null,null,null,null,null,null,392.86,null,null,null,null,null,null,392.86,392.86,0,0,0,392.86,0,{"$f":"VLOOKUP(A186,'личные рез-ты по гонкам списком'!$J$1:$N$851,2,FALSE)","v":"М"}]
["Игнатович Александр / Ignatovich Aleksandr / 1992",null,null,null,265.93,null,null,null,null,null,null,null,null,null,null,null,265.93,265.93,0,0,0,265.93,0,{"$f":"VLOOKUP(A187,'личные рез-ты по гонкам списком'!$J$1:$N$851,2,FALSE)","v":"М"}]
["Илатовский Дмитрий / Ilatovskij Dmitrij / 1974",null,null,null,null,197.79,null,null,null,null,null,null,null,null,null,null,197.79,197.79,0,0,0,197.79,0,{"$f":"VLOOKUP(A188,'личные рез-ты по гонкам списком'!$J$1:$N$851,2,FALSE)","v":"М"}]
["Иолтуховский Владислав / Ioltuhovskij Vladislav / 1971",null,null,null,null,121.23,null,null,263.33999999999997,null,null,null,null,null,null,null,384.57,263.33999999999997,121.23,0,0,384.57,0,{"$f":"VLOOKUP(A189,'личные рез-ты по гонкам списком'!$J$1:$N$851,2,FALSE)","v":"М"}]
["Исаев Антон / Isaev Anton / 1979",838.71,null,null,null,null,null,null,null,null,null,null,null,null,1024.0999999999999,null,1862.81,1024.0999999999999,838.71,0,0,1862.81,0,{"$f":"VLOOKUP(A190,'личные рез-ты по гонкам списком'!$J$1:$N$851,2,FALSE)","v":"М"}]
["Искорцев Алексей / Iskortsev Aleksej / 1980",null,null,null,274.51,null,null,null,null,null,null,null,122.97,null,null,null,397.48,274.51,122.97,0,0,397.48,0,{"$f":"VLOOKUP(A191,'личные рез-ты по гонкам списком'!$J$1:$N$851,2,FALSE)","v":"М"}]
["Йоцюс Виталий / Jotsyus Vitalij / ",null,null,null,null,null,null,null,null,null,null,37.57,null,null,null,null,37.57,37.57,0,0,0,37.57,0,{"$f":"VLOOKUP(A192,'личные рез-ты по гонкам списком'!$J$1:$N$851,2,FALSE)","v":"М"}]
["Казак Дмитрий / Kazak Dmitrij / 1979",null,null,614.4,null,null,null,null,null,null,null,null,216.43,null,null,null,830.82999999999993,614.4,216.43,0,0,830.82999999999993,0,{"$f":"VLOOKUP(A193,'личные рез-ты по гонкам списком'!$J$1:$N$851,2,FALSE)","v":"М"}]
["Казак Константин / Kazak Konstantin / 2004",null,null,null,null,null,null,null,null,null,null,null,null,134.71,null,null,134.71,134.71,0,0,0,134.71,0,{"$f":"VLOOKUP(A194,'личные рез-ты по гонкам списком'!$J$1:$N$851,2,FALSE)","v":"М"}]
["Казак Наталья / Kazak Natalya / 1979",null,null,null,null,null,null,100.3,null,null,null,null,null,17.649999999999999,null,null,117.94999999999999,100.3,17.649999999999999,0,0,117.94999999999999,0,{"$f":"VLOOKUP(A195,'личные рез-ты по гонкам списком'!$J$1:$N$851,2,FALSE)","v":"Ж"}]
["Казакевич Ирина / Kazakevich Irina / 1969",null,null,null,421.29,null,null,null,null,null,null,null,null,null,null,null,421.29,{"$f":"LARGE(B196:P196,1)","v":421.29},{"$f":"IF(COUNT(B196:P196)=1,0,LARGE(B196:P196,2))","v":0},{"$f":"IF(COUNT(B196:P196)<3,0,LARGE(B196:P196,3))","v":0},{"$f":"IF(COUNT(B196:P196)<4,0,LARGE(B196:P196,4))","v":0},{"$f":"SUM(R196:U196)","v":421.29},{"$f":"V196-Q196","v":0},{"$f":"VLOOKUP(A196,'личные рез-ты по гонкам списком'!$J$1:$N$851,2,FALSE)","v":"Ж"}]
["Казарин Дмитрий / Kazarin Dmitrij / 1994",null,227.41,null,120.1,null,null,null,197.5,null,null,null,null,null,null,null,545.01,227.41,197.5,120.1,0,545.01,0,{"$f":"VLOOKUP(A197,'личные рез-ты по гонкам списком'!$J$1:$N$851,2,FALSE)","v":"М"}]
["Калвинковская Ольга / Kalvinkovskaya Olga / 1994",null,450.27,null,null,null,null,null,null,null,null,null,null,null,null,null,450.27,450.27,0,0,0,450.27,0,{"$f":"VLOOKUP(A198,'личные рез-ты по гонкам списком'!$J$1:$N$851,2,FALSE)","v":"Ж"}]
["Кальвинковская Екатерина / Kalvinkovskaya Ekaterina / 1993",null,337.7,null,null,null,null,null,null,null,null,null,null,null,null,null,337.7,337.7,0,0,0,337.7,0,{"$f":"VLOOKUP(A199,'личные рез-ты по гонкам списком'!$J$1:$N$851,2,FALSE)","v":"Ж"}]
["Калюжный Дмитрий / Kalyuzhnyj Dmitrij / 1986",null,null,null,null,null,null,null,null,null,null,21.47,null,null,null,null,21.47,21.47,0,0,0,21.47,0,{"$f":"VLOOKUP(A200,'личные рез-ты по гонкам списком'!$J$1:$N$851,2,FALSE)","v":"М"}]
["Камышкайло Анатолий / Kamyshkajlo Anatolij / 1981",null,null,null,null,427.49,null,null,null,null,null,null,null,null,null,null,427.49,427.49,0,0,0,427.49,0,{"$f":"VLOOKUP(A201,'личные рез-ты по гонкам списком'!$J$1:$N$851,2,FALSE)","v":"М"}]
["Капустин Егор / Kapustin Egor / 2004",null,null,null,null,null,85.93,99.79,null,null,null,null,null,null,null,null,185.72000000000003,99.79,85.93,0,0,185.72000000000003,0,{"$f":"VLOOKUP(A202,'личные рез-ты по гонкам списком'!$J$1:$N$851,2,FALSE)","v":"М"}]
["Карабанькова Марина / Karabankova Marina / 1989",null,null,null,null,null,null,14.33,null,null,null,9.27,null,null,null,null,23.6,14.33,9.27,0,0,23.6,0,{"$f":"VLOOKUP(A203,'личные рез-ты по гонкам списком'!$J$1:$N$851,2,FALSE)","v":"Ж"}]
["Карпович Владимир / Karpovich Vladimir / 1983",null,null,null,null,null,null,null,null,214.28,null,null,44.27,null,null,null,258.55,214.28,44.27,0,0,258.55,0,{"$f":"VLOOKUP(A204,'личные рез-ты по гонкам списком'!$J$1:$N$851,2,FALSE)","v":"М"}]
["Католиков Роман / Katolikov Roman / 1985",null,null,null,null,null,274.98,352.6,null,null,null,null,null,238.33,null,null,865.91000000000008,352.6,274.98,238.33,0,865.91000000000008,0,{"$f":"VLOOKUP(A205,'личные рез-ты по гонкам списком'!$J$1:$N$851,2,FALSE)","v":"М"}]
["Катонов Василий / Katonov Vasilij / 1985",null,null,null,null,null,null,null,null,null,null,null,null,null,null,86.69,86.69,86.69,0,0,0,86.69,0,{"$f":"VLOOKUP(A206,'личные рез-ты по гонкам списком'!$J$1:$N$851,2,FALSE)","v":"М"}]
["Кирcанов Алексей / Kircanov Aleksej / 1981",null,400.24,null,null,null,null,null,395.01,null,null,null,null,null,null,null,795.25,400.24,395.01,0,0,795.25,0,{"$f":"VLOOKUP(A207,'личные рез-ты по гонкам списком'!$J$1:$N$851,2,FALSE)","v":"М"}]
["Кислицын Артем / Kislitsyn Artem / 1992",null,null,null,null,null,null,null,null,null,596.32000000000005,null,null,null,null,null,596.32000000000005,596.32000000000005,0,0,0,596.32000000000005,0,{"$f":"VLOOKUP(A208,'личные рез-ты по гонкам списком'!$J$1:$N$851,2,FALSE)","v":"М"}]
["Кислов Михаил / Kislov Mihail / 1992",null,null,null,null,null,null,null,null,null,null,69.78,null,null,null,null,69.78,69.78,0,0,0,69.78,0,{"$f":"VLOOKUP(A209,'личные рез-ты по гонкам списком'!$J$1:$N$851,2,FALSE)","v":"М"}]
["Клауч Виктор / Klauch Viktor / 1988",null,null,null,null,null,8.59,null,null,null,null,null,null,null,null,null,8.59,8.59,0,0,0,8.59,0,{"$f":"VLOOKUP(A210,'личные рез-ты по гонкам списком'!$J$1:$N$851,2,FALSE)","v":"М"}]
["Клауч Екатерина / Klauch Ekaterina / 1987",null,null,null,null,null,12.89,null,null,null,null,null,null,null,null,null,12.89,12.89,0,0,0,12.89,0,{"$f":"VLOOKUP(A211,'личные рез-ты по гонкам списком'!$J$1:$N$851,2,FALSE)","v":"Ж"}]
["Кликун Татьяна / Klikun Tatyana / 1989",null,362.72,null,null,null,null,null,null,null,null,null,246.64,null,null,null,609.36,362.72,246.64,0,0,609.36,0,{"$f":"VLOOKUP(A212,'личные рез-ты по гонкам списком'!$J$1:$N$851,2,FALSE)","v":"Ж"}]
["Ключеня Виталий / Klyuchenya Vitalij / 1982",null,null,null,null,null,null,null,null,null,null,null,93.46,null,null,null,93.46,93.46,0,0,0,93.46,0,{"$f":"VLOOKUP(A213,'личные рез-ты по гонкам списком'!$J$1:$N$851,2,FALSE)","v":"М"}]
["Князев Родион / Knyazev Rodion / 1995",null,245.6,null,null,null,null,null,null,null,null,null,null,null,null,null,245.6,245.6,0,0,0,245.6,0,{"$f":"VLOOKUP(A214,'личные рез-ты по гонкам списком'!$J$1:$N$851,2,FALSE)","v":"М"}]
["Ковалев Михаил / Kovalev Mihail / 1970",null,null,null,null,null,null,53.22,null,null,null,null,null,null,null,null,53.22,53.22,0,0,0,53.22,0,{"$f":"VLOOKUP(A215,'личные рез-ты по гонкам списком'!$J$1:$N$851,2,FALSE)","v":"М"}]
["Ковалев Никита / Kovalev Nikita / 2001",null,null,null,null,null,null,59.88,null,null,null,null,null,null,null,null,59.88,59.88,0,0,0,59.88,0,{"$f":"VLOOKUP(A216,'личные рез-ты по гонкам списком'!$J$1:$N$851,2,FALSE)","v":"М"}]
["Ковалёва Катерина / Kovaljova Katerina / 1987",null,null,null,null,null,null,null,null,null,null,111.25,null,null,null,null,111.25,111.25,0,0,0,111.25,0,{"$f":"VLOOKUP(A217,'личные рез-ты по гонкам списком'!$J$1:$N$851,2,FALSE)","v":"Ж"}]
["Коваленко Леонид / Kovalenko Leonid / 1999",null,null,null,null,null,null,null,null,null,null,198.59,null,null,null,null,198.59,198.59,0,0,0,198.59,0,{"$f":"VLOOKUP(A218,'личные рез-ты по гонкам списком'!$J$1:$N$851,2,FALSE)","v":"М"}]
["Ковальчук Екатерина / Kovalchuk Ekaterina / 1987",null,null,null,null,null,null,null,null,null,null,46.35,null,null,null,null,46.35,46.35,0,0,0,46.35,0,{"$f":"VLOOKUP(A219,'личные рез-ты по гонкам списком'!$J$1:$N$851,2,FALSE)","v":"Ж"}]
["Ковеня Андрей / Kovenya Andrej / 1962",289.20999999999998,null,null,null,null,null,null,null,null,null,null,null,null,null,null,289.20999999999998,289.20999999999998,0,0,0,289.20999999999998,0,{"$f":"VLOOKUP(A220,'личные рез-ты по гонкам списком'!$J$1:$N$851,2,FALSE)","v":"М"}]
["Ковриго Сергей / Kovrigo Sergej / 1981",null,null,null,null,null,null,46.57,null,null,null,null,null,null,null,null,46.57,46.57,0,0,0,46.57,0,{"$f":"VLOOKUP(A221,'личные рез-ты по гонкам списком'!$J$1:$N$851,2,FALSE)","v":"М"}]
["Когалёнок Елена / Kogaljonok Elena / 1979",null,null,null,null,null,90.23,null,null,null,null,null,null,null,null,null,90.23,90.23,0,0,0,90.23,0,{"$f":"VLOOKUP(A222,'личные рез-ты по гонкам списком'!$J$1:$N$851,2,FALSE)","v":"Ж"}]
["Кожан Михаил / Kozhan Mihail / 1946",null,null,null,null,204.17,null,null,285.27999999999997,null,null,null,null,null,null,null,489.44999999999993,285.27999999999997,204.17,0,0,489.44999999999993,0,{"$f":"VLOOKUP(A223,'личные рез-ты по гонкам списком'!$J$1:$N$851,2,FALSE)","v":"М"}]
["Кожемякин Алексей / Kozhemyakin Aleksej / 1986",null,null,null,null,null,null,null,null,null,null,null,null,10.36,null,null,10.36,10.36,0,0,0,10.36,0,{"$f":"VLOOKUP(A224,'личные рез-ты по гонкам списком'!$J$1:$N$851,2,FALSE)","v":"М"}]
["Кожемякин Владимир / Kozhemyakin Vladimir / 1970",null,null,null,null,236.08,null,null,null,null,null,null,null,null,null,null,236.08,236.08,0,0,0,236.08,0,{"$f":"VLOOKUP(A225,'личные рез-ты по гонкам списком'!$J$1:$N$851,2,FALSE)","v":"М"}]
["Кожемякина Анна / Kozhemyakina Anna / 1991",null,null,null,null,null,null,157.62,null,null,null,null,null,114.75,null,null,272.37,157.62,114.75,0,0,272.37,0,{"$f":"VLOOKUP(A226,'личные рез-ты по гонкам списком'!$J$1:$N$851,2,FALSE)","v":"Ж"}]
["Козич Андрей / Kozich Andrej / 1986",983.31,null,null,null,null,null,null,null,null,null,null,null,null,null,null,983.31,983.31,0,0,0,983.31,0,{"$f":"VLOOKUP(A227,'личные рез-ты по гонкам списком'!$J$1:$N$851,2,FALSE)","v":"М"}]
["Козич Галина / Kozich Galina / 1990",null,null,null,null,null,null,null,null,null,null,287.39999999999998,null,null,null,null,287.39999999999998,287.39999999999998,0,0,0,287.39999999999998,0,{"$f":"VLOOKUP(A228,'личные рез-ты по гонкам списком'!$J$1:$N$851,2,FALSE)","v":"Ж"}]
["Коледа Константин / Koleda Konstantin / 1976",null,327.47000000000003,null,null,null,null,null,null,null,null,null,null,null,null,null,327.47000000000003,327.47000000000003,0,0,0,327.47000000000003,0,{"$f":"VLOOKUP(A229,'личные рез-ты по гонкам списком'!$J$1:$N$851,2,FALSE)","v":"М"}]
["Коледа Татьяна / Koleda Tatyana / 1990",null,400.24,null,null,null,null,null,null,null,null,null,null,null,null,null,400.24,400.24,0,0,0,400.24,0,{"$f":"VLOOKUP(A230,'личные рез-ты по гонкам списком'!$J$1:$N$851,2,FALSE)","v":"Ж"}]
["Колташова Елена / Koltashova Elena / 1984",null,null,553.63,null,null,null,null,null,null,null,null,null,null,null,null,553.63,553.63,0,0,0,553.63,0,{"$f":"VLOOKUP(A231,'личные рез-ты по гонкам списком'!$J$1:$N$851,2,FALSE)","v":"Ж"}]
["Коляда Юрий / Kolyada Yurij / 1980",null,null,null,111.52,null,null,null,null,null,null,null,null,null,null,null,111.52,111.52,0,0,0,111.52,0,{"$f":"VLOOKUP(A232,'личные рез-ты по гонкам списком'!$J$1:$N$851,2,FALSE)","v":"М"}]
["Комар Артем / Komar Artem / 1998",null,null,null,null,null,null,null,98.75,null,null,203.96,null,null,null,null,302.71000000000004,203.96,98.75,0,0,302.71000000000004,0,{"$f":"VLOOKUP(A233,'личные рез-ты по гонкам списком'!$J$1:$N$851,2,FALSE)","v":"М"}]
["Комин Игорь / Komin Igor / 1959",433.81,null,null,null,null,null,null,null,null,null,null,null,null,null,null,433.81,433.81,0,0,0,433.81,0,{"$f":"VLOOKUP(A234,'личные рез-ты по гонкам списком'!$J$1:$N$851,2,FALSE)","v":"М"}]
["Кондяр Павел / Kondyar Pavel / 1993",null,null,null,null,null,null,325.99,null,null,null,289.83999999999997,null,null,null,null,615.82999999999993,325.99,289.83999999999997,0,0,615.82999999999993,0,{"$f":"VLOOKUP(A235,'личные рез-ты по гонкам списком'!$J$1:$N$851,2,FALSE)","v":"М"}]
["Коновалова Елена / Konovalova Elena / 1975",null,null,null,null,null,193.35,null,null,null,null,null,null,null,null,null,193.35,193.35,0,0,0,193.35,0,{"$f":"VLOOKUP(A236,'личные рез-ты по гонкам списком'!$J$1:$N$851,2,FALSE)","v":"Ж"}]
["Коньшин Андрей / Konshin Andrej / 1988",null,null,null,null,null,null,null,10.97,null,null,null,null,null,null,null,10.97,10.97,0,0,0,10.97,0,{"$f":"VLOOKUP(A237,'личные рез-ты по гонкам списком'!$J$1:$N$851,2,FALSE)","v":"М"}]
["Копоть Александр / Kopot Aleksandr / 1992",404.89,null,null,null,null,null,null,null,null,null,null,null,null,null,null,404.89,404.89,0,0,0,404.89,0,{"$f":"VLOOKUP(A238,'личные рез-ты по гонкам списком'!$J$1:$N$851,2,FALSE)","v":"М"}]
["Кордунская Екатерина / Kordunskaya Ekaterina / 1983",null,null,null,null,null,null,null,362.09,null,null,null,null,null,null,368.44,730.53,368.44,362.09,0,0,730.53,0,{"$f":"VLOOKUP(A239,'личные рез-ты по гонкам списком'!$J$1:$N$851,2,FALSE)","v":"Ж"}]
["Коровец Богдан / Korovets Bogdan / 1976",null,null,438.85,null,274.36,null,null,null,321.43,null,null,137.72999999999999,null,null,585.16999999999996,1757.54,585.16999999999996,438.85,321.43,274.36,1619.81,-137.73000000000002,{"$f":"VLOOKUP(A240,'личные рез-ты по гонкам списком'!$J$1:$N$851,2,FALSE)","v":"М"}]
["Корожан Александр / Korozhan Aleksandr / 1971",null,336.57,null,null,null,null,null,null,null,null,null,null,null,null,null,336.57,336.57,0,0,0,336.57,0,{"$f":"VLOOKUP(A241,'личные рез-ты по гонкам списком'!$J$1:$N$851,2,FALSE)","v":"М"}]
["Корожан Наталья / Korozhan Natalya / 1974",null,212.63,null,null,null,null,null,null,null,null,null,null,null,null,null,212.63,212.63,0,0,0,212.63,0,{"$f":"VLOOKUP(A242,'личные рез-ты по гонкам списком'!$J$1:$N$851,2,FALSE)","v":"Ж"}]
["Королёв Максим / Koroljov Maksim / 1989",null,null,null,null,null,197.64,null,null,null,null,null,null,null,null,null,197.64,197.64,0,0,0,197.64,0,{"$f":"VLOOKUP(A243,'личные рез-ты по гонкам списком'!$J$1:$N$851,2,FALSE)","v":"М"}]
["Коротких Елена / Korotkih Elena / 1984",null,null,null,null,null,null,null,296.26,null,null,null,null,null,null,null,296.26,296.26,0,0,0,296.26,0,{"$f":"VLOOKUP(A244,'личные рез-ты по гонкам списком'!$J$1:$N$851,2,FALSE)","v":"Ж"}]
["Костев Евгений / Kostev Evgenij / 1990",null,null,null,null,null,null,266.11,null,null,null,null,null,null,null,null,266.11,266.11,0,0,0,266.11,0,{"$f":"VLOOKUP(A245,'личные рез-ты по гонкам списком'!$J$1:$N$851,2,FALSE)","v":"М"}]
["Костян Денис / Kostyan Denis / 1977",null,272.89,null,null,null,null,null,null,null,null,null,null,null,null,null,272.89,272.89,0,0,0,272.89,0,{"$f":"VLOOKUP(A246,'личные рез-ты по гонкам списком'!$J$1:$N$851,2,FALSE)","v":"М"}]
["Кохан Виталий / Kohan Vitalij / 1982",null,null,null,null,178.65,null,null,null,null,null,null,null,null,null,null,178.65,178.65,0,0,0,178.65,0,{"$f":"VLOOKUP(A247,'личные рез-ты по гонкам списком'!$J$1:$N$851,2,FALSE)","v":"М"}]
["Кошур Александр / Koshur Aleksandr / 1988",null,372.95,null,null,null,null,null,null,null,null,null,null,null,null,null,372.95,372.95,0,0,0,372.95,0,{"$f":"VLOOKUP(A248,'личные рез-ты по гонкам списком'!$J$1:$N$851,2,FALSE)","v":"М"}]
["Кравчук Александр / Kravchuk Aleksandr / 1983",null,null,null,null,null,137.49,null,null,null,null,null,null,null,null,null,137.49,137.49,0,0,0,137.49,0,{"$f":"VLOOKUP(A249,'личные рез-ты по гонкам списком'!$J$1:$N$851,2,FALSE)","v":"М"}]
["Красовская Инна / Krasovskaya Inna / 1975",null,200.12,null,null,null,null,null,null,null,null,null,null,null,null,null,200.12,200.12,0,0,0,200.12,0,{"$f":"VLOOKUP(A250,'личные рез-ты по гонкам списком'!$J$1:$N$851,2,FALSE)","v":"Ж"}]
["Кривальцевич Валентина / Krivaltsevich Valentina / 1984",null,null,null,null,null,null,null,null,null,null,46.35,null,null,null,null,46.35,46.35,0,0,0,46.35,0,{"$f":"VLOOKUP(A251,'личные рез-ты по гонкам списком'!$J$1:$N$851,2,FALSE)","v":"Ж"}]
["Крипа Светлана / Kripa Svetlana / 1989",null,null,null,null,null,null,null,null,null,null,null,null,167.71,null,null,167.71,167.71,0,0,0,167.71,0,{"$f":"VLOOKUP(A252,'личные рез-ты по гонкам списком'!$J$1:$N$851,2,FALSE)","v":"Ж"}]
["Крисенков Алексей / Krisenkov Aleksej / 1983",null,null,684.61,377.44,null,null,null,null,607.14,null,263,null,null,null,563.5,2495.69,684.61,607.14,563.5,377.44,2232.69,-263,{"$f":"VLOOKUP(A253,'личные рез-ты по гонкам списком'!$J$1:$N$851,2,FALSE)","v":"М"}]
["Круглик Игорь / Kruglik Igor / 1985",null,null,null,null,null,null,null,null,null,null,null,null,155.43,null,null,155.43,155.43,0,0,0,155.43,0,{"$f":"VLOOKUP(A254,'личные рез-ты по гонкам списком'!$J$1:$N$851,2,FALSE)","v":"М"}]
["Круглова Александра / Kruglova Aleksandra / 1989",null,null,null,null,null,64.45,null,null,null,null,null,null,null,null,null,64.45,64.45,0,0,0,64.45,0,{"$f":"VLOOKUP(A255,'личные рез-ты по гонкам списком'!$J$1:$N$851,2,FALSE)","v":"Ж"}]
["Крус Виктор / Krus Viktor / 1980",null,null,null,null,null,null,252.81,null,null,null,null,null,227.97,null,null,480.78,252.81,227.97,0,0,480.78,0,{"$f":"VLOOKUP(A256,'личные рез-ты по гонкам списком'!$J$1:$N$851,2,FALSE)","v":"М"}]
["Кудрейко Михаил / Kudrejko Mihail / 1981",null,null,70.22,null,null,null,null,null,null,null,null,null,null,null,null,70.22,70.22,0,0,0,70.22,0,{"$f":"VLOOKUP(A257,'личные рез-ты по гонкам списком'!$J$1:$N$851,2,FALSE)","v":"М"}]
["Кудрявец Валерий / Kudryavets Valerij / 1975",null,145.54,null,null,null,null,null,null,null,null,null,78.7,null,null,null,224.24,145.54,78.7,0,0,224.24,0,{"$f":"VLOOKUP(A258,'личные рез-ты по гонкам списком'!$J$1:$N$851,2,FALSE)","v":"М"}]
["Кузеева Марина / Kuzeeva Marina / 1986",null,262.66000000000003,null,null,null,null,null,null,null,null,null,null,null,null,null,262.66000000000003,262.66000000000003,0,0,0,262.66000000000003,0,{"$f":"VLOOKUP(A259,'личные рез-ты по гонкам списком'!$J$1:$N$851,2,FALSE)","v":"Ж"}]
["Кузнецова Наталья / Kuznetsova Natalya / 1984",null,162.6,null,null,null,null,null,null,null,null,null,null,null,null,null,162.6,{"$f":"LARGE(B260:P260,1)","v":162.6},{"$f":"IF(COUNT(B260:P260)=1,0,LARGE(B260:P260,2))","v":0},{"$f":"IF(COUNT(B260:P260)<3,0,LARGE(B260:P260,3))","v":0},{"$f":"IF(COUNT(B260:P260)<4,0,LARGE(B260:P260,4))","v":0},{"$f":"SUM(R260:U260)","v":162.6},{"$f":"V260-Q260","v":0},{"$f":"VLOOKUP(A260,'личные рез-ты по гонкам списком'!$J$1:$N$851,2,FALSE)","v":"Ж"}]
["Кузьменко Иван / Kuzmenko Ivan / 1981",null,null,null,null,null,103.12,null,null,null,null,null,null,null,null,null,103.12,103.12,0,0,0,103.12,0,{"$f":"VLOOKUP(A261,'личные рез-ты по гонкам списком'!$J$1:$N$851,2,FALSE)","v":"М"}]
["Кузьменок Денис / Kuzmenok Denis / 1979",null,163.72999999999999,null,77.2,null,null,null,76.81,null,null,null,null,null,null,null,317.74,163.72999999999999,77.2,76.81,0,317.74,0,{"$f":"VLOOKUP(A262,'личные рез-ты по гонкам списком'!$J$1:$N$851,2,FALSE)","v":"М"}]
["Кузьмич Дмитрий / Kuzmich Dmitrij / 1975",null,null,null,null,null,null,13.31,null,null,null,10.73,null,null,null,216.73,240.76999999999998,216.73,13.31,10.73,0,240.76999999999998,0,{"$f":"VLOOKUP(A263,'личные рез-ты по гонкам списком'!$J$1:$N$851,2,FALSE)","v":"М"}]
["Кукареко Екатерина / Kukareko Ekaterina / 1986",null,null,166.09,null,null,null,null,null,null,null,null,null,null,null,null,166.09,166.09,0,0,0,166.09,0,{"$f":"VLOOKUP(A264,'личные рез-ты по гонкам списком'!$J$1:$N$851,2,FALSE)","v":"Ж"}]
["Кукобникова Вита / Kukobnikova Vita / 1993",null,null,null,null,null,141.79,null,null,null,null,101.98,null,null,null,null,243.76999999999998,141.79,101.98,0,0,243.76999999999998,0,{"$f":"VLOOKUP(A265,'личные рез-ты по гонкам списком'!$J$1:$N$851,2,FALSE)","v":"Ж"}]
["Кулак Александр / Kulak Aleksandr / 1989",null,191.02,null,null,null,null,null,null,null,null,null,null,null,null,null,191.02,191.02,0,0,0,191.02,0,{"$f":"VLOOKUP(A266,'личные рез-ты по гонкам списком'!$J$1:$N$851,2,FALSE)","v":"М"}]
["Куликовский Ян / Kulikovskij Yan / 1992",null,null,null,null,null,null,192.93,null,null,null,96.61,null,null,null,null,289.54000000000002,192.93,96.61,0,0,289.54000000000002,0,{"$f":"VLOOKUP(A267,'личные рез-ты по гонкам списком'!$J$1:$N$851,2,FALSE)","v":"М"}]
["Куликовских Иванна / Kulikovskih Ivanna / 1974",null,175.1,null,null,null,null,null,null,null,null,null,null,null,null,null,175.1,175.1,0,0,0,175.1,0,{"$f":"VLOOKUP(A268,'личные рез-ты по гонкам списком'!$J$1:$N$851,2,FALSE)","v":"Ж"}]
["Курата Кенет / Kurata Kenet / 1978",null,null,null,null,null,null,19.96,null,null,null,null,null,null,null,null,19.96,19.96,0,0,0,19.96,0,{"$f":"VLOOKUP(A269,'личные рез-ты по гонкам списком'!$J$1:$N$851,2,FALSE)","v":"М"}]
["Куратник Юрий / Kuratnik Yurij / 1987",null,436.63,null,null,null,null,null,null,null,null,null,null,null,null,null,436.63,436.63,0,0,0,436.63,0,{"$f":"VLOOKUP(A270,'личные рез-ты по гонкам списком'!$J$1:$N$851,2,FALSE)","v":"М"}]
["Кусов Иван / Kusov Ivan / 1993",null,null,null,null,null,null,null,362.09,null,null,null,null,null,null,null,362.09,362.09,0,0,0,362.09,0,{"$f":"VLOOKUP(A271,'личные рез-ты по гонкам списком'!$J$1:$N$851,2,FALSE)","v":"М"}]
["Куцакова Татьяна / Kutsakova Tatyana / 1987",null,null,null,null,null,null,358.23,null,null,null,null,null,null,null,null,358.23,358.23,0,0,0,358.23,0,{"$f":"VLOOKUP(A272,'личные рез-ты по гонкам списком'!$J$1:$N$851,2,FALSE)","v":"Ж"}]
["Куцун Надежда / Kutsun Nadezhda / 1982",null,null,null,null,null,null,null,null,null,null,null,null,null,null,578.98,578.98,578.98,0,0,0,578.98,0,{"$f":"VLOOKUP(A273,'личные рез-ты по гонкам списком'!$J$1:$N$851,2,FALSE)","v":"Ж"}]
["Куцуха Александр / Kutsuha Aleksandr / 1992",null,null,245.76,null,null,null,null,null,null,null,null,null,null,null,null,245.76,245.76,0,0,0,245.76,0,{"$f":"VLOOKUP(A274,'личные рез-ты по гонкам списком'!$J$1:$N$851,2,FALSE)","v":"М"}]
["Лабунская Ирина / Labunskaya Irina / 1983",null,null,null,null,null,25.78,null,null,null,null,null,null,null,null,null,25.78,25.78,0,0,0,25.78,0,{"$f":"VLOOKUP(A275,'личные рез-ты по гонкам списком'!$J$1:$N$851,2,FALSE)","v":"Ж"}]
["Лавник Игорь / Lavnik Igor / 1983",null,null,null,null,229.7,null,null,null,null,null,null,236.1,null,null,476.81,942.6099999999999,476.81,236.1,229.7,0,942.6099999999999,0,{"$f":"VLOOKUP(A276,'личные рез-ты по гонкам списком'!$J$1:$N$851,2,FALSE)","v":"М"}]
["Лавриченок Светлана / Lavrichenok Svetlana / 1971",null,null,332.18,null,null,null,null,null,null,null,null,null,null,null,null,332.18,332.18,0,0,0,332.18,0,{"$f":"VLOOKUP(A277,'личные рез-ты по гонкам списком'!$J$1:$N$851,2,FALSE)","v":"Ж"}]
["Ладеев Дмитрий / Ladeev Dmitrij / 1981",null,null,null,248.77,null,null,219.54,null,null,null,null,null,null,null,null,468.31,248.77,219.54,0,0,468.31,0,{"$f":"VLOOKUP(A278,'личные рез-ты по гонкам списком'!$J$1:$N$851,2,FALSE)","v":"М"}]
["Ладутько Наталья / Ladutko Natalya / 1974",null,null,null,null,null,51.56,42.99,null,null,null,null,null,88.27,null,null,182.82,88.27,51.56,42.99,0,182.82,0,{"$f":"VLOOKUP(A279,'личные рез-ты по гонкам списком'!$J$1:$N$851,2,FALSE)","v":"Ж"}]
["Лазаренок Глеб / Lazarenok Gleb / 1982",null,null,null,null,null,68.75,33.26,null,null,null,null,null,124.34,null,null,226.35,124.34,68.75,33.26,0,226.35,0,{"$f":"VLOOKUP(A280,'личные рез-ты по гонкам списком'!$J$1:$N$851,2,FALSE)","v":"М"}]
["Лакустов Алексей / Lakustov Aleksej / 1986",null,109.16,null,null,null,null,null,87.78,null,null,null,null,null,null,null,196.94,109.16,87.78,0,0,196.94,0,{"$f":"VLOOKUP(A281,'личные рез-ты по гонкам списком'!$J$1:$N$851,2,FALSE)","v":"М"}]
["Ланин Иван / Lanin Ivan / 1989",null,null,228.2,null,null,null,272.77,null,null,null,null,null,null,null,null,500.96999999999997,272.77,228.2,0,0,500.96999999999997,0,{"$f":"VLOOKUP(A282,'личные рез-ты по гонкам списком'!$J$1:$N$851,2,FALSE)","v":"М"}]
["Лапко Оля / Lapko Olya / 1992",null,null,null,null,null,null,null,null,null,null,null,137.02000000000001,null,null,null,137.02000000000001,137.02000000000001,0,0,0,137.02000000000001,0,{"$f":"VLOOKUP(A283,'личные рез-ты по гонкам списком'!$J$1:$N$851,2,FALSE)","v":"Ж"}]
["Ласюк Юрий / Lasyuk Yurij / 1987",null,null,null,null,478.53,null,null,471.82,null,null,null,344.32,null,null,null,1294.6699999999998,478.53,471.82,344.32,0,1294.6699999999998,0,{"$f":"VLOOKUP(A284,'личные рез-ты по гонкам списком'!$J$1:$N$851,2,FALSE)","v":"М"}]
["Леверовский Александр / Leverovskij Aleksandr / 1988",null,null,null,null,null,null,null,175.56,null,null,null,null,null,null,281.75,457.31,281.75,175.56,0,0,457.31,0,{"$f":"VLOOKUP(A285,'личные рез-ты по гонкам списком'!$J$1:$N$851,2,FALSE)","v":"М"}]
["Левчук Александр / Levchuk Aleksandr / 1970",null,null,null,null,null,null,null,318.2,null,null,null,null,null,null,null,318.2,318.2,0,0,0,318.2,0,{"$f":"VLOOKUP(A286,'личные рез-ты по гонкам списком'!$J$1:$N$851,2,FALSE)","v":"М"}]
["Левчук Ирина / Levchuk Irina / 1974",null,null,null,null,null,null,114.63,null,null,null,null,null,null,null,null,114.63,114.63,0,0,0,114.63,0,{"$f":"VLOOKUP(A287,'личные рез-ты по гонкам списком'!$J$1:$N$851,2,FALSE)","v":"Ж"}]
["Легчеков Дмитрий / Legchekov Dmitrij / 1984",null,null,null,null,null,null,null,null,null,null,177.12,null,null,null,null,177.12,177.12,0,0,0,177.12,0,{"$f":"VLOOKUP(A288,'личные рез-ты по гонкам списком'!$J$1:$N$851,2,FALSE)","v":"М"}]
["Леденёв Андрей / Ledenjov Andrej / 1971",null,427.53,null,null,null,null,null,null,null,null,null,null,null,null,null,427.53,427.53,0,0,0,427.53,0,{"$f":"VLOOKUP(A289,'личные рез-ты по гонкам списком'!$J$1:$N$851,2,FALSE)","v":"М"}]
["Леонов Алексей / Leonov Aleksej / 1986",null,null,null,null,null,null,null,null,null,null,null,157.4,null,null,null,157.4,157.4,0,0,0,157.4,0,{"$f":"VLOOKUP(A290,'личные рез-ты по гонкам списком'!$J$1:$N$851,2,FALSE)","v":"М"}]
["Леонов Иван / Leonov Ivan / 1986",null,null,null,null,497.68,null,null,null,null,null,null,349.23,null,null,null,846.91000000000008,497.68,349.23,0,0,846.91000000000008,0,{"$f":"VLOOKUP(A291,'личные рез-ты по гонкам списком'!$J$1:$N$851,2,FALSE)","v":"М"}]
["Леонович Виталий / Leonovich Vitalij / 1984",null,null,null,null,null,null,null,null,null,null,118.08,null,null,null,null,118.08,118.08,0,0,0,118.08,0,{"$f":"VLOOKUP(A292,'личные рез-ты по гонкам списком'!$J$1:$N$851,2,FALSE)","v":"М"}]
["Лесковец Александр / Leskovets Aleksandr / 1990",null,null,null,null,389.21,null,null,null,null,null,null,245.94,null,682.73,null,1317.88,682.73,389.21,245.94,0,1317.88,0,{"$f":"VLOOKUP(A293,'личные рез-ты по гонкам списком'!$J$1:$N$851,2,FALSE)","v":"М"}]
["Лесникович Лиана / Lesnikovich Liana / 1988",null,null,null,null,null,null,null,null,null,null,222.5,null,null,null,null,222.5,222.5,0,0,0,222.5,0,{"$f":"VLOOKUP(A294,'личные рез-ты по гонкам списком'!$J$1:$N$851,2,FALSE)","v":"Ж"}]
["Лещевич Валерий / Leschevich Valerij / 1989",null,null,null,null,null,null,372.56,null,null,null,null,null,null,null,null,372.56,372.56,0,0,0,372.56,0,{"$f":"VLOOKUP(A295,'личные рез-ты по гонкам списком'!$J$1:$N$851,2,FALSE)","v":"М"}]
["Лещинский Владимир / Leschinskij Vladimir / 1983",null,null,579.29,null,null,null,null,null,null,null,null,null,null,null,null,579.29,579.29,0,0,0,579.29,0,{"$f":"VLOOKUP(A296,'личные рез-ты по гонкам списком'!$J$1:$N$851,2,FALSE)","v":"М"}]
["Липницкая Виктория / Lipnitskaya Viktoriya / 1987",null,null,null,210.64,null,null,null,197.5,null,null,null,null,null,null,null,408.14,210.64,197.5,0,0,408.14,0,{"$f":"VLOOKUP(A297,'личные рез-ты по гонкам списком'!$J$1:$N$851,2,FALSE)","v":"Ж"}]
["Липская Наталья / Lipskaya Natalya / 1977",null,null,null,null,null,null,null,null,null,null,null,null,52.96,null,null,52.96,52.96,0,0,0,52.96,0,{"$f":"VLOOKUP(A298,'личные рез-ты по гонкам списком'!$J$1:$N$851,2,FALSE)","v":"Ж"}]
["Липская Яна / Lipskaya Yana / 2007",null,null,null,null,null,null,null,null,null,null,null,null,61.79,null,null,61.79,61.79,0,0,0,61.79,0,{"$f":"VLOOKUP(A299,'личные рез-ты по гонкам списком'!$J$1:$N$851,2,FALSE)","v":"Ж"}]
["Липский Александр / Lipskij Aleksandr / 1977",null,null,null,null,null,null,null,null,null,null,64.41,null,null,null,null,64.41,64.41,0,0,0,64.41,0,{"$f":"VLOOKUP(A300,'личные рез-ты по гонкам списком'!$J$1:$N$851,2,FALSE)","v":"М"}]
["Лисовская Наталья / Lisovskaya Natalya / 1998",null,null,null,null,null,null,null,null,null,null,null,219.24,null,null,null,219.24,219.24,0,0,0,219.24,0,{"$f":"VLOOKUP(A301,'личные рез-ты по гонкам списком'!$J$1:$N$851,2,FALSE)","v":"Ж"}]
["Лисовский Виктор / Lisovskij Viktor / 1964",null,null,456.41,null,null,null,null,null,357.14,null,null,73.78,null,null,520.15,1407.48,520.15,456.41,357.14,73.78,1407.4799999999998,0,{"$f":"VLOOKUP(A302,'личные рез-ты по гонкам списком'!$J$1:$N$851,2,FALSE)","v":"М"}]
["Лисовский Павел / Lisovskij Pavel / 1986",null,null,null,null,null,null,null,null,null,null,null,null,null,null,606.85,606.85,606.85,0,0,0,606.85,0,{"$f":"VLOOKUP(A303,'личные рез-ты по гонкам списком'!$J$1:$N$851,2,FALSE)","v":"М"}]
["Литвинка Нина / Litvinka Nina / 1991",null,null,null,null,null,null,null,null,null,null,null,null,null,null,210.54,210.54,210.54,0,0,0,210.54,0,{"$f":"VLOOKUP(A304,'личные рез-ты по гонкам списком'!$J$1:$N$851,2,FALSE)","v":"Ж"}]
["Литвинская Людмила / Litvinskaya Lyudmila / 1977",null,null,null,null,281.89999999999998,null,null,null,null,null,null,null,null,null,null,281.89999999999998,281.89999999999998,0,0,0,281.89999999999998,0,{"$f":"VLOOKUP(A305,'личные рез-ты по гонкам списком'!$J$1:$N$851,2,FALSE)","v":"Ж"}]
["Логиновский Михаил / Loginovskij Mihail / 1976",null,null,null,null,null,null,119.75,null,null,null,null,null,null,null,null,119.75,119.75,0,0,0,119.75,0,{"$f":"VLOOKUP(A306,'личные рез-ты по гонкам списком'!$J$1:$N$851,2,FALSE)","v":"М"}]
["Лойко Сергей / Lojko Sergej / 1985",null,463.91,null,351.71,null,null,null,416.95,null,null,null,290.20999999999998,null,null,null,1522.78,463.91,416.95,351.71,290.20999999999998,1522.78,0,{"$f":"VLOOKUP(A307,'личные рез-ты по гонкам списком'!$J$1:$N$851,2,FALSE)","v":"М"}]
["Лопатик Юрий / Lopatik Yurij / 1984",null,null,null,154.41,null,null,null,null,null,null,null,null,null,null,null,154.41,154.41,0,0,0,154.41,0,{"$f":"VLOOKUP(A308,'личные рез-ты по гонкам списком'!$J$1:$N$851,2,FALSE)","v":"М"}]
["Лукашенок Алексей / Lukashenok Aleksej / 1978",null,null,null,null,440.25,null,null,null,null,null,null,null,null,null,null,440.25,440.25,0,0,0,440.25,0,{"$f":"VLOOKUP(A309,'личные рез-ты по гонкам списком'!$J$1:$N$851,2,FALSE)","v":"М"}]
["Лукьяненко Александр / Lukyanenko Aleksandr / 1984",null,445.72,null,null,null,null,null,null,null,null,null,null,null,null,null,445.72,445.72,0,0,0,445.72,0,{"$f":"VLOOKUP(A310,'личные рез-ты по гонкам списком'!$J$1:$N$851,2,FALSE)","v":"М"}]
["Лукьянов Александр / Lukyanov Aleksandr / 1979",null,null,null,240.19,null,null,null,null,null,null,null,null,null,null,null,240.19,240.19,0,0,0,240.19,0,{"$f":"VLOOKUP(A311,'личные рез-ты по гонкам списком'!$J$1:$N$851,2,FALSE)","v":"М"}]
["Лунский Сергей / Lunskij Sergej / 1995",null,100.06,null,null,null,null,null,null,null,null,null,null,null,null,null,100.06,100.06,0,0,0,100.06,0,{"$f":"VLOOKUP(A312,'личные рез-ты по гонкам списком'!$J$1:$N$851,2,FALSE)","v":"М"}]
["Лупин Сергей / Lupin Sergej / 1985",null,null,null,null,null,null,166.32,null,null,null,null,19.68,null,null,null,186,166.32,19.68,0,0,186,0,{"$f":"VLOOKUP(A313,'личные рез-ты по гонкам списком'!$J$1:$N$851,2,FALSE)","v":"М"}]
["Луцевич Eвгений / Lutsevich Evgenij / 1964",null,null,52.66,null,null,null,null,null,null,null,null,null,null,null,null,52.66,52.66,0,0,0,52.66,0,{"$f":"VLOOKUP(A314,'личные рез-ты по гонкам списком'!$J$1:$N$851,2,FALSE)","v":"М"}]
["Лучинович Сергей / Luchinovich Sergej / 1979",null,null,null,null,null,null,null,null,null,null,null,49.19,null,null,null,49.19,49.19,0,0,0,49.19,0,{"$f":"VLOOKUP(A315,'личные рез-ты по гонкам списком'!$J$1:$N$851,2,FALSE)","v":"М"}]
["Лучкин Олег / Luchkin Oleg / 1983",null,null,null,null,null,null,null,null,null,null,null,null,null,null,173.38,173.38,173.38,0,0,0,173.38,0,{"$f":"VLOOKUP(A316,'личные рез-ты по гонкам списком'!$J$1:$N$851,2,FALSE)","v":"М"}]
["Лысенко Павел / Lysenko Pavel / 1966",896.55,null,null,null,null,null,null,null,null,null,null,null,null,938.76,null,1835.31,938.76,896.55,0,0,1835.31,0,{"$f":"VLOOKUP(A317,'личные рез-ты по гонкам списком'!$J$1:$N$851,2,FALSE)","v":"М"}]
["Львовский Андрей / Lvovskij Andrej / 1991",null,null,null,null,306.26,null,null,null,null,null,null,null,null,null,null,306.26,306.26,0,0,0,306.26,0,{"$f":"VLOOKUP(A318,'личные рез-ты по гонкам списком'!$J$1:$N$851,2,FALSE)","v":"М"}]
["Лялеко Сергей / Lyaleko Sergej / 1986",null,null,null,null,null,null,null,null,null,null,null,null,null,null,195.06,195.06,195.06,0,0,0,195.06,0,{"$f":"VLOOKUP(A319,'личные рез-ты по гонкам списком'!$J$1:$N$851,2,FALSE)","v":"М"}]
["Макарский Сергей / Makarskij Sergej / 1987",null,null,null,null,null,223.42,null,null,null,null,null,null,null,null,null,223.42,223.42,0,0,0,223.42,0,{"$f":"VLOOKUP(A320,'личные рез-ты по гонкам списком'!$J$1:$N$851,2,FALSE)","v":"М"}]
["Маковский Дмитрий / Makovskij Dmitrij / 1981",null,null,null,null,null,null,null,null,null,null,null,241.02,null,null,null,241.02,241.02,0,0,0,241.02,0,{"$f":"VLOOKUP(A321,'личные рез-ты по гонкам списком'!$J$1:$N$851,2,FALSE)","v":"М"}]
["Малалетников Павел / Malaletnikov Pavel / 1982",null,null,null,null,null,null,null,null,null,null,null,null,null,null,411.79,411.79,411.79,0,0,0,411.79,0,{"$f":"VLOOKUP(A322,'личные рез-ты по гонкам списком'!$J$1:$N$851,2,FALSE)","v":"М"}]
["Малаховская Татьяна / Malahovskaya Tatyana / 1989",null,null,null,243.05,null,null,null,null,null,null,null,null,null,null,null,243.05,243.05,0,0,0,243.05,0,{"$f":"VLOOKUP(A323,'личные рез-ты по гонкам списком'!$J$1:$N$851,2,FALSE)","v":"Ж"}]
["Малаховский Александр / Malahovskij Aleksandr / 1985",null,null,null,null,null,null,null,null,null,null,null,null,null,null,43.35,43.35,{"$f":"LARGE(B324:P324,1)","v":43.35},{"$f":"IF(COUNT(B324:P324)=1,0,LARGE(B324:P324,2))","v":0},{"$f":"IF(COUNT(B324:P324)<3,0,LARGE(B324:P324,3))","v":0},{"$f":"IF(COUNT(B324:P324)<4,0,LARGE(B324:P324,4))","v":0},{"$f":"SUM(R324:U324)","v":43.35},{"$f":"V324-Q324","v":0},{"$f":"VLOOKUP(A324,'личные рез-ты по гонкам списком'!$J$1:$N$851,2,FALSE)","v":"М"}]
["Малышко Татьяна / Malyshko Tatyana / 1983",null,null,null,null,null,206.24,null,null,null,null,null,null,null,null,null,206.24,206.24,0,0,0,206.24,0,{"$f":"VLOOKUP(A325,'личные рез-ты по гонкам списком'!$J$1:$N$851,2,FALSE)","v":"Ж"}]
["Малькевич Елена / Malkevich Elena / 1984",null,null,null,null,null,null,null,null,null,null,250.32,null,null,null,null,250.32,250.32,0,0,0,250.32,0,{"$f":"VLOOKUP(A326,'личные рез-ты по гонкам списком'!$J$1:$N$851,2,FALSE)","v":"Ж"}]
["Мальков Валентин / Malkov Valentin / 1988",null,454.82,null,null,null,null,null,493.76,null,null,null,378.75,null,null,null,1327.33,493.76,454.82,378.75,0,1327.33,0,{"$f":"VLOOKUP(A327,'личные рез-ты по гонкам списком'!$J$1:$N$851,2,FALSE)","v":"М"}]
["Малявко Сергей / Malyavko Sergej / 1990",null,null,null,null,null,null,null,null,null,null,155.65,null,null,null,null,155.65,155.65,0,0,0,155.65,0,{"$f":"VLOOKUP(A328,'личные рез-ты по гонкам списком'!$J$1:$N$851,2,FALSE)","v":"М"}]
["Манкевич Алексей / Mankevich Aleksej / 1972",null,null,null,null,null,17.190000000000001,null,null,null,null,null,null,null,null,null,17.190000000000001,17.190000000000001,0,0,0,17.190000000000001,0,{"$f":"VLOOKUP(A329,'личные рез-ты по гонкам списком'!$J$1:$N$851,2,FALSE)","v":"М"}]
["Маркевич Денис / Markevich Denis / 1981",null,391.14,null,null,363.69,null,null,null,null,null,null,280.37,null,554.72,null,1589.9199999999998,554.72,391.14,363.69,280.37,1589.92,0,{"$f":"VLOOKUP(A330,'личные рез-ты по гонкам списком'!$J$1:$N$851,2,FALSE)","v":"М"}]
["Мартынов Дмитрий / Martynov Dmitrij / 1984",null,null,null,null,null,null,365.91,null,null,null,null,null,null,null,null,365.91,365.91,0,0,0,365.91,0,{"$f":"VLOOKUP(A331,'личные рез-ты по гонкам списком'!$J$1:$N$851,2,FALSE)","v":"М"}]
["Мартысевич Роман / Martysevich Roman / 1993",723.02,null,null,null,null,null,null,null,null,477.06,null,null,null,null,null,1200.08,723.02,477.06,0,0,1200.08,0,{"$f":"VLOOKUP(A332,'личные рез-ты по гонкам списком'!$J$1:$N$851,2,FALSE)","v":"М"}]
["Марченко Людмила / Marchenko Lyudmila / 1972",null,250.15,null,null,null,null,null,null,null,null,null,null,null,null,null,250.15,250.15,0,0,0,250.15,0,{"$f":"VLOOKUP(A333,'личные рез-ты по гонкам списком'!$J$1:$N$851,2,FALSE)","v":"Ж"}]
["Марчук Александр / Marchuk Aleksandr / 1986",null,null,null,null,299.88,null,null,null,null,null,null,null,null,null,null,299.88,299.88,0,0,0,299.88,0,{"$f":"VLOOKUP(A334,'личные рез-ты по гонкам списком'!$J$1:$N$851,2,FALSE)","v":"М"}]
["Маханьков Александр / Mahankov Aleksandr / 1983",null,null,null,null,null,null,null,null,null,null,null,314.8,null,null,null,314.8,314.8,0,0,0,314.8,0,{"$f":"VLOOKUP(A335,'личные рез-ты по гонкам списком'!$J$1:$N$851,2,FALSE)","v":"М"}]
["Мацко Сергей / Matsko Sergej / 1991",null,null,null,null,null,257.8,null,null,null,null,null,null,null,null,null,257.8,257.8,0,0,0,257.8,0,{"$f":"VLOOKUP(A336,'личные рез-ты по гонкам списком'!$J$1:$N$851,2,FALSE)","v":"М"}]
["Медведева Ольга / Medvedeva Olga / 1991",null,387.73,null,null,null,null,null,null,null,null,null,null,null,null,null,387.73,387.73,0,0,0,387.73,0,{"$f":"VLOOKUP(A337,'личные рез-ты по гонкам списком'!$J$1:$N$851,2,FALSE)","v":"Ж"}]
["Медвецкий Денис / Medvetskij Denis / 1986",null,null,null,null,null,146.08000000000001,239.5,null,null,null,null,147.56,null,null,65.02,598.16000000000008,239.5,147.56,146.08000000000001,65.02,598.16,0,{"$f":"VLOOKUP(A338,'личные рез-ты по гонкам списком'!$J$1:$N$851,2,FALSE)","v":"М"}]
["Мейсак Александр / Mejsak Aleksandr / 1989",null,null,null,null,null,null,null,43.89,null,null,null,null,null,null,null,43.89,43.89,0,0,0,43.89,0,{"$f":"VLOOKUP(A339,'личные рез-ты по гонкам списком'!$J$1:$N$851,2,FALSE)","v":"М"}]
["Мельников Павел / Melnikov Pavel / 1998",null,null,null,null,null,null,null,null,null,null,241.53,null,null,null,null,241.53,241.53,0,0,0,241.53,0,{"$f":"VLOOKUP(A340,'личные рез-ты по гонкам списком'!$J$1:$N$851,2,FALSE)","v":"М"}]
["Мертенс Андрей / Mertens Andrej / 1992",null,null,null,180.14,null,null,73.180000000000007,null,null,null,48.31,null,null,null,null,301.63,180.14,73.180000000000007,48.31,0,301.63,0,{"$f":"VLOOKUP(A341,'личные рез-ты по гонкам списком'!$J$1:$N$851,2,FALSE)","v":"М"}]
["Метелица Антон / Metelitsa Anton / 1989",null,null,null,null,null,111.71,null,null,null,null,null,null,null,null,null,111.71,111.71,0,0,0,111.71,0,{"$f":"VLOOKUP(A342,'личные рез-ты по гонкам списком'!$J$1:$N$851,2,FALSE)","v":"М"}]
["Миканович Антон / Mikanovich Anton / 1990",null,null,421.3,171.57,null,null,212.89,null,null,null,null,null,null,null,null,805.76,421.3,212.89,171.57,0,805.76,0,{"$f":"VLOOKUP(A343,'личные рез-ты по гонкам списком'!$J$1:$N$851,2,FALSE)","v":"М"}]
["Милинкевич Елена / Milinkevich Elena / 1977",null,null,null,437.49,null,null,372.56,null,null,null,296.67,null,null,null,null,1106.72,437.49,372.56,296.67,0,1106.72,0,{"$f":"VLOOKUP(A344,'личные рез-ты по гонкам списком'!$J$1:$N$851,2,FALSE)","v":"Ж"}]
["Минич Ольга / Minich Olga / 1989",null,null,null,null,null,null,null,null,null,null,null,null,158.88999999999999,null,null,158.88999999999999,158.88999999999999,0,0,0,158.88999999999999,0,{"$f":"VLOOKUP(A345,'личные рез-ты по гонкам списком'!$J$1:$N$851,2,FALSE)","v":"Ж"}]
["Минчук Александр / Minchuk Aleksandr / 1974",null,27.29,null,null,null,null,null,null,null,null,null,null,null,null,null,27.29,27.29,0,0,0,27.29,0,{"$f":"VLOOKUP(A346,'личные рез-ты по гонкам списком'!$J$1:$N$851,2,FALSE)","v":"М"}]
["Минько Алексей / Minko Aleksej / 1997",null,null,544.17999999999995,null,null,null,null,null,null,null,null,null,null,null,null,544.17999999999995,544.17999999999995,0,0,0,544.17999999999995,0,{"$f":"VLOOKUP(A347,'личные рез-ты по гонкам списком'!$J$1:$N$851,2,FALSE)","v":"М"}]
["Михайлова Марина / Mihajlova Marina / 1988",null,null,null,null,null,null,null,null,null,null,27.81,null,null,null,null,27.81,27.81,0,0,0,27.81,0,{"$f":"VLOOKUP(A348,'личные рез-ты по гонкам списком'!$J$1:$N$851,2,FALSE)","v":"Ж"}]
["Михалкин Сергей / Mihalkin Sergej / 1989",null,null,null,null,516.82000000000005,null,null,null,null,null,null,null,null,null,null,516.82000000000005,516.82000000000005,0,0,0,516.82000000000005,0,{"$f":"VLOOKUP(A349,'личные рез-ты по гонкам списком'!$J$1:$N$851,2,FALSE)","v":"Ж"}]
["Михно Алла / Mihno Alla / 1979",null,null,null,null,140.94999999999999,null,null,null,476.19,null,null,null,null,null,526.35,1143.49,526.35,476.19,140.94999999999999,0,1143.49,0,{"$f":"VLOOKUP(A350,'личные рез-ты по гонкам списком'!$J$1:$N$851,2,FALSE)","v":"Ж"}]
["Михно Борис / Mihno Boris / 1982",null,null,null,null,102.09,null,null,null,142.86000000000001,null,null,null,null,null,325.10000000000002,570.05000000000007,325.10000000000002,142.86000000000001,102.09,0,570.05000000000007,0,{"$f":"VLOOKUP(A351,'личные рез-ты по гонкам списком'!$J$1:$N$851,2,FALSE)","v":"М"}]
["Михнюк Виктор / Mihnyuk Viktor / 1990",null,null,null,386.02,null,null,null,null,null,null,null,null,null,null,null,386.02,386.02,0,0,0,386.02,0,{"$f":"VLOOKUP(A352,'личные рез-ты по гонкам списком'!$J$1:$N$851,2,FALSE)","v":"М"}]
["Моисеева Вероника / Moiseeva Veronika / 1983",null,null,null,null,null,null,null,null,null,null,null,null,132.4,null,null,132.4,132.4,0,0,0,132.4,0,{"$f":"VLOOKUP(A353,'личные рез-ты по гонкам списком'!$J$1:$N$851,2,FALSE)","v":"Ж"}]
["Молочко Александр / Molochko Aleksandr / 1981",925.47,null,null,null,446.63,null,null,null,null,775.22,null,206.59,null,null,null,2353.91,925.47,775.22,446.63,206.59,2353.9100000000003,0,{"$f":"VLOOKUP(A354,'личные рез-ты по гонкам списком'!$J$1:$N$851,2,FALSE)","v":"М"}]
["Молочко Анна / Molochko Anna / 2006",null,null,null,null,null,null,null,null,null,null,null,null,203.02,null,null,203.02,203.02,0,0,0,203.02,0,{"$f":"VLOOKUP(A355,'личные рез-ты по гонкам списком'!$J$1:$N$851,2,FALSE)","v":"Ж"}]
["Молочко Николай / Molochko Nikolaj / 2004",null,null,null,null,null,null,null,null,null,null,null,null,31.09,null,null,31.09,31.09,0,0,0,31.09,0,{"$f":"VLOOKUP(A356,'личные рез-ты по гонкам списком'!$J$1:$N$851,2,FALSE)","v":"М"}]
["Молчан Александр / Molchan Aleksandr / 1988",null,418.43,null,null,null,null,null,373.06,null,null,null,334.48,null,null,null,1125.97,418.43,373.06,334.48,0,1125.97,0,{"$f":"VLOOKUP(A357,'личные рез-ты по гонкам списком'!$J$1:$N$851,2,FALSE)","v":"М"}]
["Моргачев Андрей / Morgachev Andrej / 1981",null,null,null,null,null,42.97,null,null,null,null,null,null,null,null,null,42.97,42.97,0,0,0,42.97,0,{"$f":"VLOOKUP(A358,'личные рез-ты по гонкам списком'!$J$1:$N$851,2,FALSE)","v":"М"}]
["Мороз Евгений / Moroz Evgenij / 1985",null,null,null,null,null,null,79.83,null,null,null,null,null,null,null,null,79.83,79.83,0,0,0,79.83,0,{"$f":"VLOOKUP(A359,'личные рез-ты по гонкам списком'!$J$1:$N$851,2,FALSE)","v":"М"}]
["Морозова Екатерина / Morozova Ekaterina / 1978",null,125.07,null,null,null,null,null,null,null,null,null,null,null,null,null,125.07,125.07,0,0,0,125.07,0,{"$f":"VLOOKUP(A360,'личные рез-ты по гонкам списком'!$J$1:$N$851,2,FALSE)","v":"Ж"}]
["Мосийчук Максим / Mosijchuk Maksim / 1984",null,473.01,null,null,null,null,null,null,null,null,null,324.64,null,null,null,797.65,473.01,324.64,0,0,797.65,0,{"$f":"VLOOKUP(A361,'личные рез-ты по гонкам списком'!$J$1:$N$851,2,FALSE)","v":"М"}]
["Мурашкина Галина / Murashkina Galina / 1988",null,300.18,null,129.63,null,null,null,null,null,null,null,null,null,null,null,429.81,300.18,129.63,0,0,429.81,0,{"$f":"VLOOKUP(A362,'личные рез-ты по гонкам списком'!$J$1:$N$851,2,FALSE)","v":"Ж"}]
["Мурашов Владимир / Murashov Vladimir / 1983",null,null,null,null,108.47,null,null,null,null,null,null,null,null,null,368.44,476.90999999999997,368.44,108.47,0,0,476.90999999999997,0,{"$f":"VLOOKUP(A363,'личные рез-ты по гонкам списком'!$J$1:$N$851,2,FALSE)","v":"М"}]
["Набоков Дмитрий / Nabokov Dmitrij / 1998",null,null,null,null,null,null,null,null,null,null,273.74,null,null,null,null,273.74,273.74,0,0,0,273.74,0,{"$f":"VLOOKUP(A364,'личные рез-ты по гонкам списком'!$J$1:$N$851,2,FALSE)","v":"М"}]
["Насвит Дмитрий / Nasvit Dmitrij / 1986",null,null,null,null,null,null,null,427.93,null,null,null,null,null,null,null,427.93,427.93,0,0,0,427.93,0,{"$f":"VLOOKUP(A365,'личные рез-ты по гонкам списком'!$J$1:$N$851,2,FALSE)","v":"М"}]
["Невмержицкая Анна / Nevmerzhitskaya Anna / 1997",null,null,498.27,307.87,null,null,null,null,null,null,null,null,null,null,null,806.14,498.27,307.87,0,0,806.14,0,{"$f":"VLOOKUP(A366,'личные рез-ты по гонкам списком'!$J$1:$N$851,2,FALSE)","v":"Ж"}]
["Недведская Елена / Nedvedskaya Elena / 1986",null,null,null,null,null,null,272.25,null,null,null,null,null,194.19,null,null,466.44,272.25,194.19,0,0,466.44,0,{"$f":"VLOOKUP(A367,'личные рез-ты по гонкам списком'!$J$1:$N$851,2,FALSE)","v":"Ж"}]
["Нежаветс Сергей / Nezhavets Sergej / 1989",null,null,null,null,null,180.46,null,null,null,null,null,null,null,null,null,180.46,180.46,0,0,0,180.46,0,{"$f":"VLOOKUP(A368,'личные рез-ты по гонкам списком'!$J$1:$N$851,2,FALSE)","v":"М"}]
["Незнанов Михаил / Neznanov Mihail / 1982",null,null,null,null,null,null,106.45,null,null,null,null,null,null,null,null,106.45,106.45,0,0,0,106.45,0,{"$f":"VLOOKUP(A369,'личные рез-ты по гонкам списком'!$J$1:$N$851,2,FALSE)","v":"М"}]
["Некрасов Василий / Nekrasov Vasilij / 1986",null,null,null,null,null,null,null,null,null,null,null,null,null,null,715.21,715.21,715.21,0,0,0,715.21,0,{"$f":"VLOOKUP(A370,'личные рез-ты по гонкам списком'!$J$1:$N$851,2,FALSE)","v":"М"}]
["Необердина Мария / Neoberdina Mariya / 1987",null,null,null,null,null,null,null,null,null,null,148.34,null,null,null,null,148.34,148.34,0,0,0,148.34,0,{"$f":"VLOOKUP(A371,'личные рез-ты по гонкам списком'!$J$1:$N$851,2,FALSE)","v":"Ж"}]
["Нестерович Сергей / Nesterovich Sergej / 1994",null,null,null,null,null,null,null,null,null,null,null,null,null,640.05999999999995,null,640.05999999999995,640.05999999999995,0,0,0,640.05999999999995,0,{"$f":"VLOOKUP(A372,'личные рез-ты по гонкам списком'!$J$1:$N$851,2,FALSE)","v":"М"}]
["Нефедова Оксана / Nefedova Oksana / 1979",null,237.64,null,null,null,null,null,null,null,null,null,null,null,null,null,237.64,237.64,0,0,0,237.64,0,{"$f":"VLOOKUP(A373,'личные рез-ты по гонкам списком'!$J$1:$N$851,2,FALSE)","v":"Ж"}]
["Нехайчик Мария / Nehajchik Mariya / 1995",null,null,null,null,null,null,null,null,null,null,83.44,null,null,null,null,83.44,83.44,0,0,0,83.44,0,{"$f":"VLOOKUP(A374,'личные рез-ты по гонкам списком'!$J$1:$N$851,2,FALSE)","v":"Ж"}]
["Нечаев Владимир / Nechaev Vladimir / 1995",null,null,null,368.87,null,null,null,null,null,null,246.9,null,null,null,null,615.77,368.87,246.9,0,0,615.77,0,{"$f":"VLOOKUP(A375,'личные рез-ты по гонкам списком'!$J$1:$N$851,2,FALSE)","v":"М"}]
["Нещик Алексей / Neschik Aleksej / 1983",null,null,null,null,null,null,null,null,null,null,171.76,null,null,null,null,171.76,171.76,0,0,0,171.76,0,{"$f":"VLOOKUP(A376,'личные рез-ты по гонкам списком'!$J$1:$N$851,2,FALSE)","v":"М"}]
["Никитюк Алексей / Nikityuk Aleksej / 1985",null,null,386.19,null,null,null,null,null,null,null,null,null,null,null,null,386.19,386.19,0,0,0,386.19,0,{"$f":"VLOOKUP(A377,'личные рез-ты по гонкам списком'!$J$1:$N$851,2,FALSE)","v":"М"}]
["Николаевич Дмитрий / Nikolaevich Dmitrij / 1999",null,null,null,null,null,null,null,null,null,null,295.20999999999998,null,null,null,null,295.20999999999998,295.20999999999998,0,0,0,295.20999999999998,0,{"$f":"VLOOKUP(A378,'личные рез-ты по гонкам списком'!$J$1:$N$851,2,FALSE)","v":"М"}]
["Николаевский Станислав / Nikolaevskij Stanislav / 1985",null,null,473.96,null,null,null,null,null,null,null,null,null,null,null,null,473.96,473.96,0,0,0,473.96,0,{"$f":"VLOOKUP(A379,'личные рез-ты по гонкам списком'!$J$1:$N$851,2,FALSE)","v":"М"}]
["Никонов Максим / Nikonov Maksim / 1979",null,null,null,null,null,null,null,438.9,null,null,null,null,null,null,null,438.9,438.9,0,0,0,438.9,0,{"$f":"VLOOKUP(A380,'личные рез-ты по гонкам списком'!$J$1:$N$851,2,FALSE)","v":"М"}]
["Никрашевич Сергей / Nikrashevich Sergej / 1985",null,null,null,128.66999999999999,null,null,null,null,null,null,null,null,null,null,null,128.66999999999999,128.66999999999999,0,0,0,128.66999999999999,0,{"$f":"VLOOKUP(A381,'личные рез-ты по гонкам списком'!$J$1:$N$851,2,FALSE)","v":"М"}]
["Новик Анастасия / Novik Anastasiya / 1985",null,null,null,null,null,null,null,427.93,null,null,null,null,null,null,null,427.93,427.93,0,0,0,427.93,0,{"$f":"VLOOKUP(A382,'личные рез-ты по гонкам списком'!$J$1:$N$851,2,FALSE)","v":"Ж"}]
["Новиков Денис / Novikov Denis / 1989",null,null,null,null,null,null,null,null,null,null,166.39,null,null,null,null,166.39,166.39,0,0,0,166.39,0,{"$f":"VLOOKUP(A383,'личные рез-ты по гонкам списком'!$J$1:$N$851,2,FALSE)","v":"М"}]
["Новиченко Антон / Novichenko Anton / 1997",null,null,null,null,null,null,null,null,null,null,null,383.67,null,null,null,383.67,383.67,0,0,0,383.67,0,{"$f":"VLOOKUP(A384,'личные рез-ты по гонкам списком'!$J$1:$N$851,2,FALSE)","v":"М"}]
["Новікаў Анатоль / Novіkau Anatol / 1984",694.1,null,null,null,null,null,null,null,null,null,null,null,null,null,null,694.1,694.1,0,0,0,694.1,0,{"$f":"VLOOKUP(A385,'личные рез-ты по гонкам списком'!$J$1:$N$851,2,FALSE)","v":"М"}]
["Новосяд Владимир / Novosyad Vladimir / 1968",null,54.58,null,null,null,null,null,null,null,null,null,null,null,null,null,54.58,54.58,0,0,0,54.58,0,{"$f":"VLOOKUP(A386,'личные рез-ты по гонкам списком'!$J$1:$N$851,2,FALSE)","v":"М"}]
["Обухова Екатерина / Obuhova Ekaterina / 1978",null,null,null,null,null,null,null,null,null,null,null,null,null,null,631.62,631.62,631.62,0,0,0,631.62,0,{"$f":"VLOOKUP(A387,'личные рез-ты по гонкам списком'!$J$1:$N$851,2,FALSE)","v":"Ж"}]
["Овсиюк Богдан / Ovsiyuk Bogdan / 1993",null,null,null,null,472.15,null,null,482.79,null,null,null,null,null,null,null,954.94,{"$f":"LARGE(B388:P388,1)","v":482.79},{"$f":"IF(COUNT(B388:P388)=1,0,LARGE(B388:P388,2))","v":472.15},{"$f":"IF(COUNT(B388:P388)<3,0,LARGE(B388:P388,3))","v":0},{"$f":"IF(COUNT(B388:P388)<4,0,LARGE(B388:P388,4))","v":0},{"$f":"SUM(R388:U388)","v":954.94},{"$f":"V388-Q388","v":0},{"$f":"VLOOKUP(A388,'личные рез-ты по гонкам списком'!$J$1:$N$851,2,FALSE)","v":"М"}]
["Окромешко Антон / Okromeshko Anton / 1990",809.79,null,null,null,null,null,null,null,null,null,null,null,null,null,null,809.79,809.79,0,0,0,809.79,0,{"$f":"VLOOKUP(A389,'личные рез-ты по гонкам списком'!$J$1:$N$851,2,FALSE)","v":"М"}]
["Олин Денис / Olin Denis / 1976",null,null,null,145.83000000000001,null,null,null,null,null,null,null,null,null,512.04999999999995,null,657.88,512.04999999999995,145.83000000000001,0,0,657.88,0,{"$f":"VLOOKUP(A390,'личные рез-ты по гонкам списком'!$J$1:$N$851,2,FALSE)","v":"М"}]
["Орлов Максим / Orlov Maksim / 1990",null,null,null,null,null,null,null,null,null,null,null,83.62,null,null,null,83.62,83.62,0,0,0,83.62,0,{"$f":"VLOOKUP(A391,'личные рез-ты по гонкам списком'!$J$1:$N$851,2,FALSE)","v":"М"}]
["Орлова Татьяна / Orlova Tatyana / 1990",null,null,null,null,null,null,null,null,null,null,null,null,70.62,null,null,70.62,70.62,0,0,0,70.62,0,{"$f":"VLOOKUP(A392,'личные рез-ты по гонкам списком'!$J$1:$N$851,2,FALSE)","v":"Ж"}]
["Орловский Павел / Orlovskij Pavel / 1989",null,null,null,null,350.93,null,319.33999999999997,null,null,null,null,null,null,null,null,670.27,350.93,319.33999999999997,0,0,670.27,0,{"$f":"VLOOKUP(A393,'личные рез-ты по гонкам списком'!$J$1:$N$851,2,FALSE)","v":"М"}]
["Остапов Владимир / Ostapov Vladimir / 1977",null,null,null,null,370.07,null,null,null,null,null,null,null,null,null,null,370.07,370.07,0,0,0,370.07,0,{"$f":"VLOOKUP(A394,'личные рез-ты по гонкам списком'!$J$1:$N$851,2,FALSE)","v":"М"}]
["Остаповец Евгений / Ostapovets Evgenij / 1990",null,null,null,null,395.59,null,null,null,null,null,236.17,null,null,null,null,631.76,395.59,236.17,0,0,631.76,0,{"$f":"VLOOKUP(A395,'личные рез-ты по гонкам списком'!$J$1:$N$851,2,FALSE)","v":"М"}]
["Островцов Александр / Ostrovtsov Aleksandr / 1988",null,36.39,null,null,null,null,null,null,null,null,null,null,null,null,null,36.39,36.39,0,0,0,36.39,0,{"$f":"VLOOKUP(A396,'личные рез-ты по гонкам списком'!$J$1:$N$851,2,FALSE)","v":"М"}]
["Островцова Марина / Ostrovtsova Marina / 1987",null,187.61,null,null,null,null,null,null,null,null,null,null,null,null,null,187.61,187.61,0,0,0,187.61,0,{"$f":"VLOOKUP(A397,'личные рез-ты по гонкам списком'!$J$1:$N$851,2,FALSE)","v":"Ж"}]
["Павленко Юрий / Pavlenko Yurij / 1983",null,null,null,325.98,null,null,null,null,null,null,null,null,null,null,null,325.98,325.98,0,0,0,325.98,0,{"$f":"VLOOKUP(A398,'личные рез-ты по гонкам списком'!$J$1:$N$851,2,FALSE)","v":"М"}]
["Павлов Александр / Pavlov Aleksandr / 1992",null,null,null,null,null,null,6.65,null,null,null,null,null,null,null,null,6.65,6.65,0,0,0,6.65,0,{"$f":"VLOOKUP(A399,'личные рез-ты по гонкам списком'!$J$1:$N$851,2,FALSE)","v":"М"}]
["Павлова Анна / Pavlova Anna / 1992",null,null,null,null,null,null,null,null,null,null,185.42,null,null,null,null,185.42,185.42,0,0,0,185.42,0,{"$f":"VLOOKUP(A400,'личные рез-ты по гонкам списком'!$J$1:$N$851,2,FALSE)","v":"Ж"}]
["Павловская Светлана / Pavlovskaya Svetlana / 1984",null,null,null,null,null,null,300.91000000000003,null,null,null,157.61000000000001,null,null,null,null,458.52000000000004,300.91000000000003,157.61000000000001,0,0,458.52000000000004,0,{"$f":"VLOOKUP(A401,'личные рез-ты по гонкам списком'!$J$1:$N$851,2,FALSE)","v":"Ж"}]
["Палий Андрей / Palij Andrej / 1984",null,363.85,null,null,null,171.86,null,null,null,null,null,211.51,null,null,null,747.22,363.85,211.51,171.86,0,747.22,0,{"$f":"VLOOKUP(A402,'личные рез-ты по гонкам списком'!$J$1:$N$851,2,FALSE)","v":"М"}]
["Пальвинская Валерия / Palvinskaya Valeriya / 1996",null,null,221.45,null,null,null,null,null,null,null,null,null,null,null,null,221.45,221.45,0,0,0,221.45,0,{"$f":"VLOOKUP(A403,'личные рез-ты по гонкам списком'!$J$1:$N$851,2,FALSE)","v":"Ж"}]
["Панковец Николай / Pankovets Nikolaj / 1979",null,null,null,162.99,null,null,null,null,null,null,null,null,null,null,null,162.99,162.99,0,0,0,162.99,0,{"$f":"VLOOKUP(A404,'личные рез-ты по гонкам списком'!$J$1:$N$851,2,FALSE)","v":"М"}]
["Пархимович Ирина / Parhimovich Irina / 1988",null,null,null,null,null,null,null,null,null,null,203.96,null,null,null,null,203.96,203.96,0,0,0,203.96,0,{"$f":"VLOOKUP(A405,'личные рез-ты по гонкам списком'!$J$1:$N$851,2,FALSE)","v":"Ж"}]
["Петкевич Лилия / Petkevich Liliya / 1990",null,null,null,81.02,null,null,null,null,null,null,null,null,null,null,null,81.02,81.02,0,0,0,81.02,0,{"$f":"VLOOKUP(A406,'личные рез-ты по гонкам списком'!$J$1:$N$851,2,FALSE)","v":"Ж"}]
["Пехтерев Сергей / Pehterev Sergej / 1979",null,null,null,null,null,94.52,null,null,null,null,null,null,null,null,null,94.52,94.52,0,0,0,94.52,0,{"$f":"VLOOKUP(A407,'личные рез-ты по гонкам списком'!$J$1:$N$851,2,FALSE)","v":"М"}]
["Пехтерева Татьяна / Pehtereva Tatyana / 1987",null,null,null,null,null,309.35000000000002,null,null,null,null,null,null,null,null,null,309.35000000000002,309.35000000000002,0,0,0,309.35000000000002,0,{"$f":"VLOOKUP(A408,'личные рез-ты по гонкам списком'!$J$1:$N$851,2,FALSE)","v":"Ж"}]
["Печёнов Георгий / Pechjonov Georgij / 1975",null,null,null,291.66000000000003,null,null,null,241.39,null,null,null,null,null,null,130.04,663.08999999999992,291.66000000000003,241.39,130.04,0,663.08999999999992,0,{"$f":"VLOOKUP(A409,'личные рез-ты по гонкам списком'!$J$1:$N$851,2,FALSE)","v":"М"}]
["Пивень Андрей / Piven Andrej / 1992",null,null,null,null,null,null,null,null,null,null,null,null,null,1066.77,null,1066.77,1066.77,0,0,0,1066.77,0,{"$f":"VLOOKUP(A410,'личные рез-ты по гонкам списком'!$J$1:$N$851,2,FALSE)","v":"М"}]
["Пилецкий Максим / Piletskij Maksim / 1991",null,null,null,null,null,null,null,null,null,null,26.84,null,null,null,null,26.84,26.84,0,0,0,26.84,0,{"$f":"VLOOKUP(A411,'личные рез-ты по гонкам списком'!$J$1:$N$851,2,FALSE)","v":"М"}]
["Пиньковская Ирина / Pinkovskaya Irina / 1986",null,null,null,null,null,null,null,null,null,null,null,null,229.5,null,null,229.5,229.5,0,0,0,229.5,0,{"$f":"VLOOKUP(A412,'личные рез-ты по гонкам списком'!$J$1:$N$851,2,FALSE)","v":"Ж"}]
["Писаренко Андрей / Pisarenko Andrej / 1957",null,null,null,null,216.94,null,null,null,null,null,null,null,null,null,null,216.94,216.94,0,0,0,216.94,0,{"$f":"VLOOKUP(A413,'личные рез-ты по гонкам списком'!$J$1:$N$851,2,FALSE)","v":"М"}]
["Пісарчык Сяргей / Pіsarchyk Syargej / 1980",null,null,null,null,null,null,null,null,null,null,null,373.83,null,null,null,373.83,373.83,0,0,0,373.83,0,{"$f":"VLOOKUP(A414,'личные рез-ты по гонкам списком'!$J$1:$N$851,2,FALSE)","v":"М"}]
["Плодунов Захар / Plodunov Zahar / 1993",null,491.2,null,null,null,null,null,null,null,null,null,null,null,null,null,491.2,491.2,0,0,0,491.2,0,{"$f":"VLOOKUP(A415,'личные рез-ты по гонкам списком'!$J$1:$N$851,2,FALSE)","v":"М"}]
["Побединский Александр / Pobedinskij Aleksandr / 1983",867.63,null,null,null,null,null,null,null,null,null,null,null,null,null,null,867.63,867.63,0,0,0,867.63,0,{"$f":"VLOOKUP(A416,'личные рез-ты по гонкам списком'!$J$1:$N$851,2,FALSE)","v":"М"}]
["Поволоцкая Кристина / Povolotskaya Kristina / 1990",null,25.01,null,null,null,null,null,null,null,null,null,null,null,null,null,25.01,25.01,0,0,0,25.01,0,{"$f":"VLOOKUP(A417,'личные рез-ты по гонкам списком'!$J$1:$N$851,2,FALSE)","v":"Ж"}]
["Поволоцкий Даниил / Povolotskij Daniil / 1990",null,9.1,null,null,null,null,null,null,null,null,null,null,null,null,null,9.1,9.1,0,0,0,9.1,0,{"$f":"VLOOKUP(A418,'личные рез-ты по гонкам списком'!$J$1:$N$851,2,FALSE)","v":"М"}]
["Подрез Ярослав / Podrez Yaroslav / 1996",null,null,null,null,242.46,null,null,null,null,null,null,250.86,null,853.42,null,1346.74,853.42,250.86,242.46,0,1346.74,0,{"$f":"VLOOKUP(A419,'личные рез-ты по гонкам списком'!$J$1:$N$851,2,FALSE)","v":"М"}]
["Покульницкий Алексей / Pokulnitskij Aleksej / 1988",null,null,175.54,null,null,null,null,null,null,null,null,14.76,null,null,null,190.29999999999998,175.54,14.76,0,0,190.29999999999998,0,{"$f":"VLOOKUP(A420,'личные рез-ты по гонкам списком'!$J$1:$N$851,2,FALSE)","v":"М"}]
["Полещук Татьяна / Poleschuk Tatyana / 1988",694.1,null,null,null,null,null,null,null,null,null,null,null,null,null,null,694.1,694.1,0,0,0,694.1,0,{"$f":"VLOOKUP(A421,'личные рез-ты по гонкам списком'!$J$1:$N$851,2,FALSE)","v":"Ж"}]
["Полякова Анна / Polyakova Anna / 1987",null,312.69,null,null,null,244.91,229.27,null,null,null,176.15,null,null,null,null,963.02,312.69,244.91,229.27,176.15,963.02,0,{"$f":"VLOOKUP(A422,'личные рез-ты по гонкам списком'!$J$1:$N$851,2,FALSE)","v":"Ж"}]
["Попадюк Игорь / Popadyuk Igor / 1982",null,null,631.95000000000005,null,344.54,null,null,null,535.71,null,null,191.83,null,null,null,1704.03,631.95000000000005,535.71,344.54,191.83,1704.03,0,{"$f":"VLOOKUP(A423,'личные рез-ты по гонкам списком'!$J$1:$N$851,2,FALSE)","v":"М"}]
["Попов Александр / Popov Aleksandr / 1986",null,null,null,null,null,null,null,null,null,null,null,300.05,null,null,null,300.05,300.05,0,0,0,300.05,0,{"$f":"VLOOKUP(A424,'личные рез-ты по гонкам списком'!$J$1:$N$851,2,FALSE)","v":"М"}]
["Попов Юрий / Popov Yurij / 1969",null,null,702.17,null,null,null,null,null,null,null,null,null,null,null,null,702.17,702.17,0,0,0,702.17,0,{"$f":"VLOOKUP(A425,'личные рез-ты по гонкам списком'!$J$1:$N$851,2,FALSE)","v":"М"}]
["Потапов Сергей / Potapov Sergej / 1988",null,null,null,null,null,240.61,null,null,null,null,null,null,null,null,null,240.61,240.61,0,0,0,240.61,0,{"$f":"VLOOKUP(A426,'личные рез-ты по гонкам списком'!$J$1:$N$851,2,FALSE)","v":"М"}]
["Поцелуев Сергей / Potseluev Sergej / 1973",null,null,null,null,null,null,null,null,null,null,null,null,null,null,433.46,433.46,433.46,0,0,0,433.46,0,{"$f":"VLOOKUP(A427,'личные рез-ты по гонкам списком'!$J$1:$N$851,2,FALSE)","v":"М"}]
["Прокопенко Анна / Prokopenko Anna / 1980",null,50.03,null,null,null,null,null,null,null,null,null,null,null,null,null,50.03,50.03,0,0,0,50.03,0,{"$f":"VLOOKUP(A428,'личные рез-ты по гонкам списком'!$J$1:$N$851,2,FALSE)","v":"Ж"}]
["Прокопович Ростислав / Prokopovich Rostislav / 1982",null,null,596.84,null,null,null,null,null,null,null,null,null,null,null,null,596.84,596.84,0,0,0,596.84,0,{"$f":"VLOOKUP(A429,'личные рез-ты по гонкам списком'!$J$1:$N$851,2,FALSE)","v":"М"}]
["Пугач Вадим / Pugach Vadim / 1985",null,null,null,205.88,null,null,null,null,null,null,null,null,null,null,null,205.88,205.88,0,0,0,205.88,0,{"$f":"VLOOKUP(A430,'личные рез-ты по гонкам списком'!$J$1:$N$851,2,FALSE)","v":"М"}]
["Пузаревский Роман / Puzarevskij Roman / 1994",null,null,null,360.29,null,null,null,null,null,null,null,null,null,null,null,360.29,360.29,0,0,0,360.29,0,{"$f":"VLOOKUP(A431,'личные рез-ты по гонкам списком'!$J$1:$N$851,2,FALSE)","v":"М"}]
["Пухаева Светлана / Puhaeva Svetlana / 1980",null,325.19,null,372.68,null,null,null,null,null,null,null,null,null,null,null,697.87,372.68,325.19,0,0,697.87,0,{"$f":"VLOOKUP(A432,'личные рез-ты по гонкам списком'!$J$1:$N$851,2,FALSE)","v":"Ж"}]
["Пучик Александр / Puchik Aleksandr / 1983",null,null,509.07,null,null,null,null,null,null,null,null,null,null,null,null,509.07,509.07,0,0,0,509.07,0,{"$f":"VLOOKUP(A433,'личные рез-ты по гонкам списком'!$J$1:$N$851,2,FALSE)","v":"М"}]
["Рагойша Пётр / Ragojsha Pjotr / 1976",null,null,null,null,null,null,null,null,null,834.85,null,201.67,null,null,null,1036.52,834.85,201.67,0,0,1036.52,0,{"$f":"VLOOKUP(A434,'личные рез-ты по гонкам списком'!$J$1:$N$851,2,FALSE)","v":"М"}]
["Радиончик Александр / Radionchik Aleksandr / 1985",null,null,315.98,null,null,null,null,164.59,null,null,null,54.11,null,null,null,534.68000000000006,315.98,164.59,54.11,0,534.68000000000006,0,{"$f":"VLOOKUP(A435,'личные рез-ты по гонкам списком'!$J$1:$N$851,2,FALSE)","v":"М"}]
["Радчук Алеся / Radchuk Alesya / 1996",null,null,null,null,null,null,null,null,null,null,null,null,null,null,473.71,473.71,473.71,0,0,0,473.71,0,{"$f":"VLOOKUP(A436,'личные рез-ты по гонкам списком'!$J$1:$N$851,2,FALSE)","v":"Ж"}]
["Рачковский Николай / Rachkovskij Nikolaj / 1985",318.13,null,null,null,null,null,null,null,null,null,null,null,null,null,null,318.13,318.13,0,0,0,318.13,0,{"$f":"VLOOKUP(A437,'личные рез-ты по гонкам списком'!$J$1:$N$851,2,FALSE)","v":"М"}]
["Рачковский Сергей / Rachkovskij Sergej / 1988",null,null,null,null,null,null,null,null,null,null,null,null,null,null,541.83000000000004,541.83000000000004,541.83000000000004,0,0,0,541.83000000000004,0,{"$f":"VLOOKUP(A438,'личные рез-ты по гонкам списком'!$J$1:$N$851,2,FALSE)","v":"М"}]
["Ращинский Александр / Raschinskij Aleksandr / 1990",null,null,null,null,null,null,null,null,null,null,91.25,null,null,null,null,91.25,91.25,0,0,0,91.25,0,{"$f":"VLOOKUP(A439,'личные рез-ты по гонкам списком'!$J$1:$N$851,2,FALSE)","v":"М"}]
["Ремизевич Вадим / Remizevich Vadim / 1980",null,null,null,null,null,null,113.1,null,null,null,null,null,null,null,null,113.1,113.1,0,0,0,113.1,0,{"$f":"VLOOKUP(A440,'личные рез-ты по гонкам списком'!$J$1:$N$851,2,FALSE)","v":"М"}]
["Родионова Светлана / Rodionova Svetlana / 1981",null,null,null,null,null,null,null,null,null,null,null,null,35.31,null,null,35.31,35.31,0,0,0,35.31,0,{"$f":"VLOOKUP(A441,'личные рез-ты по гонкам списком'!$J$1:$N$851,2,FALSE)","v":"Ж"}]
["Ролдугин Михаил / Roldugin Mihail / 1987",null,null,null,257.35000000000002,null,null,null,null,null,null,null,null,null,null,null,257.35000000000002,257.35000000000002,0,0,0,257.35000000000002,0,{"$f":"VLOOKUP(A442,'личные рез-ты по гонкам списком'!$J$1:$N$851,2,FALSE)","v":"М"}]
["Рудковская Татьяна / Rudkovskaya Tatyana / 1997",null,null,null,null,null,null,null,null,null,null,166.88,null,null,null,null,166.88,166.88,0,0,0,166.88,0,{"$f":"VLOOKUP(A443,'личные рез-ты по гонкам списком'!$J$1:$N$851,2,FALSE)","v":"Ж"}]
["Рудович Александр / Rudovich Aleksandr / 1990",null,null,null,null,null,null,126.4,null,null,null,null,null,null,null,null,126.4,126.4,0,0,0,126.4,0,{"$f":"VLOOKUP(A444,'личные рез-ты по гонкам списком'!$J$1:$N$851,2,FALSE)","v":"М"}]
["Ружицкая Елена / Ruzhitskaya Elena / 1983",null,null,null,null,null,null,null,null,null,null,74.17,null,null,null,null,74.17,74.17,0,0,0,74.17,0,{"$f":"VLOOKUP(A445,'личные рез-ты по гонкам списком'!$J$1:$N$851,2,FALSE)","v":"Ж"}]
["Русакова Татьяна / Rusakova Tatyana / 1979",null,null,null,null,null,null,null,null,null,null,129.79,null,null,null,null,129.79,129.79,0,0,0,129.79,0,{"$f":"VLOOKUP(A446,'личные рез-ты по гонкам списком'!$J$1:$N$851,2,FALSE)","v":"Ж"}]
["Рускевич Максим / Ruskevich Maksim / 1990",null,null,null,null,null,51.56,null,null,null,null,null,null,null,null,null,51.56,51.56,0,0,0,51.56,0,{"$f":"VLOOKUP(A447,'личные рез-ты по гонкам списком'!$J$1:$N$851,2,FALSE)","v":"М"}]
["Савич Евгений / Savich Evgenij / 1980",null,null,null,300.24,null,null,null,null,null,null,161.02000000000001,null,null,null,null,461.26,300.24,161.02000000000001,0,0,461.26,0,{"$f":"VLOOKUP(A448,'личные рез-ты по гонкам списком'!$J$1:$N$851,2,FALSE)","v":"М"}]
["Савостеня Виктор / Savostenya Viktor / 1989",null,null,null,null,null,null,null,null,null,null,214.7,null,null,null,null,214.7,214.7,0,0,0,214.7,0,{"$f":"VLOOKUP(A449,'личные рез-ты по гонкам списком'!$J$1:$N$851,2,FALSE)","v":"М"}]
["Салодкин Сергей / Salodkin Sergej / 1984",null,null,null,null,null,null,null,null,null,null,null,363.99,null,null,null,363.99,363.99,0,0,0,363.99,0,{"$f":"VLOOKUP(A450,'личные рез-ты по гонкам списком'!$J$1:$N$851,2,FALSE)","v":"М"}]
["Самсонов Никита / Samsonov Nikita / 1989",null,null,null,null,null,null,null,32.92,null,null,42.94,null,null,null,null,75.86,42.94,32.92,0,0,75.86,0,{"$f":"VLOOKUP(A451,'личные рез-ты по гонкам списком'!$J$1:$N$851,2,FALSE)","v":"М"}]
["Самусик Елена / Samusik Elena / 1992",null,null,null,null,null,null,null,null,null,null,null,null,79.44,null,null,79.44,{"$f":"LARGE(B452:P452,1)","v":79.44},{"$f":"IF(COUNT(B452:P452)=1,0,LARGE(B452:P452,2))","v":0},{"$f":"IF(COUNT(B452:P452)<3,0,LARGE(B452:P452,3))","v":0},{"$f":"IF(COUNT(B452:P452)<4,0,LARGE(B452:P452,4))","v":0},{"$f":"SUM(R452:U452)","v":79.44},{"$f":"V452-Q452","v":0},{"$f":"VLOOKUP(A452,'личные рез-ты по гонкам списком'!$J$1:$N$851,2,FALSE)","v":"Ж"}]
["Сафонов Юрий / Safonov Yurij / 1983",null,null,298.42,null,null,null,null,null,null,null,null,null,null,null,null,298.42,298.42,0,0,0,298.42,0,{"$f":"VLOOKUP(A453,'личные рез-ты по гонкам списком'!$J$1:$N$851,2,FALSE)","v":"М"}]
["Свечников Антон / Svechnikov Anton / 1991",null,null,null,null,312.64,null,null,null,null,null,null,319.72000000000003,null,null,null,632.36,319.72000000000003,312.64,0,0,632.36,0,{"$f":"VLOOKUP(A454,'личные рез-ты по гонкам списком'!$J$1:$N$851,2,FALSE)","v":"М"}]
["Селиванов Алексавндр / Selivanov Aleksavndr / 1970",null,null,null,null,223.32,null,null,null,null,null,null,null,null,null,null,223.32,223.32,0,0,0,223.32,0,{"$f":"VLOOKUP(A455,'личные рез-ты по гонкам списком'!$J$1:$N$851,2,FALSE)","v":"М"}]
["Селищева Ирина / Selischeva Irina / 1983",null,null,null,null,null,167.57,null,null,null,null,null,null,null,null,null,167.57,167.57,0,0,0,167.57,0,{"$f":"VLOOKUP(A456,'личные рез-ты по гонкам списком'!$J$1:$N$851,2,FALSE)","v":"Ж"}]
["Селютин Владимир / Selyutin Vladimir / 1990",null,null,null,null,376.45,null,312.68,null,null,null,252.27,null,null,810.75,null,1752.15,810.75,376.45,312.68,252.27,1752.15,0,{"$f":"VLOOKUP(A457,'личные рез-ты по гонкам списком'!$J$1:$N$851,2,FALSE)","v":"М"}]
["Сербаев Виталий / Serbaev Vitalij / 1979",null,null,null,null,null,null,null,null,null,null,null,103.29,null,null,null,103.29,103.29,0,0,0,103.29,0,{"$f":"VLOOKUP(A458,'личные рез-ты по гонкам списком'!$J$1:$N$851,2,FALSE)","v":"М"}]
["Сердитов Вадим / Serditov Vadim / 1993",null,null,null,null,510.44,null,null,null,null,null,null,null,null,null,null,510.44,510.44,0,0,0,510.44,0,{"$f":"VLOOKUP(A459,'личные рез-ты по гонкам списком'!$J$1:$N$851,2,FALSE)","v":"М"}]
["Сидоревич Александр / Sidorevich Aleksandr / 1985",null,null,null,394.6,null,null,null,null,null,null,null,329.56,null,null,671.87,1396.0300000000002,671.87,394.6,329.56,0,1396.03,0,{"$f":"VLOOKUP(A460,'личные рез-ты по гонкам списком'!$J$1:$N$851,2,FALSE)","v":"М"}]
["Сикорская Настя / Sikorskaya Nastya / 1983",null,null,null,324.07,null,null,null,null,null,null,null,null,null,null,null,324.07,324.07,0,0,0,324.07,0,{"$f":"VLOOKUP(A461,'личные рез-ты по гонкам списком'!$J$1:$N$851,2,FALSE)","v":"Ж"}]
["Силивонова Виктория / Silivonova Viktoriya / 1994",null,null,null,null,null,null,null,null,null,null,null,null,185.37,null,null,185.37,185.37,0,0,0,185.37,0,{"$f":"VLOOKUP(A462,'личные рез-ты по гонкам списком'!$J$1:$N$851,2,FALSE)","v":"Ж"}]
["Сильванович Валерия / Silvanovich Valeriya / 1998",null,null,null,null,null,null,null,329.17,null,null,null,82.21,null,null,null,411.38,329.17,82.21,0,0,411.38,0,{"$f":"VLOOKUP(A463,'личные рез-ты по гонкам списком'!$J$1:$N$851,2,FALSE)","v":"Ж"}]
["Сильченко Наталья / Silchenko Natalya / ",null,null,null,145.83000000000001,null,null,null,null,null,null,null,null,null,null,null,145.83000000000001,145.83000000000001,0,0,0,145.83000000000001,0,{"$f":"VLOOKUP(A464,'личные рез-ты по гонкам списком'!$J$1:$N$851,2,FALSE)","v":"Ж"}]
["Сим Игорь / Sim Igor / 1989",null,null,null,null,null,null,66.53,null,null,null,null,null,null,null,null,66.53,66.53,0,0,0,66.53,0,{"$f":"VLOOKUP(A465,'личные рез-ты по гонкам списком'!$J$1:$N$851,2,FALSE)","v":"М"}]
["Симогостицкий Александр / Simogostitskij Aleksandr / 1987",null,null,null,null,null,266.39,133.06,null,null,null,null,null,null,null,null,399.45,266.39,133.06,0,0,399.45,0,{"$f":"VLOOKUP(A466,'личные рез-ты по гонкам списком'!$J$1:$N$851,2,FALSE)","v":"М"}]
["Симонов Александр / Simonov Aleksandr / 1999",null,null,null,null,null,null,null,null,null,null,257.63,null,null,null,null,257.63,257.63,0,0,0,257.63,0,{"$f":"VLOOKUP(A467,'личные рез-ты по гонкам списком'!$J$1:$N$851,2,FALSE)","v":"М"}]
["Симонов Вадим / Simonov Vadim / 1985",null,null,null,null,255.22,null,null,null,null,null,null,108.21,null,null,null,363.43,255.22,108.21,0,0,363.43,0,{"$f":"VLOOKUP(A468,'личные рез-ты по гонкам списком'!$J$1:$N$851,2,FALSE)","v":"М"}]
["Синица Кирилл / Sinitsa Kirill / 1981",1012.23,null,null,null,null,249.2,null,null,null,894.48,null,354.15,null,981.43,null,3491.49,1012.23,981.43,894.48,354.15,3242.29,-249.19999999999982,{"$f":"VLOOKUP(A469,'личные рез-ты по гонкам списком'!$J$1:$N$851,2,FALSE)","v":"М"}]
["Сіпачоў Аляксей / Sіpachou Alyaksej / 1979",null,null,null,null,null,null,259.45999999999998,null,null,null,null,null,null,null,null,259.45999999999998,259.45999999999998,0,0,0,259.45999999999998,0,{"$f":"VLOOKUP(A470,'личные рез-ты по гонкам списком'!$J$1:$N$851,2,FALSE)","v":"М"}]
["Скабицкая Анна / Skabitskaya Anna / 1987",null,null,null,null,null,null,null,null,null,null,null,null,176.54,null,null,176.54,176.54,0,0,0,176.54,0,{"$f":"VLOOKUP(A471,'личные рез-ты по гонкам списком'!$J$1:$N$851,2,FALSE)","v":"Ж"}]
["Скирук Юлия / Skiruk Yuliya / 1988",null,500.3,null,null,422.85,null,null,null,null,596.32000000000005,null,null,238.33,null,736.89,2494.69,736.89,596.32000000000005,500.3,422.85,2256.36,-238.32999999999993,{"$f":"VLOOKUP(A472,'личные рез-ты по гонкам списком'!$J$1:$N$851,2,FALSE)","v":"Ж"}]
["Скляр Антон / Sklyar Anton / 1983",null,null,null,214.46,null,null,null,null,null,null,null,null,null,null,null,214.46,214.46,0,0,0,214.46,0,{"$f":"VLOOKUP(A473,'личные рез-ты по гонкам списком'!$J$1:$N$851,2,FALSE)","v":"М"}]
["Скребец Сергей / Skrebets Sergej / 1963",null,45.48,null,null,null,null,null,null,null,null,null,null,null,null,null,45.48,45.48,0,0,0,45.48,0,{"$f":"VLOOKUP(A474,'личные рез-ты по гонкам списком'!$J$1:$N$851,2,FALSE)","v":"М"}]
["Скуратович Антон / Skuratovich Anton / 1985",null,null,null,null,459.39,null,null,405.98,null,null,null,309.88,null,null,650.19000000000005,1825.44,650.19000000000005,459.39,405.98,309.88,1825.44,0,{"$f":"VLOOKUP(A475,'личные рез-ты по гонкам списком'!$J$1:$N$851,2,FALSE)","v":"М"}]
["Славинский Дмитрий / Slavinskij Dmitrij / 1986",null,null,null,null,261.60000000000002,null,null,21.94,null,null,null,null,null,null,null,283.54000000000002,261.60000000000002,21.94,0,0,283.54000000000002,0,{"$f":"VLOOKUP(A476,'личные рез-ты по гонкам списком'!$J$1:$N$851,2,FALSE)","v":"М"}]
["Слободько Дмитрий / Slobodko Dmitrij / 1984",null,null,null,317.39999999999998,null,null,null,null,null,null,null,null,null,null,null,317.39999999999998,317.39999999999998,0,0,0,317.39999999999998,0,{"$f":"VLOOKUP(A477,'личные рез-ты по гонкам списком'!$J$1:$N$851,2,FALSE)","v":"М"}]
["Соколов Артем / Sokolov Artem / 1986",null,null,null,null,null,null,null,null,null,null,null,null,93.26,null,null,93.26,93.26,0,0,0,93.26,0,{"$f":"VLOOKUP(A478,'личные рез-ты по гонкам списком'!$J$1:$N$851,2,FALSE)","v":"М"}]
["Солодкин Сергей / Solodkin Sergej / 1984",null,null,null,null,453.01,null,null,null,null,null,null,null,null,null,null,453.01,453.01,0,0,0,453.01,0,{"$f":"VLOOKUP(A479,'личные рез-ты по гонкам списком'!$J$1:$N$851,2,FALSE)","v":"М"}]
["Сорокин Денис / Sorokin Denis / 1998",null,null,null,null,null,null,null,null,null,null,null,null,null,597.39,null,597.39,597.39,0,0,0,597.39,0,{"$f":"VLOOKUP(A480,'личные рез-ты по гонкам списком'!$J$1:$N$851,2,FALSE)","v":"М"}]
["Станкевич Владимир / Stankevich Vladimir / 1982",null,null,null,null,null,null,null,null,null,null,134.18,null,null,null,null,134.18,134.18,0,0,0,134.18,0,{"$f":"VLOOKUP(A481,'личные рез-ты по гонкам списком'!$J$1:$N$851,2,FALSE)","v":"М"}]
["Старовойтова Евгения / Starovojtova Evgeniya / 1996",null,null,null,null,null,null,null,null,null,null,null,191.83,null,null,null,191.83,191.83,0,0,0,191.83,0,{"$f":"VLOOKUP(A482,'личные рез-ты по гонкам списком'!$J$1:$N$851,2,FALSE)","v":"Ж"}]
["Стародуб Евгений / Starodub Evgenij / 2000",null,null,null,null,null,null,null,null,null,null,268.37,null,null,null,null,268.37,268.37,0,0,0,268.37,0,{"$f":"VLOOKUP(A483,'личные рез-ты по гонкам списком'!$J$1:$N$851,2,FALSE)","v":"М"}]
["Стасевич Александр / Stasevich Aleksandr / 1987",null,null,null,437.49,null,null,null,null,null,null,null,null,null,null,null,437.49,437.49,0,0,0,437.49,0,{"$f":"VLOOKUP(A484,'личные рез-ты по гонкам списком'!$J$1:$N$851,2,FALSE)","v":"М"}]
["Стельмах Юрий / Stelmah Yurij / 1982",null,null,null,137.25,null,null,null,null,null,null,null,null,null,null,null,137.25,137.25,0,0,0,137.25,0,{"$f":"VLOOKUP(A485,'личные рез-ты по гонкам списком'!$J$1:$N$851,2,FALSE)","v":"М"}]
["Стешко Фёдор / Steshko Fjodor / 1990",null,null,null,null,null,null,null,null,null,null,null,null,72.53,null,null,72.53,72.53,0,0,0,72.53,0,{"$f":"VLOOKUP(A486,'личные рез-ты по гонкам списком'!$J$1:$N$851,2,FALSE)","v":"М"}]
["Стракович Екатерина / Strakovich Ekaterina / 1991",null,null,null,null,null,null,null,null,null,null,null,null,150.06,null,null,150.06,150.06,0,0,0,150.06,0,{"$f":"VLOOKUP(A487,'личные рез-ты по гонкам списком'!$J$1:$N$851,2,FALSE)","v":"Ж"}]
["Студенков Александр / Studenkov Aleksandr / 1984",null,null,280.87,null,null,null,null,null,null,null,null,null,null,null,null,280.87,280.87,0,0,0,280.87,0,{"$f":"VLOOKUP(A488,'личные рез-ты по гонкам списком'!$J$1:$N$851,2,FALSE)","v":"М"}]
["Ступяк Андрей / Stupyak Andrej / 1979",null,null,null,null,null,null,null,109.72,null,null,null,null,null,null,null,109.72,109.72,0,0,0,109.72,0,{"$f":"VLOOKUP(A489,'личные рез-ты по гонкам списком'!$J$1:$N$851,2,FALSE)","v":"М"}]
["Суворов Александр / Suvorov Aleksandr / 1983",null,null,null,null,null,null,null,null,null,null,107.35,null,null,null,null,107.35,107.35,0,0,0,107.35,0,{"$f":"VLOOKUP(A490,'личные рез-ты по гонкам списком'!$J$1:$N$851,2,FALSE)","v":"М"}]
["Сулимчик Оксана / Sulimchik Oksana / 1986",null,null,null,null,null,null,null,null,null,894.48,null,301.45,null,null,null,1195.93,894.48,301.45,0,0,1195.93,0,{"$f":"VLOOKUP(A491,'личные рез-ты по гонкам списком'!$J$1:$N$851,2,FALSE)","v":"Ж"}]
["Суматохин Виталий / Sumatohin Vitalij / 1989",null,null,null,null,null,null,null,null,null,null,150.29,null,null,null,null,150.29,150.29,0,0,0,150.29,0,{"$f":"VLOOKUP(A492,'личные рез-ты по гонкам списком'!$J$1:$N$851,2,FALSE)","v":"М"}]
["Сухобаевский Николай / Suhobaevskij Nikolaj / 1986",null,null,null,null,null,214.83,null,null,null,null,null,null,null,null,null,214.83,214.83,0,0,0,214.83,0,{"$f":"VLOOKUP(A493,'личные рез-ты по гонкам списком'!$J$1:$N$851,2,FALSE)","v":"М"}]
["Суховей Михаил / Suhovej Mihail / 1991",462.73,null,null,null,null,null,null,null,null,655.95,null,null,null,null,null,1118.68,655.95,462.73,0,0,1118.68,0,{"$f":"VLOOKUP(A494,'личные рез-ты по гонкам списком'!$J$1:$N$851,2,FALSE)","v":"М"}]
["Суховерхая Татьяна / Suhoverhaya Tatyana / 1986",null,null,null,null,234.92,null,null,null,null,null,null,54.81,null,1066.77,null,1356.5,1066.77,234.92,54.81,0,1356.5,0,{"$f":"VLOOKUP(A495,'личные рез-ты по гонкам списком'!$J$1:$N$851,2,FALSE)","v":"Ж"}]
["Сысков Никита / Syskov Nikita / 1985",null,null,null,null,null,null,null,null,null,null,null,null,20.72,null,null,20.72,20.72,0,0,0,20.72,0,{"$f":"VLOOKUP(A496,'личные рез-ты по гонкам списком'!$J$1:$N$851,2,FALSE)","v":"М"}]
["Танасейчук Анна / Tanasejchuk Anna / 1983",null,null,null,388.88,null,null,null,null,null,null,null,null,null,null,null,388.88,388.88,0,0,0,388.88,0,{"$f":"VLOOKUP(A497,'личные рез-ты по гонкам списком'!$J$1:$N$851,2,FALSE)","v":"Ж"}]
["Таран Виталий / Taran Vitalij / 1983",null,null,null,null,338.16,null,null,null,null,null,null,39.35,null,null,null,377.51000000000005,338.16,39.35,0,0,377.51000000000005,0,{"$f":"VLOOKUP(A498,'личные рез-ты по гонкам списком'!$J$1:$N$851,2,FALSE)","v":"М"}]
["Таранко Марта / Taranko Marta / 1990",null,null,null,291.66000000000003,null,null,null,null,null,null,null,null,123.58,null,null,415.24,291.66000000000003,123.58,0,0,415.24,0,{"$f":"VLOOKUP(A499,'личные рез-ты по гонкам списком'!$J$1:$N$851,2,FALSE)","v":"Ж"}]
["Тарасенко Павел / Tarasenko Pavel / 1983",null,null,667.06,null,null,null,null,null,571.42999999999995,null,null,63.94,null,null,null,1302.4299999999998,667.06,571.42999999999995,63.94,0,1302.4299999999998,0,{"$f":"VLOOKUP(A500,'личные рез-ты по гонкам списком'!$J$1:$N$851,2,FALSE)","v":"М"}]
["Телегина София / Telegina Sofiya / 1991",null,null,null,null,null,null,286.58,null,null,null,null,null,null,null,null,286.58,286.58,0,0,0,286.58,0,{"$f":"VLOOKUP(A501,'личные рез-ты по гонкам списком'!$J$1:$N$851,2,FALSE)","v":"Ж"}]
["Терехова Татьяна / Terehova Tatyana / 1982",null,null,null,null,null,null,null,null,null,null,92.71,null,null,null,null,92.71,92.71,0,0,0,92.71,0,{"$f":"VLOOKUP(A502,'личные рез-ты по гонкам списком'!$J$1:$N$851,2,FALSE)","v":"Ж"}]
["Тимкина Наталья / Timkina Natalya / 1982",null,100.06,null,null,null,null,null,null,null,null,null,null,null,null,null,100.06,100.06,0,0,0,100.06,0,{"$f":"VLOOKUP(A503,'личные рез-ты по гонкам списком'!$J$1:$N$851,2,FALSE)","v":"Ж"}]
["Тимошенко Алена / Timoshenko Alena / 1982",null,null,null,null,null,null,343.9,null,null,null,null,null,null,null,null,343.9,343.9,0,0,0,343.9,0,{"$f":"VLOOKUP(A504,'личные рез-ты по гонкам списком'!$J$1:$N$851,2,FALSE)","v":"Ж"}]
["Титова Инна / Titova Inna / 1986",null,null,null,null,null,null,null,null,null,null,278.13,null,null,null,null,278.13,278.13,0,0,0,278.13,0,{"$f":"VLOOKUP(A505,'личные рез-ты по гонкам списком'!$J$1:$N$851,2,FALSE)","v":"Ж"}]
["Титуленко Егор / Titulenko Egor / 1983",347.05,null,null,null,null,null,null,null,null,null,null,null,null,null,null,347.05,347.05,0,0,0,347.05,0,{"$f":"VLOOKUP(A506,'личные рез-ты по гонкам списком'!$J$1:$N$851,2,FALSE)","v":"М"}]
["Тихонов Василий / Tihonov Vasilij / 1993",null,null,null,null,408.35,null,null,null,678.57,null,null,null,null,null,null,1086.92,678.57,408.35,0,0,1086.92,0,{"$f":"VLOOKUP(A507,'личные рез-ты по гонкам списком'!$J$1:$N$851,2,FALSE)","v":"М"}]
["Ткачук Дарья / Tkachuk Darya / 1981",null,null,387.54,null,null,null,null,null,null,null,null,null,null,null,null,387.54,387.54,0,0,0,387.54,0,{"$f":"VLOOKUP(A508,'личные рез-ты по гонкам списком'!$J$1:$N$851,2,FALSE)","v":"Ж"}]
["Толкачев Дмитрий / Tolkachev Dmitrij / 1971",null,500.3,null,null,null,null,null,null,null,null,null,null,null,null,null,500.3,500.3,0,0,0,500.3,0,{"$f":"VLOOKUP(A509,'личные рез-ты по гонкам списком'!$J$1:$N$851,2,FALSE)","v":"М"}]
["Томашев Игорь / Tomashev Igor / 1965",null,18.190000000000001,null,null,null,null,null,null,null,null,null,null,null,null,null,18.190000000000001,18.190000000000001,0,0,0,18.190000000000001,0,{"$f":"VLOOKUP(A510,'личные рез-ты по гонкам списком'!$J$1:$N$851,2,FALSE)","v":"М"}]
["Торопова Мария / Toropova Mariya / 1989",null,null,null,null,null,null,186.28,null,null,null,null,null,null,null,null,186.28,186.28,0,0,0,186.28,0,{"$f":"VLOOKUP(A511,'личные рез-ты по гонкам списком'!$J$1:$N$851,2,FALSE)","v":"Ж"}]
["Торубарова Татьяна / Torubarova Tatyana / 1983",null,null,719.72,null,null,null,null,null,null,null,null,null,null,null,null,719.72,719.72,0,0,0,719.72,0,{"$f":"VLOOKUP(A512,'личные рез-ты по гонкам списком'!$J$1:$N$851,2,FALSE)","v":"Ж"}]
["Тофоров Дмитрий / Toforov Dmitrij / 1991",null,null,null,null,null,null,null,null,null,536.69000000000005,null,null,null,null,null,536.69000000000005,536.69000000000005,0,0,0,536.69000000000005,0,{"$f":"VLOOKUP(A513,'личные рез-ты по гонкам списком'!$J$1:$N$851,2,FALSE)","v":"М"}]
["Трасковский Геннадий / Traskovskij Gennadij / 1961",260.29000000000002,null,null,null,null,null,null,null,null,null,null,null,null,null,null,260.29000000000002,260.29000000000002,0,0,0,260.29000000000002,0,{"$f":"VLOOKUP(A514,'личные рез-ты по гонкам списком'!$J$1:$N$851,2,FALSE)","v":"М"}]
["Трасковский Дмитрий / Traskovskij Dmitrij / 1986",549.5,null,null,null,null,null,null,null,null,null,null,null,null,null,null,549.5,549.5,0,0,0,549.5,0,{"$f":"VLOOKUP(A515,'личные рез-ты по гонкам списком'!$J$1:$N$851,2,FALSE)","v":"М"}]
["Тривашкевич Евгений / Trivashkevich Evgenij / 1996",null,null,null,null,382.83,null,null,null,null,null,null,null,null,null,null,382.83,{"$f":"LARGE(B516:P516,1)","v":382.83},{"$f":"IF(COUNT(B516:P516)=1,0,LARGE(B516:P516,2))","v":0},{"$f":"IF(COUNT(B516:P516)<3,0,LARGE(B516:P516,3))","v":0},{"$f":"IF(COUNT(B516:P516)<4,0,LARGE(B516:P516,4))","v":0},{"$f":"SUM(R516:U516)","v":382.83},{"$f":"V516-Q516","v":0},{"$f":"VLOOKUP(A516,'личные рез-ты по гонкам списком'!$J$1:$N$851,2,FALSE)","v":"М"}]
["Троцкий Игнат / Trotskij Ignat / 2002",null,null,null,null,null,null,null,null,null,null,16.100000000000001,null,null,null,null,16.100000000000001,16.100000000000001,0,0,0,16.100000000000001,0,{"$f":"VLOOKUP(A517,'личные рез-ты по гонкам списком'!$J$1:$N$851,2,FALSE)","v":"М"}]
["Трубкина Анастасия / Trubkina Anastasiya / 1989",null,null,null,null,null,null,null,460.84,null,null,null,null,null,null,null,460.84,460.84,0,0,0,460.84,0,{"$f":"VLOOKUP(A518,'личные рез-ты по гонкам списком'!$J$1:$N$851,2,FALSE)","v":"Ж"}]
["Трубкина Инна / Trubkina Inna / 1972",null,null,null,162.03,null,null,null,null,null,null,null,null,null,null,null,162.03,162.03,0,0,0,162.03,0,{"$f":"VLOOKUP(A519,'личные рез-ты по гонкам списком'!$J$1:$N$851,2,FALSE)","v":"Ж"}]
["Труханов Сергей / Truhanov Sergej / 1987",null,null,368.64,null,null,null,null,null,null,null,null,null,null,null,null,368.64,368.64,0,0,0,368.64,0,{"$f":"VLOOKUP(A520,'личные рез-ты по гонкам списком'!$J$1:$N$851,2,FALSE)","v":"М"}]
["Трухтанова Елена / Truhtanova Elena / 1985",null,null,442.91,null,null,null,null,null,null,null,null,null,null,null,null,442.91,442.91,0,0,0,442.91,0,{"$f":"VLOOKUP(A521,'личные рез-ты по гонкам списком'!$J$1:$N$851,2,FALSE)","v":"Ж"}]
["Тумашик Екатерина / Tumashik Ekaterina / 1984",null,null,null,null,null,null,200.61,null,null,null,null,null,null,null,null,200.61,200.61,0,0,0,200.61,0,{"$f":"VLOOKUP(A522,'личные рез-ты по гонкам списком'!$J$1:$N$851,2,FALSE)","v":"Ж"}]
["Туровец Ольга / Turovets Olga / 1979",null,null,null,113.42,null,null,214.94,null,null,null,null,109.62,null,null,null,437.98,214.94,113.42,109.62,0,437.98,0,{"$f":"VLOOKUP(A523,'личные рез-ты по гонкам списком'!$J$1:$N$851,2,FALSE)","v":"Ж"}]
["Тюев Даниил / Tyuev Daniil / 1977",607.34,null,null,null,127.61,null,null,null,null,715.59,null,201.67,null,null,498.48,2150.69,715.59,607.34,498.48,201.67,2023.0800000000002,-127.6099999999999,{"$f":"VLOOKUP(A524,'личные рез-ты по гонкам списком'!$J$1:$N$851,2,FALSE)","v":"М"}]
["Утлик Максим / Utlik Maksim / 1985",null,null,null,null,null,null,null,null,null,null,null,167.24,null,null,null,167.24,167.24,0,0,0,167.24,0,{"$f":"VLOOKUP(A525,'личные рез-ты по гонкам списком'!$J$1:$N$851,2,FALSE)","v":"М"}]
["Фам Вероника / Fam Veronika / 1982",null,112.57,null,null,null,null,null,null,null,null,null,null,null,null,null,112.57,112.57,0,0,0,112.57,0,{"$f":"VLOOKUP(A526,'личные рез-ты по гонкам списком'!$J$1:$N$851,2,FALSE)","v":"Ж"}]
["Фамичёва Елена / Famichjova Elena / 1993",null,null,null,null,null,null,85.98,null,null,null,null,null,null,null,null,85.98,85.98,0,0,0,85.98,0,{"$f":"VLOOKUP(A527,'личные рез-ты по гонкам списком'!$J$1:$N$851,2,FALSE)","v":"Ж"}]
["Федоринчик Дмитрий / Fedorinchik Dmitrij / 1988",null,null,null,null,null,null,null,null,null,null,null,null,51.81,null,null,51.81,51.81,0,0,0,51.81,0,{"$f":"VLOOKUP(A528,'личные рез-ты по гонкам списком'!$J$1:$N$851,2,FALSE)","v":"М"}]
["Федорович Николай / Fedorovich Nikolaj / 1959",665.18,null,null,null,280.74,null,null,null,428.57,null,null,132.81,null,null,null,1507.3,665.18,428.57,280.74,132.81,1507.3,0,{"$f":"VLOOKUP(A529,'личные рез-ты по гонкам списком'!$J$1:$N$851,2,FALSE)","v":"М"}]
["Федченко Олеся / Fedchenko Olesya / 1977",null,null,null,null,null,null,null,32.92,null,null,null,null,null,null,null,32.92,32.92,0,0,0,32.92,0,{"$f":"VLOOKUP(A530,'личные рез-ты по гонкам списком'!$J$1:$N$851,2,FALSE)","v":"Ж"}]
["Федченко Ярослава / Fedchenko Yaroslava / 2002",null,null,null,null,null,38.67,null,131.66999999999999,null,null,null,null,null,null,null,170.33999999999997,131.66999999999999,38.67,0,0,170.33999999999997,0,{"$f":"VLOOKUP(A531,'личные рез-ты по гонкам списком'!$J$1:$N$851,2,FALSE)","v":"Ж"}]
["Федькович Виталий / Fedkovich Vitalij / 1995",null,null,null,null,null,null,null,null,null,null,230.8,null,null,null,null,230.8,230.8,0,0,0,230.8,0,{"$f":"VLOOKUP(A532,'личные рез-ты по гонкам списком'!$J$1:$N$851,2,FALSE)","v":"М"}]
["Фенченко Алексей / Fenchenko Aleksej / 1989",null,null,null,null,null,null,null,null,null,null,null,null,null,768.07,null,768.07,768.07,0,0,0,768.07,0,{"$f":"VLOOKUP(A533,'личные рез-ты по гонкам списком'!$J$1:$N$851,2,FALSE)","v":"М"}]
["Фигурин Дмитрий / Figurin Dmitrij / 1982",null,null,null,null,null,163.27000000000001,null,null,null,null,null,null,null,null,null,163.27000000000001,163.27000000000001,0,0,0,163.27000000000001,0,{"$f":"VLOOKUP(A534,'личные рез-ты по гонкам списком'!$J$1:$N$851,2,FALSE)","v":"М"}]
["Фидек Виталий / Fidek Vitalij / 1966",null,null,122.88,null,null,null,null,null,null,null,null,null,null,null,null,122.88,122.88,0,0,0,122.88,0,{"$f":"VLOOKUP(A535,'личные рез-ты по гонкам списком'!$J$1:$N$851,2,FALSE)","v":"М"}]
["Филипович Никита / Filipovich Nikita / 1993",null,136.44999999999999,null,null,null,null,null,null,null,null,null,null,null,null,null,136.44999999999999,136.44999999999999,0,0,0,136.44999999999999,0,{"$f":"VLOOKUP(A536,'личные рез-ты по гонкам списком'!$J$1:$N$851,2,FALSE)","v":"М"}]
["Филитарин Дмитрий / Filitarin Dmitrij / 1987",null,null,null,null,421.11,null,null,null,null,null,null,null,null,null,null,421.11,421.11,0,0,0,421.11,0,{"$f":"VLOOKUP(A537,'личные рез-ты по гонкам списком'!$J$1:$N$851,2,FALSE)","v":"М"}]
["Фомин Леонид / Fomin Leonid / 1983",231.37,null,null,null,null,null,null,null,null,null,null,null,null,null,null,231.37,231.37,0,0,0,231.37,0,{"$f":"VLOOKUP(A538,'личные рез-ты по гонкам списком'!$J$1:$N$851,2,FALSE)","v":"М"}]
["Хадорик Владимир / Hadorik Vladimir / 1986",null,null,null,null,null,null,null,null,null,null,null,127.89,null,null,null,127.89,127.89,0,0,0,127.89,0,{"$f":"VLOOKUP(A539,'личные рез-ты по гонкам списком'!$J$1:$N$851,2,FALSE)","v":"М"}]
["Халомзик Дмитрий / Halomzik Dmitrij / 1972",null,null,null,null,null,null,null,null,null,null,32.200000000000003,null,null,null,null,32.200000000000003,32.200000000000003,0,0,0,32.200000000000003,0,{"$f":"VLOOKUP(A540,'личные рез-ты по гонкам списком'!$J$1:$N$851,2,FALSE)","v":"М"}]
["Хамицевич Андрей / Hamitsevich Andrej / 1983",null,null,null,null,null,null,226.2,null,null,null,null,null,null,null,null,226.2,226.2,0,0,0,226.2,0,{"$f":"VLOOKUP(A541,'личные рез-ты по гонкам списком'!$J$1:$N$851,2,FALSE)","v":"М"}]
["Хамицевич Михаил / Hamitsevich Mihail / 1980",null,null,403.75,null,null,null,null,null,null,null,null,113.13,null,null,null,516.88,403.75,113.13,0,0,516.88,0,{"$f":"VLOOKUP(A542,'личные рез-ты по гонкам списком'!$J$1:$N$851,2,FALSE)","v":"М"}]
["Харик Анна / Harik Anna / 1986",null,225.13,null,null,null,null,null,null,null,null,null,null,null,null,null,225.13,225.13,0,0,0,225.13,0,{"$f":"VLOOKUP(A543,'личные рез-ты по гонкам списком'!$J$1:$N$851,2,FALSE)","v":"Ж"}]
["Харитонов Иван / Haritonov Ivan / 1973",636.26,null,null,null,133.99,null,null,null,null,417.43,null,182,null,725.4,null,2095.08,725.4,636.26,417.43,182,1961.09,-133.99,{"$f":"VLOOKUP(A544,'личные рез-ты по гонкам списком'!$J$1:$N$851,2,FALSE)","v":"М"}]
["Хацкевич Дмитрий / Hatskevich Dmitrij / 1985",null,null,null,188.72,null,null,null,null,null,null,null,null,null,null,null,188.72,188.72,0,0,0,188.72,0,{"$f":"VLOOKUP(A545,'личные рез-ты по гонкам списком'!$J$1:$N$851,2,FALSE)","v":"М"}]
["Херзен Андрей / Herzen Andrej / 1984",null,null,null,null,114.85,null,null,null,null,null,null,null,null,null,null,114.85,114.85,0,0,0,114.85,0,{"$f":"VLOOKUP(A546,'личные рез-ты по гонкам списком'!$J$1:$N$851,2,FALSE)","v":"М"}]
["Хинец Анна / Hinets Anna / 1986",null,150.09,null,null,null,null,null,null,null,null,null,null,null,null,null,150.09,150.09,0,0,0,150.09,0,{"$f":"VLOOKUP(A547,'личные рез-ты по гонкам списком'!$J$1:$N$851,2,FALSE)","v":"Ж"}]
["Хлопцева Инга / Hloptseva Inga / 1982",null,null,null,null,null,283.57,null,null,null,null,null,null,null,null,null,283.57,283.57,0,0,0,283.57,0,{"$f":"VLOOKUP(A548,'личные рез-ты по гонкам списком'!$J$1:$N$851,2,FALSE)","v":"Ж"}]
["Ходан Александр / Hodan Aleksandr / 1988",null,null,null,null,504.06,null,null,null,null,null,null,null,null,null,null,504.06,504.06,0,0,0,504.06,0,{"$f":"VLOOKUP(A549,'личные рез-ты по гонкам списком'!$J$1:$N$851,2,FALSE)","v":"М"}]
["Хомич Юрий / Homich Yurij / 1970",null,null,null,null,null,null,172.97,null,null,null,null,null,null,null,null,172.97,172.97,0,0,0,172.97,0,{"$f":"VLOOKUP(A550,'личные рез-ты по гонкам списком'!$J$1:$N$851,2,FALSE)","v":"М"}]
["Хорошавин Вячеслав / Horoshavin Vyacheslav / 1985",null,482.11,null,null,null,292.17,345.95,null,null,null,300.57,null,null,null,null,1420.8,482.11,345.95,300.57,292.17,1420.8,0,{"$f":"VLOOKUP(A551,'личные рез-ты по гонкам списком'!$J$1:$N$851,2,FALSE)","v":"М"}]
["Храмов Антон / Hramov Anton / 1991",751.94,null,null,null,414.73,null,null,null,642.85,null,null,null,null,null,390.12,2199.64,751.94,642.85,414.73,390.12,2199.64,0,{"$f":"VLOOKUP(A552,'личные рез-ты по гонкам списком'!$J$1:$N$851,2,FALSE)","v":"М"}]
["Цвирбут Юлия / Tsvirbut Yuliya / 1992",null,475.28,null,null,null,null,null,493.76,null,null,null,383.67,null,null,null,1352.71,493.76,475.28,383.67,0,1352.71,0,{"$f":"VLOOKUP(A553,'личные рез-ты по гонкам списком'!$J$1:$N$851,2,FALSE)","v":"Ж"}]
["Чалый Николай / Chalyj Nikolaj / 1980",null,null,null,null,null,25.78,null,null,null,null,null,null,null,null,null,25.78,25.78,0,0,0,25.78,0,{"$f":"VLOOKUP(A554,'личные рез-ты по гонкам списком'!$J$1:$N$851,2,FALSE)","v":"М"}]
["Чеботаев Сергей / Chebotaev Sergej / 1989",null,null,null,411.76,null,null,null,null,null,null,null,null,null,null,null,411.76,411.76,0,0,0,411.76,0,{"$f":"VLOOKUP(A555,'личные рез-ты по гонкам списком'!$J$1:$N$851,2,FALSE)","v":"М"}]
["Чеботаева Валерия / Chebotaeva Valeriya / 1993",null,null,null,259.26,null,null,null,null,null,null,null,null,null,null,null,259.26,259.26,0,0,0,259.26,0,{"$f":"VLOOKUP(A556,'личные рез-ты по гонкам списком'!$J$1:$N$851,2,FALSE)","v":"Ж"}]
["Черкас Александра / Cherkas Aleksandra / 1992",null,462.78,null,null,null,296.45999999999998,315.24,null,null,null,null,356.26,null,null,null,1430.74,462.78,356.26,315.24,296.45999999999998,1430.74,0,{"$f":"VLOOKUP(A557,'личные рез-ты по гонкам списком'!$J$1:$N$851,2,FALSE)","v":"Ж"}]
["Чернель Татьяна / Chernel Tatyana / 1982",null,null,null,null,null,null,null,395.01,null,null,null,null,null,null,315.81,710.81999999999994,395.01,315.81,0,0,710.81999999999994,0,{"$f":"VLOOKUP(A558,'личные рез-ты по гонкам списком'!$J$1:$N$851,2,FALSE)","v":"Ж"}]
["Чернышев Дмитрий / Chernyshev Dmitrij / 1987",null,null,null,null,null,null,null,null,null,null,null,275.45,null,null,null,275.45,275.45,0,0,0,275.45,0,{"$f":"VLOOKUP(A559,'личные рез-ты по гонкам списком'!$J$1:$N$851,2,FALSE)","v":"М"}]
["Чернявский Артем / Chernyavskij Artem / 1987",null,181.93,null,null,null,null,null,null,null,null,null,null,null,null,null,181.93,181.93,0,0,0,181.93,0,{"$f":"VLOOKUP(A560,'личные рез-ты по гонкам списком'!$J$1:$N$851,2,FALSE)","v":"М"}]
["Чеснокова Надежда / Chesnokova Nadezhda / 1988",null,null,null,null,null,270.68,null,null,null,null,null,null,null,null,null,270.68,270.68,0,0,0,270.68,0,{"$f":"VLOOKUP(A561,'личные рез-ты по гонкам списком'!$J$1:$N$851,2,FALSE)","v":"Ж"}]
["Чирская Юлия / Chirskaya Yuliya / 1992",null,null,null,null,null,null,null,null,null,null,null,null,145.07,null,null,145.07,145.07,0,0,0,145.07,0,{"$f":"VLOOKUP(A562,'личные рез-ты по гонкам списком'!$J$1:$N$851,2,FALSE)","v":"М"}]
["Чичин Юрий / Chichin Yurij / 1979",null,null,null,null,null,null,null,120.7,null,null,null,null,null,null,260.08,380.78,260.08,120.7,0,0,380.78,0,{"$f":"VLOOKUP(A563,'личные рез-ты по гонкам списком'!$J$1:$N$851,2,FALSE)","v":"М"}]
["Чудаков Владислав / Chudakov Vladislav / 1977",null,291.08,null,null,null,null,null,null,null,null,112.72,null,null,null,null,403.79999999999995,291.08,112.72,0,0,403.79999999999995,0,{"$f":"VLOOKUP(A564,'личные рез-ты по гонкам списком'!$J$1:$N$851,2,FALSE)","v":"М"}]
["Шабанов Олег / Shabanov Oleg / 1971",null,254.7,null,null,null,null,null,null,null,null,null,63.94,null,null,null,318.64,254.7,63.94,0,0,318.64,0,{"$f":"VLOOKUP(A565,'личные рез-ты по гонкам списком'!$J$1:$N$851,2,FALSE)","v":"М"}]
["Шапелевич Максим / Shapelevich Maksim / 1987",null,null,null,null,153.13,null,null,null,285.70999999999998,null,null,98.38,null,null,null,537.22,285.70999999999998,153.13,98.38,0,537.22,0,{"$f":"VLOOKUP(A566,'личные рез-ты по гонкам списком'!$J$1:$N$851,2,FALSE)","v":"М"}]
["Шаповалова Ирина / Shapovalova Irina / 1993",null,null,null,null,null,257.8,null,null,null,null,null,null,null,null,null,257.8,257.8,0,0,0,257.8,0,{"$f":"VLOOKUP(A567,'личные рез-ты по гонкам списком'!$J$1:$N$851,2,FALSE)","v":"Ж"}]
["Шахметова Наташа / Shahmetova Natasha / 1992",null,null,null,null,null,null,null,null,null,null,268.86,null,null,null,null,268.86,268.86,0,0,0,268.86,0,{"$f":"VLOOKUP(A568,'личные рез-ты по гонкам списком'!$J$1:$N$851,2,FALSE)","v":"Ж"}]
["Швайковская Ольга / Shvajkovskaya Olga / 1979",null,null,null,null,null,null,null,263.33999999999997,null,null,null,null,null,null,null,263.33999999999997,263.33999999999997,0,0,0,263.33999999999997,0,{"$f":"VLOOKUP(A569,'личные рез-ты по гонкам списком'!$J$1:$N$851,2,FALSE)","v":"Ж"}]
["Шепетько Сергей / Shepetko Sergej / 1987",null,318.37,null,null,172.27,null,null,252.37,null,null,null,172.16,null,null,null,915.17,318.37,252.37,172.27,172.16,915.17,0,{"$f":"VLOOKUP(A570,'личные рез-ты по гонкам списком'!$J$1:$N$851,2,FALSE)","v":"М"}]
["Шестаков Геннадий / Shestakov Gennadij / 1962",491.66,null,null,null,null,null,null,null,null,null,null,null,null,null,null,491.66,491.66,0,0,0,491.66,0,{"$f":"VLOOKUP(A571,'личные рез-ты по гонкам списком'!$J$1:$N$851,2,FALSE)","v":"М"}]
["Шестеров Андрей / Shesterov Andrej / 1986",null,209.22,null,null,null,null,null,null,null,null,null,null,null,null,null,209.22,209.22,0,0,0,209.22,0,{"$f":"VLOOKUP(A572,'личные рез-ты по гонкам списком'!$J$1:$N$851,2,FALSE)","v":"М"}]
["Шило Руслан / Shilo Ruslan / 1993",null,null,null,null,159.51,null,null,null,464.28,null,null,null,null,null,null,623.79,464.28,159.51,0,0,623.79,0,{"$f":"VLOOKUP(A573,'личные рез-ты по гонкам списком'!$J$1:$N$851,2,FALSE)","v":"М"}]
["Шипунов Олег / Shipunov Oleg / 1992",null,null,null,null,null,300.76,null,null,null,null,null,null,null,null,null,300.76,300.76,0,0,0,300.76,0,{"$f":"VLOOKUP(A574,'личные рез-ты по гонкам списком'!$J$1:$N$851,2,FALSE)","v":"М"}]
["Широкова Анастасия / Shirokova Anastasiya / 1988",null,287.67,null,null,null,180.46,null,null,null,null,null,null,null,null,null,468.13,287.67,180.46,0,0,468.13,0,{"$f":"VLOOKUP(A575,'личные рез-ты по гонкам списком'!$J$1:$N$851,2,FALSE)","v":"Ж"}]
["Шклярик Олег / Shklyarik Oleg / 1970",null,null,null,null,325.39999999999998,null,null,null,250,null,null,null,null,null,null,575.4,325.39999999999998,250,0,0,575.4,0,{"$f":"VLOOKUP(A576,'личные рез-ты по гонкам списком'!$J$1:$N$851,2,FALSE)","v":"М"}]
["Шкрабо Ольга / Shkrabo Olga / 1985",null,null,null,null,null,77.34,null,null,null,null,null,null,null,null,null,77.34,77.34,0,0,0,77.34,0,{"$f":"VLOOKUP(A577,'личные рез-ты по гонкам списком'!$J$1:$N$851,2,FALSE)","v":"Ж"}]
["Шуленков Роман / Shulenkov Roman / 1990",null,127.35,null,null,null,null,null,null,null,null,null,null,null,null,null,127.35,127.35,0,0,0,127.35,0,{"$f":"VLOOKUP(A578,'личные рез-ты по гонкам списком'!$J$1:$N$851,2,FALSE)","v":"М"}]
["Шульпенков Александр / Shulpenkov Aleksandr / 1986",null,null,null,null,null,60.15,null,null,null,null,null,null,62.17,null,null,122.32,62.17,60.15,0,0,122.32,0,{"$f":"VLOOKUP(A579,'личные рез-ты по гонкам списком'!$J$1:$N$851,2,FALSE)","v":"М"}]
["Щербаков Илья / Scherbakov Ilya / 1989",null,null,null,null,null,null,246.15,null,null,null,139.55000000000001,null,null,null,null,385.70000000000005,{"$f":"LARGE(B580:P580,1)","v":246.15},{"$f":"IF(COUNT(B580:P580)=1,0,LARGE(B580:P580,2))","v":139.55000000000001},{"$f":"IF(COUNT(B580:P580)<3,0,LARGE(B580:P580,3))","v":0},{"$f":"IF(COUNT(B580:P580)<4,0,LARGE(B580:P580,4))","v":0},{"$f":"SUM(R580:U580)","v":385.70000000000005},{"$f":"V580-Q580","v":0},{"$f":"VLOOKUP(A580,'личные рез-ты по гонкам списком'!$J$1:$N$851,2,FALSE)","v":"М"}]
["Щербина Максим / Scherbina Maksim / 1976",null,null,null,null,null,null,null,54.86,null,null,null,null,null,null,null,54.86,54.86,0,0,0,54.86,0,{"$f":"VLOOKUP(A581,'личные рез-ты по гонкам списком'!$J$1:$N$851,2,FALSE)","v":"М"}]
["Щербо Виктор / Scherbo Viktor / 1961",null,null,null,null,null,null,null,null,null,null,null,null,196.88,null,null,196.88,196.88,0,0,0,196.88,0,{"$f":"VLOOKUP(A582,'личные рез-ты по гонкам списком'!$J$1:$N$851,2,FALSE)","v":"М"}]
["Щукин Макс / Schukin Maks / 1992",null,null,null,null,null,null,null,null,null,null,75.14,null,null,null,null,75.14,75.14,0,0,0,75.14,0,{"$f":"VLOOKUP(A583,'личные рез-ты по гонкам списком'!$J$1:$N$851,2,FALSE)","v":"М"}]
["Юкевич Александр / Yukevich Aleksandr / 1983",null,null,null,334.55,null,null,null,340.15,null,null,null,null,null,null,null,674.7,340.15,334.55,0,0,674.7,0,{"$f":"VLOOKUP(A584,'личные рез-ты по гонкам списком'!$J$1:$N$851,2,FALSE)","v":"М"}]
["Юкевич Андрей / Yukevich Andrej / 1990",null,null,null,null,null,null,null,219.45,null,null,null,null,null,null,null,219.45,219.45,0,0,0,219.45,0,{"$f":"VLOOKUP(A585,'личные рез-ты по гонкам списком'!$J$1:$N$851,2,FALSE)","v":"М"}]
["Юлов Герман / Yulov German / 1993",null,null,333.53,null,null,null,null,null,null,null,null,null,null,null,null,333.53,333.53,0,0,0,333.53,0,{"$f":"VLOOKUP(A586,'личные рез-ты по гонкам списком'!$J$1:$N$851,2,FALSE)","v":"М"}]
["Явтушенко Вадим / Yavtushenko Vadim / 1981",null,null,null,null,null,154.68,159.66999999999999,null,null,null,null,null,null,null,null,314.35000000000002,159.66999999999999,154.68,0,0,314.35000000000002,0,{"$f":"VLOOKUP(A587,'личные рез-ты по гонкам списком'!$J$1:$N$851,2,FALSE)","v":"М"}]
["Якимченко Анатолий / Yakimchenko Anatolij / 1967",null,null,null,68.63,null,null,null,null,null,null,null,24.59,null,null,null,93.22,68.63,24.59,0,0,93.22,0,{"$f":"VLOOKUP(A588,'личные рез-ты по гонкам списком'!$J$1:$N$851,2,FALSE)","v":"М"}]
["Якимчук Надежда / Yakimchuk Nadezhda / 1986",null,null,null,null,null,null,null,65.83,null,null,null,null,null,null,null,65.83,65.83,0,0,0,65.83,0,{"$f":"VLOOKUP(A589,'личные рез-ты по гонкам списком'!$J$1:$N$851,2,FALSE)","v":"Ж"}]
["Якубовская Виктория / Yakubovskaya Viktoriya / 1984",null,null,null,null,null,null,null,null,null,null,null,null,97.1,null,null,97.1,97.1,0,0,0,97.1,0,{"$f":"VLOOKUP(A590,'личные рез-ты по гонкам списком'!$J$1:$N$851,2,FALSE)","v":"Ж"}]
["Якубовский Игорь / Yakubovskij Igor / 1984",null,null,null,null,146.75,null,null,186.53,null,null,null,null,82.9,null,null,416.17999999999995,186.53,146.75,82.9,0,416.17999999999995,0,{"$f":"VLOOKUP(A591,'личные рез-ты по гонкам списком'!$J$1:$N$851,2,FALSE)","v":"М"}]
["Ямбушева Катерина / Yambusheva Katerina / 1987",null,null,null,356.48,null,null,null,null,null,null,null,null,null,null,null,356.48,356.48,0,0,0,356.48,0,{"$f":"VLOOKUP(A592,'личные рез-ты по гонкам списком'!$J$1:$N$851,2,FALSE)","v":"Ж"}]
["Янович Лена / Yanovich Lena / 1996",null,null,null,null,null,null,null,null,null,null,null,null,null,null,421.08,421.08,421.08,0,0,0,421.08,0,{"$f":"VLOOKUP(A593,'личные рез-ты по гонкам списком'!$J$1:$N$851,2,FALSE)","v":"Ж"}]
["Янченко Ксения / Yanchenko Kseniya / 1997",null,375.22,null,null,null,null,null,null,null,null,null,null,null,null,null,375.22,375.22,0,0,0,375.22,0,{"$f":"VLOOKUP(A594,'личные рез-ты по гонкам списком'!$J$1:$N$851,2,FALSE)","v":"Ж"}]
["Ярмончик Игорь / Yarmonchik Igor / 1985",null,null,null,223.04,null,null,null,null,null,null,null,null,null,null,null,223.04,223.04,0,0,0,223.04,0,{"$f":"VLOOKUP(A595,'личные рез-ты по гонкам списком'!$J$1:$N$851,2,FALSE)","v":"М"}]
["Яцкевич Кирилл / Yatskevich Kirill / 2001",null,382.05,null,null,null,null,null,null,null,null,null,null,null,null,null,382.05,382.05,0,0,0,382.05,0,{"$f":"VLOOKUP(A596,'личные рез-ты по гонкам списком'!$J$1:$N$851,2,FALSE)","v":"М"}]

{"sheet":"Рейтинг Абс","index":5,"n_rows":595,"n_cols":4,"rows_kept":595,"cut":false,"hidden":false,"merged":[]}
["№ п/п","Фамилия, Имя, Год рождения","Пол","Сумма баллов"]
[1,"Синица Кирилл / Sinitsa Kirill / 1981","М",3242.29]
[2,"Молочко Александр / Molochko Aleksandr / 1981","М",2353.9100000000003]
[3,"Скирук Юлия / Skiruk Yuliya / 1988","Ж",2256.36]
[4,"Крисенков Алексей / Krisenkov Aleksej / 1983","М",2232.69]
[5,"Храмов Антон / Hramov Anton / 1991","М",2199.64]
[6,"Тюев Даниил / Tyuev Daniil / 1977","М",2023.0800000000002]
[7,"Харитонов Иван / Haritonov Ivan / 1973","М",1961.09]
[8,"Исаев Антон / Isaev Anton / 1979","М",1862.81]
[9,"Лысенко Павел / Lysenko Pavel / 1966","М",1835.31]
[10,"Скуратович Антон / Skuratovich Anton / 1985","М",1825.44]
[11,"Селютин Владимир / Selyutin Vladimir / 1990","М",1752.15]
[12,"Попадюк Игорь / Popadyuk Igor / 1982","М",1704.03]
[13,"Вагин Андрей / Vagin Andrej / 1989","М",1671.86]
[14,"Коровец Богдан / Korovets Bogdan / 1976","М",1619.81]
[15,"Маркевич Денис / Markevich Denis / 1981","М",1589.92]
[16,"Борисевич Леонид / Borisevich Leonid / 1969","М",1588.27]
[17,"Лойко Сергей / Lojko Sergej / 1985","М",1522.78]
[18,"Федорович Николай / Fedorovich Nikolaj / 1959","М",1507.3]
[19,"Березовский Андрей / Berezovskij Andrej / 1973","М",1454.44]
[20,"Черкас Александра / Cherkas Aleksandra / 1992","Ж",1430.74]
[21,"Хорошавин Вячеслав / Horoshavin Vyacheslav / 1985","М",1420.8]
[22,"Лисовский Виктор / Lisovskij Viktor / 1964","М",1407.4799999999998]
[23,"Сидоревич Александр / Sidorevich Aleksandr / 1985","М",1396.03]
[24,"Глушков Александр / Glushkov Aleksandr / 1980","М",1385.2]
[25,"Суховерхая Татьяна / Suhoverhaya Tatyana / 1986","Ж",1356.5]
[26,"Цвирбут Юлия / Tsvirbut Yuliya / 1992","Ж",1352.71]
[27,"Подрез Ярослав / Podrez Yaroslav / 1996","М",1346.74]
[28,"Мальков Валентин / Malkov Valentin / 1988","М",1327.33]
[29,"Лесковец Александр / Leskovets Aleksandr / 1990","М",1317.88]
[30,"Белая Юлия / Belaya Yuliya / 1988","Ж",1314.28]
[31,"Тарасенко Павел / Tarasenko Pavel / 1983","М",1302.4299999999998]
[32,"Ласюк Юрий / Lasyuk Yurij / 1987","М",1294.6699999999998]
[33,"Володько Андрей / Volodko Andrej / 1986","М",1255.3900000000001]
[34,"Мартысевич Роман / Martysevich Roman / 1993","М",1200.08]
[35,"Сулимчик Оксана / Sulimchik Oksana / 1986","Ж",1195.93]
[36,"Михно Алла / Mihno Alla / 1979","Ж",1143.49]
[37,"Молчан Александр / Molchan Aleksandr / 1988","М",1125.97]
[38,"Суховей Михаил / Suhovej Mihail / 1991","М",1118.68]
[39,"Милинкевич Елена / Milinkevich Elena / 1977","Ж",1106.72]
[40,"Тихонов Василий / Tihonov Vasilij / 1993","М",1086.92]
[41,"Бузо Александр / Buzo Aleksandr / 1982","М",1084.23]
[42,"Пивень Андрей / Piven Andrej / 1992","М",1066.77]
[43,"Евсюченя Александр / Evsyuchenya Aleksandr / 1991","М",1066.06]
[44,"Алексеев Алексей / Alekseev Aleksej / 1980","М",1053.1299999999999]
[45,"Генсировский Павел / Gensirovskij Pavel / 1979","М",1041.1500000000001]
[46,"Гурская Татьяна / Gurskaya Tatyana / 1980","Ж",1041.1500000000001]
[47,"Рагойша Пётр / Ragojsha Pjotr / 1976","М",1036.52]
[48,"Жидович Вадим / Zhidovich Vadim / 1984","М",1000.47]
[49,"Козич Андрей / Kozich Andrej / 1986","М",983.31]
[50,"Полякова Анна / Polyakova Anna / 1987","Ж",963.02]
[51,"Овсиюк Богдан / Ovsiyuk Bogdan / 1993","М",954.94]
[52,"Грабовец Павел / Grabovets Pavel / 1981","М",954.39]
[53,"Лавник Игорь / Lavnik Igor / 1983","М",942.6099999999999]
[54,"Шепетько Сергей / Shepetko Sergej / 1987","М",915.17]
[55,"Едомская Вольга / Edomskaya Volga / 1987","Ж",881.68999999999994]
[56,"Побединский Александр / Pobedinskij Aleksandr / 1983","М",867.63]
[57,"Католиков Роман / Katolikov Roman / 1985","М",865.91000000000008]
[58,"Борисевич Анастасия / Borisevich Anastasiya / 1985","Ж",851.86]
[59,"Леонов Иван / Leonov Ivan / 1986","М",846.91000000000008]
[60,"Журавлёв Андрей / Zhuravljov Andrej / 1978","М",843.98]
[61,"Дегтярев Сергей / Degtyarev Sergej / 1983","М",840.92]
[62,"Казак Дмитрий / Kazak Dmitrij / 1979","М",830.82999999999993]
[63,"Гилевич Диана / Gilevich Diana / 1993","Ж",822.76]
[64,"Ермохин Максим / Ermohin Maksim / 1975","М",817.91000000000008]
[65,"Окромешко Антон / Okromeshko Anton / 1990","М",809.79]
[66,"Невмержицкая Анна / Nevmerzhitskaya Anna / 1997","Ж",806.14]
[67,"Миканович Антон / Mikanovich Anton / 1990","М",805.76]
[68,"Мосийчук Максим / Mosijchuk Maksim / 1984","М",797.65]
[69,"Кирcанов Алексей / Kircanov Aleksej / 1981","М",795.25]
[70,"Величко Павел / Velichko Pavel / 1982","М",776.36]
[71,"Фенченко Алексей / Fenchenko Aleksej / 1989","М",768.07]
[72,"Делендик Надежда / Delendik Nadezhda / 1987","Ж",766.62]
[73,"Брытько Роман / Brytko Roman / 1995","М",762.22]
[74,"Палий Андрей / Palij Andrej / 1984","М",747.22]
[75,"Кордунская Екатерина / Kordunskaya Ekaterina / 1983","Ж",730.53]
[76,"Торубарова Татьяна / Torubarova Tatyana / 1983","Ж",719.72]
[77,"Некрасов Василий / Nekrasov Vasilij / 1986","М",715.21]
[78,"Брагин Иван / Bragin Ivan / 1986","М",714.28]
[79,"Чернель Татьяна / Chernel Tatyana / 1982","Ж",710.81999999999994]
[80,"Попов Юрий / Popov Yurij / 1969","М",702.17]
[81,"Пухаева Светлана / Puhaeva Svetlana / 1980","Ж",697.87]
[82,"Новікаў Анатоль / Novіkau Anatol / 1984","М",694.1]
[83,"Полещук Татьяна / Poleschuk Tatyana / 1988","Ж",694.1]
[84,"Грек Илья / Grek Ilya / 1992","М",685.56]
[85,"Белинская Галина / Belinskaya Galina / 1980","Ж",684.25]
[86,"Юкевич Александр / Yukevich Aleksandr / 1983","М",674.7]
[87,"Орловский Павел / Orlovskij Pavel / 1989","М",670.27]
[88,"Гидлевский Дмитрий / Gidlevskij Dmitrij / 1986","М",668.6]
[89,"Журавлёва Оксана / Zhuravljova Oksana / 1980","Ж",664.68]
[90,"Печёнов Георгий / Pechjonov Georgij / 1975","М",663.08999999999992]
[91,"Олин Денис / Olin Denis / 1976","М",657.88]
[92,"Выборный Александр / Vybornyj Aleksandr / 1985","М",656.09]
[93,"Нестерович Сергей / Nesterovich Sergej / 1994","М",640.05999999999995]
[94,"Свечников Антон / Svechnikov Anton / 1991","М",632.36]
[95,"Остаповец Евгений / Ostapovets Evgenij / 1990","М",631.76]
[96,"Обухова Екатерина / Obuhova Ekaterina / 1978","Ж",631.62]
[97,"Бабицкий Кирилл / Babitskij Kirill / 1998","М",628.52]
[98,"Шило Руслан / Shilo Ruslan / 1993","М",623.79]
[99,"Жучин Алексей / Zhuchin Aleksej / 1983","М",616.21]
[100,"Кондяр Павел / Kondyar Pavel / 1993","М",615.82999999999993]
[101,"Нечаев Владимир / Nechaev Vladimir / 1995","М",615.77]
[102,"Кликун Татьяна / Klikun Tatyana / 1989","Ж",609.36]
[103,"Арабиенко Татьяна / Arabienko Tatyana / 1986","Ж",609]
[104,"Лисовский Павел / Lisovskij Pavel / 1986","М",606.85]
[105,"Медвецкий Денис / Medvetskij Denis / 1986","М",598.16]
[106,"Сорокин Денис / Sorokin Denis / 1998","М",597.39]
[107,"Прокопович Ростислав / Prokopovich Rostislav / 1982","М",596.84]
[108,"Кислицын Артем / Kislitsyn Artem / 1992","М",596.32000000000005]
[109,"Лещинский Владимир / Leschinskij Vladimir / 1983","М",579.29]
[110,"Куцун Надежда / Kutsun Nadezhda / 1982","Ж",578.98]
[111,"Гусаревич Денис / Gusarevich Denis / 1983","М",578.41999999999996]
[112,"Шклярик Олег / Shklyarik Oleg / 1970","М",575.4]
[113,"Михно Борис / Mihno Boris / 1982","М",570.05000000000007]
[114,"Веремейчик Юрий / Veremejchik Yurij / 1979","М",567.80999999999995]
[115,"Жданович Максим / Zhdanovich Maksim / 1987","М",561.73]
[116,"Колташова Елена / Koltashova Elena / 1984","Ж",553.63]
[117,"Трасковский Дмитрий / Traskovskij Dmitrij / 1986","М",549.5]
[118,"Драгун Борис / Dragun Boris / 1970","М",547]
[119,"Казарин Дмитрий / Kazarin Dmitrij / 1994","М",545.01]
[120,"Минько Алексей / Minko Aleksej / 1997","М",544.17999999999995]
[121,"Рачковский Сергей / Rachkovskij Sergej / 1988","М",541.83000000000004]
[122,"Жучков Алексей / Zhuchkov Aleksej / 1985","М",541.54999999999995]
[123,"Шапелевич Максим / Shapelevich Maksim / 1987","М",537.22]
[124,"Тофоров Дмитрий / Toforov Dmitrij / 1991","М",536.69000000000005]
[125,"Радиончик Александр / Radionchik Aleksandr / 1985","М",534.68000000000006]
[126,"Баронов Роман / Baronov Roman / 1993","М",526.08999999999992]
[127,"Хамицевич Михаил / Hamitsevich Mihail / 1980","М",516.88]
[128,"Михалкин Сергей / Mihalkin Sergej / 1989","Ж",516.82000000000005]
[129,"Жила Анастасия / Zhila Anastasiya / 1994","Ж",511.39]
[130,"Сердитов Вадим / Serditov Vadim / 1993","М",510.44]
[131,"Пучик Александр / Puchik Aleksandr / 1983","М",509.07]
[132,"Ходан Александр / Hodan Aleksandr / 1988","М",504.06]
[133,"Аржаников Евгений / Arzhanikov Evgenij / 1976","М",503.18000000000006]
[134,"Ланин Иван / Lanin Ivan / 1989","М",500.96999999999997]
[135,"Толкачев Дмитрий / Tolkachev Dmitrij / 1971","М",500.3]
[136,"Арловская Кристина / Arlovskaya Kristina / 1989","Ж",493.59000000000003]
[137,"Голубева Елена / Golubeva Elena / 1987","Ж",493.31]
[138,"Шестаков Геннадий / Shestakov Gennadij / 1962","М",491.66]
[139,"Плодунов Захар / Plodunov Zahar / 1993","М",491.2]
[140,"Кожан Михаил / Kozhan Mihail / 1946","М",489.44999999999993]
[141,"Зеленкевич Валентина / Zelenkevich Valentina / 1999","Ж",487.79]
[142,"Крус Виктор / Krus Viktor / 1980","М",480.78]
[143,"Мурашов Владимир / Murashov Vladimir / 1983","М",476.90999999999997]
[144,"Николаевский Станислав / Nikolaevskij Stanislav / 1985","М",473.96]
[145,"Радчук Алеся / Radchuk Alesya / 1996","Ж",473.71]
[146,"Гилевич Кристина / Gilevich Kristina / 1994","Ж",469.83]
[147,"Ладеев Дмитрий / Ladeev Dmitrij / 1981","М",468.31]
[148,"Широкова Анастасия / Shirokova Anastasiya / 1988","Ж",468.13]
[149,"Недведская Елена / Nedvedskaya Elena / 1986","Ж",466.44]
[150,"Гриб Екатерина / Grib Ekaterina / 1981","Ж",462.73]
[151,"Савич Евгений / Savich Evgenij / 1980","М",461.26]
[152,"Трубкина Анастасия / Trubkina Anastasiya / 1989","Ж",460.84]
[153,"Павловская Светлана / Pavlovskaya Svetlana / 1984","Ж",458.52000000000004]
[154,"Леверовский Александр / Leverovskij Aleksandr / 1988","М",457.31]
[155,"Солодкин Сергей / Solodkin Sergej / 1984","М",453.01]
[156,"Калвинковская Ольга / Kalvinkovskaya Olga / 1994","Ж",450.27]
[157,"Лукьяненко Александр / Lukyanenko Aleksandr / 1984","М",445.72]
[158,"Трухтанова Елена / Truhtanova Elena / 1985","Ж",442.91]
[159,"Лукашенок Алексей / Lukashenok Aleksej / 1978","М",440.25]
[160,"Никонов Максим / Nikonov Maksim / 1979","М",438.9]
[161,"Туровец Ольга / Turovets Olga / 1979","Ж",437.98]
[162,"Стасевич Александр / Stasevich Aleksandr / 1987","М",437.49]
[163,"Куратник Юрий / Kuratnik Yurij / 1987","М",436.63]
[164,"Гринько Анастасия / Grinko Anastasiya / 1993","Ж",436.17]
[165,"Комин Игорь / Komin Igor / 1959","М",433.81]
[166,"Поцелуев Сергей / Potseluev Sergej / 1973","М",433.46]
[167,"Мурашкина Галина / Murashkina Galina / 1988","Ж",429.81]
[168,"Волков Николай / Volkov Nikolaj / 1989","М",428.91]
[169,"Насвит Дмитрий / Nasvit Dmitrij / 1986","М",427.93]
[170,"Новик Анастасия / Novik Anastasiya / 1985","Ж",427.93]
[171,"Леденёв Андрей / Ledenjov Andrej / 1971","М",427.53]
[172,"Камышкайло Анатолий / Kamyshkajlo Anatolij / 1981","М",427.49]
[173,"Жданович Александра / Zhdanovich Aleksandra / 1985","Ж",426.71000000000004]
[174,"Адамович Ирина / Adamovich Irina / 1973","Ж",425.25]
[175,"Казакевич Ирина / Kazakevich Irina / 1969","Ж",421.29]
[176,"Филитарин Дмитрий / Filitarin Dmitrij / 1987","М",421.11]
[177,"Янович Лена / Yanovich Lena / 1996","Ж",421.08]
[178,"Захаркин Сергей / Zaharkin Sergej / 1976","М",420.34]
[179,"Якубовский Игорь / Yakubovskij Igor / 1984","М",416.17999999999995]
[180,"Таранко Марта / Taranko Marta / 1990","Ж",415.24]
[181,"Григорьева Светлана / Grigoreva Svetlana / 1984","Ж",414.52]
[182,"Драгун Алина / Dragun Alina / 1993","Ж",412.75]
[183,"Малалетников Павел / Malaletnikov Pavel / 1982","М",411.79]
[184,"Чеботаев Сергей / Chebotaev Sergej / 1989","М",411.76]
[185,"Сильванович Валерия / Silvanovich Valeriya / 1998","Ж",411.38]
[186,"Балашов Никита / Balashov Nikita / 1983","М",409.34]
[187,"Липницкая Виктория / Lipnitskaya Viktoriya / 1987","Ж",408.14]
[188,"Копоть Александр / Kopot Aleksandr / 1992","М",404.89]
[189,"Чудаков Владислав / Chudakov Vladislav / 1977","М",403.79999999999995]
[190,"Коледа Татьяна / Koleda Tatyana / 1990","Ж",400.24]
[191,"Симогостицкий Александр / Simogostitskij Aleksandr / 1987","М",399.45]
[192,"Искорцев Алексей / Iskortsev Aleksej / 1980","М",397.48]
[193,"Иванчик Константин / Ivanchik Konstantin / 1983","М",392.86]
[194,"Танасейчук Анна / Tanasejchuk Anna / 1983","Ж",388.88]
[195,"Медведева Ольга / Medvedeva Olga / 1991","Ж",387.73]
[196,"Ткачук Дарья / Tkachuk Darya / 1981","Ж",387.54]
[197,"Никитюк Алексей / Nikityuk Aleksej / 1985","М",386.19]
[198,"Михнюк Виктор / Mihnyuk Viktor / 1990","М",386.02]
[199,"Щербаков Илья / Scherbakov Ilya / 1989","М",385.70000000000005]
[200,"Иолтуховский Владислав / Ioltuhovskij Vladislav / 1971","М",384.57]
[201,"Новиченко Антон / Novichenko Anton / 1997","М",383.67]
[202,"Тривашкевич Евгений / Trivashkevich Evgenij / 1996","М",382.83]
[203,"Яцкевич Кирилл / Yatskevich Kirill / 2001","М",382.05]
[204,"Чичин Юрий / Chichin Yurij / 1979","М",380.78]
[205,"Таран Виталий / Taran Vitalij / 1983","М",377.51000000000005]
[206,"Астапов Владимир / Astapov Vladimir / 1977","М",375.97]
[207,"Янченко Ксения / Yanchenko Kseniya / 1997","Ж",375.22]
[208,"Пісарчык Сяргей / Pіsarchyk Syargej / 1980","М",373.83]
[209,"Кошур Александр / Koshur Aleksandr / 1988","М",372.95]
[210,"Лещевич Валерий / Leschevich Valerij / 1989","М",372.56]
[211,"Остапов Владимир / Ostapov Vladimir / 1977","М",370.07]
[212,"Аноничев Александр / Anonichev Aleksandr / 1982","М",368.91]
[213,"Труханов Сергей / Truhanov Sergej / 1987","М",368.64]
[214,"Мартынов Дмитрий / Martynov Dmitrij / 1984","М",365.91]
[215,"Салодкин Сергей / Salodkin Sergej / 1984","М",363.99]
[216,"Симонов Вадим / Simonov Vadim / 1985","М",363.43]
[217,"Кусов Иван / Kusov Ivan / 1993","М",362.09]
[218,"Пузаревский Роман / Puzarevskij Roman / 1994","М",360.29]
[219,"Грейд Юлия / Grejd Yuliya / 1986","Ж",359.03]
[220,"Куцакова Татьяна / Kutsakova Tatyana / 1987","Ж",358.23]
[221,"Дельянов Одиссей / Delyanov Odissej / 1979","М",357.31]
[222,"Ямбушева Катерина / Yambusheva Katerina / 1987","Ж",356.48]
[223,"Гладковский Владислав / Gladkovskij Vladislav / 1990","М",354.76]
[224,"Асаевич Роман / Asaevich Roman / 1964","М",351.08]
[225,"Варданян Кристина / Vardanyan Kristina / 1981","Ж",350.21]
[226,"Титуленко Егор / Titulenko Egor / 1983","М",347.05]
[227,"Быков Владимир / Bykov Vladimir / 1977","М",346.77]
[228,"Гамидов Тимур / Gamidov Timur / 1996","М",345.95]
[229,"Бабич Виталий / Babich Vitalij / 1981","М",345.66]
[230,"Тимошенко Алена / Timoshenko Alena / 1982","Ж",343.9]
[231,"Зеленко Дмитрий / Zelenko Dmitrij / 1987","М",343.13]
[232,"Зуйков Антон / Zujkov Anton / 1995","М",339.4]
[233,"Кальвинковская Екатерина / Kalvinkovskaya Ekaterina / 1993","Ж",337.7]
[234,"Корожан Александр / Korozhan Aleksandr / 1971","М",336.57]
[235,"Борисевич Александр / Borisevich Aleksandr / 1989","М",336.36]
[236,"Юлов Герман / Yulov German / 1993","М",333.53]
[237,"Лавриченок Светлана / Lavrichenok Svetlana / 1971","Ж",332.18]
[238,"Воробьёв Дмитрий / Vorobjov Dmitrij / 1988","М",329.18]
[239,"Коледа Константин / Koleda Konstantin / 1976","М",327.47000000000003]
[240,"Павленко Юрий / Pavlenko Yurij / 1983","М",325.98]
[241,"Сикорская Настя / Sikorskaya Nastya / 1983","Ж",324.07]
[242,"Бокша Сергей / Boksha Sergej / 1988","М",319.02]
[243,"Шабанов Олег / Shabanov Oleg / 1971","М",318.64]
[244,"Левчук Александр / Levchuk Aleksandr / 1970","М",318.2]
[245,"Рачковский Николай / Rachkovskij Nikolaj / 1985","М",318.13]
[246,"Кузьменок Денис / Kuzmenok Denis / 1979","М",317.74]
[247,"Слободько Дмитрий / Slobodko Dmitrij / 1984","М",317.39999999999998]
[248,"Маханьков Александр / Mahankov Aleksandr / 1983","М",314.8]
[249,"Явтушенко Вадим / Yavtushenko Vadim / 1981","М",314.35000000000002]
[250,"Пехтерева Татьяна / Pehtereva Tatyana / 1987","Ж",309.35000000000002]
[251,"Герасимук Юрий / Gerasimuk Yurij / 1992","М",309.27999999999997]
[252,"Бунос Анатолий / Bunos Anatolij / 1956","М",308.82]
[253,"Андуро Сергей / Anduro Sergej / 1986","М",307.23]
[254,"Львовский Андрей / Lvovskij Andrej / 1991","М",306.26]
[255,"Афанасьев Иван / Afanasev Ivan / 1979","М",305.94]
[256,"Иванчик Александр / Ivanchik Aleksandr / 1990","М",303.42]
[257,"Анацко Леонид / Anatsko Leonid / 1961","М",303.08000000000004]
[258,"Комар Артем / Komar Artem / 1998","М",302.71000000000004]
[259,"Мертенс Андрей / Mertens Andrej / 1992","М",301.63]
[260,"Шипунов Олег / Shipunov Oleg / 1992","М",300.76]
[261,"Буховецкий Андрей / Buhovetskij Andrej / 1987","М",300.18]
[262,"Попов Александр / Popov Aleksandr / 1986","М",300.05]
[263,"Марчук Александр / Marchuk Aleksandr / 1986","М",299.88]
[264,"Гайдуков Александр / Gajdukov Aleksandr / 1989","М",299.38]
[265,"Сафонов Юрий / Safonov Yurij / 1983","М",298.42]
[266,"Коротких Елена / Korotkih Elena / 1984","Ж",296.26]
[267,"Николаевич Дмитрий / Nikolaevich Dmitrij / 1999","М",295.20999999999998]
[268,"Куликовский Ян / Kulikovskij Yan / 1992","М",289.54000000000002]
[269,"Ковеня Андрей / Kovenya Andrej / 1962","М",289.20999999999998]
[270,"Козич Галина / Kozich Galina / 1990","Ж",287.39999999999998]
[271,"Жданович Андрей / Zhdanovich Andrej / 1973","М",287.12]
[272,"Телегина София / Telegina Sofiya / 1991","Ж",286.58]
[273,"Данченко Глеб / Danchenko Gleb / 1986","М",286.07]
[274,"Жучина Катерина / Zhuchina Katerina / 1986","Ж",283.64]
[275,"Хлопцева Инга / Hloptseva Inga / 1982","Ж",283.57]
[276,"Славинский Дмитрий / Slavinskij Dmitrij / 1986","М",283.54000000000002]
[277,"Верещако Павел / Vereschako Pavel / 1988","М",283.08]
[278,"Галка Дмитрий / Galka Dmitrij / 1988","М",281.99]
[279,"Литвинская Людмила / Litvinskaya Lyudmila / 1977","Ж",281.89999999999998]
[280,"Студенков Александр / Studenkov Aleksandr / 1984","М",280.87]
[281,"Домбровский Евгений / Dombrovskij Evgenij / 1987","М",279.42]
[282,"Зиновенко Павел / Zinovenko Pavel / 1997","М",279.10000000000002]
[283,"Титова Инна / Titova Inna / 1986","Ж",278.13]
[284,"Грицук Татьяна / Gritsuk Tatyana / 1973","Ж",276.82]
[285,"Чернышев Дмитрий / Chernyshev Dmitrij / 1987","М",275.45]
[286,"Бондарь Юлия / Bondar Yuliya / 1993","Ж",275.16000000000003]
[287,"Набоков Дмитрий / Nabokov Dmitrij / 1998","М",273.74]
[288,"Костян Денис / Kostyan Denis / 1977","М",272.89]
[289,"Кожемякина Анна / Kozhemyakina Anna / 1991","Ж",272.37]
[290,"Чеснокова Надежда / Chesnokova Nadezhda / 1988","Ж",270.68]
[291,"Забабуро Сергей / Zababuro Sergej / 1978","М",270.52999999999997]
[292,"Шахметова Наташа / Shahmetova Natasha / 1992","Ж",268.86]
[293,"Стародуб Евгений / Starodub Evgenij / 2000","М",268.37]
[294,"Заяц Александр / Zayats Aleksandr / 1978","М",267.98]
[295,"Костев Евгений / Kostev Evgenij / 1990","М",266.11]
[296,"Игнатович Александр / Ignatovich Aleksandr / 1992","М",265.93]
[297,"Захарьев Алексей / Zaharev Aleksej / 1984","М",265.62]
[298,"Швайковская Ольга / Shvajkovskaya Olga / 1979","Ж",263.33999999999997]
[299,"Греков Игорь / Grekov Igor / 1970","М",263.31]
[300,"Кузеева Марина / Kuzeeva Marina / 1986","Ж",262.66000000000003]
[301,"Гумбар Илья / Gumbar Ilya / 1989","М",260.7]
[302,"Трасковский Геннадий / Traskovskij Gennadij / 1961","М",260.29000000000002]
[303,"Сіпачоў Аляксей / Sіpachou Alyaksej / 1979","М",259.45999999999998]
[304,"Чеботаева Валерия / Chebotaeva Valeriya / 1993","Ж",259.26]
[305,"Карпович Владимир / Karpovich Vladimir / 1983","М",258.55]
[306,"Мацко Сергей / Matsko Sergej / 1991","М",257.8]
[307,"Шаповалова Ирина / Shapovalova Irina / 1993","Ж",257.8]
[308,"Симонов Александр / Simonov Aleksandr / 1999","М",257.63]
[309,"Ролдугин Михаил / Roldugin Mihail / 1987","М",257.35000000000002]
[310,"Зятикова Наталья / Zyatikova Natalya / 1983","Ж",256.63]
[311,"Малькевич Елена / Malkevich Elena / 1984","Ж",250.32]
[312,"Марченко Людмила / Marchenko Lyudmila / 1972","Ж",250.15]
[313,"Куцуха Александр / Kutsuha Aleksandr / 1992","М",245.76]
[314,"Князев Родион / Knyazev Rodion / 1995","М",245.6]
[315,"Кукобникова Вита / Kukobnikova Vita / 1993","Ж",243.76999999999998]
[316,"Малаховская Татьяна / Malahovskaya Tatyana / 1989","Ж",243.05]
[317,"Мельников Павел / Melnikov Pavel / 1998","М",241.53]
[318,"Верамейчик Елена / Veramejchik Elena / ","Ж",241.04]
[319,"Маковский Дмитрий / Makovskij Dmitrij / 1981","М",241.02]
[320,"Кузьмич Дмитрий / Kuzmich Dmitrij / 1975","М",240.76999999999998]
[321,"Потапов Сергей / Potapov Sergej / 1988","М",240.61]
[322,"Лукьянов Александр / Lukyanov Aleksandr / 1979","М",240.19]
[323,"Бачища Николай / Bachischa Nikolaj / 1988","М",238.4]
[324,"Нефедова Оксана / Nefedova Oksana / 1979","Ж",237.64]
[325,"Винтергрин Андрей / Vintergrin Andrej / 1981","М",236.51]
[326,"Кожемякин Владимир / Kozhemyakin Vladimir / 1970","М",236.08]
[327,"Бегун Егор / Begun Egor / 1988","М",232.85]
[328,"Григорович Руслан / Grigorovich Ruslan / 1987","М",232.02]
[329,"Будрик Юлия / Budrik Yuliya / 1995","Ж",231.77]
[330,"Фомин Леонид / Fomin Leonid / 1983","М",231.37]
[331,"Богдевич Анатолий / Bogdevich Anatolij / 1999","М",230.8]
[332,"Федькович Виталий / Fedkovich Vitalij / 1995","М",230.8]
[333,"Пиньковская Ирина / Pinkovskaya Irina / 1986","Ж",229.5]
[334,"Булеева Наталья / Buleeva Natalya / 1969","Ж",226.85]
[335,"Лазаренок Глеб / Lazarenok Gleb / 1982","М",226.35]
[336,"Хамицевич Андрей / Hamitsevich Andrej / 1983","М",226.2]
[337,"Харик Анна / Harik Anna / 1986","Ж",225.13]
[338,"Кудрявец Валерий / Kudryavets Valerij / 1975","М",224.24]
[339,"Макарский Сергей / Makarskij Sergej / 1987","М",223.42]
[340,"Селиванов Алексавндр / Selivanov Aleksavndr / 1970","М",223.32]
[341,"Ярмончик Игорь / Yarmonchik Igor / 1985","М",223.04]
[342,"Лесникович Лиана / Lesnikovich Liana / 1988","Ж",222.5]
[343,"Пальвинская Валерия / Palvinskaya Valeriya / 1996","Ж",221.45]
[344,"Зеленцова Галина / Zelentsova Galina / 1988","Ж",220.67]
[345,"Юкевич Андрей / Yukevich Andrej / 1990","М",219.45]
[346,"Лисовская Наталья / Lisovskaya Natalya / 1998","Ж",219.24]
[347,"Дашин Михаил / Dashin Mihail / ","М",217.6]
[348,"Писаренко Андрей / Pisarenko Andrej / 1957","М",216.94]
[349,"Василевич Валентина / Vasilevich Valentina / 1998","Ж",215.33]
[350,"Сухобаевский Николай / Suhobaevskij Nikolaj / 1986","М",214.83]
[351,"Дундуков Андрей / Dundukov Andrej / 1985","М",214.78]
[352,"Савостеня Виктор / Savostenya Viktor / 1989","М",214.7]
[353,"Скляр Антон / Sklyar Anton / 1983","М",214.46]
[354,"Корожан Наталья / Korozhan Natalya / 1974","Ж",212.63]
[355,"Волостных Сергей / Volostnyh Sergej / 1989","М",210.65]
[356,"Глушаков Сергей / Glushakov Sergej / 1958","М",210.56]
[357,"Литвинка Нина / Litvinka Nina / 1991","Ж",210.54]
[358,"Иванцов Вячеслав / Ivantsov Vyacheslav / 1986","М",209.33]
[359,"Шестеров Андрей / Shesterov Andrej / 1986","М",209.22]
[360,"Геранин Дмитрий / Geranin Dmitrij / ","М",207.24]
[361,"Бычинский Владислав / Bychinskij Vladislav / 1992","М",206.24]
[362,"Малышко Татьяна / Malyshko Tatyana / 1983","Ж",206.24]
[363,"Пугач Вадим / Pugach Vadim / 1985","М",205.88]
[364,"Пархимович Ирина / Parhimovich Irina / 1988","Ж",203.96]
[365,"Молочко Анна / Molochko Anna / 2006","Ж",203.02]
[366,"Гомон Сергей / Gomon Sergej / 1990","М",202.45]
[367,"Тумашик Екатерина / Tumashik Ekaterina / 1984","Ж",200.61]
[368,"Заречанский Юрий / Zarechanskij Yurij / 1980","М",200.12]
[369,"Красовская Инна / Krasovskaya Inna / 1975","Ж",200.12]
[370,"Вирский Константин / Virskij Konstantin / 1977","М",199.59]
[371,"Коваленко Леонид / Kovalenko Leonid / 1999","М",198.59]
[372,"Герасевич Максим / Gerasevich Maksim / ","М",197.98000000000002]
[373,"Илатовский Дмитрий / Ilatovskij Dmitrij / 1974","М",197.79]
[374,"Королёв Максим / Koroljov Maksim / 1989","М",197.64]
[375,"Зайчук Кирилл / Zajchuk Kirill / 1990","М",197.3]
[376,"Лакустов Алексей / Lakustov Aleksej / 1986","М",196.94]
[377,"Щербо Виктор / Scherbo Viktor / 1961","М",196.88]
[378,"Вдовиченко Ирина / Vdovichenko Irina / 1989","Ж",195.97]
[379,"Лялеко Сергей / Lyaleko Sergej / 1986","М",195.06]
[380,"Коновалова Елена / Konovalova Elena / 1975","Ж",193.35]
[381,"Дедков Никита / Dedkov Nikita / 1998","М",193.23]
[382,"Старовойтова Евгения / Starovojtova Evgeniya / 1996","Ж",191.83]
[383,"Кулак Александр / Kulak Aleksandr / 1989","М",191.02]
[384,"Покульницкий Алексей / Pokulnitskij Aleksej / 1988","М",190.29999999999998]
[385,"Барсумян Артур / Barsumyan Artur / 1992","М",189.05]
[386,"Хацкевич Дмитрий / Hatskevich Dmitrij / 1985","М",188.72]
[387,"Дашкевич Павел / Dashkevich Pavel / 1999","М",188.47]
[388,"Жевняк Андрей / Zhevnyak Andrej / 1986","М",187.86]
[389,"Островцова Марина / Ostrovtsova Marina / 1987","Ж",187.61]
[390,"Володько Владимир / Volodko Vladimir / 2001","М",186.52]
[391,"Зуевский Роман / Zuevskij Roman / 1986","М",186.28]
[392,"Торопова Мария / Toropova Mariya / 1989","Ж",186.28]
[393,"Лупин Сергей / Lupin Sergej / 1985","М",186]
[394,"Капустин Егор / Kapustin Egor / 2004","М",185.72000000000003]
[395,"Павлова Анна / Pavlova Anna / 1992","Ж",185.42]
[396,"Силивонова Виктория / Silivonova Viktoriya / 1994","Ж",185.37]
[397,"Зуй Александр / Zuj Aleksandr / 1980","М",184.07999999999998]
[398,"Ладутько Наталья / Ladutko Natalya / 1974","Ж",182.82]
[399,"Дышлевич Сергей / Dyshlevich Sergej / 1982","М",182.49]
[400,"Чернявский Артем / Chernyavskij Artem / 1987","М",181.93]
[401,"Нежаветс Сергей / Nezhavets Sergej / 1989","М",180.46]
[402,"Гамидов Нариман / Gamidov Nariman / 1972","М",179.63]
[403,"Кохан Виталий / Kohan Vitalij / 1982","М",178.65]
[404,"Легчеков Дмитрий / Legchekov Dmitrij / 1984","М",177.12]
[405,"Бажанский Виталий / Bazhanskij Vitalij / 1982","М",177.08]
[406,"Скабицкая Анна / Skabitskaya Anna / 1987","Ж",176.54]
[407,"Куликовских Иванна / Kulikovskih Ivanna / 1974","Ж",175.1]
[408,"Лучкин Олег / Luchkin Oleg / 1983","М",173.38]
[409,"Хомич Юрий / Homich Yurij / 1970","М",172.97]
[410,"Будник Владимир / Budnik Vladimir / 1987","М",172.83]
[411,"Дунаева Мария / Dunaeva Mariya / 1983","Ж",171.95]
[412,"Нещик Алексей / Neschik Aleksej / 1983","М",171.76]
[413,"Федченко Ярослава / Fedchenko Yaroslava / 2002","Ж",170.33999999999997]
[414,"Крипа Светлана / Kripa Svetlana / 1989","Ж",167.71]
[415,"Селищева Ирина / Selischeva Irina / 1983","Ж",167.57]
[416,"Утлик Максим / Utlik Maksim / 1985","М",167.24]
[417,"Рудковская Татьяна / Rudkovskaya Tatyana / 1997","Ж",166.88]
[418,"Новиков Денис / Novikov Denis / 1989","М",166.39]
[419,"Кукареко Екатерина / Kukareko Ekaterina / 1986","Ж",166.09]
[420,"Ермак Алексей / Ermak Aleksej / 1984","М",165.89]
[421,"Бойко Евгений / Bojko Evgenij / 1985","М",165.79]
[422,"Фигурин Дмитрий / Figurin Dmitrij / 1982","М",163.27000000000001]
[423,"Панковец Николай / Pankovets Nikolaj / 1979","М",162.99]
[424,"Кузнецова Наталья / Kuznetsova Natalya / 1984","Ж",162.6]
[425,"Зеленский Александр / Zelenskij Aleksandr / 1978","М",162.32]
[426,"Трубкина Инна / Trubkina Inna / 1972","Ж",162.03]
[427,"Минич Ольга / Minich Olga / 1989","Ж",158.88999999999999]
[428,"Бизюк Игорь / Bizyuk Igor / 1956","М",157.99]
[429,"Леонов Алексей / Leonov Aleksej / 1986","М",157.4]
[430,"Малявко Сергей / Malyavko Sergej / 1990","М",155.65]
[431,"Круглик Игорь / Kruglik Igor / 1985","М",155.43]
[432,"Иванов Денис / Ivanov Denis / 1990","М",154.63999999999999]
[433,"Лопатик Юрий / Lopatik Yurij / 1984","М",154.41]
[434,"Зятиков Евгений / Zyatikov Evgenij / 1982","М",152.70000000000002]
[435,"Барановский Алексей / Baranovskij Aleksej / 1981","М",152.47999999999999]
[436,"Занько Юрий / Zanko Yurij / 1982","М",151.71]
[437,"Суматохин Виталий / Sumatohin Vitalij / 1989","М",150.29]
[438,"Хинец Анна / Hinets Anna / 1986","Ж",150.09]
[439,"Стракович Екатерина / Strakovich Ekaterina / 1991","Ж",150.06]
[440,"Необердина Мария / Neoberdina Mariya / 1987","Ж",148.34]
[441,"Гладкова Анна / Gladkova Anna / 1985","Ж",147.25]
[442,"Грицевич Виталий / Gritsevich Vitalij / 1987","М",146.36000000000001]
[443,"Сильченко Наталья / Silchenko Natalya / ","Ж",145.83000000000001]
[444,"Чирская Юлия / Chirskaya Yuliya / 1992","М",145.07]
[445,"Делендик Максим / Delendik Maksim / 1992","М",144.91999999999999]
[446,"Войтович Татьяна / Vojtovich Tatyana / 1986","Ж",143.29]
[447,"Березин Артём / Berezin Artjom / 1986","М",142.65]
[448,"Герасимов Юрий / Gerasimov Yurij / 1992","М",142.63999999999999]
[449,"Бурак Анжелика / Burak Anzhelika / 1994","Ж",141.22999999999999]
[450,"Загорнов Александр / Zagornov Aleksandr / 1966","М",140.43]
[451,"Бортник Александр / Bortnik Aleksandr / 1994","М",139.71]
[452,"Кравчук Александр / Kravchuk Aleksandr / 1983","М",137.49]
[453,"Стельмах Юрий / Stelmah Yurij / 1982","М",137.25]
[454,"Лапко Оля / Lapko Olya / 1992","Ж",137.02000000000001]
[455,"Филипович Никита / Filipovich Nikita / 1993","М",136.44999999999999]
[456,"Казак Константин / Kazak Konstantin / 2004","М",134.71]
[457,"Станкевич Владимир / Stankevich Vladimir / 1982","М",134.18]
[458,"Моисеева Вероника / Moiseeva Veronika / 1983","Ж",132.4]
[459,"Зеленко Алексей / Zelenko Aleksej / 1980","М",131.66999999999999]
[460,"Русакова Татьяна / Rusakova Tatyana / 1979","Ж",129.79]
[461,"Зеленко Диана / Zelenko Diana / 1988","Ж",128.9]
[462,"Агаев Руслан / Agaev Ruslan / 1995","М",128.82]
[463,"Никрашевич Сергей / Nikrashevich Sergej / 1985","М",128.66999999999999]
[464,"Хадорик Владимир / Hadorik Vladimir / 1986","М",127.89]
[465,"Шуленков Роман / Shulenkov Roman / 1990","М",127.35]
[466,"Рудович Александр / Rudovich Aleksandr / 1990","М",126.4]
[467,"Белицкий Денис / Belitskij Denis / 1990","М",125.38999999999999]
[468,"Морозова Екатерина / Morozova Ekaterina / 1978","Ж",125.07]
[469,"Белоусов Александр / Belousov Aleksandr / 1981","М",123.45]
[470,"Фидек Виталий / Fidek Vitalij / 1966","М",122.88]
[471,"Шульпенков Александр / Shulpenkov Aleksandr / 1986","М",122.32]
[472,"Гарбар Екатерина / Garbar Ekaterina / 1989","Ж",120.52]
[473,"Вайтешонок Сергей / Vajteshonok Sergej / 1981","М",120.3]
[474,"Логиновский Михаил / Loginovskij Mihail / 1976","М",119.75]
[475,"Леонович Виталий / Leonovich Vitalij / 1984","М",118.08]
[476,"Казак Наталья / Kazak Natalya / 1979","Ж",117.94999999999999]
[477,"Белоцкая Елена / Belotskaya Elena / 1987","Ж",116.01]
[478,"Херзен Андрей / Herzen Andrej / 1984","М",114.85]
[479,"Левчук Ирина / Levchuk Irina / 1974","Ж",114.63]
[480,"Бутурля Александр / Buturlya Aleksandr / 1981","М",113.98]
[481,"Ремизевич Вадим / Remizevich Vadim / 1980","М",113.1]
[482,"Фам Вероника / Fam Veronika / 1982","Ж",112.57]
[483,"Метелица Антон / Metelitsa Anton / 1989","М",111.71]
[484,"Коляда Юрий / Kolyada Yurij / 1980","М",111.52]
[485,"Ковалёва Катерина / Kovaljova Katerina / 1987","Ж",111.25]
[486,"Ступяк Андрей / Stupyak Andrej / 1979","М",109.72]
[487,"Ананич Александр / Ananich Aleksandr / 1979","М",108.37]
[488,"Суворов Александр / Suvorov Aleksandr / 1983","М",107.35]
[489,"Незнанов Михаил / Neznanov Mihail / 1982","М",106.45]
[490,"Абаркина Елена / Abarkina Elena / 1983","Ж",105.92]
[491,"Дубровский Виктор / Dubrovskij Viktor / 1961","М",105.33]
[492,"Сербаев Виталий / Serbaev Vitalij / 1979","М",103.29]
[493,"Кузьменко Иван / Kuzmenko Ivan / 1981","М",103.12]
[494,"Горшков Игорь / Gorshkov Igor / 1977","М",102.94]
[495,"Лунский Сергей / Lunskij Sergej / 1995","М",100.06]
[496,"Тимкина Наталья / Timkina Natalya / 1982","Ж",100.06]
[497,"Якубовская Виктория / Yakubovskaya Viktoriya / 1984","Ж",97.1]
[498,"Пехтерев Сергей / Pehterev Sergej / 1979","М",94.52]
[499,"Ключеня Виталий / Klyuchenya Vitalij / 1982","М",93.46]
[500,"Соколов Артем / Sokolov Artem / 1986","М",93.26]
[501,"Якимченко Анатолий / Yakimchenko Anatolij / 1967","М",93.22]
[502,"Жукович Артем / Zhukovich Artem / 1988","М",93.14]
[503,"Терехова Татьяна / Terehova Tatyana / 1982","Ж",92.71]
[504,"Ращинский Александр / Raschinskij Aleksandr / 1990","М",91.25]
[505,"Когалёнок Елена / Kogaljonok Elena / 1979","Ж",90.23]
[506,"Бушковский Максим / Bushkovskij Maksim / 1989","М",88.54]
[507,"Дубровский Евгений / Dubrovskij Evgenij / 1984","М",87.77]
[508,"Забелова Юлия / Zabelova Yuliya / 1978","Ж",87.55]
[509,"Катонов Василий / Katonov Vasilij / 1985","М",86.69]
[510,"Фамичёва Елена / Famichjova Elena / 1993","Ж",85.98]
[511,"Орлов Максим / Orlov Maksim / 1990","М",83.62]
[512,"Нехайчик Мария / Nehajchik Mariya / 1995","Ж",83.44]
[513,"Бычков Александр / Bychkov Aleksandr / 1990","М",81.87]
[514,"Петкевич Лилия / Petkevich Liliya / 1990","Ж",81.02]
[515,"Даник Даниил / Danik Daniil / 1982","М",80.510000000000005]
[516,"Мороз Евгений / Moroz Evgenij / 1985","М",79.83]
[517,"Самусик Елена / Samusik Elena / 1992","Ж",79.44]
[518,"Захаров Иван / Zaharov Ivan / 1979","М",77.34]
[519,"Шкрабо Ольга / Shkrabo Olga / 1985","Ж",77.34]
[520,"Самсонов Никита / Samsonov Nikita / 1989","М",75.86]
[521,"Щукин Макс / Schukin Maks / 1992","М",75.14]
[522,"Жук Лия / Zhuk Liya / 1980","Ж",75.040000000000006]
[523,"Ружицкая Елена / Ruzhitskaya Elena / 1983","Ж",74.17]
[524,"Городко Игорь / Gorodko Igor / 1970","М",72.77]
[525,"Стешко Фёдор / Steshko Fjodor / 1990","М",72.53]
[526,"Гончарик Наталья / Goncharik Natalya / 1991","Ж",71.650000000000006]
[527,"Ben Bilel / Ben Bilel / 1981","М",71.430000000000007]
[528,"Орлова Татьяна / Orlova Tatyana / 1990","Ж",70.62]
[529,"Кудрейко Михаил / Kudrejko Mihail / 1981","М",70.22]
[530,"Кислов Михаил / Kislov Mihail / 1992","М",69.78]
[531,"Сим Игорь / Sim Igor / 1989","М",66.53]
[532,"Якимчук Надежда / Yakimchuk Nadezhda / 1986","Ж",65.83]
[533,"Гракович Ольга / Grakovich Olga / 1994","Ж",64.900000000000006]
[534,"Круглова Александра / Kruglova Aleksandra / 1989","Ж",64.45]
[535,"Липский Александр / Lipskij Aleksandr / 1977","М",64.41]
[536,"Вирт Олег / Virt Oleg / 1980","М",63.67]
[537,"Иванова Екатерина / Ivanova Ekaterina / 1989","Ж",62.54]
[538,"Липская Яна / Lipskaya Yana / 2007","Ж",61.79]
[539,"Ковалев Никита / Kovalev Nikita / 2001","М",59.88]
[540,"Артихович Александр / Artihovich Aleksandr / 1972","М",59.04]
[541,"Зуй Марина / Zuj Marina / 1984","Ж",57.32]
[542,"Завалова Анастасия / Zavalova Anastasiya / 1994","Ж",55.63]
[543,"Щербина Максим / Scherbina Maksim / 1976","М",54.86]
[544,"Новосяд Владимир / Novosyad Vladimir / 1968","М",54.58]
[545,"Бердников Дмитрий / Berdnikov Dmitrij / ","М",53.67]
[546,"Ковалев Михаил / Kovalev Mihail / 1970","М",53.22]
[547,"Липская Наталья / Lipskaya Natalya / 1977","Ж",52.96]
[548,"Луцевич Eвгений / Lutsevich Evgenij / 1964","М",52.66]
[549,"Федоринчик Дмитрий / Fedorinchik Dmitrij / 1988","М",51.81]
[550,"Рускевич Максим / Ruskevich Maksim / 1990","М",51.56]
[551,"Прокопенко Анна / Prokopenko Anna / 1980","Ж",50.03]
[552,"Лучинович Сергей / Luchinovich Sergej / 1979","М",49.19]
[553,"Ковриго Сергей / Kovrigo Sergej / 1981","М",46.57]
[554,"Ковальчук Екатерина / Kovalchuk Ekaterina / 1987","Ж",46.35]
[555,"Кривальцевич Валентина / Krivaltsevich Valentina / 1984","Ж",46.35]
[556,"Гарбуз Алла / Garbuz Alla / 1969","Ж",46.31]
[557,"Скребец Сергей / Skrebets Sergej / 1963","М",45.48]
[558,"Мейсак Александр / Mejsak Aleksandr / 1989","М",43.89]
[559,"Малаховский Александр / Malahovskij Aleksandr / 1985","М",43.35]
[560,"Моргачев Андрей / Morgachev Andrej / 1981","М",42.97]
[561,"Ветохин Иван / Vetohin Ivan / 1987","М",41.45]
[562,"Дашкевич Сергей / Dashkevich Sergej / 1996","М",39.92]
[563,"Йоцюс Виталий / Jotsyus Vitalij / ","М",37.57]
[564,"Будыхина Татьяна / Budyhina Tatyana / 1985","Ж",37.520000000000003]
[565,"Островцов Александр / Ostrovtsov Aleksandr / 1988","М",36.39]
[566,"Родионова Светлана / Rodionova Svetlana / 1981","Ж",35.31]
[567,"Зументс Роберт / Zuments Robert / 1979","М",35.11]
[568,"Выробов Дмитрий / Vyrobov Dmitrij / 1988","М",34.369999999999997]
[569,"Федченко Олеся / Fedchenko Olesya / 1977","Ж",32.92]
[570,"Халомзик Дмитрий / Halomzik Dmitrij / 1972","М",32.200000000000003]
[571,"Молочко Николай / Molochko Nikolaj / 2004","М",31.09]
[572,"Михайлова Марина / Mihajlova Marina / 1988","Ж",27.81]
[573,"Минчук Александр / Minchuk Aleksandr / 1974","М",27.29]
[574,"Пилецкий Максим / Piletskij Maksim / 1991","М",26.84]
[575,"Адаменко Виталий / Adamenko Vitalij / 1985","М",26.61]
[576,"Ветохина София / Vetohina Sofiya / 2010","Ж",26.48]
[577,"Лабунская Ирина / Labunskaya Irina / 1983","Ж",25.78]
[578,"Чалый Николай / Chalyj Nikolaj / 1980","М",25.78]
[579,"Поволоцкая Кристина / Povolotskaya Kristina / 1990","Ж",25.01]
[580,"Карабанькова Марина / Karabankova Marina / 1989","Ж",23.6]
[581,"Калюжный Дмитрий / Kalyuzhnyj Dmitrij / 1986","М",21.47]
[582,"Сысков Никита / Syskov Nikita / 1985","М",20.72]
[583,"Курата Кенет / Kurata Kenet / 1978","М",19.96]
[584,"Томашев Игорь / Tomashev Igor / 1965","М",18.190000000000001]
[585,"Манкевич Алексей / Mankevich Aleksej / 1972","М",17.190000000000001]
[586,"Троцкий Игнат / Trotskij Ignat / 2002","М",16.100000000000001]
[587,"Клауч Екатерина / Klauch Ekaterina / 1987","Ж",12.89]
[588,"Дурейко Анна / Durejko Anna / 1987","Ж",12.51]
[589,"Коньшин Андрей / Konshin Andrej / 1988","М",10.97]
[590,"Кожемякин Алексей / Kozhemyakin Aleksej / 1986","М",10.36]
[591,"Поволоцкий Даниил / Povolotskij Daniil / 1990","М",9.1]
[592,"Клауч Виктор / Klauch Viktor / 1988","М",8.59]
[593,"Павлов Александр / Pavlov Aleksandr / 1992","М",6.65]
[594,"Гречишкин Алексей / Grechishkin Aleksej / 1983","М",5.37]

{"sheet":"Рейтинг М","index":6,"n_rows":414,"n_cols":4,"rows_kept":414,"cut":false,"hidden":false,"merged":[]}
["№ п/п","Фамилия, Имя, Год рождения","Пол","Сумма баллов"]
[1,"Синица Кирилл / Sinitsa Kirill / 1981","М",3242.29]
[2,"Молочко Александр / Molochko Aleksandr / 1981","М",2353.9100000000003]
[3,"Крисенков Алексей / Krisenkov Aleksej / 1983","М",2232.69]
[4,"Храмов Антон / Hramov Anton / 1991","М",2199.64]
[5,"Тюев Даниил / Tyuev Daniil / 1977","М",2023.0800000000002]
[6,"Харитонов Иван / Haritonov Ivan / 1973","М",1961.09]
[7,"Исаев Антон / Isaev Anton / 1979","М",1862.81]
[8,"Лысенко Павел / Lysenko Pavel / 1966","М",1835.31]
[9,"Скуратович Антон / Skuratovich Anton / 1985","М",1825.44]
[10,"Селютин Владимир / Selyutin Vladimir / 1990","М",1752.15]
[11,"Попадюк Игорь / Popadyuk Igor / 1982","М",1704.03]
[12,"Вагин Андрей / Vagin Andrej / 1989","М",1671.86]
[13,"Коровец Богдан / Korovets Bogdan / 1976","М",1619.81]
[14,"Маркевич Денис / Markevich Denis / 1981","М",1589.92]
[15,"Борисевич Леонид / Borisevich Leonid / 1969","М",1588.27]
[16,"Лойко Сергей / Lojko Sergej / 1985","М",1522.78]
[17,"Федорович Николай / Fedorovich Nikolaj / 1959","М",1507.3]
[18,"Березовский Андрей / Berezovskij Andrej / 1973","М",1454.44]
[19,"Хорошавин Вячеслав / Horoshavin Vyacheslav / 1985","М",1420.8]
[20,"Лисовский Виктор / Lisovskij Viktor / 1964","М",1407.4799999999998]
[21,"Сидоревич Александр / Sidorevich Aleksandr / 1985","М",1396.03]
[22,"Глушков Александр / Glushkov Aleksandr / 1980","М",1385.2]
[23,"Подрез Ярослав / Podrez Yaroslav / 1996","М",1346.74]
[24,"Мальков Валентин / Malkov Valentin / 1988","М",1327.33]
[25,"Лесковец Александр / Leskovets Aleksandr / 1990","М",1317.88]
[26,"Тарасенко Павел / Tarasenko Pavel / 1983","М",1302.4299999999998]
[27,"Ласюк Юрий / Lasyuk Yurij / 1987","М",1294.6699999999998]
[28,"Володько Андрей / Volodko Andrej / 1986","М",1255.3900000000001]
[29,"Мартысевич Роман / Martysevich Roman / 1993","М",1200.08]
[30,"Молчан Александр / Molchan Aleksandr / 1988","М",1125.97]
[31,"Суховей Михаил / Suhovej Mihail / 1991","М",1118.68]
[32,"Тихонов Василий / Tihonov Vasilij / 1993","М",1086.92]
[33,"Бузо Александр / Buzo Aleksandr / 1982","М",1084.23]
[34,"Пивень Андрей / Piven Andrej / 1992","М",1066.77]
[35,"Евсюченя Александр / Evsyuchenya Aleksandr / 1991","М",1066.06]
[36,"Алексеев Алексей / Alekseev Aleksej / 1980","М",1053.1299999999999]
[37,"Генсировский Павел / Gensirovskij Pavel / 1979","М",1041.1500000000001]
[38,"Рагойша Пётр / Ragojsha Pjotr / 1976","М",1036.52]
[39,"Жидович Вадим / Zhidovich Vadim / 1984","М",1000.47]
[40,"Козич Андрей / Kozich Andrej / 1986","М",983.31]
[41,"Овсиюк Богдан / Ovsiyuk Bogdan / 1993","М",954.94]
[42,"Грабовец Павел / Grabovets Pavel / 1981","М",954.39]
[43,"Лавник Игорь / Lavnik Igor / 1983","М",942.6099999999999]
[44,"Шепетько Сергей / Shepetko Sergej / 1987","М",915.17]
[45,"Побединский Александр / Pobedinskij Aleksandr / 1983","М",867.63]
[46,"Католиков Роман / Katolikov Roman / 1985","М",865.91000000000008]
[47,"Леонов Иван / Leonov Ivan / 1986","М",846.91000000000008]
[48,"Журавлёв Андрей / Zhuravljov Andrej / 1978","М",843.98]
[49,"Дегтярев Сергей / Degtyarev Sergej / 1983","М",840.92]
[50,"Казак Дмитрий / Kazak Dmitrij / 1979","М",830.82999999999993]
[51,"Ермохин Максим / Ermohin Maksim / 1975","М",817.91000000000008]
[52,"Окромешко Антон / Okromeshko Anton / 1990","М",809.79]
[53,"Миканович Антон / Mikanovich Anton / 1990","М",805.76]
[54,"Мосийчук Максим / Mosijchuk Maksim / 1984","М",797.65]
[55,"Кирcанов Алексей / Kircanov Aleksej / 1981","М",795.25]
[56,"Величко Павел / Velichko Pavel / 1982","М",776.36]
[57,"Фенченко Алексей / Fenchenko Aleksej / 1989","М",768.07]
[58,"Брытько Роман / Brytko Roman / 1995","М",762.22]
[59,"Палий Андрей / Palij Andrej / 1984","М",747.22]
[60,"Некрасов Василий / Nekrasov Vasilij / 1986","М",715.21]
[61,"Брагин Иван / Bragin Ivan / 1986","М",714.28]
[62,"Попов Юрий / Popov Yurij / 1969","М",702.17]
[63,"Новікаў Анатоль / Novіkau Anatol / 1984","М",694.1]
[64,"Грек Илья / Grek Ilya / 1992","М",685.56]
[65,"Юкевич Александр / Yukevich Aleksandr / 1983","М",674.7]
[66,"Орловский Павел / Orlovskij Pavel / 1989","М",670.27]
[67,"Гидлевский Дмитрий / Gidlevskij Dmitrij / 1986","М",668.6]
[68,"Печёнов Георгий / Pechjonov Georgij / 1975","М",663.08999999999992]
[69,"Олин Денис / Olin Denis / 1976","М",657.88]
[70,"Выборный Александр / Vybornyj Aleksandr / 1985","М",656.09]
[71,"Нестерович Сергей / Nesterovich Sergej / 1994","М",640.05999999999995]
[72,"Свечников Антон / Svechnikov Anton / 1991","М",632.36]
[73,"Остаповец Евгений / Ostapovets Evgenij / 1990","М",631.76]
[74,"Бабицкий Кирилл / Babitskij Kirill / 1998","М",628.52]
[75,"Шило Руслан / Shilo Ruslan / 1993","М",623.79]
[76,"Жучин Алексей / Zhuchin Aleksej / 1983","М",616.21]
[77,"Кондяр Павел / Kondyar Pavel / 1993","М",615.82999999999993]
[78,"Нечаев Владимир / Nechaev Vladimir / 1995","М",615.77]
[79,"Лисовский Павел / Lisovskij Pavel / 1986","М",606.85]
[80,"Медвецкий Денис / Medvetskij Denis / 1986","М",598.16]
[81,"Сорокин Денис / Sorokin Denis / 1998","М",597.39]
[82,"Прокопович Ростислав / Prokopovich Rostislav / 1982","М",596.84]
[83,"Кислицын Артем / Kislitsyn Artem / 1992","М",596.32000000000005]
[84,"Лещинский Владимир / Leschinskij Vladimir / 1983","М",579.29]
[85,"Гусаревич Денис / Gusarevich Denis / 1983","М",578.41999999999996]
[86,"Шклярик Олег / Shklyarik Oleg / 1970","М",575.4]
[87,"Михно Борис / Mihno Boris / 1982","М",570.05000000000007]
[88,"Веремейчик Юрий / Veremejchik Yurij / 1979","М",567.80999999999995]
[89,"Жданович Максим / Zhdanovich Maksim / 1987","М",561.73]
[90,"Трасковский Дмитрий / Traskovskij Dmitrij / 1986","М",549.5]
[91,"Драгун Борис / Dragun Boris / 1970","М",547]
[92,"Казарин Дмитрий / Kazarin Dmitrij / 1994","М",545.01]
[93,"Минько Алексей / Minko Aleksej / 1997","М",544.17999999999995]
[94,"Рачковский Сергей / Rachkovskij Sergej / 1988","М",541.83000000000004]
[95,"Жучков Алексей / Zhuchkov Aleksej / 1985","М",541.54999999999995]
[96,"Шапелевич Максим / Shapelevich Maksim / 1987","М",537.22]
[97,"Тофоров Дмитрий / Toforov Dmitrij / 1991","М",536.69000000000005]
[98,"Радиончик Александр / Radionchik Aleksandr / 1985","М",534.68000000000006]
[99,"Баронов Роман / Baronov Roman / 1993","М",526.08999999999992]
[100,"Хамицевич Михаил / Hamitsevich Mihail / 1980","М",516.88]
[101,"Сердитов Вадим / Serditov Vadim / 1993","М",510.44]
[102,"Пучик Александр / Puchik Aleksandr / 1983","М",509.07]
[103,"Ходан Александр / Hodan Aleksandr / 1988","М",504.06]
[104,"Аржаников Евгений / Arzhanikov Evgenij / 1976","М",503.18000000000006]
[105,"Ланин Иван / Lanin Ivan / 1989","М",500.96999999999997]
[106,"Толкачев Дмитрий / Tolkachev Dmitrij / 1971","М",500.3]
[107,"Шестаков Геннадий / Shestakov Gennadij / 1962","М",491.66]
[108,"Плодунов Захар / Plodunov Zahar / 1993","М",491.2]
[109,"Кожан Михаил / Kozhan Mihail / 1946","М",489.44999999999993]
[110,"Крус Виктор / Krus Viktor / 1980","М",480.78]
[111,"Мурашов Владимир / Murashov Vladimir / 1983","М",476.90999999999997]
[112,"Николаевский Станислав / Nikolaevskij Stanislav / 1985","М",473.96]
[113,"Ладеев Дмитрий / Ladeev Dmitrij / 1981","М",468.31]
[114,"Савич Евгений / Savich Evgenij / 1980","М",461.26]
[115,"Леверовский Александр / Leverovskij Aleksandr / 1988","М",457.31]
[116,"Солодкин Сергей / Solodkin Sergej / 1984","М",453.01]
[117,"Лукьяненко Александр / Lukyanenko Aleksandr / 1984","М",445.72]
[118,"Лукашенок Алексей / Lukashenok Aleksej / 1978","М",440.25]
[119,"Никонов Максим / Nikonov Maksim / 1979","М",438.9]
[120,"Стасевич Александр / Stasevich Aleksandr / 1987","М",437.49]
[121,"Куратник Юрий / Kuratnik Yurij / 1987","М",436.63]
[122,"Комин Игорь / Komin Igor / 1959","М",433.81]
[123,"Поцелуев Сергей / Potseluev Sergej / 1973","М",433.46]
[124,"Волков Николай / Volkov Nikolaj / 1989","М",428.91]
[125,"Насвит Дмитрий / Nasvit Dmitrij / 1986","М",427.93]
[126,"Леденёв Андрей / Ledenjov Andrej / 1971","М",427.53]
[127,"Камышкайло Анатолий / Kamyshkajlo Anatolij / 1981","М",427.49]
[128,"Филитарин Дмитрий / Filitarin Dmitrij / 1987","М",421.11]
[129,"Захаркин Сергей / Zaharkin Sergej / 1976","М",420.34]
[130,"Якубовский Игорь / Yakubovskij Igor / 1984","М",416.17999999999995]
[131,"Малалетников Павел / Malaletnikov Pavel / 1982","М",411.79]
[132,"Чеботаев Сергей / Chebotaev Sergej / 1989","М",411.76]
[133,"Балашов Никита / Balashov Nikita / 1983","М",409.34]
[134,"Копоть Александр / Kopot Aleksandr / 1992","М",404.89]
[135,"Чудаков Владислав / Chudakov Vladislav / 1977","М",403.79999999999995]
[136,"Симогостицкий Александр / Simogostitskij Aleksandr / 1987","М",399.45]
[137,"Искорцев Алексей / Iskortsev Aleksej / 1980","М",397.48]
[138,"Иванчик Константин / Ivanchik Konstantin / 1983","М",392.86]
[139,"Никитюк Алексей / Nikityuk Aleksej / 1985","М",386.19]
[140,"Михнюк Виктор / Mihnyuk Viktor / 1990","М",386.02]
[141,"Щербаков Илья / Scherbakov Ilya / 1989","М",385.70000000000005]
[142,"Иолтуховский Владислав / Ioltuhovskij Vladislav / 1971","М",384.57]
[143,"Новиченко Антон / Novichenko Anton / 1997","М",383.67]
[144,"Тривашкевич Евгений / Trivashkevich Evgenij / 1996","М",382.83]
[145,"Яцкевич Кирилл / Yatskevich Kirill / 2001","М",382.05]
[146,"Чичин Юрий / Chichin Yurij / 1979","М",380.78]
[147,"Таран Виталий / Taran Vitalij / 1983","М",377.51000000000005]
[148,"Астапов Владимир / Astapov Vladimir / 1977","М",375.97]
[149,"Пісарчык Сяргей / Pіsarchyk Syargej / 1980","М",373.83]
[150,"Кошур Александр / Koshur Aleksandr / 1988","М",372.95]
[151,"Лещевич Валерий / Leschevich Valerij / 1989","М",372.56]
[152,"Остапов Владимир / Ostapov Vladimir / 1977","М",370.07]
[153,"Аноничев Александр / Anonichev Aleksandr / 1982","М",368.91]
[154,"Труханов Сергей / Truhanov Sergej / 1987","М",368.64]
[155,"Мартынов Дмитрий / Martynov Dmitrij / 1984","М",365.91]
[156,"Салодкин Сергей / Salodkin Sergej / 1984","М",363.99]
[157,"Симонов Вадим / Simonov Vadim / 1985","М",363.43]
[158,"Кусов Иван / Kusov Ivan / 1993","М",362.09]
[159,"Пузаревский Роман / Puzarevskij Roman / 1994","М",360.29]
[160,"Дельянов Одиссей / Delyanov Odissej / 1979","М",357.31]
[161,"Гладковский Владислав / Gladkovskij Vladislav / 1990","М",354.76]
[162,"Асаевич Роман / Asaevich Roman / 1964","М",351.08]
[163,"Титуленко Егор / Titulenko Egor / 1983","М",347.05]
[164,"Быков Владимир / Bykov Vladimir / 1977","М",346.77]
[165,"Гамидов Тимур / Gamidov Timur / 1996","М",345.95]
[166,"Бабич Виталий / Babich Vitalij / 1981","М",345.66]
[167,"Зеленко Дмитрий / Zelenko Dmitrij / 1987","М",343.13]
[168,"Зуйков Антон / Zujkov Anton / 1995","М",339.4]
[169,"Корожан Александр / Korozhan Aleksandr / 1971","М",336.57]
[170,"Борисевич Александр / Borisevich Aleksandr / 1989","М",336.36]
[171,"Юлов Герман / Yulov German / 1993","М",333.53]
[172,"Воробьёв Дмитрий / Vorobjov Dmitrij / 1988","М",329.18]
[173,"Коледа Константин / Koleda Konstantin / 1976","М",327.47000000000003]
[174,"Павленко Юрий / Pavlenko Yurij / 1983","М",325.98]
[175,"Бокша Сергей / Boksha Sergej / 1988","М",319.02]
[176,"Шабанов Олег / Shabanov Oleg / 1971","М",318.64]
[177,"Левчук Александр / Levchuk Aleksandr / 1970","М",318.2]
[178,"Рачковский Николай / Rachkovskij Nikolaj / 1985","М",318.13]
[179,"Кузьменок Денис / Kuzmenok Denis / 1979","М",317.74]
[180,"Слободько Дмитрий / Slobodko Dmitrij / 1984","М",317.39999999999998]
[181,"Маханьков Александр / Mahankov Aleksandr / 1983","М",314.8]
[182,"Явтушенко Вадим / Yavtushenko Vadim / 1981","М",314.35000000000002]
[183,"Герасимук Юрий / Gerasimuk Yurij / 1992","М",309.27999999999997]
[184,"Бунос Анатолий / Bunos Anatolij / 1956","М",308.82]
[185,"Андуро Сергей / Anduro Sergej / 1986","М",307.23]
[186,"Львовский Андрей / Lvovskij Andrej / 1991","М",306.26]
[187,"Афанасьев Иван / Afanasev Ivan / 1979","М",305.94]
[188,"Иванчик Александр / Ivanchik Aleksandr / 1990","М",303.42]
[189,"Анацко Леонид / Anatsko Leonid / 1961","М",303.08000000000004]
[190,"Комар Артем / Komar Artem / 1998","М",302.71000000000004]
[191,"Мертенс Андрей / Mertens Andrej / 1992","М",301.63]
[192,"Шипунов Олег / Shipunov Oleg / 1992","М",300.76]
[193,"Буховецкий Андрей / Buhovetskij Andrej / 1987","М",300.18]
[194,"Попов Александр / Popov Aleksandr / 1986","М",300.05]
[195,"Марчук Александр / Marchuk Aleksandr / 1986","М",299.88]
[196,"Гайдуков Александр / Gajdukov Aleksandr / 1989","М",299.38]
[197,"Сафонов Юрий / Safonov Yurij / 1983","М",298.42]
[198,"Николаевич Дмитрий / Nikolaevich Dmitrij / 1999","М",295.20999999999998]
[199,"Куликовский Ян / Kulikovskij Yan / 1992","М",289.54000000000002]
[200,"Ковеня Андрей / Kovenya Andrej / 1962","М",289.20999999999998]
[201,"Жданович Андрей / Zhdanovich Andrej / 1973","М",287.12]
[202,"Данченко Глеб / Danchenko Gleb / 1986","М",286.07]
[203,"Славинский Дмитрий / Slavinskij Dmitrij / 1986","М",283.54000000000002]
[204,"Верещако Павел / Vereschako Pavel / 1988","М",283.08]
[205,"Галка Дмитрий / Galka Dmitrij / 1988","М",281.99]
[206,"Студенков Александр / Studenkov Aleksandr / 1984","М",280.87]
[207,"Домбровский Евгений / Dombrovskij Evgenij / 1987","М",279.42]
[208,"Зиновенко Павел / Zinovenko Pavel / 1997","М",279.10000000000002]
[209,"Чернышев Дмитрий / Chernyshev Dmitrij / 1987","М",275.45]
[210,"Набоков Дмитрий / Nabokov Dmitrij / 1998","М",273.74]
[211,"Костян Денис / Kostyan Denis / 1977","М",272.89]
[212,"Забабуро Сергей / Zababuro Sergej / 1978","М",270.52999999999997]
[213,"Стародуб Евгений / Starodub Evgenij / 2000","М",268.37]
[214,"Заяц Александр / Zayats Aleksandr / 1978","М",267.98]
[215,"Костев Евгений / Kostev Evgenij / 1990","М",266.11]
[216,"Игнатович Александр / Ignatovich Aleksandr / 1992","М",265.93]
[217,"Захарьев Алексей / Zaharev Aleksej / 1984","М",265.62]
[218,"Греков Игорь / Grekov Igor / 1970","М",263.31]
[219,"Гумбар Илья / Gumbar Ilya / 1989","М",260.7]
[220,"Трасковский Геннадий / Traskovskij Gennadij / 1961","М",260.29000000000002]
[221,"Сіпачоў Аляксей / Sіpachou Alyaksej / 1979","М",259.45999999999998]
[222,"Карпович Владимир / Karpovich Vladimir / 1983","М",258.55]
[223,"Мацко Сергей / Matsko Sergej / 1991","М",257.8]
[224,"Симонов Александр / Simonov Aleksandr / 1999","М",257.63]
[225,"Ролдугин Михаил / Roldugin Mihail / 1987","М",257.35000000000002]
[226,"Куцуха Александр / Kutsuha Aleksandr / 1992","М",245.76]
[227,"Князев Родион / Knyazev Rodion / 1995","М",245.6]
[228,"Мельников Павел / Melnikov Pavel / 1998","М",241.53]
[229,"Маковский Дмитрий / Makovskij Dmitrij / 1981","М",241.02]
[230,"Кузьмич Дмитрий / Kuzmich Dmitrij / 1975","М",240.76999999999998]
[231,"Потапов Сергей / Potapov Sergej / 1988","М",240.61]
[232,"Лукьянов Александр / Lukyanov Aleksandr / 1979","М",240.19]
[233,"Бачища Николай / Bachischa Nikolaj / 1988","М",238.4]
[234,"Винтергрин Андрей / Vintergrin Andrej / 1981","М",236.51]
[235,"Кожемякин Владимир / Kozhemyakin Vladimir / 1970","М",236.08]
[236,"Бегун Егор / Begun Egor / 1988","М",232.85]
[237,"Григорович Руслан / Grigorovich Ruslan / 1987","М",232.02]
[238,"Фомин Леонид / Fomin Leonid / 1983","М",231.37]
[239,"Богдевич Анатолий / Bogdevich Anatolij / 1999","М",230.8]
[240,"Федькович Виталий / Fedkovich Vitalij / 1995","М",230.8]
[241,"Лазаренок Глеб / Lazarenok Gleb / 1982","М",226.35]
[242,"Хамицевич Андрей / Hamitsevich Andrej / 1983","М",226.2]
[243,"Кудрявец Валерий / Kudryavets Valerij / 1975","М",224.24]
[244,"Макарский Сергей / Makarskij Sergej / 1987","М",223.42]
[245,"Селиванов Алексавндр / Selivanov Aleksavndr / 1970","М",223.32]
[246,"Ярмончик Игорь / Yarmonchik Igor / 1985","М",223.04]
[247,"Юкевич Андрей / Yukevich Andrej / 1990","М",219.45]
[248,"Дашин Михаил / Dashin Mihail / ","М",217.6]
[249,"Писаренко Андрей / Pisarenko Andrej / 1957","М",216.94]
[250,"Сухобаевский Николай / Suhobaevskij Nikolaj / 1986","М",214.83]
[251,"Дундуков Андрей / Dundukov Andrej / 1985","М",214.78]
[252,"Савостеня Виктор / Savostenya Viktor / 1989","М",214.7]
[253,"Скляр Антон / Sklyar Anton / 1983","М",214.46]
[254,"Волостных Сергей / Volostnyh Sergej / 1989","М",210.65]
[255,"Глушаков Сергей / Glushakov Sergej / 1958","М",210.56]
[256,"Иванцов Вячеслав / Ivantsov Vyacheslav / 1986","М",209.33]
[257,"Шестеров Андрей / Shesterov Andrej / 1986","М",209.22]
[258,"Геранин Дмитрий / Geranin Dmitrij / ","М",207.24]
[259,"Бычинский Владислав / Bychinskij Vladislav / 1992","М",206.24]
[260,"Пугач Вадим / Pugach Vadim / 1985","М",205.88]
[261,"Гомон Сергей / Gomon Sergej / 1990","М",202.45]
[262,"Заречанский Юрий / Zarechanskij Yurij / 1980","М",200.12]
[263,"Вирский Константин / Virskij Konstantin / 1977","М",199.59]
[264,"Коваленко Леонид / Kovalenko Leonid / 1999","М",198.59]
[265,"Герасевич Максим / Gerasevich Maksim / ","М",197.98000000000002]
[266,"Илатовский Дмитрий / Ilatovskij Dmitrij / 1974","М",197.79]
[267,"Королёв Максим / Koroljov Maksim / 1989","М",197.64]
[268,"Зайчук Кирилл / Zajchuk Kirill / 1990","М",197.3]
[269,"Лакустов Алексей / Lakustov Aleksej / 1986","М",196.94]
[270,"Щербо Виктор / Scherbo Viktor / 1961","М",196.88]
[271,"Лялеко Сергей / Lyaleko Sergej / 1986","М",195.06]
[272,"Дедков Никита / Dedkov Nikita / 1998","М",193.23]
[273,"Кулак Александр / Kulak Aleksandr / 1989","М",191.02]
[274,"Покульницкий Алексей / Pokulnitskij Aleksej / 1988","М",190.29999999999998]
[275,"Барсумян Артур / Barsumyan Artur / 1992","М",189.05]
[276,"Хацкевич Дмитрий / Hatskevich Dmitrij / 1985","М",188.72]
[277,"Дашкевич Павел / Dashkevich Pavel / 1999","М",188.47]
[278,"Жевняк Андрей / Zhevnyak Andrej / 1986","М",187.86]
[279,"Володько Владимир / Volodko Vladimir / 2001","М",186.52]
[280,"Зуевский Роман / Zuevskij Roman / 1986","М",186.28]
[281,"Лупин Сергей / Lupin Sergej / 1985","М",186]
[282,"Капустин Егор / Kapustin Egor / 2004","М",185.72000000000003]
[283,"Зуй Александр / Zuj Aleksandr / 1980","М",184.07999999999998]
[284,"Дышлевич Сергей / Dyshlevich Sergej / 1982","М",182.49]
[285,"Чернявский Артем / Chernyavskij Artem / 1987","М",181.93]
[286,"Нежаветс Сергей / Nezhavets Sergej / 1989","М",180.46]
[287,"Гамидов Нариман / Gamidov Nariman / 1972","М",179.63]
[288,"Кохан Виталий / Kohan Vitalij / 1982","М",178.65]
[289,"Легчеков Дмитрий / Legchekov Dmitrij / 1984","М",177.12]
[290,"Бажанский Виталий / Bazhanskij Vitalij / 1982","М",177.08]
[291,"Лучкин Олег / Luchkin Oleg / 1983","М",173.38]
[292,"Хомич Юрий / Homich Yurij / 1970","М",172.97]
[293,"Будник Владимир / Budnik Vladimir / 1987","М",172.83]
[294,"Нещик Алексей / Neschik Aleksej / 1983","М",171.76]
[295,"Утлик Максим / Utlik Maksim / 1985","М",167.24]
[296,"Новиков Денис / Novikov Denis / 1989","М",166.39]
[297,"Ермак Алексей / Ermak Aleksej / 1984","М",165.89]
[298,"Бойко Евгений / Bojko Evgenij / 1985","М",165.79]
[299,"Фигурин Дмитрий / Figurin Dmitrij / 1982","М",163.27000000000001]
[300,"Панковец Николай / Pankovets Nikolaj / 1979","М",162.99]
[301,"Зеленский Александр / Zelenskij Aleksandr / 1978","М",162.32]
[302,"Бизюк Игорь / Bizyuk Igor / 1956","М",157.99]
[303,"Леонов Алексей / Leonov Aleksej / 1986","М",157.4]
[304,"Малявко Сергей / Malyavko Sergej / 1990","М",155.65]
[305,"Круглик Игорь / Kruglik Igor / 1985","М",155.43]
[306,"Иванов Денис / Ivanov Denis / 1990","М",154.63999999999999]
[307,"Лопатик Юрий / Lopatik Yurij / 1984","М",154.41]
[308,"Зятиков Евгений / Zyatikov Evgenij / 1982","М",152.70000000000002]
[309,"Барановский Алексей / Baranovskij Aleksej / 1981","М",152.47999999999999]
[310,"Занько Юрий / Zanko Yurij / 1982","М",151.71]
[311,"Суматохин Виталий / Sumatohin Vitalij / 1989","М",150.29]
[312,"Грицевич Виталий / Gritsevich Vitalij / 1987","М",146.36000000000001]
[313,"Чирская Юлия / Chirskaya Yuliya / 1992","М",145.07]
[314,"Делендик Максим / Delendik Maksim / 1992","М",144.91999999999999]
[315,"Березин Артём / Berezin Artjom / 1986","М",142.65]
[316,"Герасимов Юрий / Gerasimov Yurij / 1992","М",142.63999999999999]
[317,"Загорнов Александр / Zagornov Aleksandr / 1966","М",140.43]
[318,"Бортник Александр / Bortnik Aleksandr / 1994","М",139.71]
[319,"Кравчук Александр / Kravchuk Aleksandr / 1983","М",137.49]
[320,"Стельмах Юрий / Stelmah Yurij / 1982","М",137.25]
[321,"Филипович Никита / Filipovich Nikita / 1993","М",136.44999999999999]
[322,"Казак Константин / Kazak Konstantin / 2004","М",134.71]
[323,"Станкевич Владимир / Stankevich Vladimir / 1982","М",134.18]
[324,"Зеленко Алексей / Zelenko Aleksej / 1980","М",131.66999999999999]
[325,"Агаев Руслан / Agaev Ruslan / 1995","М",128.82]
[326,"Никрашевич Сергей / Nikrashevich Sergej / 1985","М",128.66999999999999]
[327,"Хадорик Владимир / Hadorik Vladimir / 1986","М",127.89]
[328,"Шуленков Роман / Shulenkov Roman / 1990","М",127.35]
[329,"Рудович Александр / Rudovich Aleksandr / 1990","М",126.4]
[330,"Белицкий Денис / Belitskij Denis / 1990","М",125.38999999999999]
[331,"Белоусов Александр / Belousov Aleksandr / 1981","М",123.45]
[332,"Фидек Виталий / Fidek Vitalij / 1966","М",122.88]
[333,"Шульпенков Александр / Shulpenkov Aleksandr / 1986","М",122.32]
[334,"Вайтешонок Сергей / Vajteshonok Sergej / 1981","М",120.3]
[335,"Логиновский Михаил / Loginovskij Mihail / 1976","М",119.75]
[336,"Леонович Виталий / Leonovich Vitalij / 1984","М",118.08]
[337,"Херзен Андрей / Herzen Andrej / 1984","М",114.85]
[338,"Бутурля Александр / Buturlya Aleksandr / 1981","М",113.98]
[339,"Ремизевич Вадим / Remizevich Vadim / 1980","М",113.1]
[340,"Метелица Антон / Metelitsa Anton / 1989","М",111.71]
[341,"Коляда Юрий / Kolyada Yurij / 1980","М",111.52]
[342,"Ступяк Андрей / Stupyak Andrej / 1979","М",109.72]
[343,"Ананич Александр / Ananich Aleksandr / 1979","М",108.37]
[344,"Суворов Александр / Suvorov Aleksandr / 1983","М",107.35]
[345,"Незнанов Михаил / Neznanov Mihail / 1982","М",106.45]
[346,"Дубровский Виктор / Dubrovskij Viktor / 1961","М",105.33]
[347,"Сербаев Виталий / Serbaev Vitalij / 1979","М",103.29]
[348,"Кузьменко Иван / Kuzmenko Ivan / 1981","М",103.12]
[349,"Горшков Игорь / Gorshkov Igor / 1977","М",102.94]
[350,"Лунский Сергей / Lunskij Sergej / 1995","М",100.06]
[351,"Пехтерев Сергей / Pehterev Sergej / 1979","М",94.52]
[352,"Ключеня Виталий / Klyuchenya Vitalij / 1982","М",93.46]
[353,"Соколов Артем / Sokolov Artem / 1986","М",93.26]
[354,"Якимченко Анатолий / Yakimchenko Anatolij / 1967","М",93.22]
[355,"Жукович Артем / Zhukovich Artem / 1988","М",93.14]
[356,"Ращинский Александр / Raschinskij Aleksandr / 1990","М",91.25]
[357,"Бушковский Максим / Bushkovskij Maksim / 1989","М",88.54]
[358,"Дубровский Евгений / Dubrovskij Evgenij / 1984","М",87.77]
[359,"Катонов Василий / Katonov Vasilij / 1985","М",86.69]
[360,"Орлов Максим / Orlov Maksim / 1990","М",83.62]
[361,"Бычков Александр / Bychkov Aleksandr / 1990","М",81.87]
[362,"Даник Даниил / Danik Daniil / 1982","М",80.510000000000005]
[363,"Мороз Евгений / Moroz Evgenij / 1985","М",79.83]
[364,"Захаров Иван / Zaharov Ivan / 1979","М",77.34]
[365,"Самсонов Никита / Samsonov Nikita / 1989","М",75.86]
[366,"Щукин Макс / Schukin Maks / 1992","М",75.14]
[367,"Городко Игорь / Gorodko Igor / 1970","М",72.77]
[368,"Стешко Фёдор / Steshko Fjodor / 1990","М",72.53]
[369,"Ben Bilel / Ben Bilel / 1981","М",71.430000000000007]
[370,"Кудрейко Михаил / Kudrejko Mihail / 1981","М",70.22]
[371,"Кислов Михаил / Kislov Mihail / 1992","М",69.78]
[372,"Сим Игорь / Sim Igor / 1989","М",66.53]
[373,"Липский Александр / Lipskij Aleksandr / 1977","М",64.41]
[374,"Вирт Олег / Virt Oleg / 1980","М",63.67]
[375,"Ковалев Никита / Kovalev Nikita / 2001","М",59.88]
[376,"Артихович Александр / Artihovich Aleksandr / 1972","М",59.04]
[377,"Щербина Максим / Scherbina Maksim / 1976","М",54.86]
[378,"Новосяд Владимир / Novosyad Vladimir / 1968","М",54.58]
[379,"Бердников Дмитрий / Berdnikov Dmitrij / ","М",53.67]
[380,"Ковалев Михаил / Kovalev Mihail / 1970","М",53.22]
[381,"Луцевич Eвгений / Lutsevich Evgenij / 1964","М",52.66]
[382,"Федоринчик Дмитрий / Fedorinchik Dmitrij / 1988","М",51.81]
[383,"Рускевич Максим / Ruskevich Maksim / 1990","М",51.56]
[384,"Лучинович Сергей / Luchinovich Sergej / 1979","М",49.19]
[385,"Ковриго Сергей / Kovrigo Sergej / 1981","М",46.57]
[386,"Скребец Сергей / Skrebets Sergej / 1963","М",45.48]
[387,"Мейсак Александр / Mejsak Aleksandr / 1989","М",43.89]
[388,"Малаховский Александр / Malahovskij Aleksandr / 1985","М",43.35]
[389,"Моргачев Андрей / Morgachev Andrej / 1981","М",42.97]
[390,"Ветохин Иван / Vetohin Ivan / 1987","М",41.45]
[391,"Дашкевич Сергей / Dashkevich Sergej / 1996","М",39.92]
[392,"Йоцюс Виталий / Jotsyus Vitalij / ","М",37.57]
[393,"Островцов Александр / Ostrovtsov Aleksandr / 1988","М",36.39]
[394,"Зументс Роберт / Zuments Robert / 1979","М",35.11]
[395,"Выробов Дмитрий / Vyrobov Dmitrij / 1988","М",34.369999999999997]
[396,"Халомзик Дмитрий / Halomzik Dmitrij / 1972","М",32.200000000000003]
[397,"Молочко Николай / Molochko Nikolaj / 2004","М",31.09]
[398,"Минчук Александр / Minchuk Aleksandr / 1974","М",27.29]
[399,"Пилецкий Максим / Piletskij Maksim / 1991","М",26.84]
[400,"Адаменко Виталий / Adamenko Vitalij / 1985","М",26.61]
[401,"Чалый Николай / Chalyj Nikolaj / 1980","М",25.78]
[402,"Калюжный Дмитрий / Kalyuzhnyj Dmitrij / 1986","М",21.47]
[403,"Сысков Никита / Syskov Nikita / 1985","М",20.72]
[404,"Курата Кенет / Kurata Kenet / 1978","М",19.96]
[405,"Томашев Игорь / Tomashev Igor / 1965","М",18.190000000000001]
[406,"Манкевич Алексей / Mankevich Aleksej / 1972","М",17.190000000000001]
[407,"Троцкий Игнат / Trotskij Ignat / 2002","М",16.100000000000001]
[408,"Коньшин Андрей / Konshin Andrej / 1988","М",10.97]
[409,"Кожемякин Алексей / Kozhemyakin Aleksej / 1986","М",10.36]
[410,"Поволоцкий Даниил / Povolotskij Daniil / 1990","М",9.1]
[411,"Клауч Виктор / Klauch Viktor / 1988","М",8.59]
[412,"Павлов Александр / Pavlov Aleksandr / 1992","М",6.65]
[413,"Гречишкин Алексей / Grechishkin Aleksej / 1983","М",5.37]

{"sheet":"Рейтинг ж ","index":7,"n_rows":182,"n_cols":4,"rows_kept":182,"cut":false,"hidden":false,"merged":[]}
["№ п/п","Фамилия, Имя, Год рождения","Пол","Сумма баллов"]
[1,"Скирук Юлия / Skiruk Yuliya / 1988","Ж",2256.36]
[2,"Черкас Александра / Cherkas Aleksandra / 1992","Ж",1430.74]
[3,"Суховерхая Татьяна / Suhoverhaya Tatyana / 1986","Ж",1356.5]
[4,"Цвирбут Юлия / Tsvirbut Yuliya / 1992","Ж",1352.71]
[5,"Белая Юлия / Belaya Yuliya / 1988","Ж",1314.28]
[6,"Сулимчик Оксана / Sulimchik Oksana / 1986","Ж",1195.93]
[7,"Михно Алла / Mihno Alla / 1979","Ж",1143.49]
[8,"Милинкевич Елена / Milinkevich Elena / 1977","Ж",1106.72]
[9,"Гурская Татьяна / Gurskaya Tatyana / 1980","Ж",1041.1500000000001]
[10,"Полякова Анна / Polyakova Anna / 1987","Ж",963.02]
[11,"Едомская Вольга / Edomskaya Volga / 1987","Ж",881.68999999999994]
[12,"Борисевич Анастасия / Borisevich Anastasiya / 1985","Ж",851.86]
[13,"Гилевич Диана / Gilevich Diana / 1993","Ж",822.76]
[14,"Невмержицкая Анна / Nevmerzhitskaya Anna / 1997","Ж",806.14]
[15,"Делендик Надежда / Delendik Nadezhda / 1987","Ж",766.62]
[16,"Кордунская Екатерина / Kordunskaya Ekaterina / 1983","Ж",730.53]
[17,"Торубарова Татьяна / Torubarova Tatyana / 1983","Ж",719.72]
[18,"Чернель Татьяна / Chernel Tatyana / 1982","Ж",710.81999999999994]
[19,"Пухаева Светлана / Puhaeva Svetlana / 1980","Ж",697.87]
[20,"Полещук Татьяна / Poleschuk Tatyana / 1988","Ж",694.1]
[21,"Белинская Галина / Belinskaya Galina / 1980","Ж",684.25]
[22,"Журавлёва Оксана / Zhuravljova Oksana / 1980","Ж",664.68]
[23,"Обухова Екатерина / Obuhova Ekaterina / 1978","Ж",631.62]
[24,"Кликун Татьяна / Klikun Tatyana / 1989","Ж",609.36]
[25,"Арабиенко Татьяна / Arabienko Tatyana / 1986","Ж",609]
[26,"Куцун Надежда / Kutsun Nadezhda / 1982","Ж",578.98]
[27,"Колташова Елена / Koltashova Elena / 1984","Ж",553.63]
[28,"Михалкин Сергей / Mihalkin Sergej / 1989","Ж",516.82000000000005]
[29,"Жила Анастасия / Zhila Anastasiya / 1994","Ж",511.39]
[30,"Арловская Кристина / Arlovskaya Kristina / 1989","Ж",493.59000000000003]
[31,"Голубева Елена / Golubeva Elena / 1987","Ж",493.31]
[32,"Зеленкевич Валентина / Zelenkevich Valentina / 1999","Ж",487.79]
[33,"Радчук Алеся / Radchuk Alesya / 1996","Ж",473.71]
[34,"Гилевич Кристина / Gilevich Kristina / 1994","Ж",469.83]
[35,"Широкова Анастасия / Shirokova Anastasiya / 1988","Ж",468.13]
[36,"Недведская Елена / Nedvedskaya Elena / 1986","Ж",466.44]
[37,"Гриб Екатерина / Grib Ekaterina / 1981","Ж",462.73]
[38,"Трубкина Анастасия / Trubkina Anastasiya / 1989","Ж",460.84]
[39,"Павловская Светлана / Pavlovskaya Svetlana / 1984","Ж",458.52000000000004]
[40,"Калвинковская Ольга / Kalvinkovskaya Olga / 1994","Ж",450.27]
[41,"Трухтанова Елена / Truhtanova Elena / 1985","Ж",442.91]
[42,"Туровец Ольга / Turovets Olga / 1979","Ж",437.98]
[43,"Гринько Анастасия / Grinko Anastasiya / 1993","Ж",436.17]
[44,"Мурашкина Галина / Murashkina Galina / 1988","Ж",429.81]
[45,"Новик Анастасия / Novik Anastasiya / 1985","Ж",427.93]
[46,"Жданович Александра / Zhdanovich Aleksandra / 1985","Ж",426.71000000000004]
[47,"Адамович Ирина / Adamovich Irina / 1973","Ж",425.25]
[48,"Казакевич Ирина / Kazakevich Irina / 1969","Ж",421.29]
[49,"Янович Лена / Yanovich Lena / 1996","Ж",421.08]
[50,"Таранко Марта / Taranko Marta / 1990","Ж",415.24]
[51,"Григорьева Светлана / Grigoreva Svetlana / 1984","Ж",414.52]
[52,"Драгун Алина / Dragun Alina / 1993","Ж",412.75]
[53,"Сильванович Валерия / Silvanovich Valeriya / 1998","Ж",411.38]
[54,"Липницкая Виктория / Lipnitskaya Viktoriya / 1987","Ж",408.14]
[55,"Коледа Татьяна / Koleda Tatyana / 1990","Ж",400.24]
[56,"Танасейчук Анна / Tanasejchuk Anna / 1983","Ж",388.88]
[57,"Медведева Ольга / Medvedeva Olga / 1991","Ж",387.73]
[58,"Ткачук Дарья / Tkachuk Darya / 1981","Ж",387.54]
[59,"Янченко Ксения / Yanchenko Kseniya / 1997","Ж",375.22]
[60,"Грейд Юлия / Grejd Yuliya / 1986","Ж",359.03]
[61,"Куцакова Татьяна / Kutsakova Tatyana / 1987","Ж",358.23]
[62,"Ямбушева Катерина / Yambusheva Katerina / 1987","Ж",356.48]
[63,"Варданян Кристина / Vardanyan Kristina / 1981","Ж",350.21]
[64,"Тимошенко Алена / Timoshenko Alena / 1982","Ж",343.9]
[65,"Кальвинковская Екатерина / Kalvinkovskaya Ekaterina / 1993","Ж",337.7]
[66,"Лавриченок Светлана / Lavrichenok Svetlana / 1971","Ж",332.18]
[67,"Сикорская Настя / Sikorskaya Nastya / 1983","Ж",324.07]
[68,"Пехтерева Татьяна / Pehtereva Tatyana / 1987","Ж",309.35000000000002]
[69,"Коротких Елена / Korotkih Elena / 1984","Ж",296.26]
[70,"Козич Галина / Kozich Galina / 1990","Ж",287.39999999999998]
[71,"Телегина София / Telegina Sofiya / 1991","Ж",286.58]
[72,"Жучина Катерина / Zhuchina Katerina / 1986","Ж",283.64]
[73,"Хлопцева Инга / Hloptseva Inga / 1982","Ж",283.57]
[74,"Литвинская Людмила / Litvinskaya Lyudmila / 1977","Ж",281.89999999999998]
[75,"Титова Инна / Titova Inna / 1986","Ж",278.13]
[76,"Грицук Татьяна / Gritsuk Tatyana / 1973","Ж",276.82]
[77,"Бондарь Юлия / Bondar Yuliya / 1993","Ж",275.16000000000003]
[78,"Кожемякина Анна / Kozhemyakina Anna / 1991","Ж",272.37]
[79,"Чеснокова Надежда / Chesnokova Nadezhda / 1988","Ж",270.68]
[80,"Шахметова Наташа / Shahmetova Natasha / 1992","Ж",268.86]
[81,"Швайковская Ольга / Shvajkovskaya Olga / 1979","Ж",263.33999999999997]
[82,"Кузеева Марина / Kuzeeva Marina / 1986","Ж",262.66000000000003]
[83,"Чеботаева Валерия / Chebotaeva Valeriya / 1993","Ж",259.26]
[84,"Шаповалова Ирина / Shapovalova Irina / 1993","Ж",257.8]
[85,"Зятикова Наталья / Zyatikova Natalya / 1983","Ж",256.63]
[86,"Малькевич Елена / Malkevich Elena / 1984","Ж",250.32]
[87,"Марченко Людмила / Marchenko Lyudmila / 1972","Ж",250.15]
[88,"Кукобникова Вита / Kukobnikova Vita / 1993","Ж",243.76999999999998]
[89,"Малаховская Татьяна / Malahovskaya Tatyana / 1989","Ж",243.05]
[90,"Верамейчик Елена / Veramejchik Elena / ","Ж",241.04]
[91,"Нефедова Оксана / Nefedova Oksana / 1979","Ж",237.64]
[92,"Будрик Юлия / Budrik Yuliya / 1995","Ж",231.77]
[93,"Пиньковская Ирина / Pinkovskaya Irina / 1986","Ж",229.5]
[94,"Булеева Наталья / Buleeva Natalya / 1969","Ж",226.85]
[95,"Харик Анна / Harik Anna / 1986","Ж",225.13]
[96,"Лесникович Лиана / Lesnikovich Liana / 1988","Ж",222.5]
[97,"Пальвинская Валерия / Palvinskaya Valeriya / 1996","Ж",221.45]
[98,"Зеленцова Галина / Zelentsova Galina / 1988","Ж",220.67]
[99,"Лисовская Наталья / Lisovskaya Natalya / 1998","Ж",219.24]
[100,"Василевич Валентина / Vasilevich Valentina / 1998","Ж",215.33]
[101,"Корожан Наталья / Korozhan Natalya / 1974","Ж",212.63]
[102,"Литвинка Нина / Litvinka Nina / 1991","Ж",210.54]
[103,"Малышко Татьяна / Malyshko Tatyana / 1983","Ж",206.24]
[104,"Пархимович Ирина / Parhimovich Irina / 1988","Ж",203.96]
[105,"Молочко Анна / Molochko Anna / 2006","Ж",203.02]
[106,"Тумашик Екатерина / Tumashik Ekaterina / 1984","Ж",200.61]
[107,"Красовская Инна / Krasovskaya Inna / 1975","Ж",200.12]
[108,"Вдовиченко Ирина / Vdovichenko Irina / 1989","Ж",195.97]
[109,"Коновалова Елена / Konovalova Elena / 1975","Ж",193.35]
[110,"Старовойтова Евгения / Starovojtova Evgeniya / 1996","Ж",191.83]
[111,"Островцова Марина / Ostrovtsova Marina / 1987","Ж",187.61]
[112,"Торопова Мария / Toropova Mariya / 1989","Ж",186.28]
[113,"Павлова Анна / Pavlova Anna / 1992","Ж",185.42]
[114,"Силивонова Виктория / Silivonova Viktoriya / 1994","Ж",185.37]
[115,"Ладутько Наталья / Ladutko Natalya / 1974","Ж",182.82]
[116,"Скабицкая Анна / Skabitskaya Anna / 1987","Ж",176.54]
[117,"Куликовских Иванна / Kulikovskih Ivanna / 1974","Ж",175.1]
[118,"Дунаева Мария / Dunaeva Mariya / 1983","Ж",171.95]
[119,"Федченко Ярослава / Fedchenko Yaroslava / 2002","Ж",170.33999999999997]
[120,"Крипа Светлана / Kripa Svetlana / 1989","Ж",167.71]
[121,"Селищева Ирина / Selischeva Irina / 1983","Ж",167.57]
[122,"Рудковская Татьяна / Rudkovskaya Tatyana / 1997","Ж",166.88]
[123,"Кукареко Екатерина / Kukareko Ekaterina / 1986","Ж",166.09]
[124,"Кузнецова Наталья / Kuznetsova Natalya / 1984","Ж",162.6]
[125,"Трубкина Инна / Trubkina Inna / 1972","Ж",162.03]
[126,"Минич Ольга / Minich Olga / 1989","Ж",158.88999999999999]
[127,"Хинец Анна / Hinets Anna / 1986","Ж",150.09]
[128,"Стракович Екатерина / Strakovich Ekaterina / 1991","Ж",150.06]
[129,"Необердина Мария / Neoberdina Mariya / 1987","Ж",148.34]
[130,"Гладкова Анна / Gladkova Anna / 1985","Ж",147.25]
[131,"Сильченко Наталья / Silchenko Natalya / ","Ж",145.83000000000001]
[132,"Войтович Татьяна / Vojtovich Tatyana / 1986","Ж",143.29]
[133,"Бурак Анжелика / Burak Anzhelika / 1994","Ж",141.22999999999999]
[134,"Лапко Оля / Lapko Olya / 1992","Ж",137.02000000000001]
[135,"Моисеева Вероника / Moiseeva Veronika / 1983","Ж",132.4]
[136,"Русакова Татьяна / Rusakova Tatyana / 1979","Ж",129.79]
[137,"Зеленко Диана / Zelenko Diana / 1988","Ж",128.9]
[138,"Морозова Екатерина / Morozova Ekaterina / 1978","Ж",125.07]
[139,"Гарбар Екатерина / Garbar Ekaterina / 1989","Ж",120.52]
[140,"Казак Наталья / Kazak Natalya / 1979","Ж",117.94999999999999]
[141,"Белоцкая Елена / Belotskaya Elena / 1987","Ж",116.01]
[142,"Левчук Ирина / Levchuk Irina / 1974","Ж",114.63]
[143,"Фам Вероника / Fam Veronika / 1982","Ж",112.57]
[144,"Ковалёва Катерина / Kovaljova Katerina / 1987","Ж",111.25]
[145,"Абаркина Елена / Abarkina Elena / 1983","Ж",105.92]
[146,"Тимкина Наталья / Timkina Natalya / 1982","Ж",100.06]
[147,"Якубовская Виктория / Yakubovskaya Viktoriya / 1984","Ж",97.1]
[148,"Терехова Татьяна / Terehova Tatyana / 1982","Ж",92.71]
[149,"Когалёнок Елена / Kogaljonok Elena / 1979","Ж",90.23]
[150,"Забелова Юлия / Zabelova Yuliya / 1978","Ж",87.55]
[151,"Фамичёва Елена / Famichjova Elena / 1993","Ж",85.98]
[152,"Нехайчик Мария / Nehajchik Mariya / 1995","Ж",83.44]
[153,"Петкевич Лилия / Petkevich Liliya / 1990","Ж",81.02]
[154,"Самусик Елена / Samusik Elena / 1992","Ж",79.44]
[155,"Шкрабо Ольга / Shkrabo Olga / 1985","Ж",77.34]
[156,"Жук Лия / Zhuk Liya / 1980","Ж",75.040000000000006]
[157,"Ружицкая Елена / Ruzhitskaya Elena / 1983","Ж",74.17]
[158,"Гончарик Наталья / Goncharik Natalya / 1991","Ж",71.650000000000006]
[159,"Орлова Татьяна / Orlova Tatyana / 1990","Ж",70.62]
[160,"Якимчук Надежда / Yakimchuk Nadezhda / 1986","Ж",65.83]
[161,"Гракович Ольга / Grakovich Olga / 1994","Ж",64.900000000000006]
[162,"Круглова Александра / Kruglova Aleksandra / 1989","Ж",64.45]
[163,"Иванова Екатерина / Ivanova Ekaterina / 1989","Ж",62.54]
[164,"Липская Яна / Lipskaya Yana / 2007","Ж",61.79]
[165,"Зуй Марина / Zuj Marina / 1984","Ж",57.32]
[166,"Завалова Анастасия / Zavalova Anastasiya / 1994","Ж",55.63]
[167,"Липская Наталья / Lipskaya Natalya / 1977","Ж",52.96]
[168,"Прокопенко Анна / Prokopenko Anna / 1980","Ж",50.03]
[169,"Ковальчук Екатерина / Kovalchuk Ekaterina / 1987","Ж",46.35]
[170,"Кривальцевич Валентина / Krivaltsevich Valentina / 1984","Ж",46.35]
[171,"Гарбуз Алла / Garbuz Alla / 1969","Ж",46.31]
[172,"Будыхина Татьяна / Budyhina Tatyana / 1985","Ж",37.520000000000003]
[173,"Родионова Светлана / Rodionova Svetlana / 1981","Ж",35.31]
[174,"Федченко Олеся / Fedchenko Olesya / 1977","Ж",32.92]
[175,"Михайлова Марина / Mihajlova Marina / 1988","Ж",27.81]
[176,"Ветохина София / Vetohina Sofiya / 2010","Ж",26.48]
[177,"Лабунская Ирина / Labunskaya Irina / 1983","Ж",25.78]
[178,"Поволоцкая Кристина / Povolotskaya Kristina / 1990","Ж",25.01]
[179,"Карабанькова Марина / Karabankova Marina / 1989","Ж",23.6]
[180,"Клауч Екатерина / Klauch Ekaterina / 1987","Ж",12.89]
[181,"Дурейко Анна / Durejko Anna / 1987","Ж",12.51]