{"text_format":"1","workbook":"xlsx","n_sheets":8,"sheets":["Правила расчёта","Гонки","личные рез-ты по гонкам списком","Личн рез-ты алфавит","4 лучших1","Рейтинг 2018_абс","Рейтинг 2018_М1","Рейтинг 2018_Ж"],"not_rendered":{"charts":0,"images":0,"macros":1,"external_links":0,"defined_names":5,"comments":1,"pivot_tables":2},"unopened":[],"bounds":{"document_bytes":16777216,"sheet_cells":100000,"rows_first":2000,"rows_last":500,"rows_between":2000,"halvings":0,"cell_chars":16384,"cell_head_chars":4096},"cells_cut":0,"cells_raw":0,"read":"whole","date_system":"1900"}

{"sheet":"Правила расчёта","index":0,"n_rows":25,"n_cols":15,"rows_kept":25,"cut":false,"hidden":false,"merged":[]}
[]
["Рейтинг трассы (сложность)","=Y+X/100"]
["Расстояние, км","Y"]
["Набор высоты, м","X"]
["Количество пунктов питания","Z"]
[]
["Средний интервал между пунктами питания (к-т автономности)","=(Y+X/100)/Z"]
[]
["Штраф за автономность"]
["Коэф-т автономности","13 и более"," 11 - 12"," 9 - 10"," 7 - 8 "," 5 - 6 ","меньше 5"]
["Штраф в очках",0,-10,-15,-20,-25,-30]
[null,null,-2,-3,-4,-15,-30]
["Коэф-т автономности",13,12,11,10,9,8,7,6,5,4,3,2,1,0]
["Штраф в очках",0,-10,-10,-15,-15,-20,-20,-25,-25,-30,-30,-30,-30,0]
["Штрафы новые в очках",0,-2,-2,-3,-3,-4,-4,-15,-15,-30,-30,-30,-30,0]
["Штраф за круги"]
["Кол-во кругов",0,1,2,3,4,5,6,7,8,9,10,11]
["Штраф в очках",0,0,0,-10,-15,-20,-25,-30,-35,-40,-45,-50]
[null,0,0,0,-2,-4,-10,-20,-30,-35,-40,-45,-50]
[]
["Итог ОЧКИ дистанции = Сложность МИНУС штраф за автономность МИНУС штраф за круги",null,null,null,null,null,null,null,"Округление до двух знаков"]
[]
["Формула личного рез-та дистанции = 100 - ((место участника в итоговом протоколе-1)/количество стартовавших) × 100."]
[]
["Формула личного результата за соревнования = Квадратный корень ( Итог ОЧКИ за дистанцию) умножить на личный результат"]

{"sheet":"Гонки","index":1,"n_rows":28,"n_cols":16,"rows_kept":28,"cut":false,"hidden":false,"merged":[]}
["№","дата","название гонки","название дистанции","Служебн 1 - где","длина","набор высоты","сложность","круги","штраф круги","ПП","К-т автономности","штраф пп","Итог ОЧКИ","кол-во стартов. Ж.","кол-во стартов. М."]
[1,"2018-01-27","Зима минус 100","Трейл 50",{"$f":"CONCATENATE(C2,\" \",D2,)","v":"Зима минус 100 Трейл 50"},50.8,350,{"$f":"F2+G2/100","v":54.3},0,{"$f":"HLOOKUP(I2,'Правила расчёта'!$A$17:$M$19,3,FALSE)","v":0},0,{"$f":"MROUND(IF(K2=0,0,H2/K2),0)","v":0},{"$f":"IF(L2=0,0,IF(L2>=13,0,HLOOKUP(Гонки!L2,'Правила расчёта'!$A$13:$O$15,3,FALSE)))","v":0},{"$f":"H2+J2+M2","v":54.3},14,34]
[2,"2018-01-27","Зима минус 100","Трейл 100",{"$f":"CONCATENATE(C3,\" \",D3,)","v":"Зима минус 100 Трейл 100"},106.2,760,{"$f":"F3+G3/100","v":113.8},0,{"$f":"HLOOKUP(I3,'Правила расчёта'!$A$17:$M$19,3,FALSE)","v":0},1,{"$f":"MROUND(IF(K3=0,0,H3/K3),1)","v":114},{"$f":"IF(L3=0,0,IF(L3>=13,0,HLOOKUP(Гонки!L3,'Правила расчёта'!$A$13:$O$15,3,FALSE)))","v":0},{"$f":"H3+J3+M3","v":113.8},5,25]
[3,"2018-03-04","Жук-трейл # 4 Минское Море ","Трейл 25",{"$f":"CONCATENATE(C4,\" \",D4,)","v":"Жук-трейл # 4 Минское Море  Трейл 25"},{"$f":"8.45*3","v":25.349999999999998},{"$f":"112*3","v":336},{"$f":"F4+G4/100","v":28.709999999999997},3,{"$f":"HLOOKUP(I4,'Правила расчёта'!$A$17:$M$19,3,FALSE)","v":-2},2,{"$f":"MROUND(IF(K4=0,0,H4/K4),1)","v":14},{"$f":"IF(L4=0,0,IF(L4>=13,0,HLOOKUP(Гонки!L4,'Правила расчёта'!$A$13:$O$15,3,FALSE)))","v":0},{"$f":"H4+J4+M4","v":26.709999999999997},11,81]
[4,"2018-03-04","Жук-трейл # 4 Минское Море ","Трейл 16",{"$f":"CONCATENATE(C5,\" \",D5,)","v":"Жук-трейл # 4 Минское Море  Трейл 16"},{"$f":"8.45*2","v":16.899999999999999},{"$f":"112*2","v":224},{"$f":"F5+G5/100","v":19.14},2,{"$f":"HLOOKUP(I5,'Правила расчёта'!$A$17:$M$19,3,FALSE)","v":0},1,19,{"$f":"IF(L5=0,0,IF(L5>=13,0,HLOOKUP(Гонки!L5,'Правила расчёта'!$A$13:$O$15,3,FALSE)))","v":0},{"$f":"H5+J5+M5","v":19.14},27,51]
[5,"2018-03-04","Жук-трейл # 4 Минское Море ","Трейл 8",{"$f":"CONCATENATE(C6,\" \",D6,)","v":"Жук-трейл # 4 Минское Море  Трейл 8"},{"$f":"8.45*1","v":8.4499999999999993},112,{"$f":"F6+G6/100","v":9.57},1,{"$f":"HLOOKUP(I6,'Правила расчёта'!$A$17:$M$19,3,FALSE)","v":0},0,0,{"$f":"IF(L6=0,0,IF(L6>=13,0,HLOOKUP(Гонки!L6,'Правила расчёта'!$A$13:$O$15,3,FALSE)))","v":0},{"$f":"H6+J6+M6","v":9.57},24,36]
[6,"2018-04-15","Жук-трейл # 5 Крево","Трейл 70","Жук-трейл # 5 Крево Трейл 70",70.400000000000006,961,{"$f":"F7+G7/100","v":80.010000000000005},1,{"$f":"HLOOKUP(I7,'Правила расчёта'!$A$17:$M$19,3,FALSE)","v":0},5,16,{"$f":"IF(L7=0,0,IF(L7>=13,0,HLOOKUP(Гонки!L7,'Правила расчёта'!$A$13:$O$15,3,FALSE)))","v":0},{"$f":"H7+J7+M7","v":80.010000000000005},3,15]
[7,"2018-04-15","Жук-трейл # 5 Крево","Трейл 45","Жук-трейл # 5 Крево Трейл 45",44.7,632,51.02,1,{"$f":"HLOOKUP(I8,'Правила расчёта'!$A$17:$M$19,3,FALSE)","v":0},3,17,{"$f":"IF(L8=0,0,IF(L8>=13,0,HLOOKUP(Гонки!L8,'Правила расчёта'!$A$13:$O$15,3,FALSE)))","v":0},51.02,3,20]
[8,"2018-04-15","Жук-трейл # 5 Крево","Трейл 21","Жук-трейл # 5 Крево Трейл 21",21.3,308,24.380000000000003,1,{"$f":"HLOOKUP(I9,'Правила расчёта'!$A$17:$M$19,3,FALSE)","v":0},1,24,{"$f":"IF(L9=0,0,IF(L9>=13,0,HLOOKUP(Гонки!L9,'Правила расчёта'!$A$13:$O$15,3,FALSE)))","v":0},24.380000000000003,15,45]
[9,"2018-04-15","Жук-трейл # 5 Крево","Трейл 10","Жук-трейл # 5 Крево Трейл 10",11.9,198,13.88,1,{"$f":"HLOOKUP(I10,'Правила расчёта'!$A$17:$M$19,3,FALSE)","v":0},0,0,{"$f":"IF(L10=0,0,IF(L10>=13,0,HLOOKUP(Гонки!L10,'Правила расчёта'!$A$13:$O$15,3,FALSE)))","v":0},13.88,26,56]
[10,"2018-05-26","\"Налибоки 2018\"","Трейл 21","\"Налибоки 2018\" Трейл 21",22.41,262,25.03,1,{"$f":"HLOOKUP(I11,'Правила расчёта'!$A$17:$M$19,3,FALSE)","v":0},1,25,{"$f":"IF(L11=0,0,IF(L11>=13,0,HLOOKUP(Гонки!L11,'Правила расчёта'!$A$13:$O$15,3,FALSE)))","v":0},25.03,40,55]
[11,"2018-05-26","\"Налибоки 2018\"","Трейл 42","\"Налибоки 2018\" Трейл 42",46.86,494,51.8,1,{"$f":"HLOOKUP(I12,'Правила расчёта'!$A$17:$M$19,3,FALSE)","v":0},2,26,{"$f":"IF(L12=0,0,IF(L12>=13,0,HLOOKUP(Гонки!L12,'Правила расчёта'!$A$13:$O$15,3,FALSE)))","v":0},51.8,13,41]
[12,"2018-05-26","\"Налибоки 2018\"","Трейл 100","\"Налибоки 2018\" Трейл 100",98.27,1013,108.39999999999999,1,{"$f":"HLOOKUP(I13,'Правила расчёта'!$A$17:$M$19,3,FALSE)","v":0},5,22,{"$f":"IF(L13=0,0,IF(L13>=13,0,HLOOKUP(Гонки!L13,'Правила расчёта'!$A$13:$O$15,3,FALSE)))","v":0},108.39999999999999,3,36]
[13,"2018-07-07","Жук-трейл #6 Купалье","Трейл 5","Жук-трейл #6 Купалье Трейл 5",5.32,36,5.6800000000000006,1,{"$f":"HLOOKUP(I14,'Правила расчёта'!$A$17:$M$19,3,FALSE)","v":0},0,0,{"$f":"IF(L14=0,0,IF(L14>=13,0,HLOOKUP(Гонки!L14,'Правила расчёта'!$A$13:$O$15,3,FALSE)))","v":0},5.6800000000000006,28,23]
[14,"2018-07-07","Жук-трейл #6 Купалье","Трейл 10","Жук-трейл #6 Купалье Трейл 10",{"$f":"5.32*2","v":10.64},{"$f":"G14*2","v":72},11.360000000000001,2,{"$f":"HLOOKUP(I15,'Правила расчёта'!$A$17:$M$19,3,FALSE)","v":0},1,11,{"$f":"IF(L15=0,0,IF(L15>=13,0,HLOOKUP(Гонки!L15,'Правила расчёта'!$A$13:$O$15,3,FALSE)))","v":-2},9.3600000000000012,37,60]
[15,"2018-07-07","Жук-трейл #6 Купалье","Трейл 21","Жук-трейл #6 Купалье Трейл 21",{"$f":"5.32*4","v":21.28},{"$f":"G14*4","v":144},22.720000000000002,4,{"$f":"HLOOKUP(I16,'Правила расчёта'!$A$17:$M$19,3,FALSE)","v":-4},3,{"$f":"MROUND(IF(K16=0,0,H16/K16),1)","v":8},{"$f":"IF(L16=0,0,IF(L16>=13,0,HLOOKUP(Гонки!L16,'Правила расчёта'!$A$13:$O$15,3,FALSE)))","v":-4},14.720000000000002,14,80]
[16,"2018-07-27","Жук-трейл #7 Раубичи","Трейл 5","Жук-трейл #7 Раубичи Трейл 5",5.5,250,{"$f":"F17+G17/100","v":8},1,{"$f":"HLOOKUP(I17,'Правила расчёта'!$A$17:$M$19,3,FALSE)","v":0},0,0,{"$f":"IF(L17=0,0,IF(L17>=13,0,HLOOKUP(Гонки!L17,'Правила расчёта'!$A$13:$O$15,3,FALSE)))","v":0},8,41,30]
[17,"2018-07-27","Жук-трейл #7 Раубичи","Трейл 10","Жук-трейл #7 Раубичи Трейл 10",{"$f":"F17*2","v":11},{"$f":"G17*2","v":500},16,2,{"$f":"HLOOKUP(I18,'Правила расчёта'!$A$17:$M$19,3,FALSE)","v":0},1,{"$f":"MROUND(IF(K18=0,0,H18/K18),1)","v":16},{"$f":"IF(L18=0,0,IF(L18>=13,0,HLOOKUP(Гонки!L18,'Правила расчёта'!$A$13:$O$15,3,FALSE)))","v":0},16,19,44]
[18,"2018-07-27","Жук-трейл #7 Раубичи","Трейл 21","Жук-трейл #7 Раубичи Трейл 21",{"$f":"F17*4","v":22},{"$f":"G17*4","v":1000},32,4,{"$f":"HLOOKUP(I19,'Правила расчёта'!$A$17:$M$19,3,FALSE)","v":-4},3,{"$f":"MROUND(IF(K19=0,0,H19/K19),1)","v":11},{"$f":"IF(L19=0,0,IF(L19>=13,0,HLOOKUP(Гонки!L19,'Правила расчёта'!$A$13:$O$15,3,FALSE)))","v":-2},26,9,42]
[19,"2018-10-06","Дорога замков","Трейл 10","Дорога замков Трейл 10",11.68,100,12.68,1,{"$f":"HLOOKUP(I20,'Правила расчёта'!$A$17:$M$19,3,FALSE)","v":0},0,{"$f":"MROUND(IF(K20=0,0,H20/K20),1)","v":0},{"$f":"IF(L20=0,0,IF(L20>=13,0,HLOOKUP(Гонки!L20,'Правила расчёта'!$A$13:$O$15,3,FALSE)))","v":0},12.68,36,37]
[20,"2018-10-06","Дорога замков","Трейл 21","Дорога замков Трейл 21",23.98,214,26.12,1,{"$f":"HLOOKUP(I21,'Правила расчёта'!$A$17:$M$19,3,FALSE)","v":0},1,26,{"$f":"IF(L21=0,0,IF(L21>=13,0,HLOOKUP(Гонки!L21,'Правила расчёта'!$A$13:$O$15,3,FALSE)))","v":0},26.12,15,56]
[21,"2018-10-06","Дорога замков","Трейл 42","Дорога замков Трейл 42",42.98,341,46.39,1,{"$f":"HLOOKUP(I22,'Правила расчёта'!$A$17:$M$19,3,FALSE)","v":0},2,23,{"$f":"IF(L22=0,0,IF(L22>=13,0,HLOOKUP(Гонки!L22,'Правила расчёта'!$A$13:$O$15,3,FALSE)))","v":0},46.39,7,31]
[22,"2018-10-06","Дорога замков","Ультра-Трейл 100","Дорога замков Ультра-Трейл 100",104.84,602,110.86,1,{"$f":"HLOOKUP(I23,'Правила расчёта'!$A$17:$M$19,3,FALSE)","v":0},5,22,{"$f":"IF(L23=0,0,IF(L23>=13,0,HLOOKUP(Гонки!L23,'Правила расчёта'!$A$13:$O$15,3,FALSE)))","v":0},110.86,3,16]
[23,"2018-11-17","Жук-трейл #8 Логойск","Трейл 5","Жук-трейл #8 Логойск Трейл 5",4.8499999999999996,{"$f":"G25/2","v":257.5},7.4249999999999998,1,{"$f":"HLOOKUP(I24,'Правила расчёта'!$A$17:$M$19,3,FALSE)","v":0},0,0,{"$f":"IF(L24=0,0,IF(L24>=13,0,HLOOKUP(Гонки!L24,'Правила расчёта'!$A$13:$O$15,3,FALSE)))","v":0},7.4249999999999998,48,45]
[24,"2018-11-17","Жук-трейл #8 Логойск","Трейл 10","Жук-трейл #8 Логойск Трейл 10",10.210000000000001,515,15.360000000000001,1,{"$f":"HLOOKUP(I25,'Правила расчёта'!$A$17:$M$19,3,FALSE)","v":0},0,0,{"$f":"IF(L25=0,0,IF(L25>=13,0,HLOOKUP(Гонки!L25,'Правила расчёта'!$A$13:$O$15,3,FALSE)))","v":0},15.360000000000001,42,154]
[25,"2018-11-17","Жук-трейл #8 Логойск","Трейл 21","Жук-трейл #8 Логойск Трейл 21",{"$f":"10.21*2","v":20.420000000000002},{"$f":"G25*2","v":1030},30.720000000000002,2,{"$f":"HLOOKUP(I26,'Правила расчёта'!$A$17:$M$19,3,FALSE)","v":0},1,31,{"$f":"IF(L26=0,0,IF(L26>=13,0,HLOOKUP(Гонки!L26,'Правила расчёта'!$A$13:$O$15,3,FALSE)))","v":0},30.720000000000002,20,84]
[26,"2018-11-17","Жук-трейл #8 Логойск","Трейл 42","Жук-трейл #8 Логойск Трейл 42",{"$f":"10.21*4","v":40.840000000000003},{"$f":"G25*4","v":2060},{"$f":"F27+G27/100","v":61.440000000000005},4,{"$f":"HLOOKUP(I27,'Правила расчёта'!$A$17:$M$19,3,FALSE)","v":-4},3,{"$f":"MROUND(IF(K27=0,0,H27/K27),1)","v":20},{"$f":"IF(L27=0,0,IF(L27>=13,0,HLOOKUP(Гонки!L27,'Правила расчёта'!$A$13:$O$15,3,FALSE)))","v":0},57.440000000000005,6,22]
[27,"2018-11-17","Жук-трейл #8 Логойск","Ночной 10","Жук-трейл #8 Логойск Ночной 10",10.210000000000001,515,15.360000000000001,1,{"$f":"HLOOKUP(I28,'Правила расчёта'!$A$17:$M$19,3,FALSE)","v":0},0,0,{"$f":"IF(L28=0,0,IF(L28>=13,0,HLOOKUP(Гонки!L28,'Правила расчёта'!$A$13:$O$15,3,FALSE)))","v":0},15.360000000000001,5,30]

{"sheet":"личные рез-ты по гонкам списком","index":2,"n_rows":1645,"n_cols":14,"rows_kept":1645,"cut":false,"hidden":false,"merged":[]}
["Гонка","Дистанция","где (служубн 1)","Рейтинг трассы","Пол","Кол-во участников по полу","Фамилия Имя","Год рождения","Surname Name","Ф+И (служебн 2)","Пол1","место","личный рез-т дистанции","личный рез-т соревнований"]
[{"$f":"Гонки!$C$2","v":"Зима минус 100"},{"$f":"Гонки!$D$2","v":"Трейл 50"},{"$f":"CONCATENATE(A2,\" \",B2)","v":"Зима минус 100 Трейл 50"},{"$f":"VLOOKUP(C2,Список_гонок,10,FALSE)","v":54.3},"Ж",{"$f":"IF(E2=\"Ж\",VLOOKUP(C2,Гонки!$E$2:$P$16,11,FALSE),VLOOKUP(C2,Гонки!$E$2:$P$16,12,FALSE))","v":14},"Скирук Юлия",1988,{"$f":"Translit(G2)","v":"Skiruk Yuliya"},{"$f":"CONCATENATE(G2,\" / \",I2,\" / \",H2)","v":"Скирук Юлия / Skiruk Yuliya / 1988"},{"$f":"E2","v":"Ж"},1,{"$f":"100-((L2-1)/F2)*100","v":100},{"$f":"ROUND(SQRT(D2)*M2,2)","v":736.89}]
[{"$f":"Гонки!$C$2","v":"Зима минус 100"},{"$f":"Гонки!$D$2","v":"Трейл 50"},"Зима минус 100 Трейл 50",54.3,"Ж",{"$f":"IF(E3=\"Ж\",VLOOKUP(C3,Гонки!$E$2:$P$16,11,FALSE),VLOOKUP(C3,Гонки!$E$2:$P$16,12,FALSE))","v":14},"Белинская Галина",1980,"Belinskaya Galina","Белинская Галина / Belinskaya Galina / 1980","Ж",2,92.857142857142861,{"$f":"ROUND(SQRT(D3)*M3,2)","v":684.25}]
[{"$f":"Гонки!$C$2","v":"Зима минус 100"},{"$f":"Гонки!$D$2","v":"Трейл 50"},"Зима минус 100 Трейл 50",54.3,"Ж",{"$f":"IF(E4=\"Ж\",VLOOKUP(C4,Гонки!$E$2:$P$16,11,FALSE),VLOOKUP(C4,Гонки!$E$2:$P$16,12,FALSE))","v":14},"Обухова Екатерина",1978,"Obuhova Ekaterina","Обухова Екатерина / Obuhova Ekaterina / 1978","Ж",3,85.714285714285722,631.62]
[{"$f":"Гонки!$C$2","v":"Зима минус 100"},{"$f":"Гонки!$D$2","v":"Трейл 50"},"Зима минус 100 Трейл 50",54.3,"Ж",{"$f":"IF(E5=\"Ж\",VLOOKUP(C5,Гонки!$E$2:$P$16,11,FALSE),VLOOKUP(C5,Гонки!$E$2:$P$16,12,FALSE))","v":14},"Куцун Надежда",1982,"Kutsun Nadezhda","Куцун Надежда / Kutsun Nadezhda / 1982","Ж",4,{"$f":"100-((L5-1)/F5)*100","v":78.571428571428569},{"$f":"ROUND(SQRT(D5)*M5,2)","v":578.98}]
[{"$f":"Гонки!$C$2","v":"Зима минус 100"},{"$f":"Гонки!$D$2","v":"Трейл 50"},"Зима минус 100 Трейл 50",54.3,"Ж",{"$f":"IF(E6=\"Ж\",VLOOKUP(C6,Гонки!$E$2:$P$16,11,FALSE),VLOOKUP(C6,Гонки!$E$2:$P$16,12,FALSE))","v":14},"Михно Алла",1979,"Mihno Alla","Михно Алла / Mihno Alla / 1979","Ж",5,71.428571428571431,526.35]
[{"$f":"Гонки!$C$2","v":"Зима минус 100"},{"$f":"Гонки!$D$2","v":"Трейл 50"},"Зима минус 100 Трейл 50",54.3,"Ж",{"$f":"IF(E7=\"Ж\",VLOOKUP(C7,Гонки!$E$2:$P$16,11,FALSE),VLOOKUP(C7,Гонки!$E$2:$P$16,12,FALSE))","v":14},"Радчук Алеся",1996,"Radchuk Alesya","Радчук Алеся / Radchuk Alesya / 1996","Ж",6,64.285714285714278,473.71]
[{"$f":"Гонки!$C$2","v":"Зима минус 100"},{"$f":"Гонки!$D$2","v":"Трейл 50"},"Зима минус 100 Трейл 50",54.3,"Ж",{"$f":"IF(E8=\"Ж\",VLOOKUP(C8,Гонки!$E$2:$P$16,11,FALSE),VLOOKUP(C8,Гонки!$E$2:$P$16,12,FALSE))","v":14},"Янович Лена",1996,"Yanovich Lena","Янович Лена / Yanovich Lena / 1996","Ж",7,57.142857142857146,421.08]
[{"$f":"Гонки!$C$2","v":"Зима минус 100"},{"$f":"Гонки!$D$2","v":"Трейл 50"},"Зима минус 100 Трейл 50",54.3,"Ж",{"$f":"IF(E9=\"Ж\",VLOOKUP(C9,Гонки!$E$2:$P$16,11,FALSE),VLOOKUP(C9,Гонки!$E$2:$P$16,12,FALSE))","v":14},"Кордунская Екатерина",1983,"Kordunskaya Ekaterina","Кордунская Екатерина / Kordunskaya Ekaterina / 1983","Ж",8,50,368.44]
[{"$f":"Гонки!$C$2","v":"Зима минус 100"},{"$f":"Гонки!$D$2","v":"Трейл 50"},"Зима минус 100 Трейл 50",54.3,"Ж",{"$f":"IF(E10=\"Ж\",VLOOKUP(C10,Гонки!$E$2:$P$16,11,FALSE),VLOOKUP(C10,Гонки!$E$2:$P$16,12,FALSE))","v":14},"Чернель Татьяна",1982,"Chernel Tatyana","Чернель Татьяна / Chernel Tatyana / 1982","Ж",9,42.857142857142861,315.81]
[{"$f":"Гонки!$C$2","v":"Зима минус 100"},{"$f":"Гонки!$D$2","v":"Трейл 50"},"Зима минус 100 Трейл 50",54.3,"Ж",{"$f":"IF(E11=\"Ж\",VLOOKUP(C11,Гонки!$E$2:$P$16,11,FALSE),VLOOKUP(C11,Гонки!$E$2:$P$16,12,FALSE))","v":14},"Арловская Кристина",1989,"Arlovskaya Kristina","Арловская Кристина / Arlovskaya Kristina / 1989","Ж",10,35.714285714285708,263.17]
[{"$f":"Гонки!$C$2","v":"Зима минус 100"},{"$f":"Гонки!$D$2","v":"Трейл 50"},"Зима минус 100 Трейл 50",54.3,"Ж",{"$f":"IF(E12=\"Ж\",VLOOKUP(C12,Гонки!$E$2:$P$16,11,FALSE),VLOOKUP(C12,Гонки!$E$2:$P$16,12,FALSE))","v":14},"Литвинка Нина",1991,"Litvinka Nina","Литвинка Нина / Litvinka Nina / 1991","Ж",11,28.571428571428569,210.54]
[{"$f":"Гонки!$C$2","v":"Зима минус 100"},{"$f":"Гонки!$D$2","v":"Трейл 50"},"Зима минус 100 Трейл 50",54.3,"М",{"$f":"IF(E13=\"Ж\",VLOOKUP(C13,Гонки!$E$2:$P$16,11,FALSE),VLOOKUP(C13,Гонки!$E$2:$P$16,12,FALSE))","v":34},"Евсюченя Александр",1991,"Evsyuchenya Aleksandr","Евсюченя Александр / Evsyuchenya Aleksandr / 1991","М",1,100,736.89]
[{"$f":"Гонки!$C$2","v":"Зима минус 100"},{"$f":"Гонки!$D$2","v":"Трейл 50"},"Зима минус 100 Трейл 50",54.3,"М",{"$f":"IF(E14=\"Ж\",VLOOKUP(C14,Гонки!$E$2:$P$16,11,FALSE),VLOOKUP(C14,Гонки!$E$2:$P$16,12,FALSE))","v":34},"Некрасов Василий",1986,"Nekrasov Vasilij","Некрасов Василий / Nekrasov Vasilij / 1986","М",2,97.058823529411768,715.21]
[{"$f":"Гонки!$C$2","v":"Зима минус 100"},{"$f":"Гонки!$D$2","v":"Трейл 50"},"Зима минус 100 Трейл 50",54.3,"М",{"$f":"IF(E15=\"Ж\",VLOOKUP(C15,Гонки!$E$2:$P$16,11,FALSE),VLOOKUP(C15,Гонки!$E$2:$P$16,12,FALSE))","v":34},"Березовский Андрей",1973,"Berezovskij Andrej","Березовский Андрей / Berezovskij Andrej / 1973","М",3,94.117647058823536,693.54]
[{"$f":"Гонки!$C$2","v":"Зима минус 100"},{"$f":"Гонки!$D$2","v":"Трейл 50"},"Зима минус 100 Трейл 50",54.3,"М",{"$f":"IF(E16=\"Ж\",VLOOKUP(C16,Гонки!$E$2:$P$16,11,FALSE),VLOOKUP(C16,Гонки!$E$2:$P$16,12,FALSE))","v":34},"Сидоревич Александр",1985,"Sidorevich Aleksandr","Сидоревич Александр / Sidorevich Aleksandr / 1985","М",4,91.17647058823529,671.87]
[{"$f":"Гонки!$C$2","v":"Зима минус 100"},{"$f":"Гонки!$D$2","v":"Трейл 50"},"Зима минус 100 Трейл 50",54.3,"М",{"$f":"IF(E17=\"Ж\",VLOOKUP(C17,Гонки!$E$2:$P$16,11,FALSE),VLOOKUP(C17,Гонки!$E$2:$P$16,12,FALSE))","v":34},"Скуратович Антон",1985,"Skuratovich Anton","Скуратович Антон / Skuratovich Anton / 1985","М",5,88.235294117647058,650.19000000000005]
[{"$f":"Гонки!$C$2","v":"Зима минус 100"},{"$f":"Гонки!$D$2","v":"Трейл 50"},"Зима минус 100 Трейл 50",54.3,"М",{"$f":"IF(E18=\"Ж\",VLOOKUP(C18,Гонки!$E$2:$P$16,11,FALSE),VLOOKUP(C18,Гонки!$E$2:$P$16,12,FALSE))","v":34},"Бабицкий Кирилл",1998,"Babitskij Kirill","Бабицкий Кирилл / Babitskij Kirill / 1998","М",6,85.294117647058826,628.52]
[{"$f":"Гонки!$C$2","v":"Зима минус 100"},{"$f":"Гонки!$D$2","v":"Трейл 50"},"Зима минус 100 Трейл 50",54.3,"М",{"$f":"IF(E19=\"Ж\",VLOOKUP(C19,Гонки!$E$2:$P$16,11,FALSE),VLOOKUP(C19,Гонки!$E$2:$P$16,12,FALSE))","v":34},"Лисовский Павел",1986,"Lisovskij Pavel","Лисовский Павел / Lisovskij Pavel / 1986","М",7,82.35294117647058,606.85]
[{"$f":"Гонки!$C$2","v":"Зима минус 100"},{"$f":"Гонки!$D$2","v":"Трейл 50"},"Зима минус 100 Трейл 50",54.3,"М",{"$f":"IF(E20=\"Ж\",VLOOKUP(C20,Гонки!$E$2:$P$16,11,FALSE),VLOOKUP(C20,Гонки!$E$2:$P$16,12,FALSE))","v":34},"Коровец Богдан",1976,"Korovets Bogdan","Коровец Богдан / Korovets Bogdan / 1976","М",8,79.411764705882348,585.16999999999996]
[{"$f":"Гонки!$C$2","v":"Зима минус 100"},{"$f":"Гонки!$D$2","v":"Трейл 50"},"Зима минус 100 Трейл 50",54.3,"М",{"$f":"IF(E21=\"Ж\",VLOOKUP(C21,Гонки!$E$2:$P$16,11,FALSE),VLOOKUP(C21,Гонки!$E$2:$P$16,12,FALSE))","v":34},"Крисенков Алексей",1983,"Krisenkov Aleksej","Крисенков Алексей / Krisenkov Aleksej / 1983","М",9,76.470588235294116,563.5]
[{"$f":"Гонки!$C$2","v":"Зима минус 100"},{"$f":"Гонки!$D$2","v":"Трейл 50"},"Зима минус 100 Трейл 50",54.3,"М",{"$f":"IF(E22=\"Ж\",VLOOKUP(C22,Гонки!$E$2:$P$16,11,FALSE),VLOOKUP(C22,Гонки!$E$2:$P$16,12,FALSE))","v":34},"Рачковский Сергей",1988,"Rachkovskij Sergej","Рачковский Сергей / Rachkovskij Sergej / 1988","М",10,73.529411764705884,541.83000000000004]
[{"$f":"Гонки!$C$2","v":"Зима минус 100"},{"$f":"Гонки!$D$2","v":"Трейл 50"},"Зима минус 100 Трейл 50",54.3,"М",{"$f":"IF(E23=\"Ж\",VLOOKUP(C23,Гонки!$E$2:$P$16,11,FALSE),VLOOKUP(C23,Гонки!$E$2:$P$16,12,FALSE))","v":34},"Лисовский Виктор",1964,"Lisovskij Viktor","Лисовский Виктор / Lisovskij Viktor / 1964","М",11,70.588235294117652,520.15]
[{"$f":"Гонки!$C$2","v":"Зима минус 100"},{"$f":"Гонки!$D$2","v":"Трейл 50"},"Зима минус 100 Трейл 50",54.3,"М",{"$f":"IF(E24=\"Ж\",VLOOKUP(C24,Гонки!$E$2:$P$16,11,FALSE),VLOOKUP(C24,Гонки!$E$2:$P$16,12,FALSE))","v":34},"Тюев Даниил",1977,"Tyuev Daniil","Тюев Даниил / Tyuev Daniil / 1977","М",12,67.64705882352942,498.48]
[{"$f":"Гонки!$C$2","v":"Зима минус 100"},{"$f":"Гонки!$D$2","v":"Трейл 50"},"Зима минус 100 Трейл 50",54.3,"М",{"$f":"IF(E25=\"Ж\",VLOOKUP(C25,Гонки!$E$2:$P$16,11,FALSE),VLOOKUP(C25,Гонки!$E$2:$P$16,12,FALSE))","v":34},"Лавник Игорь",1983,"Lavnik Igor","Лавник Игорь / Lavnik Igor / 1983","М",13,64.705882352941174,476.81]
[{"$f":"Гонки!$C$2","v":"Зима минус 100"},{"$f":"Гонки!$D$2","v":"Трейл 50"},"Зима минус 100 Трейл 50",54.3,"М",{"$f":"IF(E26=\"Ж\",VLOOKUP(C26,Гонки!$E$2:$P$16,11,FALSE),VLOOKUP(C26,Гонки!$E$2:$P$16,12,FALSE))","v":34},"Грек Илья",1992,"Grek Ilya","Грек Илья / Grek Ilya / 1992","М",14,61.764705882352942,455.14]
[{"$f":"Гонки!$C$2","v":"Зима минус 100"},{"$f":"Гонки!$D$2","v":"Трейл 50"},"Зима минус 100 Трейл 50",54.3,"М",{"$f":"IF(E27=\"Ж\",VLOOKUP(C27,Гонки!$E$2:$P$16,11,FALSE),VLOOKUP(C27,Гонки!$E$2:$P$16,12,FALSE))","v":34},"Поцелуев Сергей",1973,"Potseluev Sergej","Поцелуев Сергей / Potseluev Sergej / 1973","М",15,58.82352941176471,433.46]
[{"$f":"Гонки!$C$2","v":"Зима минус 100"},{"$f":"Гонки!$D$2","v":"Трейл 50"},"Зима минус 100 Трейл 50",54.3,"М",{"$f":"IF(E28=\"Ж\",VLOOKUP(C28,Гонки!$E$2:$P$16,11,FALSE),VLOOKUP(C28,Гонки!$E$2:$P$16,12,FALSE))","v":34},"Малалетников Павел",1982,"Malaletnikov Pavel","Малалетников Павел / Malaletnikov Pavel / 1982","М",16,55.882352941176471,411.79]
[{"$f":"Гонки!$C$2","v":"Зима минус 100"},{"$f":"Гонки!$D$2","v":"Трейл 50"},"Зима минус 100 Трейл 50",54.3,"М",{"$f":"IF(E29=\"Ж\",VLOOKUP(C29,Гонки!$E$2:$P$16,11,FALSE),VLOOKUP(C29,Гонки!$E$2:$P$16,12,FALSE))","v":34},"Храмов Антон",1991,"Hramov Anton","Храмов Антон / Hramov Anton / 1991","М",17,52.941176470588239,390.12]
[{"$f":"Гонки!$C$2","v":"Зима минус 100"},{"$f":"Гонки!$D$2","v":"Трейл 50"},"Зима минус 100 Трейл 50",54.3,"М",{"$f":"IF(E30=\"Ж\",VLOOKUP(C30,Гонки!$E$2:$P$16,11,FALSE),VLOOKUP(C30,Гонки!$E$2:$P$16,12,FALSE))","v":34},"Мурашов Владимир",1983,"Murashov Vladimir","Мурашов Владимир / Murashov Vladimir / 1983","М",18,50,368.44]
[{"$f":"Гонки!$C$2","v":"Зима минус 100"},{"$f":"Гонки!$D$2","v":"Трейл 50"},"Зима минус 100 Трейл 50",54.3,"М",{"$f":"IF(E31=\"Ж\",VLOOKUP(C31,Гонки!$E$2:$P$16,11,FALSE),VLOOKUP(C31,Гонки!$E$2:$P$16,12,FALSE))","v":34},"Быков Владимир",1977,"Bykov Vladimir","Быков Владимир / Bykov Vladimir / 1977","М",19,47.058823529411761,346.77]
[{"$f":"Гонки!$C$2","v":"Зима минус 100"},{"$f":"Гонки!$D$2","v":"Трейл 50"},"Зима минус 100 Трейл 50",54.3,"М",{"$f":"IF(E32=\"Ж\",VLOOKUP(C32,Гонки!$E$2:$P$16,11,FALSE),VLOOKUP(C32,Гонки!$E$2:$P$16,12,FALSE))","v":34},"Михно Борис",1982,"Mihno Boris","Михно Борис / Mihno Boris / 1982","М",20,44.117647058823529,325.10000000000002]
[{"$f":"Гонки!$C$2","v":"Зима минус 100"},{"$f":"Гонки!$D$2","v":"Трейл 50"},"Зима минус 100 Трейл 50",54.3,"М",{"$f":"IF(E33=\"Ж\",VLOOKUP(C33,Гонки!$E$2:$P$16,11,FALSE),VLOOKUP(C33,Гонки!$E$2:$P$16,12,FALSE))","v":34},"Иванчик Александр",1990,"Ivanchik Aleksandr","Иванчик Александр / Ivanchik Aleksandr / 1990","М",21,41.17647058823529,303.42]
[{"$f":"Гонки!$C$2","v":"Зима минус 100"},{"$f":"Гонки!$D$2","v":"Трейл 50"},"Зима минус 100 Трейл 50",54.3,"М",{"$f":"IF(E34=\"Ж\",VLOOKUP(C34,Гонки!$E$2:$P$16,11,FALSE),VLOOKUP(C34,Гонки!$E$2:$P$16,12,FALSE))","v":34},"Леверовский Александр",1988,"Leverovskij Aleksandr","Леверовский Александр / Leverovskij Aleksandr / 1988","М",22,38.235294117647058,281.75]
[{"$f":"Гонки!$C$2","v":"Зима минус 100"},{"$f":"Гонки!$D$2","v":"Трейл 50"},"Зима минус 100 Трейл 50",54.3,"М",{"$f":"IF(E35=\"Ж\",VLOOKUP(C35,Гонки!$E$2:$P$16,11,FALSE),VLOOKUP(C35,Гонки!$E$2:$P$16,12,FALSE))","v":34},"Чичин Юрий",1979,"Chichin Yurij","Чичин Юрий / Chichin Yurij / 1979","М",23,35.294117647058826,260.08]
[{"$f":"Гонки!$C$2","v":"Зима минус 100"},{"$f":"Гонки!$D$2","v":"Трейл 50"},"Зима минус 100 Трейл 50",54.3,"М",{"$f":"IF(E36=\"Ж\",VLOOKUP(C36,Гонки!$E$2:$P$16,11,FALSE),VLOOKUP(C36,Гонки!$E$2:$P$16,12,FALSE))","v":34},"Бачища Николай",1988,"Bachischa Nikolaj","Бачища Николай / Bachischa Nikolaj / 1988","М",24,32.35294117647058,238.4]
[{"$f":"Гонки!$C$2","v":"Зима минус 100"},{"$f":"Гонки!$D$2","v":"Трейл 50"},"Зима минус 100 Трейл 50",54.3,"М",{"$f":"IF(E37=\"Ж\",VLOOKUP(C37,Гонки!$E$2:$P$16,11,FALSE),VLOOKUP(C37,Гонки!$E$2:$P$16,12,FALSE))","v":34},"Кузьмич Дмитрий",1975,"Kuzmich Dmitrij","Кузьмич Дмитрий / Kuzmich Dmitrij / 1975","М",25,29.411764705882348,216.73]
[{"$f":"Гонки!$C$2","v":"Зима минус 100"},{"$f":"Гонки!$D$2","v":"Трейл 50"},"Зима минус 100 Трейл 50",54.3,"М",{"$f":"IF(E38=\"Ж\",VLOOKUP(C38,Гонки!$E$2:$P$16,11,FALSE),VLOOKUP(C38,Гонки!$E$2:$P$16,12,FALSE))","v":34},"Лялеко Сергей",1986,"Lyaleko Sergej","Лялеко Сергей / Lyaleko Sergej / 1986","М",26,26.470588235294116,195.06]
[{"$f":"Гонки!$C$2","v":"Зима минус 100"},{"$f":"Гонки!$D$2","v":"Трейл 50"},"Зима минус 100 Трейл 50",54.3,"М",{"$f":"IF(E39=\"Ж\",VLOOKUP(C39,Гонки!$E$2:$P$16,11,FALSE),VLOOKUP(C39,Гонки!$E$2:$P$16,12,FALSE))","v":34},"Лучкин Олег",1983,"Luchkin Oleg","Лучкин Олег / Luchkin Oleg / 1983","М",27,23.529411764705884,173.38]
[{"$f":"Гонки!$C$2","v":"Зима минус 100"},{"$f":"Гонки!$D$2","v":"Трейл 50"},"Зима минус 100 Трейл 50",54.3,"М",{"$f":"IF(E40=\"Ж\",VLOOKUP(C40,Гонки!$E$2:$P$16,11,FALSE),VLOOKUP(C40,Гонки!$E$2:$P$16,12,FALSE))","v":34},"Занько Юрий",1982,"Zanko Yurij","Занько Юрий / Zanko Yurij / 1982","М",28,20.588235294117652,151.71]
[{"$f":"Гонки!$C$2","v":"Зима минус 100"},{"$f":"Гонки!$D$2","v":"Трейл 50"},"Зима минус 100 Трейл 50",54.3,"М",{"$f":"IF(E41=\"Ж\",VLOOKUP(C41,Гонки!$E$2:$P$16,11,FALSE),VLOOKUP(C41,Гонки!$E$2:$P$16,12,FALSE))","v":34},"Печёнов Георгий",1975,"Pechjonov Georgij","Печёнов Георгий / Pechjonov Georgij / 1975","М",29,17.64705882352942,130.04]
[{"$f":"Гонки!$C$2","v":"Зима минус 100"},{"$f":"Гонки!$D$2","v":"Трейл 50"},"Зима минус 100 Трейл 50",54.3,"М",{"$f":"IF(E42=\"Ж\",VLOOKUP(C42,Гонки!$E$2:$P$16,11,FALSE),VLOOKUP(C42,Гонки!$E$2:$P$16,12,FALSE))","v":34},"Ананич Александр",1979,"Ananich Aleksandr","Ананич Александр / Ananich Aleksandr / 1979","М",30,14.705882352941174,108.37]
[{"$f":"Гонки!$C$2","v":"Зима минус 100"},{"$f":"Гонки!$D$2","v":"Трейл 50"},"Зима минус 100 Трейл 50",54.3,"М",{"$f":"IF(E43=\"Ж\",VLOOKUP(C43,Гонки!$E$2:$P$16,11,FALSE),VLOOKUP(C43,Гонки!$E$2:$P$16,12,FALSE))","v":34},"Катонов Василий",1985,"Katonov Vasilij","Катонов Василий / Katonov Vasilij / 1985","М",31,11.764705882352942,86.69]
[{"$f":"Гонки!$C$2","v":"Зима минус 100"},{"$f":"Гонки!$D$2","v":"Трейл 50"},"Зима минус 100 Трейл 50",54.3,"М",{"$f":"IF(E44=\"Ж\",VLOOKUP(C44,Гонки!$E$2:$P$16,11,FALSE),VLOOKUP(C44,Гонки!$E$2:$P$16,12,FALSE))","v":34},"Медвецкий Денис",1986,"Medvetskij Denis","Медвецкий Денис / Medvetskij Denis / 1986","М",32,8.8235294117647101,65.02]
[{"$f":"Гонки!$C$2","v":"Зима минус 100"},{"$f":"Гонки!$D$2","v":"Трейл 50"},"Зима минус 100 Трейл 50",54.3,"М",{"$f":"IF(E45=\"Ж\",VLOOKUP(C45,Гонки!$E$2:$P$16,11,FALSE),VLOOKUP(C45,Гонки!$E$2:$P$16,12,FALSE))","v":34},"Малаховский Александр",1985,"Malahovskij Aleksandr","Малаховский Александр / Malahovskij Aleksandr / 1985","М",33,5.8823529411764781,43.35]
[{"$f":"Гонки!$C$2","v":"Зима минус 100"},{"$f":"Гонки!$D$3","v":"Трейл 100"},"Зима минус 100 Трейл 100",113.8,"Ж",{"$f":"IF(E46=\"Ж\",VLOOKUP(C46,Гонки!$E$2:$P$16,11,FALSE),VLOOKUP(C46,Гонки!$E$2:$P$16,12,FALSE))","v":5},"Суховерхая Татьяна",1986,"Suhoverhaya Tatyana","Суховерхая Татьяна / Suhoverhaya Tatyana / 1986","Ж",1,100,1066.77]
[{"$f":"Гонки!$C$2","v":"Зима минус 100"},{"$f":"Гонки!$D$3","v":"Трейл 100"},"Зима минус 100 Трейл 100",113.8,"М",{"$f":"IF(E47=\"Ж\",VLOOKUP(C47,Гонки!$E$2:$P$16,11,FALSE),VLOOKUP(C47,Гонки!$E$2:$P$16,12,FALSE))","v":25},"Пивень Андрей",1992,"Piven Andrej","Пивень Андрей / Piven Andrej / 1992","М",1,100,1066.77]
[{"$f":"Гонки!$C$2","v":"Зима минус 100"},{"$f":"Гонки!$D$3","v":"Трейл 100"},"Зима минус 100 Трейл 100",113.8,"М",{"$f":"IF(E48=\"Ж\",VLOOKUP(C48,Гонки!$E$2:$P$16,11,FALSE),VLOOKUP(C48,Гонки!$E$2:$P$16,12,FALSE))","v":25},"Исаев Антон",1979,"Isaev Anton","Исаев Антон / Isaev Anton / 1979","М",2,96,1024.0999999999999]
[{"$f":"Гонки!$C$2","v":"Зима минус 100"},{"$f":"Гонки!$D$3","v":"Трейл 100"},"Зима минус 100 Трейл 100",113.8,"М",{"$f":"IF(E49=\"Ж\",VLOOKUP(C49,Гонки!$E$2:$P$16,11,FALSE),VLOOKUP(C49,Гонки!$E$2:$P$16,12,FALSE))","v":25},"Синица Кирилл",1981,"Sinitsa Kirill","Синица Кирилл / Sinitsa Kirill / 1981","М",3,92,981.43]
[{"$f":"Гонки!$C$2","v":"Зима минус 100"},{"$f":"Гонки!$D$3","v":"Трейл 100"},"Зима минус 100 Трейл 100",113.8,"М",{"$f":"IF(E50=\"Ж\",VLOOKUP(C50,Гонки!$E$2:$P$16,11,FALSE),VLOOKUP(C50,Гонки!$E$2:$P$16,12,FALSE))","v":25},"Лысенко Павел",1966,"Lysenko Pavel","Лысенко Павел / Lysenko Pavel / 1966","М",4,88,938.76]
[{"$f":"Гонки!$C$2","v":"Зима минус 100"},{"$f":"Гонки!$D$3","v":"Трейл 100"},"Зима минус 100 Трейл 100",113.8,"М",{"$f":"IF(E51=\"Ж\",VLOOKUP(C51,Гонки!$E$2:$P$16,11,FALSE),VLOOKUP(C51,Гонки!$E$2:$P$16,12,FALSE))","v":25},"Борисевич Леонид",1969,"Borisevich Leonid","Борисевич Леонид / Borisevich Leonid / 1969","М",5,84,896.09]
[{"$f":"Гонки!$C$2","v":"Зима минус 100"},{"$f":"Гонки!$D$3","v":"Трейл 100"},"Зима минус 100 Трейл 100",113.8,"М",{"$f":"IF(E52=\"Ж\",VLOOKUP(C52,Гонки!$E$2:$P$16,11,FALSE),VLOOKUP(C52,Гонки!$E$2:$P$16,12,FALSE))","v":25},"Подрез Ярослав",1996,"Podrez Yaroslav","Подрез Ярослав / Podrez Yaroslav / 1996","М",6,80,853.42]
[{"$f":"Гонки!$C$2","v":"Зима минус 100"},{"$f":"Гонки!$D$3","v":"Трейл 100"},"Зима минус 100 Трейл 100",113.8,"М",{"$f":"IF(E53=\"Ж\",VLOOKUP(C53,Гонки!$E$2:$P$16,11,FALSE),VLOOKUP(C53,Гонки!$E$2:$P$16,12,FALSE))","v":25},"Селютин Владимир",1990,"Selyutin Vladimir","Селютин Владимир / Selyutin Vladimir / 1990","М",7,76,810.75]
[{"$f":"Гонки!$C$2","v":"Зима минус 100"},{"$f":"Гонки!$D$3","v":"Трейл 100"},"Зима минус 100 Трейл 100",113.8,"М",{"$f":"IF(E54=\"Ж\",VLOOKUP(C54,Гонки!$E$2:$P$16,11,FALSE),VLOOKUP(C54,Гонки!$E$2:$P$16,12,FALSE))","v":25},"Фенченко Алексей",1989,"Fenchenko Aleksej","Фенченко Алексей / Fenchenko Aleksej / 1989","М",8,72,768.07]
[{"$f":"Гонки!$C$2","v":"Зима минус 100"},{"$f":"Гонки!$D$3","v":"Трейл 100"},"Зима минус 100 Трейл 100",113.8,"М",{"$f":"IF(E55=\"Ж\",VLOOKUP(C55,Гонки!$E$2:$P$16,11,FALSE),VLOOKUP(C55,Гонки!$E$2:$P$16,12,FALSE))","v":25},"Харитонов Иван",1973,"Haritonov Ivan","Харитонов Иван / Haritonov Ivan / 1973","М",9,68,725.4]
[{"$f":"Гонки!$C$2","v":"Зима минус 100"},{"$f":"Гонки!$D$3","v":"Трейл 100"},"Зима минус 100 Трейл 100",113.8,"М",{"$f":"IF(E56=\"Ж\",VLOOKUP(C56,Гонки!$E$2:$P$16,11,FALSE),VLOOKUP(C56,Гонки!$E$2:$P$16,12,FALSE))","v":25},"Лесковец Александр",1990,"Leskovets Aleksandr","Лесковец Александр / Leskovets Aleksandr / 1990","М",10,64,682.73]
[{"$f":"Гонки!$C$2","v":"Зима минус 100"},{"$f":"Гонки!$D$3","v":"Трейл 100"},"Зима минус 100 Трейл 100",113.8,"М",{"$f":"IF(E57=\"Ж\",VLOOKUP(C57,Гонки!$E$2:$P$16,11,FALSE),VLOOKUP(C57,Гонки!$E$2:$P$16,12,FALSE))","v":25},"Нестерович Сергей",1994,"Nesterovich Sergej","Нестерович Сергей / Nesterovich Sergej / 1994","М",11,60,640.05999999999995]
[{"$f":"Гонки!$C$2","v":"Зима минус 100"},{"$f":"Гонки!$D$3","v":"Трейл 100"},"Зима минус 100 Трейл 100",113.8,"М",{"$f":"IF(E58=\"Ж\",VLOOKUP(C58,Гонки!$E$2:$P$16,11,FALSE),VLOOKUP(C58,Гонки!$E$2:$P$16,12,FALSE))","v":25},"Сорокин Денис",1998,"Sorokin Denis","Сорокин Денис / Sorokin Denis / 1998","М",12,56,597.39]
[{"$f":"Гонки!$C$2","v":"Зима минус 100"},{"$f":"Гонки!$D$3","v":"Трейл 100"},"Зима минус 100 Трейл 100",113.8,"М",{"$f":"IF(E59=\"Ж\",VLOOKUP(C59,Гонки!$E$2:$P$16,11,FALSE),VLOOKUP(C59,Гонки!$E$2:$P$16,12,FALSE))","v":25},"Маркевич Денис",1981,"Markevich Denis","Маркевич Денис / Markevich Denis / 1981","М",13,52,554.72]
[{"$f":"Гонки!$C$2","v":"Зима минус 100"},{"$f":"Гонки!$D$3","v":"Трейл 100"},"Зима минус 100 Трейл 100",113.8,"М",{"$f":"IF(E60=\"Ж\",VLOOKUP(C60,Гонки!$E$2:$P$16,11,FALSE),VLOOKUP(C60,Гонки!$E$2:$P$16,12,FALSE))","v":25},"Олин Денис",1976,"Olin Denis","Олин Денис / Olin Denis / 1976","М",14,48,512.04999999999995]
[{"$f":"Гонки!$C$4","v":"Жук-трейл # 4 Минское Море "},{"$f":"Гонки!$D$4","v":"Трейл 25"},"Жук-трейл # 4 Минское Море  Трейл 25",26.709999999999997,"Ж",{"$f":"IF(E61=\"Ж\",VLOOKUP(C61,Гонки!$E$2:$P$16,11,FALSE),VLOOKUP(C61,Гонки!$E$2:$P$16,12,FALSE))","v":11},"Гилевич Диана",1993,"Gilevich Diana","Гилевич Диана / Gilevich Diana / 1993","Ж",1,100,516.82000000000005]
[{"$f":"Гонки!$C$4","v":"Жук-трейл # 4 Минское Море "},{"$f":"Гонки!$D$4","v":"Трейл 25"},"Жук-трейл # 4 Минское Море  Трейл 25",26.709999999999997,"Ж",{"$f":"IF(E62=\"Ж\",VLOOKUP(C62,Гонки!$E$2:$P$16,11,FALSE),VLOOKUP(C62,Гонки!$E$2:$P$16,12,FALSE))","v":11},"Гилевич Кристина",1994,"Gilevich Kristina","Гилевич Кристина / Gilevich Kristina / 1994","Ж",2,90.909090909090907,469.83]
[{"$f":"Гонки!$C$4","v":"Жук-трейл # 4 Минское Море "},{"$f":"Гонки!$D$4","v":"Трейл 25"},"Жук-трейл # 4 Минское Море  Трейл 25",26.709999999999997,"Ж",{"$f":"IF(E63=\"Ж\",VLOOKUP(C63,Гонки!$E$2:$P$16,11,FALSE),VLOOKUP(C63,Гонки!$E$2:$P$16,12,FALSE))","v":11},"Скирук Юлия",1988,"Skiruk Yuliya","Скирук Юлия / Skiruk Yuliya / 1988","Ж",3,81.818181818181813,422.85]
[{"$f":"Гонки!$C$4","v":"Жук-трейл # 4 Минское Море "},{"$f":"Гонки!$D$4","v":"Трейл 25"},"Жук-трейл # 4 Минское Море  Трейл 25",26.709999999999997,"Ж",{"$f":"IF(E64=\"Ж\",VLOOKUP(C64,Гонки!$E$2:$P$16,11,FALSE),VLOOKUP(C64,Гонки!$E$2:$P$16,12,FALSE))","v":11},"Белая Юлия",1988,"Belaya Yuliya","Белая Юлия / Belaya Yuliya / 1988","Ж",4,72.727272727272734,375.87]
[{"$f":"Гонки!$C$4","v":"Жук-трейл # 4 Минское Море "},{"$f":"Гонки!$D$4","v":"Трейл 25"},"Жук-трейл # 4 Минское Море  Трейл 25",26.709999999999997,"Ж",{"$f":"IF(E65=\"Ж\",VLOOKUP(C65,Гонки!$E$2:$P$16,11,FALSE),VLOOKUP(C65,Гонки!$E$2:$P$16,12,FALSE))","v":11},"Голубева Елена",1987,"Golubeva Elena","Голубева Елена / Golubeva Elena / 1987","Ж",5,63.636363636363633,328.88]
[{"$f":"Гонки!$C$4","v":"Жук-трейл # 4 Минское Море "},{"$f":"Гонки!$D$4","v":"Трейл 25"},{"$f":"CONCATENATE(A66,\" \",B66)","v":"Жук-трейл # 4 Минское Море  Трейл 25"},{"$f":"VLOOKUP(C66,Список_гонок,10,FALSE)","v":26.709999999999997},"Ж",{"$f":"IF(E66=\"Ж\",VLOOKUP(C66,Гонки!$E$2:$P$16,11,FALSE),VLOOKUP(C66,Гонки!$E$2:$P$16,12,FALSE))","v":11},"Литвинская Людмила",1977,{"$f":"Translit(G66)","v":"Litvinskaya Lyudmila"},{"$f":"CONCATENATE(G66,\" / \",I66,\" / \",H66)","v":"Литвинская Людмила / Litvinskaya Lyudmila / 1977"},{"$f":"E66","v":"Ж"},6,{"$f":"100-((L66-1)/F66)*100","v":54.545454545454547},{"$f":"ROUND(SQRT(D66)*M66,2)","v":281.89999999999998}]
[{"$f":"Гонки!$C$4","v":"Жук-трейл # 4 Минское Море "},{"$f":"Гонки!$D$4","v":"Трейл 25"},"Жук-трейл # 4 Минское Море  Трейл 25",26.709999999999997,"Ж",{"$f":"IF(E67=\"Ж\",VLOOKUP(C67,Гонки!$E$2:$P$16,11,FALSE),VLOOKUP(C67,Гонки!$E$2:$P$16,12,FALSE))","v":11},"Суховерхая Татьяна",1986,"Suhoverhaya Tatyana","Суховерхая Татьяна / Suhoverhaya Tatyana / 1986","Ж",7,45.45454545454546,234.92]
[{"$f":"Гонки!$C$4","v":"Жук-трейл # 4 Минское Море "},{"$f":"Гонки!$D$4","v":"Трейл 25"},"Жук-трейл # 4 Минское Море  Трейл 25",26.709999999999997,"Ж",{"$f":"IF(E68=\"Ж\",VLOOKUP(C68,Гонки!$E$2:$P$16,11,FALSE),VLOOKUP(C68,Гонки!$E$2:$P$16,12,FALSE))","v":11},"Василевич Валентина",1998,"Vasilevich Valentina","Василевич Валентина / Vasilevich Valentina / 1998","Ж",8,36.363636363636367,187.93]
[{"$f":"Гонки!$C$4","v":"Жук-трейл # 4 Минское Море "},{"$f":"Гонки!$D$4","v":"Трейл 25"},"Жук-трейл # 4 Минское Море  Трейл 25",26.709999999999997,"Ж",{"$f":"IF(E69=\"Ж\",VLOOKUP(C69,Гонки!$E$2:$P$16,11,FALSE),VLOOKUP(C69,Гонки!$E$2:$P$16,12,FALSE))","v":11},"Михно Алла",1979,"Mihno Alla","Михно Алла / Mihno Alla / 1979","Ж",9,27.272727272727266,140.94999999999999]
[{"$f":"Гонки!$C$4","v":"Жук-трейл # 4 Минское Море "},{"$f":"Гонки!$D$4","v":"Трейл 25"},"Жук-трейл # 4 Минское Море  Трейл 25",26.709999999999997,"Ж",{"$f":"IF(E70=\"Ж\",VLOOKUP(C70,Гонки!$E$2:$P$16,11,FALSE),VLOOKUP(C70,Гонки!$E$2:$P$16,12,FALSE))","v":11},"Михалкин Сергей",1989,"Mihalkin Sergej","Михалкин Сергей / Mihalkin Sergej / 1989","Ж",1,100,516.82000000000005]
[{"$f":"Гонки!$C$4","v":"Жук-трейл # 4 Минское Море "},{"$f":"Гонки!$D$4","v":"Трейл 25"},"Жук-трейл # 4 Минское Море  Трейл 25",26.709999999999997,"М",{"$f":"IF(E71=\"Ж\",VLOOKUP(C71,Гонки!$E$2:$P$16,11,FALSE),VLOOKUP(C71,Гонки!$E$2:$P$16,12,FALSE))","v":81},"Сердитов Вадим",1993,"Serditov Vadim","Сердитов Вадим / Serditov Vadim / 1993","М",2,98.76543209876543,510.44]
[{"$f":"Гонки!$C$4","v":"Жук-трейл # 4 Минское Море "},{"$f":"Гонки!$D$4","v":"Трейл 25"},"Жук-трейл # 4 Минское Море  Трейл 25",26.709999999999997,"М",{"$f":"IF(E72=\"Ж\",VLOOKUP(C72,Гонки!$E$2:$P$16,11,FALSE),VLOOKUP(C72,Гонки!$E$2:$P$16,12,FALSE))","v":81},"Ходан Александр",1988,"Hodan Aleksandr","Ходан Александр / Hodan Aleksandr / 1988","М",3,97.53086419753086,504.06]
[{"$f":"Гонки!$C$4","v":"Жук-трейл # 4 Минское Море "},{"$f":"Гонки!$D$4","v":"Трейл 25"},"Жук-трейл # 4 Минское Море  Трейл 25",26.709999999999997,"М",{"$f":"IF(E73=\"Ж\",VLOOKUP(C73,Гонки!$E$2:$P$16,11,FALSE),VLOOKUP(C73,Гонки!$E$2:$P$16,12,FALSE))","v":81},"Леонов Иван",1986,"Leonov Ivan","Леонов Иван / Leonov Ivan / 1986","М",4,96.296296296296291,497.68]
[{"$f":"Гонки!$C$4","v":"Жук-трейл # 4 Минское Море "},{"$f":"Гонки!$D$4","v":"Трейл 25"},"Жук-трейл # 4 Минское Море  Трейл 25",26.709999999999997,"М",{"$f":"IF(E74=\"Ж\",VLOOKUP(C74,Гонки!$E$2:$P$16,11,FALSE),VLOOKUP(C74,Гонки!$E$2:$P$16,12,FALSE))","v":81},"Вагин Андрей",1989,"Vagin Andrej","Вагин Андрей / Vagin Andrej / 1989","М",5,95.061728395061735,491.3]
[{"$f":"Гонки!$C$4","v":"Жук-трейл # 4 Минское Море "},{"$f":"Гонки!$D$4","v":"Трейл 25"},"Жук-трейл # 4 Минское Море  Трейл 25",26.709999999999997,"М",{"$f":"IF(E75=\"Ж\",VLOOKUP(C75,Гонки!$E$2:$P$16,11,FALSE),VLOOKUP(C75,Гонки!$E$2:$P$16,12,FALSE))","v":81},"Журавлёв Андрей",1978,"Zhuravljov Andrej","Журавлёв Андрей / Zhuravljov Andrej / 1978","М",6,93.827160493827165,484.91]
[{"$f":"Гонки!$C$4","v":"Жук-трейл # 4 Минское Море "},{"$f":"Гонки!$D$4","v":"Трейл 25"},"Жук-трейл # 4 Минское Море  Трейл 25",26.709999999999997,"М",{"$f":"IF(E76=\"Ж\",VLOOKUP(C76,Гонки!$E$2:$P$16,11,FALSE),VLOOKUP(C76,Гонки!$E$2:$P$16,12,FALSE))","v":81},"Ласюк Юрий",1987,"Lasyuk Yurij","Ласюк Юрий / Lasyuk Yurij / 1987","М",7,92.592592592592595,478.53]
[{"$f":"Гонки!$C$4","v":"Жук-трейл # 4 Минское Море "},{"$f":"Гонки!$D$4","v":"Трейл 25"},"Жук-трейл # 4 Минское Море  Трейл 25",26.709999999999997,"М",{"$f":"IF(E77=\"Ж\",VLOOKUP(C77,Гонки!$E$2:$P$16,11,FALSE),VLOOKUP(C77,Гонки!$E$2:$P$16,12,FALSE))","v":81},"Овсиюк Богдан",1993,"Ovsiyuk Bogdan","Овсиюк Богдан / Ovsiyuk Bogdan / 1993","М",8,91.358024691358025,472.15]
[{"$f":"Гонки!$C$4","v":"Жук-трейл # 4 Минское Море "},{"$f":"Гонки!$D$4","v":"Трейл 25"},"Жук-трейл # 4 Минское Море  Трейл 25",26.709999999999997,"М",{"$f":"IF(E78=\"Ж\",VLOOKUP(C78,Гонки!$E$2:$P$16,11,FALSE),VLOOKUP(C78,Гонки!$E$2:$P$16,12,FALSE))","v":81},"Березовский Андрей",1973,"Berezovskij Andrej","Березовский Андрей / Berezovskij Andrej / 1973","М",9,90.123456790123456,465.77]
[{"$f":"Гонки!$C$4","v":"Жук-трейл # 4 Минское Море "},{"$f":"Гонки!$D$4","v":"Трейл 25"},"Жук-трейл # 4 Минское Море  Трейл 25",26.709999999999997,"М",{"$f":"IF(E79=\"Ж\",VLOOKUP(C79,Гонки!$E$2:$P$16,11,FALSE),VLOOKUP(C79,Гонки!$E$2:$P$16,12,FALSE))","v":81},"Скуратович Антон",1985,"Skuratovich Anton","Скуратович Антон / Skuratovich Anton / 1985","М",10,88.888888888888886,459.39]
[{"$f":"Гонки!$C$4","v":"Жук-трейл # 4 Минское Море "},{"$f":"Гонки!$D$4","v":"Трейл 25"},"Жук-трейл # 4 Минское Море  Трейл 25",26.709999999999997,"М",{"$f":"IF(E80=\"Ж\",VLOOKUP(C80,Гонки!$E$2:$P$16,11,FALSE),VLOOKUP(C80,Гонки!$E$2:$P$16,12,FALSE))","v":81},"Солодкин Сергей",1984,"Solodkin Sergej","Солодкин Сергей / Solodkin Sergej / 1984","М",11,87.654320987654316,453.01]
[{"$f":"Гонки!$C$4","v":"Жук-трейл # 4 Минское Море "},{"$f":"Гонки!$D$4","v":"Трейл 25"},"Жук-трейл # 4 Минское Море  Трейл 25",26.709999999999997,"М",{"$f":"IF(E81=\"Ж\",VLOOKUP(C81,Гонки!$E$2:$P$16,11,FALSE),VLOOKUP(C81,Гонки!$E$2:$P$16,12,FALSE))","v":81},"Молочко Александр",1981,"Molochko Aleksandr","Молочко Александр / Molochko Aleksandr / 1981","М",12,86.419753086419746,446.63]
[{"$f":"Гонки!$C$4","v":"Жук-трейл # 4 Минское Море "},{"$f":"Гонки!$D$4","v":"Трейл 25"},"Жук-трейл # 4 Минское Море  Трейл 25",26.709999999999997,"М",{"$f":"IF(E82=\"Ж\",VLOOKUP(C82,Гонки!$E$2:$P$16,11,FALSE),VLOOKUP(C82,Гонки!$E$2:$P$16,12,FALSE))","v":81},"Лукашенок Алексей",1978,"Lukashenok Aleksej","Лукашенок Алексей / Lukashenok Aleksej / 1978","М",13,85.18518518518519,440.25]
[{"$f":"Гонки!$C$4","v":"Жук-трейл # 4 Минское Море "},{"$f":"Гонки!$D$4","v":"Трейл 25"},"Жук-трейл # 4 Минское Море  Трейл 25",26.709999999999997,"М",{"$f":"IF(E83=\"Ж\",VLOOKUP(C83,Гонки!$E$2:$P$16,11,FALSE),VLOOKUP(C83,Гонки!$E$2:$P$16,12,FALSE))","v":81},"Ермохин Максим",1975,"Ermohin Maksim","Ермохин Максим / Ermohin Maksim / 1975","М",14,83.950617283950621,433.87]
[{"$f":"Гонки!$C$4","v":"Жук-трейл # 4 Минское Море "},{"$f":"Гонки!$D$4","v":"Трейл 25"},"Жук-трейл # 4 Минское Море  Трейл 25",26.709999999999997,"М",{"$f":"IF(E84=\"Ж\",VLOOKUP(C84,Гонки!$E$2:$P$16,11,FALSE),VLOOKUP(C84,Гонки!$E$2:$P$16,12,FALSE))","v":81},"Камышкайло Анатолий",1981,"Kamyshkajlo Anatolij","Камышкайло Анатолий / Kamyshkajlo Anatolij / 1981","М",15,82.716049382716051,427.49]
[{"$f":"Гонки!$C$4","v":"Жук-трейл # 4 Минское Море "},{"$f":"Гонки!$D$4","v":"Трейл 25"},"Жук-трейл # 4 Минское Море  Трейл 25",26.709999999999997,"М",{"$f":"IF(E85=\"Ж\",VLOOKUP(C85,Гонки!$E$2:$P$16,11,FALSE),VLOOKUP(C85,Гонки!$E$2:$P$16,12,FALSE))","v":81},"Филитарин Дмитрий",1987,"Filitarin Dmitrij","Филитарин Дмитрий / Filitarin Dmitrij / 1987","М",16,81.481481481481481,421.11]
[{"$f":"Гонки!$C$4","v":"Жук-трейл # 4 Минское Море "},{"$f":"Гонки!$D$4","v":"Трейл 25"},"Жук-трейл # 4 Минское Море  Трейл 25",26.709999999999997,"М",{"$f":"IF(E86=\"Ж\",VLOOKUP(C86,Гонки!$E$2:$P$16,11,FALSE),VLOOKUP(C86,Гонки!$E$2:$P$16,12,FALSE))","v":81},"Храмов Антон",1991,"Hramov Anton","Храмов Антон / Hramov Anton / 1991","М",17,80.246913580246911,414.73]
[{"$f":"Гонки!$C$4","v":"Жук-трейл # 4 Минское Море "},{"$f":"Гонки!$D$4","v":"Трейл 25"},"Жук-трейл # 4 Минское Море  Трейл 25",26.709999999999997,"М",{"$f":"IF(E87=\"Ж\",VLOOKUP(C87,Гонки!$E$2:$P$16,11,FALSE),VLOOKUP(C87,Гонки!$E$2:$P$16,12,FALSE))","v":81},"Тихонов Василий",1993,"Tihonov Vasilij","Тихонов Василий / Tihonov Vasilij / 1993","М",18,79.012345679012356,408.35]
[{"$f":"Гонки!$C$4","v":"Жук-трейл # 4 Минское Море "},{"$f":"Гонки!$D$4","v":"Трейл 25"},"Жук-трейл # 4 Минское Море  Трейл 25",26.709999999999997,"М",{"$f":"IF(E88=\"Ж\",VLOOKUP(C88,Гонки!$E$2:$P$16,11,FALSE),VLOOKUP(C88,Гонки!$E$2:$P$16,12,FALSE))","v":81},"Борисевич Леонид",1969,"Borisevich Leonid","Борисевич Леонид / Borisevich Leonid / 1969","М",19,77.777777777777771,401.97]
[{"$f":"Гонки!$C$4","v":"Жук-трейл # 4 Минское Море "},{"$f":"Гонки!$D$4","v":"Трейл 25"},"Жук-трейл # 4 Минское Море  Трейл 25",26.709999999999997,"М",{"$f":"IF(E89=\"Ж\",VLOOKUP(C89,Гонки!$E$2:$P$16,11,FALSE),VLOOKUP(C89,Гонки!$E$2:$P$16,12,FALSE))","v":81},"Остаповец Евгений",1990,"Ostapovets Evgenij","Остаповец Евгений / Ostapovets Evgenij / 1990","М",20,76.543209876543216,395.59]
[{"$f":"Гонки!$C$4","v":"Жук-трейл # 4 Минское Море "},{"$f":"Гонки!$D$4","v":"Трейл 25"},"Жук-трейл # 4 Минское Море  Трейл 25",26.709999999999997,"М",{"$f":"IF(E90=\"Ж\",VLOOKUP(C90,Гонки!$E$2:$P$16,11,FALSE),VLOOKUP(C90,Гонки!$E$2:$P$16,12,FALSE))","v":81},"Лесковец Александр",1990,"Leskovets Aleksandr","Лесковец Александр / Leskovets Aleksandr / 1990","М",21,75.308641975308646,389.21]
[{"$f":"Гонки!$C$4","v":"Жук-трейл # 4 Минское Море "},{"$f":"Гонки!$D$4","v":"Трейл 25"},"Жук-трейл # 4 Минское Море  Трейл 25",26.709999999999997,"М",{"$f":"IF(E91=\"Ж\",VLOOKUP(C91,Гонки!$E$2:$P$16,11,FALSE),VLOOKUP(C91,Гонки!$E$2:$P$16,12,FALSE))","v":81},"Тривашкевич Евгений",1996,"Trivashkevich Evgenij","Тривашкевич Евгений / Trivashkevich Evgenij / 1996","М",22,74.074074074074076,382.83]
[{"$f":"Гонки!$C$4","v":"Жук-трейл # 4 Минское Море "},{"$f":"Гонки!$D$4","v":"Трейл 25"},"Жук-трейл # 4 Минское Море  Трейл 25",26.709999999999997,"М",{"$f":"IF(E92=\"Ж\",VLOOKUP(C92,Гонки!$E$2:$P$16,11,FALSE),VLOOKUP(C92,Гонки!$E$2:$P$16,12,FALSE))","v":81},"Селютин Владимир",1990,"Selyutin Vladimir","Селютин Владимир / Selyutin Vladimir / 1990","М",23,72.839506172839506,376.45]
[{"$f":"Гонки!$C$4","v":"Жук-трейл # 4 Минское Море "},{"$f":"Гонки!$D$4","v":"Трейл 25"},"Жук-трейл # 4 Минское Море  Трейл 25",26.709999999999997,"М",{"$f":"IF(E93=\"Ж\",VLOOKUP(C93,Гонки!$E$2:$P$16,11,FALSE),VLOOKUP(C93,Гонки!$E$2:$P$16,12,FALSE))","v":81},"Остапов Владимир",1977,"Ostapov Vladimir","Остапов Владимир / Ostapov Vladimir / 1977","М",24,71.604938271604937,370.07]
[{"$f":"Гонки!$C$4","v":"Жук-трейл # 4 Минское Море "},{"$f":"Гонки!$D$4","v":"Трейл 25"},"Жук-трейл # 4 Минское Море  Трейл 25",26.709999999999997,"М",{"$f":"IF(E94=\"Ж\",VLOOKUP(C94,Гонки!$E$2:$P$16,11,FALSE),VLOOKUP(C94,Гонки!$E$2:$P$16,12,FALSE))","v":81},"Маркевич Денис",1981,"Markevich Denis","Маркевич Денис / Markevich Denis / 1981","М",25,70.370370370370381,363.69]
[{"$f":"Гонки!$C$4","v":"Жук-трейл # 4 Минское Море "},{"$f":"Гонки!$D$4","v":"Трейл 25"},"Жук-трейл # 4 Минское Море  Трейл 25",26.709999999999997,"М",{"$f":"IF(E95=\"Ж\",VLOOKUP(C95,Гонки!$E$2:$P$16,11,FALSE),VLOOKUP(C95,Гонки!$E$2:$P$16,12,FALSE))","v":81},"Дельянов Одиссей",1979,"Delyanov Odissej","Дельянов Одиссей / Delyanov Odissej / 1979","М",26,69.135802469135797,357.31]
[{"$f":"Гонки!$C$4","v":"Жук-трейл # 4 Минское Море "},{"$f":"Гонки!$D$4","v":"Трейл 25"},"Жук-трейл # 4 Минское Море  Трейл 25",26.709999999999997,"М",{"$f":"IF(E96=\"Ж\",VLOOKUP(C96,Гонки!$E$2:$P$16,11,FALSE),VLOOKUP(C96,Гонки!$E$2:$P$16,12,FALSE))","v":81},"Орловский Павел",1989,"Orlovskij Pavel","Орловский Павел / Orlovskij Pavel / 1989","М",27,67.901234567901241,350.93]
[{"$f":"Гонки!$C$4","v":"Жук-трейл # 4 Минское Море "},{"$f":"Гонки!$D$4","v":"Трейл 25"},"Жук-трейл # 4 Минское Море  Трейл 25",26.709999999999997,"М",{"$f":"IF(E97=\"Ж\",VLOOKUP(C97,Гонки!$E$2:$P$16,11,FALSE),VLOOKUP(C97,Гонки!$E$2:$P$16,12,FALSE))","v":81},"Попадюк Игорь",1982,"Popadyuk Igor","Попадюк Игорь / Popadyuk Igor / 1982","М",28,66.666666666666671,344.54]
[{"$f":"Гонки!$C$4","v":"Жук-трейл # 4 Минское Море "},{"$f":"Гонки!$D$4","v":"Трейл 25"},"Жук-трейл # 4 Минское Море  Трейл 25",26.709999999999997,"М",{"$f":"IF(E98=\"Ж\",VLOOKUP(C98,Гонки!$E$2:$P$16,11,FALSE),VLOOKUP(C98,Гонки!$E$2:$P$16,12,FALSE))","v":81},"Таран Виталий",1983,"Taran Vitalij","Таран Виталий / Taran Vitalij / 1983","М",29,65.432098765432102,338.16]
[{"$f":"Гонки!$C$4","v":"Жук-трейл # 4 Минское Море "},{"$f":"Гонки!$D$4","v":"Трейл 25"},"Жук-трейл # 4 Минское Море  Трейл 25",26.709999999999997,"М",{"$f":"IF(E99=\"Ж\",VLOOKUP(C99,Гонки!$E$2:$P$16,11,FALSE),VLOOKUP(C99,Гонки!$E$2:$P$16,12,FALSE))","v":81},"Алексеев Алексей",1980,"Alekseev Aleksej","Алексеев Алексей / Alekseev Aleksej / 1980","М",30,64.197530864197532,331.78]
[{"$f":"Гонки!$C$4","v":"Жук-трейл # 4 Минское Море "},{"$f":"Гонки!$D$4","v":"Трейл 25"},"Жук-трейл # 4 Минское Море  Трейл 25",26.709999999999997,"М",{"$f":"IF(E100=\"Ж\",VLOOKUP(C100,Гонки!$E$2:$P$16,11,FALSE),VLOOKUP(C100,Гонки!$E$2:$P$16,12,FALSE))","v":81},"Шклярик Олег",1970,"Shklyarik Oleg","Шклярик Олег / Shklyarik Oleg / 1970","М",31,62.962962962962962,325.39999999999998]
[{"$f":"Гонки!$C$4","v":"Жук-трейл # 4 Минское Море "},{"$f":"Гонки!$D$4","v":"Трейл 25"},"Жук-трейл # 4 Минское Море  Трейл 25",26.709999999999997,"М",{"$f":"IF(E101=\"Ж\",VLOOKUP(C101,Гонки!$E$2:$P$16,11,FALSE),VLOOKUP(C101,Гонки!$E$2:$P$16,12,FALSE))","v":81},"Бокша Сергей",1988,"Boksha Sergej","Бокша Сергей / Boksha Sergej / 1988","М",32,61.728395061728399,319.02]
[{"$f":"Гонки!$C$4","v":"Жук-трейл # 4 Минское Море "},{"$f":"Гонки!$D$4","v":"Трейл 25"},"Жук-трейл # 4 Минское Море  Трейл 25",26.709999999999997,"М",{"$f":"IF(E102=\"Ж\",VLOOKUP(C102,Гонки!$E$2:$P$16,11,FALSE),VLOOKUP(C102,Гонки!$E$2:$P$16,12,FALSE))","v":81},"Свечников Антон",1991,"Svechnikov Anton","Свечников Антон / Svechnikov Anton / 1991","М",33,60.493827160493829,312.64]
[{"$f":"Гонки!$C$4","v":"Жук-трейл # 4 Минское Море "},{"$f":"Гонки!$D$4","v":"Трейл 25"},"Жук-трейл # 4 Минское Море  Трейл 25",26.709999999999997,"М",{"$f":"IF(E103=\"Ж\",VLOOKUP(C103,Гонки!$E$2:$P$16,11,FALSE),VLOOKUP(C103,Гонки!$E$2:$P$16,12,FALSE))","v":81},"Львовский Андрей",1991,"Lvovskij Andrej","Львовский Андрей / Lvovskij Andrej / 1991","М",34,59.25925925925926,306.26]
[{"$f":"Гонки!$C$4","v":"Жук-трейл # 4 Минское Море "},{"$f":"Гонки!$D$4","v":"Трейл 25"},"Жук-трейл # 4 Минское Море  Трейл 25",26.709999999999997,"М",{"$f":"IF(E104=\"Ж\",VLOOKUP(C104,Гонки!$E$2:$P$16,11,FALSE),VLOOKUP(C104,Гонки!$E$2:$P$16,12,FALSE))","v":81},"Марчук Александр",1986,"Marchuk Aleksandr","Марчук Александр / Marchuk Aleksandr / 1986","М",35,58.024691358024697,299.88]
[{"$f":"Гонки!$C$4","v":"Жук-трейл # 4 Минское Море "},{"$f":"Гонки!$D$4","v":"Трейл 25"},"Жук-трейл # 4 Минское Море  Трейл 25",26.709999999999997,"М",{"$f":"IF(E105=\"Ж\",VLOOKUP(C105,Гонки!$E$2:$P$16,11,FALSE),VLOOKUP(C105,Гонки!$E$2:$P$16,12,FALSE))","v":81},"Веремейчик Юрий",1979,"Veremejchik Yurij","Веремейчик Юрий / Veremejchik Yurij / 1979","М",36,56.790123456790127,293.5]
[{"$f":"Гонки!$C$4","v":"Жук-трейл # 4 Минское Море "},{"$f":"Гонки!$D$4","v":"Трейл 25"},"Жук-трейл # 4 Минское Море  Трейл 25",26.709999999999997,"М",{"$f":"IF(E106=\"Ж\",VLOOKUP(C106,Гонки!$E$2:$P$16,11,FALSE),VLOOKUP(C106,Гонки!$E$2:$P$16,12,FALSE))","v":81},"Жданович Андрей",1973,"Zhdanovich Andrej","Жданович Андрей / Zhdanovich Andrej / 1973","М",37,55.555555555555557,287.12]
[{"$f":"Гонки!$C$4","v":"Жук-трейл # 4 Минское Море "},{"$f":"Гонки!$D$4","v":"Трейл 25"},"Жук-трейл # 4 Минское Море  Трейл 25",26.709999999999997,"М",{"$f":"IF(E107=\"Ж\",VLOOKUP(C107,Гонки!$E$2:$P$16,11,FALSE),VLOOKUP(C107,Гонки!$E$2:$P$16,12,FALSE))","v":81},"Федорович Николай",1959,"Fedorovich Nikolaj","Федорович Николай / Fedorovich Nikolaj / 1959","М",38,54.320987654320987,280.74]
[{"$f":"Гонки!$C$4","v":"Жук-трейл # 4 Минское Море "},{"$f":"Гонки!$D$4","v":"Трейл 25"},"Жук-трейл # 4 Минское Море  Трейл 25",26.709999999999997,"М",{"$f":"IF(E108=\"Ж\",VLOOKUP(C108,Гонки!$E$2:$P$16,11,FALSE),VLOOKUP(C108,Гонки!$E$2:$P$16,12,FALSE))","v":81},"Коровец Богдан",1976,"Korovets Bogdan","Коровец Богдан / Korovets Bogdan / 1976","М",39,53.086419753086425,274.36]
[{"$f":"Гонки!$C$4","v":"Жук-трейл # 4 Минское Море "},{"$f":"Гонки!$D$4","v":"Трейл 25"},"Жук-трейл # 4 Минское Море  Трейл 25",26.709999999999997,"М",{"$f":"IF(E109=\"Ж\",VLOOKUP(C109,Гонки!$E$2:$P$16,11,FALSE),VLOOKUP(C109,Гонки!$E$2:$P$16,12,FALSE))","v":81},"Заяц Александр",1978,"Zayats Aleksandr","Заяц Александр / Zayats Aleksandr / 1978","М",40,51.851851851851855,267.98]
[{"$f":"Гонки!$C$4","v":"Жук-трейл # 4 Минское Море "},{"$f":"Гонки!$D$4","v":"Трейл 25"},"Жук-трейл # 4 Минское Море  Трейл 25",26.709999999999997,"М",{"$f":"IF(E110=\"Ж\",VLOOKUP(C110,Гонки!$E$2:$P$16,11,FALSE),VLOOKUP(C110,Гонки!$E$2:$P$16,12,FALSE))","v":81},"Славинский Дмитрий",1986,"Slavinskij Dmitrij","Славинский Дмитрий / Slavinskij Dmitrij / 1986","М",41,50.617283950617285,261.60000000000002]
[{"$f":"Гонки!$C$4","v":"Жук-трейл # 4 Минское Море "},{"$f":"Гонки!$D$4","v":"Трейл 25"},"Жук-трейл # 4 Минское Море  Трейл 25",26.709999999999997,"М",{"$f":"IF(E111=\"Ж\",VLOOKUP(C111,Гонки!$E$2:$P$16,11,FALSE),VLOOKUP(C111,Гонки!$E$2:$P$16,12,FALSE))","v":81},"Симонов Вадим",1985,"Simonov Vadim","Симонов Вадим / Simonov Vadim / 1985","М",42,49.382716049382715,255.22]
[{"$f":"Гонки!$C$4","v":"Жук-трейл # 4 Минское Море "},{"$f":"Гонки!$D$4","v":"Трейл 25"},"Жук-трейл # 4 Минское Море  Трейл 25",26.709999999999997,"М",{"$f":"IF(E112=\"Ж\",VLOOKUP(C112,Гонки!$E$2:$P$16,11,FALSE),VLOOKUP(C112,Гонки!$E$2:$P$16,12,FALSE))","v":81},"Драгун Борис",1970,"Dragun Boris","Драгун Борис / Dragun Boris / 1970","М",43,48.148148148148152,248.84]
[{"$f":"Гонки!$C$4","v":"Жук-трейл # 4 Минское Море "},{"$f":"Гонки!$D$4","v":"Трейл 25"},"Жук-трейл # 4 Минское Море  Трейл 25",26.709999999999997,"М",{"$f":"IF(E113=\"Ж\",VLOOKUP(C113,Гонки!$E$2:$P$16,11,FALSE),VLOOKUP(C113,Гонки!$E$2:$P$16,12,FALSE))","v":81},"Подрез Ярослав",1996,"Podrez Yaroslav","Подрез Ярослав / Podrez Yaroslav / 1996","М",44,46.913580246913575,242.46]
[{"$f":"Гонки!$C$4","v":"Жук-трейл # 4 Минское Море "},{"$f":"Гонки!$D$4","v":"Трейл 25"},"Жук-трейл # 4 Минское Море  Трейл 25",26.709999999999997,"М",{"$f":"IF(E114=\"Ж\",VLOOKUP(C114,Гонки!$E$2:$P$16,11,FALSE),VLOOKUP(C114,Гонки!$E$2:$P$16,12,FALSE))","v":81},"Кожемякин Владимир",1970,"Kozhemyakin Vladimir","Кожемякин Владимир / Kozhemyakin Vladimir / 1970","М",45,45.679012345679013,236.08]
[{"$f":"Гонки!$C$4","v":"Жук-трейл # 4 Минское Море "},{"$f":"Гонки!$D$4","v":"Трейл 25"},"Жук-трейл # 4 Минское Море  Трейл 25",26.709999999999997,"М",{"$f":"IF(E115=\"Ж\",VLOOKUP(C115,Гонки!$E$2:$P$16,11,FALSE),VLOOKUP(C115,Гонки!$E$2:$P$16,12,FALSE))","v":81},"Лавник Игорь",1983,"Lavnik Igor","Лавник Игорь / Lavnik Igor / 1983","М",46,44.444444444444443,229.7]
[{"$f":"Гонки!$C$4","v":"Жук-трейл # 4 Минское Море "},{"$f":"Гонки!$D$4","v":"Трейл 25"},"Жук-трейл # 4 Минское Море  Трейл 25",26.709999999999997,"М",{"$f":"IF(E116=\"Ж\",VLOOKUP(C116,Гонки!$E$2:$P$16,11,FALSE),VLOOKUP(C116,Гонки!$E$2:$P$16,12,FALSE))","v":81},"Селиванов Алексавндр",1970,"Selivanov Aleksavndr","Селиванов Алексавндр / Selivanov Aleksavndr / 1970","М",47,43.20987654320988,223.32]
[{"$f":"Гонки!$C$4","v":"Жук-трейл # 4 Минское Море "},{"$f":"Гонки!$D$4","v":"Трейл 25"},"Жук-трейл # 4 Минское Море  Трейл 25",26.709999999999997,"М",{"$f":"IF(E117=\"Ж\",VLOOKUP(C117,Гонки!$E$2:$P$16,11,FALSE),VLOOKUP(C117,Гонки!$E$2:$P$16,12,FALSE))","v":81},"Писаренко Андрей",1957,"Pisarenko Andrej","Писаренко Андрей / Pisarenko Andrej / 1957","М",48,41.975308641975303,216.94]
[{"$f":"Гонки!$C$4","v":"Жук-трейл # 4 Минское Море "},{"$f":"Гонки!$D$4","v":"Трейл 25"},"Жук-трейл # 4 Минское Море  Трейл 25",26.709999999999997,"М",{"$f":"IF(E118=\"Ж\",VLOOKUP(C118,Гонки!$E$2:$P$16,11,FALSE),VLOOKUP(C118,Гонки!$E$2:$P$16,12,FALSE))","v":81},"Глушаков Сергей",1958,"Glushakov Sergej","Глушаков Сергей / Glushakov Sergej / 1958","М",49,40.740740740740748,210.56]
[{"$f":"Гонки!$C$4","v":"Жук-трейл # 4 Минское Море "},{"$f":"Гонки!$D$4","v":"Трейл 25"},"Жук-трейл # 4 Минское Море  Трейл 25",26.709999999999997,"М",{"$f":"IF(E119=\"Ж\",VLOOKUP(C119,Гонки!$E$2:$P$16,11,FALSE),VLOOKUP(C119,Гонки!$E$2:$P$16,12,FALSE))","v":81},"Кожан Михаил",1946,"Kozhan Mihail","Кожан Михаил / Kozhan Mihail / 1946","М",50,39.506172839506171,204.17]
[{"$f":"Гонки!$C$4","v":"Жук-трейл # 4 Минское Море "},{"$f":"Гонки!$D$4","v":"Трейл 25"},"Жук-трейл # 4 Минское Море  Трейл 25",26.709999999999997,"М",{"$f":"IF(E120=\"Ж\",VLOOKUP(C120,Гонки!$E$2:$P$16,11,FALSE),VLOOKUP(C120,Гонки!$E$2:$P$16,12,FALSE))","v":81},"Илатовский Дмитрий",1974,"Ilatovskij Dmitrij","Илатовский Дмитрий / Ilatovskij Dmitrij / 1974","М",51,38.271604938271608,197.79]
[{"$f":"Гонки!$C$4","v":"Жук-трейл # 4 Минское Море "},{"$f":"Гонки!$D$4","v":"Трейл 25"},"Жук-трейл # 4 Минское Море  Трейл 25",26.709999999999997,"М",{"$f":"IF(E121=\"Ж\",VLOOKUP(C121,Гонки!$E$2:$P$16,11,FALSE),VLOOKUP(C121,Гонки!$E$2:$P$16,12,FALSE))","v":81},"Дегтярев Сергей",1983,"Degtyarev Sergej","Дегтярев Сергей / Degtyarev Sergej / 1983","М",52,37.037037037037038,191.41]
[{"$f":"Гонки!$C$4","v":"Жук-трейл # 4 Минское Море "},{"$f":"Гонки!$D$4","v":"Трейл 25"},"Жук-трейл # 4 Минское Море  Трейл 25",26.709999999999997,"М",{"$f":"IF(E122=\"Ж\",VLOOKUP(C122,Гонки!$E$2:$P$16,11,FALSE),VLOOKUP(C122,Гонки!$E$2:$P$16,12,FALSE))","v":81},"Брытько Роман",1995,"Brytko Roman","Брытько Роман / Brytko Roman / 1995","М",53,35.802469135802468,185.03]
[{"$f":"Гонки!$C$4","v":"Жук-трейл # 4 Минское Море "},{"$f":"Гонки!$D$4","v":"Трейл 25"},"Жук-трейл # 4 Минское Море  Трейл 25",26.709999999999997,"М",{"$f":"IF(E123=\"Ж\",VLOOKUP(C123,Гонки!$E$2:$P$16,11,FALSE),VLOOKUP(C123,Гонки!$E$2:$P$16,12,FALSE))","v":81},"Кохан Виталий",1982,"Kohan Vitalij","Кохан Виталий / Kohan Vitalij / 1982","М",54,34.567901234567898,178.65]
[{"$f":"Гонки!$C$4","v":"Жук-трейл # 4 Минское Море "},{"$f":"Гонки!$D$4","v":"Трейл 25"},"Жук-трейл # 4 Минское Море  Трейл 25",26.709999999999997,"М",{"$f":"IF(E124=\"Ж\",VLOOKUP(C124,Гонки!$E$2:$P$16,11,FALSE),VLOOKUP(C124,Гонки!$E$2:$P$16,12,FALSE))","v":81},"Шепетько Сергей",1987,"Shepetko Sergej","Шепетько Сергей / Shepetko Sergej / 1987","М",55,33.333333333333343,172.27]
[{"$f":"Гонки!$C$4","v":"Жук-трейл # 4 Минское Море "},{"$f":"Гонки!$D$4","v":"Трейл 25"},"Жук-трейл # 4 Минское Море  Трейл 25",26.709999999999997,"М",{"$f":"IF(E125=\"Ж\",VLOOKUP(C125,Гонки!$E$2:$P$16,11,FALSE),VLOOKUP(C125,Гонки!$E$2:$P$16,12,FALSE))","v":81},"Ермак Алексей",1984,"Ermak Aleksej","Ермак Алексей / Ermak Aleksej / 1984","М",56,32.098765432098759,165.89]
[{"$f":"Гонки!$C$4","v":"Жук-трейл # 4 Минское Море "},{"$f":"Гонки!$D$4","v":"Трейл 25"},"Жук-трейл # 4 Минское Море  Трейл 25",26.709999999999997,"М",{"$f":"IF(E126=\"Ж\",VLOOKUP(C126,Гонки!$E$2:$P$16,11,FALSE),VLOOKUP(C126,Гонки!$E$2:$P$16,12,FALSE))","v":81},"Шило Руслан",1993,"Shilo Ruslan","Шило Руслан / Shilo Ruslan / 1993","М",57,30.864197530864203,159.51]
[{"$f":"Гонки!$C$4","v":"Жук-трейл # 4 Минское Море "},{"$f":"Гонки!$D$4","v":"Трейл 25"},"Жук-трейл # 4 Минское Море  Трейл 25",26.709999999999997,"М",{"$f":"IF(E127=\"Ж\",VLOOKUP(C127,Гонки!$E$2:$P$16,11,FALSE),VLOOKUP(C127,Гонки!$E$2:$P$16,12,FALSE))","v":81},"Шапелевич Максим",1987,"Shapelevich Maksim","Шапелевич Максим / Shapelevich Maksim / 1987","М",58,29.629629629629633,153.13]
[{"$f":"Гонки!$C$4","v":"Жук-трейл # 4 Минское Море "},{"$f":"Гонки!$D$4","v":"Трейл 25"},"Жук-трейл # 4 Минское Море  Трейл 25",26.709999999999997,"М",{"$f":"IF(E128=\"Ж\",VLOOKUP(C128,Гонки!$E$2:$P$16,11,FALSE),VLOOKUP(C128,Гонки!$E$2:$P$16,12,FALSE))","v":81},"Якубовский Игорь",1984,"Yakubovskij Igor","Якубовский Игорь / Yakubovskij Igor / 1984","М",59,28.395061728395063,146.75]
[{"$f":"Гонки!$C$4","v":"Жук-трейл # 4 Минское Море "},{"$f":"Гонки!$D$4","v":"Трейл 25"},"Жук-трейл # 4 Минское Море  Трейл 25",26.709999999999997,"М",{"$f":"IF(E129=\"Ж\",VLOOKUP(C129,Гонки!$E$2:$P$16,11,FALSE),VLOOKUP(C129,Гонки!$E$2:$P$16,12,FALSE))","v":81},"Жучков Алексей",1985,"Zhuchkov Aleksej","Жучков Алексей / Zhuchkov Aleksej / 1985","М",60,27.160493827160494,140.37]
[{"$f":"Гонки!$C$4","v":"Жук-трейл # 4 Минское Море "},{"$f":"Гонки!$D$4","v":"Трейл 25"},{"$f":"CONCATENATE(A130,\" \",B130)","v":"Жук-трейл # 4 Минское Море  Трейл 25"},{"$f":"VLOOKUP(C130,Список_гонок,10,FALSE)","v":26.709999999999997},"М",{"$f":"IF(E130=\"Ж\",VLOOKUP(C130,Гонки!$E$2:$P$16,11,FALSE),VLOOKUP(C130,Гонки!$E$2:$P$16,12,FALSE))","v":81},"Харитонов Иван",1973,{"$f":"Translit(G130)","v":"Haritonov Ivan"},{"$f":"CONCATENATE(G130,\" / \",I130,\" / \",H130)","v":"Харитонов Иван / Haritonov Ivan / 1973"},{"$f":"E130","v":"М"},61,{"$f":"100-((L130-1)/F130)*100","v":25.925925925925924},{"$f":"ROUND(SQRT(D130)*M130,2)","v":133.99}]
[{"$f":"Гонки!$C$4","v":"Жук-трейл # 4 Минское Море "},{"$f":"Гонки!$D$4","v":"Трейл 25"},"Жук-трейл # 4 Минское Море  Трейл 25",26.709999999999997,"М",{"$f":"IF(E131=\"Ж\",VLOOKUP(C131,Гонки!$E$2:$P$16,11,FALSE),VLOOKUP(C131,Гонки!$E$2:$P$16,12,FALSE))","v":81},"Тюев Даниил",1977,"Tyuev Daniil","Тюев Даниил / Tyuev Daniil / 1977","М",62,24.691358024691354,127.61]
[{"$f":"Гонки!$C$4","v":"Жук-трейл # 4 Минское Море "},{"$f":"Гонки!$D$4","v":"Трейл 25"},"Жук-трейл # 4 Минское Море  Трейл 25",26.709999999999997,"М",{"$f":"IF(E132=\"Ж\",VLOOKUP(C132,Гонки!$E$2:$P$16,11,FALSE),VLOOKUP(C132,Гонки!$E$2:$P$16,12,FALSE))","v":81},"Иолтуховский Владислав",1971,"Ioltuhovskij Vladislav","Иолтуховский Владислав / Ioltuhovskij Vladislav / 1971","М",63,23.456790123456798,121.23]
[{"$f":"Гонки!$C$4","v":"Жук-трейл # 4 Минское Море "},{"$f":"Гонки!$D$4","v":"Трейл 25"},"Жук-трейл # 4 Минское Море  Трейл 25",26.709999999999997,"М",{"$f":"IF(E133=\"Ж\",VLOOKUP(C133,Гонки!$E$2:$P$16,11,FALSE),VLOOKUP(C133,Гонки!$E$2:$P$16,12,FALSE))","v":81},"Херзен Андрей",1984,"Herzen Andrej","Херзен Андрей / Herzen Andrej / 1984","М",64,22.222222222222214,114.85]
[{"$f":"Гонки!$C$4","v":"Жук-трейл # 4 Минское Море "},{"$f":"Гонки!$D$4","v":"Трейл 25"},"Жук-трейл # 4 Минское Море  Трейл 25",26.709999999999997,"М",{"$f":"IF(E134=\"Ж\",VLOOKUP(C134,Гонки!$E$2:$P$16,11,FALSE),VLOOKUP(C134,Гонки!$E$2:$P$16,12,FALSE))","v":81},"Мурашов Владимир",1983,"Murashov Vladimir","Мурашов Владимир / Murashov Vladimir / 1983","М",65,20.987654320987659,108.47]
[{"$f":"Гонки!$C$4","v":"Жук-трейл # 4 Минское Море "},{"$f":"Гонки!$D$4","v":"Трейл 25"},"Жук-трейл # 4 Минское Море  Трейл 25",26.709999999999997,"М",{"$f":"IF(E135=\"Ж\",VLOOKUP(C135,Гонки!$E$2:$P$16,11,FALSE),VLOOKUP(C135,Гонки!$E$2:$P$16,12,FALSE))","v":81},"Михно Борис",1982,"Mihno Boris","Михно Борис / Mihno Boris / 1982","М",66,19.753086419753089,102.09]
[{"$f":"Гонки!$C$4","v":"Жук-трейл # 4 Минское Море "},{"$f":"Гонки!$D$5","v":"Трейл 16"},"Жук-трейл # 4 Минское Море  Трейл 16",19.14,"Ж",{"$f":"IF(E136=\"Ж\",VLOOKUP(C136,Гонки!$E$2:$P$16,11,FALSE),VLOOKUP(C136,Гонки!$E$2:$P$16,12,FALSE))","v":27},"Милинкевич Елена",1977,"Milinkevich Elena","Милинкевич Елена / Milinkevich Elena / 1977","Ж",1,100,437.49]
[{"$f":"Гонки!$C$4","v":"Жук-трейл # 4 Минское Море "},{"$f":"Гонки!$D$5","v":"Трейл 16"},"Жук-трейл # 4 Минское Море  Трейл 16",19.14,"Ж",{"$f":"IF(E137=\"Ж\",VLOOKUP(C137,Гонки!$E$2:$P$16,11,FALSE),VLOOKUP(C137,Гонки!$E$2:$P$16,12,FALSE))","v":27},"Казакевич Ирина",1969,"Kazakevich Irina","Казакевич Ирина / Kazakevich Irina / 1969","Ж",2,96.296296296296291,421.29]
[{"$f":"Гонки!$C$4","v":"Жук-трейл # 4 Минское Море "},{"$f":"Гонки!$D$5","v":"Трейл 16"},"Жук-трейл # 4 Минское Море  Трейл 16",19.14,"Ж",{"$f":"IF(E138=\"Ж\",VLOOKUP(C138,Гонки!$E$2:$P$16,11,FALSE),VLOOKUP(C138,Гонки!$E$2:$P$16,12,FALSE))","v":27},"Журавлёва Оксана",1980,"Zhuravljova Oksana","Журавлёва Оксана / Zhuravljova Oksana / 1980","Ж",3,92.592592592592595,405.09]
[{"$f":"Гонки!$C$4","v":"Жук-трейл # 4 Минское Море "},{"$f":"Гонки!$D$5","v":"Трейл 16"},"Жук-трейл # 4 Минское Море  Трейл 16",19.14,"Ж",{"$f":"IF(E139=\"Ж\",VLOOKUP(C139,Гонки!$E$2:$P$16,11,FALSE),VLOOKUP(C139,Гонки!$E$2:$P$16,12,FALSE))","v":27},"Танасейчук Анна",1983,"Tanasejchuk Anna","Танасейчук Анна / Tanasejchuk Anna / 1983","Ж",4,88.888888888888886,388.88]
[{"$f":"Гонки!$C$4","v":"Жук-трейл # 4 Минское Море "},{"$f":"Гонки!$D$5","v":"Трейл 16"},"Жук-трейл # 4 Минское Море  Трейл 16",19.14,"Ж",{"$f":"IF(E140=\"Ж\",VLOOKUP(C140,Гонки!$E$2:$P$16,11,FALSE),VLOOKUP(C140,Гонки!$E$2:$P$16,12,FALSE))","v":27},"Пухаева Светлана",1980,"Puhaeva Svetlana","Пухаева Светлана / Puhaeva Svetlana / 1980","Ж",5,85.18518518518519,372.68]
[{"$f":"Гонки!$C$4","v":"Жук-трейл # 4 Минское Море "},{"$f":"Гонки!$D$5","v":"Трейл 16"},"Жук-трейл # 4 Минское Море  Трейл 16",19.14,"Ж",{"$f":"IF(E141=\"Ж\",VLOOKUP(C141,Гонки!$E$2:$P$16,11,FALSE),VLOOKUP(C141,Гонки!$E$2:$P$16,12,FALSE))","v":27},"Ямбушева Катерина",1987,"Yambusheva Katerina","Ямбушева Катерина / Yambusheva Katerina / 1987","Ж",6,81.481481481481481,356.48]
[{"$f":"Гонки!$C$4","v":"Жук-трейл # 4 Минское Море "},{"$f":"Гонки!$D$5","v":"Трейл 16"},"Жук-трейл # 4 Минское Море  Трейл 16",19.14,"Ж",{"$f":"IF(E142=\"Ж\",VLOOKUP(C142,Гонки!$E$2:$P$16,11,FALSE),VLOOKUP(C142,Гонки!$E$2:$P$16,12,FALSE))","v":27},"Едомская Вольга",1987,"Edomskaya Volga","Едомская Вольга / Edomskaya Volga / 1987","Ж",7,77.777777777777771,340.27]
[{"$f":"Гонки!$C$4","v":"Жук-трейл # 4 Минское Море "},{"$f":"Гонки!$D$5","v":"Трейл 16"},"Жук-трейл # 4 Минское Море  Трейл 16",19.14,"Ж",{"$f":"IF(E143=\"Ж\",VLOOKUP(C143,Гонки!$E$2:$P$16,11,FALSE),VLOOKUP(C143,Гонки!$E$2:$P$16,12,FALSE))","v":27},"Сикорская Настя",1983,"Sikorskaya Nastya","Сикорская Настя / Sikorskaya Nastya / 1983","Ж",8,74.074074074074076,324.07]
[{"$f":"Гонки!$C$4","v":"Жук-трейл # 4 Минское Море "},{"$f":"Гонки!$D$5","v":"Трейл 16"},"Жук-трейл # 4 Минское Море  Трейл 16",19.14,"Ж",{"$f":"IF(E144=\"Ж\",VLOOKUP(C144,Гонки!$E$2:$P$16,11,FALSE),VLOOKUP(C144,Гонки!$E$2:$P$16,12,FALSE))","v":27},"Невмержицкая Анна",1997,"Nevmerzhitskaya Anna","Невмержицкая Анна / Nevmerzhitskaya Anna / 1997","Ж",9,70.370370370370381,307.87]
[{"$f":"Гонки!$C$4","v":"Жук-трейл # 4 Минское Море "},{"$f":"Гонки!$D$5","v":"Трейл 16"},"Жук-трейл # 4 Минское Море  Трейл 16",19.14,"Ж",{"$f":"IF(E145=\"Ж\",VLOOKUP(C145,Гонки!$E$2:$P$16,11,FALSE),VLOOKUP(C145,Гонки!$E$2:$P$16,12,FALSE))","v":27},"Таранко Марта",1990,"Taranko Marta","Таранко Марта / Taranko Marta / 1990","Ж",10,66.666666666666671,291.66000000000003]
[{"$f":"Гонки!$C$4","v":"Жук-трейл # 4 Минское Море "},{"$f":"Гонки!$D$5","v":"Трейл 16"},"Жук-трейл # 4 Минское Море  Трейл 16",19.14,"Ж",{"$f":"IF(E146=\"Ж\",VLOOKUP(C146,Гонки!$E$2:$P$16,11,FALSE),VLOOKUP(C146,Гонки!$E$2:$P$16,12,FALSE))","v":27},"Григорьева Светлана",1984,"Grigoreva Svetlana","Григорьева Светлана / Grigoreva Svetlana / 1984","Ж",11,62.962962962962962,275.45999999999998]
[{"$f":"Гонки!$C$4","v":"Жук-трейл # 4 Минское Море "},{"$f":"Гонки!$D$5","v":"Трейл 16"},"Жук-трейл # 4 Минское Море  Трейл 16",19.14,"Ж",{"$f":"IF(E147=\"Ж\",VLOOKUP(C147,Гонки!$E$2:$P$16,11,FALSE),VLOOKUP(C147,Гонки!$E$2:$P$16,12,FALSE))","v":27},"Чеботаева Валерия",1993,"Chebotaeva Valeriya","Чеботаева Валерия / Chebotaeva Valeriya / 1993","Ж",12,59.25925925925926,259.26]
[{"$f":"Гонки!$C$4","v":"Жук-трейл # 4 Минское Море "},{"$f":"Гонки!$D$5","v":"Трейл 16"},"Жук-трейл # 4 Минское Море  Трейл 16",19.14,"Ж",{"$f":"IF(E148=\"Ж\",VLOOKUP(C148,Гонки!$E$2:$P$16,11,FALSE),VLOOKUP(C148,Гонки!$E$2:$P$16,12,FALSE))","v":27},"Малаховская Татьяна",1989,"Malahovskaya Tatyana","Малаховская Татьяна / Malahovskaya Tatyana / 1989","Ж",13,55.555555555555557,243.05]
[{"$f":"Гонки!$C$4","v":"Жук-трейл # 4 Минское Море "},{"$f":"Гонки!$D$5","v":"Трейл 16"},"Жук-трейл # 4 Минское Море  Трейл 16",19.14,"Ж",{"$f":"IF(E149=\"Ж\",VLOOKUP(C149,Гонки!$E$2:$P$16,11,FALSE),VLOOKUP(C149,Гонки!$E$2:$P$16,12,FALSE))","v":27},"Булеева Наталья",1969,"Buleeva Natalya","Булеева Наталья / Buleeva Natalya / 1969","Ж",14,51.851851851851855,226.85]
[{"$f":"Гонки!$C$4","v":"Жук-трейл # 4 Минское Море "},{"$f":"Гонки!$D$5","v":"Трейл 16"},"Жук-трейл # 4 Минское Море  Трейл 16",19.14,"Ж",{"$f":"IF(E150=\"Ж\",VLOOKUP(C150,Гонки!$E$2:$P$16,11,FALSE),VLOOKUP(C150,Гонки!$E$2:$P$16,12,FALSE))","v":27},"Липницкая Виктория",1987,"Lipnitskaya Viktoriya","Липницкая Виктория / Lipnitskaya Viktoriya / 1987","Ж",15,48.148148148148152,210.64]
[{"$f":"Гонки!$C$4","v":"Жук-трейл # 4 Минское Море "},{"$f":"Гонки!$D$5","v":"Трейл 16"},"Жук-трейл # 4 Минское Море  Трейл 16",19.14,"Ж",{"$f":"IF(E151=\"Ж\",VLOOKUP(C151,Гонки!$E$2:$P$16,11,FALSE),VLOOKUP(C151,Гонки!$E$2:$P$16,12,FALSE))","v":27},"Грейд Юлия",1986,"Grejd Yuliya","Грейд Юлия / Grejd Yuliya / 1986","Ж",16,44.444444444444443,194.44]
[{"$f":"Гонки!$C$4","v":"Жук-трейл # 4 Минское Море "},{"$f":"Гонки!$D$5","v":"Трейл 16"},"Жук-трейл # 4 Минское Море  Трейл 16",19.14,"Ж",{"$f":"IF(E152=\"Ж\",VLOOKUP(C152,Гонки!$E$2:$P$16,11,FALSE),VLOOKUP(C152,Гонки!$E$2:$P$16,12,FALSE))","v":27},"Гринько Анастасия",1993,"Grinko Anastasiya","Гринько Анастасия / Grinko Anastasiya / 1993","Ж",17,40.740740740740748,178.24]
[{"$f":"Гонки!$C$4","v":"Жук-трейл # 4 Минское Море "},{"$f":"Гонки!$D$5","v":"Трейл 16"},"Жук-трейл # 4 Минское Море  Трейл 16",19.14,"Ж",{"$f":"IF(E153=\"Ж\",VLOOKUP(C153,Гонки!$E$2:$P$16,11,FALSE),VLOOKUP(C153,Гонки!$E$2:$P$16,12,FALSE))","v":27},"Трубкина Инна",1972,"Trubkina Inna","Трубкина Инна / Trubkina Inna / 1972","Ж",18,37.037037037037038,162.03]
[{"$f":"Гонки!$C$4","v":"Жук-трейл # 4 Минское Море "},{"$f":"Гонки!$D$5","v":"Трейл 16"},"Жук-трейл # 4 Минское Море  Трейл 16",19.14,"Ж",{"$f":"IF(E154=\"Ж\",VLOOKUP(C154,Гонки!$E$2:$P$16,11,FALSE),VLOOKUP(C154,Гонки!$E$2:$P$16,12,FALSE))","v":27},"Сильченко Наталья",null,"Silchenko Natalya","Сильченко Наталья / Silchenko Natalya / ","Ж",19,33.333333333333343,145.83000000000001]
[{"$f":"Гонки!$C$4","v":"Жук-трейл # 4 Минское Море "},{"$f":"Гонки!$D$5","v":"Трейл 16"},"Жук-трейл # 4 Минское Море  Трейл 16",19.14,"Ж",{"$f":"IF(E155=\"Ж\",VLOOKUP(C155,Гонки!$E$2:$P$16,11,FALSE),VLOOKUP(C155,Гонки!$E$2:$P$16,12,FALSE))","v":27},"Мурашкина Галина",1988,"Murashkina Galina","Мурашкина Галина / Murashkina Galina / 1988","Ж",20,29.629629629629633,129.63]
[{"$f":"Гонки!$C$4","v":"Жук-трейл # 4 Минское Море "},{"$f":"Гонки!$D$5","v":"Трейл 16"},"Жук-трейл # 4 Минское Море  Трейл 16",19.14,"Ж",{"$f":"IF(E156=\"Ж\",VLOOKUP(C156,Гонки!$E$2:$P$16,11,FALSE),VLOOKUP(C156,Гонки!$E$2:$P$16,12,FALSE))","v":27},"Туровец Ольга",1979,"Turovets Olga","Туровец Ольга / Turovets Olga / 1979","Ж",21,25.925925925925924,113.42]
[{"$f":"Гонки!$C$4","v":"Жук-трейл # 4 Минское Море "},{"$f":"Гонки!$D$5","v":"Трейл 16"},"Жук-трейл # 4 Минское Море  Трейл 16",19.14,"Ж",{"$f":"IF(E157=\"Ж\",VLOOKUP(C157,Гонки!$E$2:$P$16,11,FALSE),VLOOKUP(C157,Гонки!$E$2:$P$16,12,FALSE))","v":27},"Вдовиченко Ирина",1989,"Vdovichenko Irina","Вдовиченко Ирина / Vdovichenko Irina / 1989","Ж",22,22.222222222222214,97.22]
[{"$f":"Гонки!$C$4","v":"Жук-трейл # 4 Минское Море "},{"$f":"Гонки!$D$5","v":"Трейл 16"},"Жук-трейл # 4 Минское Море  Трейл 16",19.14,"Ж",{"$f":"IF(E158=\"Ж\",VLOOKUP(C158,Гонки!$E$2:$P$16,11,FALSE),VLOOKUP(C158,Гонки!$E$2:$P$16,12,FALSE))","v":27},"Петкевич Лилия",1990,"Petkevich Liliya","Петкевич Лилия / Petkevich Liliya / 1990","Ж",23,18.518518518518519,81.02]
[{"$f":"Гонки!$C$4","v":"Жук-трейл # 4 Минское Море "},{"$f":"Гонки!$D$5","v":"Трейл 16"},"Жук-трейл # 4 Минское Море  Трейл 16",19.14,"М",{"$f":"IF(E159=\"Ж\",VLOOKUP(C159,Гонки!$E$2:$P$16,11,FALSE),VLOOKUP(C159,Гонки!$E$2:$P$16,12,FALSE))","v":51},"Стасевич Александр",1987,"Stasevich Aleksandr","Стасевич Александр / Stasevich Aleksandr / 1987","М",1,100,437.49]
[{"$f":"Гонки!$C$4","v":"Жук-трейл # 4 Минское Море "},{"$f":"Гонки!$D$5","v":"Трейл 16"},"Жук-трейл # 4 Минское Море  Трейл 16",19.14,"М",{"$f":"IF(E160=\"Ж\",VLOOKUP(C160,Гонки!$E$2:$P$16,11,FALSE),VLOOKUP(C160,Гонки!$E$2:$P$16,12,FALSE))","v":51},"Волков Николай",1989,"Volkov Nikolaj","Волков Николай / Volkov Nikolaj / 1989","М",2,98.039215686274517,428.91]
[{"$f":"Гонки!$C$4","v":"Жук-трейл # 4 Минское Море "},{"$f":"Гонки!$D$5","v":"Трейл 16"},"Жук-трейл # 4 Минское Море  Трейл 16",19.14,"М",{"$f":"IF(E161=\"Ж\",VLOOKUP(C161,Гонки!$E$2:$P$16,11,FALSE),VLOOKUP(C161,Гонки!$E$2:$P$16,12,FALSE))","v":51},"Захаркин Сергей",1976,"Zaharkin Sergej","Захаркин Сергей / Zaharkin Sergej / 1976","М",3,96.078431372549019,420.34]
[{"$f":"Гонки!$C$4","v":"Жук-трейл # 4 Минское Море "},{"$f":"Гонки!$D$5","v":"Трейл 16"},"Жук-трейл # 4 Минское Море  Трейл 16",19.14,"М",{"$f":"IF(E162=\"Ж\",VLOOKUP(C162,Гонки!$E$2:$P$16,11,FALSE),VLOOKUP(C162,Гонки!$E$2:$P$16,12,FALSE))","v":51},"Чеботаев Сергей",1989,"Chebotaev Sergej","Чеботаев Сергей / Chebotaev Sergej / 1989","М",4,94.117647058823536,411.76]
[{"$f":"Гонки!$C$4","v":"Жук-трейл # 4 Минское Море "},{"$f":"Гонки!$D$5","v":"Трейл 16"},"Жук-трейл # 4 Минское Море  Трейл 16",19.14,"М",{"$f":"IF(E163=\"Ж\",VLOOKUP(C163,Гонки!$E$2:$P$16,11,FALSE),VLOOKUP(C163,Гонки!$E$2:$P$16,12,FALSE))","v":51},"Бузо Александр",1982,"Buzo Aleksandr","Бузо Александр / Buzo Aleksandr / 1982","М",5,92.156862745098039,403.18]
[{"$f":"Гонки!$C$4","v":"Жук-трейл # 4 Минское Море "},{"$f":"Гонки!$D$5","v":"Трейл 16"},"Жук-трейл # 4 Минское Море  Трейл 16",19.14,"М",{"$f":"IF(E164=\"Ж\",VLOOKUP(C164,Гонки!$E$2:$P$16,11,FALSE),VLOOKUP(C164,Гонки!$E$2:$P$16,12,FALSE))","v":51},"Сидоревич Александр",1985,"Sidorevich Aleksandr","Сидоревич Александр / Sidorevich Aleksandr / 1985","М",6,90.196078431372541,394.6]
[{"$f":"Гонки!$C$4","v":"Жук-трейл # 4 Минское Море "},{"$f":"Гонки!$D$5","v":"Трейл 16"},"Жук-трейл # 4 Минское Море  Трейл 16",19.14,"М",{"$f":"IF(E165=\"Ж\",VLOOKUP(C165,Гонки!$E$2:$P$16,11,FALSE),VLOOKUP(C165,Гонки!$E$2:$P$16,12,FALSE))","v":51},"Михнюк Виктор",1990,"Mihnyuk Viktor","Михнюк Виктор / Mihnyuk Viktor / 1990","М",7,88.235294117647058,386.02]
[{"$f":"Гонки!$C$4","v":"Жук-трейл # 4 Минское Море "},{"$f":"Гонки!$D$5","v":"Трейл 16"},"Жук-трейл # 4 Минское Море  Трейл 16",19.14,"М",{"$f":"IF(E166=\"Ж\",VLOOKUP(C166,Гонки!$E$2:$P$16,11,FALSE),VLOOKUP(C166,Гонки!$E$2:$P$16,12,FALSE))","v":51},"Крисенков Алексей",1983,"Krisenkov Aleksej","Крисенков Алексей / Krisenkov Aleksej / 1983","М",8,86.274509803921575,377.44]
[{"$f":"Гонки!$C$4","v":"Жук-трейл # 4 Минское Море "},{"$f":"Гонки!$D$5","v":"Трейл 16"},"Жук-трейл # 4 Минское Море  Трейл 16",19.14,"М",{"$f":"IF(E167=\"Ж\",VLOOKUP(C167,Гонки!$E$2:$P$16,11,FALSE),VLOOKUP(C167,Гонки!$E$2:$P$16,12,FALSE))","v":51},"Нечаев Владимир",1995,"Nechaev Vladimir","Нечаев Владимир / Nechaev Vladimir / 1995","М",9,84.313725490196077,368.87]
[{"$f":"Гонки!$C$4","v":"Жук-трейл # 4 Минское Море "},{"$f":"Гонки!$D$5","v":"Трейл 16"},"Жук-трейл # 4 Минское Море  Трейл 16",19.14,"М",{"$f":"IF(E168=\"Ж\",VLOOKUP(C168,Гонки!$E$2:$P$16,11,FALSE),VLOOKUP(C168,Гонки!$E$2:$P$16,12,FALSE))","v":51},"Пузаревский Роман",1994,"Puzarevskij Roman","Пузаревский Роман / Puzarevskij Roman / 1994","М",10,82.35294117647058,360.29]
[{"$f":"Гонки!$C$4","v":"Жук-трейл # 4 Минское Море "},{"$f":"Гонки!$D$5","v":"Трейл 16"},"Жук-трейл # 4 Минское Море  Трейл 16",19.14,"М",{"$f":"IF(E169=\"Ж\",VLOOKUP(C169,Гонки!$E$2:$P$16,11,FALSE),VLOOKUP(C169,Гонки!$E$2:$P$16,12,FALSE))","v":51},"Лойко Сергей",1985,"Lojko Sergej","Лойко Сергей / Lojko Sergej / 1985","М",11,80.392156862745097,351.71]
[{"$f":"Гонки!$C$4","v":"Жук-трейл # 4 Минское Море "},{"$f":"Гонки!$D$5","v":"Трейл 16"},"Жук-трейл # 4 Минское Море  Трейл 16",19.14,"М",{"$f":"IF(E170=\"Ж\",VLOOKUP(C170,Гонки!$E$2:$P$16,11,FALSE),VLOOKUP(C170,Гонки!$E$2:$P$16,12,FALSE))","v":51},"Зеленко Дмитрий",1987,"Zelenko Dmitrij","Зеленко Дмитрий / Zelenko Dmitrij / 1987","М",12,78.431372549019613,343.13]
[{"$f":"Гонки!$C$4","v":"Жук-трейл # 4 Минское Море "},{"$f":"Гонки!$D$5","v":"Трейл 16"},"Жук-трейл # 4 Минское Море  Трейл 16",19.14,"М",{"$f":"IF(E171=\"Ж\",VLOOKUP(C171,Гонки!$E$2:$P$16,11,FALSE),VLOOKUP(C171,Гонки!$E$2:$P$16,12,FALSE))","v":51},"Юкевич Александр",1983,"Yukevich Aleksandr","Юкевич Александр / Yukevich Aleksandr / 1983","М",13,76.470588235294116,334.55]
[{"$f":"Гонки!$C$4","v":"Жук-трейл # 4 Минское Море "},{"$f":"Гонки!$D$5","v":"Трейл 16"},"Жук-трейл # 4 Минское Море  Трейл 16",19.14,"М",{"$f":"IF(E172=\"Ж\",VLOOKUP(C172,Гонки!$E$2:$P$16,11,FALSE),VLOOKUP(C172,Гонки!$E$2:$P$16,12,FALSE))","v":51},"Павленко Юрий",1983,"Pavlenko Yurij","Павленко Юрий / Pavlenko Yurij / 1983","М",14,74.509803921568633,325.98]
[{"$f":"Гонки!$C$4","v":"Жук-трейл # 4 Минское Море "},{"$f":"Гонки!$D$5","v":"Трейл 16"},"Жук-трейл # 4 Минское Море  Трейл 16",19.14,"М",{"$f":"IF(E173=\"Ж\",VLOOKUP(C173,Гонки!$E$2:$P$16,11,FALSE),VLOOKUP(C173,Гонки!$E$2:$P$16,12,FALSE))","v":51},"Слободько Дмитрий",1984,"Slobodko Dmitrij","Слободько Дмитрий / Slobodko Dmitrij / 1984","М",15,72.549019607843135,317.39999999999998]
[{"$f":"Гонки!$C$4","v":"Жук-трейл # 4 Минское Море "},{"$f":"Гонки!$D$5","v":"Трейл 16"},"Жук-трейл # 4 Минское Море  Трейл 16",19.14,"М",{"$f":"IF(E174=\"Ж\",VLOOKUP(C174,Гонки!$E$2:$P$16,11,FALSE),VLOOKUP(C174,Гонки!$E$2:$P$16,12,FALSE))","v":51},"Бунос Анатолий",1956,"Bunos Anatolij","Бунос Анатолий / Bunos Anatolij / 1956","М",16,70.588235294117652,308.82]
[{"$f":"Гонки!$C$4","v":"Жук-трейл # 4 Минское Море "},{"$f":"Гонки!$D$5","v":"Трейл 16"},"Жук-трейл # 4 Минское Море  Трейл 16",19.14,"М",{"$f":"IF(E175=\"Ж\",VLOOKUP(C175,Гонки!$E$2:$P$16,11,FALSE),VLOOKUP(C175,Гонки!$E$2:$P$16,12,FALSE))","v":51},"Савич Евгений",1980,"Savich Evgenij","Савич Евгений / Savich Evgenij / 1980","М",17,68.627450980392155,300.24]
[{"$f":"Гонки!$C$4","v":"Жук-трейл # 4 Минское Море "},{"$f":"Гонки!$D$5","v":"Трейл 16"},"Жук-трейл # 4 Минское Море  Трейл 16",19.14,"М",{"$f":"IF(E176=\"Ж\",VLOOKUP(C176,Гонки!$E$2:$P$16,11,FALSE),VLOOKUP(C176,Гонки!$E$2:$P$16,12,FALSE))","v":51},"Печёнов Георгий",1975,"Pechjonov Georgij","Печёнов Георгий / Pechjonov Georgij / 1975","М",18,66.666666666666671,291.66000000000003]
[{"$f":"Гонки!$C$4","v":"Жук-трейл # 4 Минское Море "},{"$f":"Гонки!$D$5","v":"Трейл 16"},"Жук-трейл # 4 Минское Море  Трейл 16",19.14,"М",{"$f":"IF(E177=\"Ж\",VLOOKUP(C177,Гонки!$E$2:$P$16,11,FALSE),VLOOKUP(C177,Гонки!$E$2:$P$16,12,FALSE))","v":51},"Верещако Павел",1988,"Vereschako Pavel","Верещако Павел / Vereschako Pavel / 1988","М",19,64.705882352941174,283.08]
[{"$f":"Гонки!$C$4","v":"Жук-трейл # 4 Минское Море "},{"$f":"Гонки!$D$5","v":"Трейл 16"},"Жук-трейл # 4 Минское Море  Трейл 16",19.14,"М",{"$f":"IF(E178=\"Ж\",VLOOKUP(C178,Гонки!$E$2:$P$16,11,FALSE),VLOOKUP(C178,Гонки!$E$2:$P$16,12,FALSE))","v":51},"Искорцев Алексей",1980,"Iskortsev Aleksej","Искорцев Алексей / Iskortsev Aleksej / 1980","М",20,62.745098039215684,274.51]
[{"$f":"Гонки!$C$4","v":"Жук-трейл # 4 Минское Море "},{"$f":"Гонки!$D$5","v":"Трейл 16"},"Жук-трейл # 4 Минское Море  Трейл 16",19.14,"М",{"$f":"IF(E179=\"Ж\",VLOOKUP(C179,Гонки!$E$2:$P$16,11,FALSE),VLOOKUP(C179,Гонки!$E$2:$P$16,12,FALSE))","v":51},"Игнатович Александр",1992,"Ignatovich Aleksandr","Игнатович Александр / Ignatovich Aleksandr / 1992","М",21,60.784313725490193,265.93]
[{"$f":"Гонки!$C$4","v":"Жук-трейл # 4 Минское Море "},{"$f":"Гонки!$D$5","v":"Трейл 16"},"Жук-трейл # 4 Минское Море  Трейл 16",19.14,"М",{"$f":"IF(E180=\"Ж\",VLOOKUP(C180,Гонки!$E$2:$P$16,11,FALSE),VLOOKUP(C180,Гонки!$E$2:$P$16,12,FALSE))","v":51},"Ролдугин Михаил",1987,"Roldugin Mihail","Ролдугин Михаил / Roldugin Mihail / 1987","М",22,58.82352941176471,257.35000000000002]
[{"$f":"Гонки!$C$4","v":"Жук-трейл # 4 Минское Море "},{"$f":"Гонки!$D$5","v":"Трейл 16"},"Жук-трейл # 4 Минское Море  Трейл 16",19.14,"М",{"$f":"IF(E181=\"Ж\",VLOOKUP(C181,Гонки!$E$2:$P$16,11,FALSE),VLOOKUP(C181,Гонки!$E$2:$P$16,12,FALSE))","v":51},"Ладеев Дмитрий",1981,"Ladeev Dmitrij","Ладеев Дмитрий / Ladeev Dmitrij / 1981","М",23,56.862745098039213,248.77]
[{"$f":"Гонки!$C$4","v":"Жук-трейл # 4 Минское Море "},{"$f":"Гонки!$D$5","v":"Трейл 16"},"Жук-трейл # 4 Минское Море  Трейл 16",19.14,"М",{"$f":"IF(E182=\"Ж\",VLOOKUP(C182,Гонки!$E$2:$P$16,11,FALSE),VLOOKUP(C182,Гонки!$E$2:$P$16,12,FALSE))","v":51},"Лукьянов Александр",1979,"Lukyanov Aleksandr","Лукьянов Александр / Lukyanov Aleksandr / 1979","М",24,54.901960784313722,240.19]
[{"$f":"Гонки!$C$4","v":"Жук-трейл # 4 Минское Море "},{"$f":"Гонки!$D$5","v":"Трейл 16"},"Жук-трейл # 4 Минское Море  Трейл 16",19.14,"М",{"$f":"IF(E183=\"Ж\",VLOOKUP(C183,Гонки!$E$2:$P$16,11,FALSE),VLOOKUP(C183,Гонки!$E$2:$P$16,12,FALSE))","v":51},"Жидович Вадим",1984,"Zhidovich Vadim","Жидович Вадим / Zhidovich Vadim / 1984","М",25,52.941176470588239,231.61]
[{"$f":"Гонки!$C$4","v":"Жук-трейл # 4 Минское Море "},{"$f":"Гонки!$D$5","v":"Трейл 16"},"Жук-трейл # 4 Минское Море  Трейл 16",19.14,"М",{"$f":"IF(E184=\"Ж\",VLOOKUP(C184,Гонки!$E$2:$P$16,11,FALSE),VLOOKUP(C184,Гонки!$E$2:$P$16,12,FALSE))","v":51},"Ярмончик Игорь",1985,"Yarmonchik Igor","Ярмончик Игорь / Yarmonchik Igor / 1985","М",26,50.980392156862749,223.04]
[{"$f":"Гонки!$C$4","v":"Жук-трейл # 4 Минское Море "},{"$f":"Гонки!$D$5","v":"Трейл 16"},"Жук-трейл # 4 Минское Море  Трейл 16",19.14,"М",{"$f":"IF(E185=\"Ж\",VLOOKUP(C185,Гонки!$E$2:$P$16,11,FALSE),VLOOKUP(C185,Гонки!$E$2:$P$16,12,FALSE))","v":51},"Скляр Антон",1983,"Sklyar Anton","Скляр Антон / Sklyar Anton / 1983","М",27,49.019607843137258,214.46]
[{"$f":"Гонки!$C$4","v":"Жук-трейл # 4 Минское Море "},{"$f":"Гонки!$D$5","v":"Трейл 16"},"Жук-трейл # 4 Минское Море  Трейл 16",19.14,"М",{"$f":"IF(E186=\"Ж\",VLOOKUP(C186,Гонки!$E$2:$P$16,11,FALSE),VLOOKUP(C186,Гонки!$E$2:$P$16,12,FALSE))","v":51},"Пугач Вадим",1985,"Pugach Vadim","Пугач Вадим / Pugach Vadim / 1985","М",28,47.058823529411761,205.88]
[{"$f":"Гонки!$C$4","v":"Жук-трейл # 4 Минское Море "},{"$f":"Гонки!$D$5","v":"Трейл 16"},"Жук-трейл # 4 Минское Море  Трейл 16",19.14,"М",{"$f":"IF(E187=\"Ж\",VLOOKUP(C187,Гонки!$E$2:$P$16,11,FALSE),VLOOKUP(C187,Гонки!$E$2:$P$16,12,FALSE))","v":51},"Зайчук Кирилл",1990,"Zajchuk Kirill","Зайчук Кирилл / Zajchuk Kirill / 1990","М",29,45.098039215686271,197.3]
[{"$f":"Гонки!$C$4","v":"Жук-трейл # 4 Минское Море "},{"$f":"Гонки!$D$5","v":"Трейл 16"},"Жук-трейл # 4 Минское Море  Трейл 16",19.14,"М",{"$f":"IF(E188=\"Ж\",VLOOKUP(C188,Гонки!$E$2:$P$16,11,FALSE),VLOOKUP(C188,Гонки!$E$2:$P$16,12,FALSE))","v":51},"Хацкевич Дмитрий",1985,"Hatskevich Dmitrij","Хацкевич Дмитрий / Hatskevich Dmitrij / 1985","М",30,43.137254901960787,188.72]
[{"$f":"Гонки!$C$4","v":"Жук-трейл # 4 Минское Море "},{"$f":"Гонки!$D$5","v":"Трейл 16"},"Жук-трейл # 4 Минское Море  Трейл 16",19.14,"М",{"$f":"IF(E189=\"Ж\",VLOOKUP(C189,Гонки!$E$2:$P$16,11,FALSE),VLOOKUP(C189,Гонки!$E$2:$P$16,12,FALSE))","v":51},"Мертенс Андрей",1992,"Mertens Andrej","Мертенс Андрей / Mertens Andrej / 1992","М",31,41.17647058823529,180.14]
[{"$f":"Гонки!$C$4","v":"Жук-трейл # 4 Минское Море "},{"$f":"Гонки!$D$5","v":"Трейл 16"},"Жук-трейл # 4 Минское Море  Трейл 16",19.14,"М",{"$f":"IF(E190=\"Ж\",VLOOKUP(C190,Гонки!$E$2:$P$16,11,FALSE),VLOOKUP(C190,Гонки!$E$2:$P$16,12,FALSE))","v":51},"Миканович Антон",1990,"Mikanovich Anton","Миканович Антон / Mikanovich Anton / 1990","М",32,39.215686274509807,171.57]
[{"$f":"Гонки!$C$4","v":"Жук-трейл # 4 Минское Море "},{"$f":"Гонки!$D$5","v":"Трейл 16"},"Жук-трейл # 4 Минское Море  Трейл 16",19.14,"М",{"$f":"IF(E191=\"Ж\",VLOOKUP(C191,Гонки!$E$2:$P$16,11,FALSE),VLOOKUP(C191,Гонки!$E$2:$P$16,12,FALSE))","v":51},"Панковец Николай",1979,"Pankovets Nikolaj","Панковец Николай / Pankovets Nikolaj / 1979","М",33,37.254901960784316,162.99]
[{"$f":"Гонки!$C$4","v":"Жук-трейл # 4 Минское Море "},{"$f":"Гонки!$D$5","v":"Трейл 16"},"Жук-трейл # 4 Минское Море  Трейл 16",19.14,"М",{"$f":"IF(E192=\"Ж\",VLOOKUP(C192,Гонки!$E$2:$P$16,11,FALSE),VLOOKUP(C192,Гонки!$E$2:$P$16,12,FALSE))","v":51},"Лопатик Юрий",1984,"Lopatik Yurij","Лопатик Юрий / Lopatik Yurij / 1984","М",34,35.294117647058826,154.41]
[{"$f":"Гонки!$C$4","v":"Жук-трейл # 4 Минское Море "},{"$f":"Гонки!$D$5","v":"Трейл 16"},"Жук-трейл # 4 Минское Море  Трейл 16",19.14,"М",{"$f":"IF(E193=\"Ж\",VLOOKUP(C193,Гонки!$E$2:$P$16,11,FALSE),VLOOKUP(C193,Гонки!$E$2:$P$16,12,FALSE))","v":51},"Олин Денис",1976,"Olin Denis","Олин Денис / Olin Denis / 1976","М",35,33.333333333333343,145.83000000000001]
[{"$f":"Гонки!$C$4","v":"Жук-трейл # 4 Минское Море "},{"$f":"Гонки!$D$5","v":"Трейл 16"},{"$f":"CONCATENATE(A194,\" \",B194)","v":"Жук-трейл # 4 Минское Море  Трейл 16"},{"$f":"VLOOKUP(C194,Список_гонок,10,FALSE)","v":19.14},"М",{"$f":"IF(E194=\"Ж\",VLOOKUP(C194,Гонки!$E$2:$P$16,11,FALSE),VLOOKUP(C194,Гонки!$E$2:$P$16,12,FALSE))","v":51},"Стельмах Юрий",1982,{"$f":"Translit(G194)","v":"Stelmah Yurij"},{"$f":"CONCATENATE(G194,\" / \",I194,\" / \",H194)","v":"Стельмах Юрий / Stelmah Yurij / 1982"},{"$f":"E194","v":"М"},36,{"$f":"100-((L194-1)/F194)*100","v":31.372549019607845},{"$f":"ROUND(SQRT(D194)*M194,2)","v":137.25}]
[{"$f":"Гонки!$C$4","v":"Жук-трейл # 4 Минское Море "},{"$f":"Гонки!$D$5","v":"Трейл 16"},"Жук-трейл # 4 Минское Море  Трейл 16",19.14,"М",{"$f":"IF(E195=\"Ж\",VLOOKUP(C195,Гонки!$E$2:$P$16,11,FALSE),VLOOKUP(C195,Гонки!$E$2:$P$16,12,FALSE))","v":51},"Никрашевич Сергей",1985,"Nikrashevich Sergej","Никрашевич Сергей / Nikrashevich Sergej / 1985","М",37,29.411764705882348,128.66999999999999]
[{"$f":"Гонки!$C$4","v":"Жук-трейл # 4 Минское Море "},{"$f":"Гонки!$D$5","v":"Трейл 16"},"Жук-трейл # 4 Минское Море  Трейл 16",19.14,"М",{"$f":"IF(E196=\"Ж\",VLOOKUP(C196,Гонки!$E$2:$P$16,11,FALSE),VLOOKUP(C196,Гонки!$E$2:$P$16,12,FALSE))","v":51},"Казарин Дмитрий",1994,"Kazarin Dmitrij","Казарин Дмитрий / Kazarin Dmitrij / 1994","М",38,27.450980392156865,120.1]
[{"$f":"Гонки!$C$4","v":"Жук-трейл # 4 Минское Море "},{"$f":"Гонки!$D$5","v":"Трейл 16"},"Жук-трейл # 4 Минское Море  Трейл 16",19.14,"М",{"$f":"IF(E197=\"Ж\",VLOOKUP(C197,Гонки!$E$2:$P$16,11,FALSE),VLOOKUP(C197,Гонки!$E$2:$P$16,12,FALSE))","v":51},"Коляда Юрий",1980,"Kolyada Yurij","Коляда Юрий / Kolyada Yurij / 1980","М",39,25.490196078431367,111.52]
[{"$f":"Гонки!$C$4","v":"Жук-трейл # 4 Минское Море "},{"$f":"Гонки!$D$5","v":"Трейл 16"},"Жук-трейл # 4 Минское Море  Трейл 16",19.14,"М",{"$f":"IF(E198=\"Ж\",VLOOKUP(C198,Гонки!$E$2:$P$16,11,FALSE),VLOOKUP(C198,Гонки!$E$2:$P$16,12,FALSE))","v":51},"Горшков Игорь",1977,"Gorshkov Igor","Горшков Игорь / Gorshkov Igor / 1977","М",40,23.529411764705884,102.94]
[{"$f":"Гонки!$C$4","v":"Жук-трейл # 4 Минское Море "},{"$f":"Гонки!$D$5","v":"Трейл 16"},"Жук-трейл # 4 Минское Море  Трейл 16",19.14,"М",{"$f":"IF(E199=\"Ж\",VLOOKUP(C199,Гонки!$E$2:$P$16,11,FALSE),VLOOKUP(C199,Гонки!$E$2:$P$16,12,FALSE))","v":51},"Герасевич Максим",null,"Gerasevich Maksim","Герасевич Максим / Gerasevich Maksim / ","М",41,21.568627450980387,94.36]
[{"$f":"Гонки!$C$4","v":"Жук-трейл # 4 Минское Море "},{"$f":"Гонки!$D$5","v":"Трейл 16"},"Жук-трейл # 4 Минское Море  Трейл 16",19.14,"М",{"$f":"IF(E200=\"Ж\",VLOOKUP(C200,Гонки!$E$2:$P$16,11,FALSE),VLOOKUP(C200,Гонки!$E$2:$P$16,12,FALSE))","v":51},"Аржаников Евгений",1976,"Arzhanikov Evgenij","Аржаников Евгений / Arzhanikov Evgenij / 1976","М",42,19.607843137254903,85.78]
[{"$f":"Гонки!$C$4","v":"Жук-трейл # 4 Минское Море "},{"$f":"Гонки!$D$5","v":"Трейл 16"},"Жук-трейл # 4 Минское Море  Трейл 16",19.14,"М",{"$f":"IF(E201=\"Ж\",VLOOKUP(C201,Гонки!$E$2:$P$16,11,FALSE),VLOOKUP(C201,Гонки!$E$2:$P$16,12,FALSE))","v":51},"Кузьменок Денис",1979,"Kuzmenok Denis","Кузьменок Денис / Kuzmenok Denis / 1979","М",43,17.64705882352942,77.2]
[{"$f":"Гонки!$C$4","v":"Жук-трейл # 4 Минское Море "},{"$f":"Гонки!$D$5","v":"Трейл 16"},"Жук-трейл # 4 Минское Море  Трейл 16",19.14,"М",{"$f":"IF(E202=\"Ж\",VLOOKUP(C202,Гонки!$E$2:$P$16,11,FALSE),VLOOKUP(C202,Гонки!$E$2:$P$16,12,FALSE))","v":51},"Якимченко Анатолий",1967,"Yakimchenko Anatolij","Якимченко Анатолий / Yakimchenko Anatolij / 1967","М",44,15.686274509803923,68.63]
[{"$f":"Гонки!$C$4","v":"Жук-трейл # 4 Минское Море "},{"$f":"Гонки!$D$6","v":"Трейл 8"},"Жук-трейл # 4 Минское Море  Трейл 8",9.57,"Ж",{"$f":"IF(E203=\"Ж\",VLOOKUP(C203,Гонки!$E$2:$P$16,11,FALSE),VLOOKUP(C203,Гонки!$E$2:$P$16,12,FALSE))","v":24},"Пехтерева Татьяна",1987,"Pehtereva Tatyana","Пехтерева Татьяна / Pehtereva Tatyana / 1987","Ж",1,100,309.35000000000002]
[{"$f":"Гонки!$C$4","v":"Жук-трейл # 4 Минское Море "},{"$f":"Гонки!$D$6","v":"Трейл 8"},"Жук-трейл # 4 Минское Море  Трейл 8",9.57,"Ж",{"$f":"IF(E204=\"Ж\",VLOOKUP(C204,Гонки!$E$2:$P$16,11,FALSE),VLOOKUP(C204,Гонки!$E$2:$P$16,12,FALSE))","v":24},"Черкас Александра",1992,"Cherkas Aleksandra","Черкас Александра / Cherkas Aleksandra / 1992","Ж",2,95.833333333333329,296.45999999999998]
[{"$f":"Гонки!$C$4","v":"Жук-трейл # 4 Минское Море "},{"$f":"Гонки!$D$6","v":"Трейл 8"},"Жук-трейл # 4 Минское Море  Трейл 8",9.57,"Ж",{"$f":"IF(E205=\"Ж\",VLOOKUP(C205,Гонки!$E$2:$P$16,11,FALSE),VLOOKUP(C205,Гонки!$E$2:$P$16,12,FALSE))","v":24},"Хлопцева Инга",1982,"Hloptseva Inga","Хлопцева Инга / Hloptseva Inga / 1982","Ж",3,91.666666666666671,283.57]
[{"$f":"Гонки!$C$4","v":"Жук-трейл # 4 Минское Море "},{"$f":"Гонки!$D$6","v":"Трейл 8"},"Жук-трейл # 4 Минское Море  Трейл 8",9.57,"Ж",{"$f":"IF(E206=\"Ж\",VLOOKUP(C206,Гонки!$E$2:$P$16,11,FALSE),VLOOKUP(C206,Гонки!$E$2:$P$16,12,FALSE))","v":24},"Чеснокова Надежда",1988,"Chesnokova Nadezhda","Чеснокова Надежда / Chesnokova Nadezhda / 1988","Ж",4,87.5,270.68]
[{"$f":"Гонки!$C$4","v":"Жук-трейл # 4 Минское Море "},{"$f":"Гонки!$D$6","v":"Трейл 8"},"Жук-трейл # 4 Минское Море  Трейл 8",9.57,"Ж",{"$f":"IF(E207=\"Ж\",VLOOKUP(C207,Гонки!$E$2:$P$16,11,FALSE),VLOOKUP(C207,Гонки!$E$2:$P$16,12,FALSE))","v":24},"Шаповалова Ирина",1993,"Shapovalova Irina","Шаповалова Ирина / Shapovalova Irina / 1993","Ж",5,83.333333333333343,257.8]
[{"$f":"Гонки!$C$4","v":"Жук-трейл # 4 Минское Море "},{"$f":"Гонки!$D$6","v":"Трейл 8"},"Жук-трейл # 4 Минское Море  Трейл 8",9.57,"Ж",{"$f":"IF(E208=\"Ж\",VLOOKUP(C208,Гонки!$E$2:$P$16,11,FALSE),VLOOKUP(C208,Гонки!$E$2:$P$16,12,FALSE))","v":24},"Полякова Анна",1987,"Polyakova Anna","Полякова Анна / Polyakova Anna / 1987","Ж",6,79.166666666666657,244.91]
[{"$f":"Гонки!$C$4","v":"Жук-трейл # 4 Минское Море "},{"$f":"Гонки!$D$6","v":"Трейл 8"},"Жук-трейл # 4 Минское Море  Трейл 8",9.57,"Ж",{"$f":"IF(E209=\"Ж\",VLOOKUP(C209,Гонки!$E$2:$P$16,11,FALSE),VLOOKUP(C209,Гонки!$E$2:$P$16,12,FALSE))","v":24},"Жданович Александра",1985,"Zhdanovich Aleksandra","Жданович Александра / Zhdanovich Aleksandra / 1985","Ж",7,75,232.02]
[{"$f":"Гонки!$C$4","v":"Жук-трейл # 4 Минское Море "},{"$f":"Гонки!$D$6","v":"Трейл 8"},"Жук-трейл # 4 Минское Море  Трейл 8",9.57,"Ж",{"$f":"IF(E210=\"Ж\",VLOOKUP(C210,Гонки!$E$2:$P$16,11,FALSE),VLOOKUP(C210,Гонки!$E$2:$P$16,12,FALSE))","v":24},"Гриб Екатерина",1981,"Grib Ekaterina","Гриб Екатерина / Grib Ekaterina / 1981","Ж",8,70.833333333333329,219.13]
[{"$f":"Гонки!$C$4","v":"Жук-трейл # 4 Минское Море "},{"$f":"Гонки!$D$6","v":"Трейл 8"},"Жук-трейл # 4 Минское Море  Трейл 8",9.57,"Ж",{"$f":"IF(E211=\"Ж\",VLOOKUP(C211,Гонки!$E$2:$P$16,11,FALSE),VLOOKUP(C211,Гонки!$E$2:$P$16,12,FALSE))","v":24},"Малышко Татьяна",1983,"Malyshko Tatyana","Малышко Татьяна / Malyshko Tatyana / 1983","Ж",9,66.666666666666671,206.24]
[{"$f":"Гонки!$C$4","v":"Жук-трейл # 4 Минское Море "},{"$f":"Гонки!$D$6","v":"Трейл 8"},"Жук-трейл # 4 Минское Море  Трейл 8",9.57,"Ж",{"$f":"IF(E212=\"Ж\",VLOOKUP(C212,Гонки!$E$2:$P$16,11,FALSE),VLOOKUP(C212,Гонки!$E$2:$P$16,12,FALSE))","v":24},"Коновалова Елена",1975,"Konovalova Elena","Коновалова Елена / Konovalova Elena / 1975","Ж",10,62.5,193.35]
[{"$f":"Гонки!$C$4","v":"Жук-трейл # 4 Минское Море "},{"$f":"Гонки!$D$6","v":"Трейл 8"},"Жук-трейл # 4 Минское Море  Трейл 8",9.57,"Ж",{"$f":"IF(E213=\"Ж\",VLOOKUP(C213,Гонки!$E$2:$P$16,11,FALSE),VLOOKUP(C213,Гонки!$E$2:$P$16,12,FALSE))","v":24},"Широкова Анастасия",1988,"Shirokova Anastasiya","Широкова Анастасия / Shirokova Anastasiya / 1988","Ж",11,58.333333333333329,180.46]
[{"$f":"Гонки!$C$4","v":"Жук-трейл # 4 Минское Море "},{"$f":"Гонки!$D$6","v":"Трейл 8"},"Жук-трейл # 4 Минское Море  Трейл 8",9.57,"Ж",{"$f":"IF(E214=\"Ж\",VLOOKUP(C214,Гонки!$E$2:$P$16,11,FALSE),VLOOKUP(C214,Гонки!$E$2:$P$16,12,FALSE))","v":24},"Селищева Ирина",1983,"Selischeva Irina","Селищева Ирина / Selischeva Irina / 1983","Ж",12,54.166666666666671,167.57]
[{"$f":"Гонки!$C$4","v":"Жук-трейл # 4 Минское Море "},{"$f":"Гонки!$D$6","v":"Трейл 8"},"Жук-трейл # 4 Минское Море  Трейл 8",9.57,"Ж",{"$f":"IF(E215=\"Ж\",VLOOKUP(C215,Гонки!$E$2:$P$16,11,FALSE),VLOOKUP(C215,Гонки!$E$2:$P$16,12,FALSE))","v":24},"Жучина Катерина",1986,"Zhuchina Katerina","Жучина Катерина / Zhuchina Katerina / 1986","Ж",13,50,154.68]
[{"$f":"Гонки!$C$4","v":"Жук-трейл # 4 Минское Море "},{"$f":"Гонки!$D$6","v":"Трейл 8"},"Жук-трейл # 4 Минское Море  Трейл 8",9.57,"Ж",{"$f":"IF(E216=\"Ж\",VLOOKUP(C216,Гонки!$E$2:$P$16,11,FALSE),VLOOKUP(C216,Гонки!$E$2:$P$16,12,FALSE))","v":24},"Кукобникова Вита",1993,"Kukobnikova Vita","Кукобникова Вита / Kukobnikova Vita / 1993","Ж",14,45.833333333333336,141.79]
[{"$f":"Гонки!$C$4","v":"Жук-трейл # 4 Минское Море "},{"$f":"Гонки!$D$6","v":"Трейл 8"},"Жук-трейл # 4 Минское Море  Трейл 8",9.57,"Ж",{"$f":"IF(E217=\"Ж\",VLOOKUP(C217,Гонки!$E$2:$P$16,11,FALSE),VLOOKUP(C217,Гонки!$E$2:$P$16,12,FALSE))","v":24},"Зеленко Диана",1988,"Zelenko Diana","Зеленко Диана / Zelenko Diana / 1988","Ж",15,41.666666666666664,128.9]
[{"$f":"Гонки!$C$4","v":"Жук-трейл # 4 Минское Море "},{"$f":"Гонки!$D$6","v":"Трейл 8"},"Жук-трейл # 4 Минское Море  Трейл 8",9.57,"Ж",{"$f":"IF(E218=\"Ж\",VLOOKUP(C218,Гонки!$E$2:$P$16,11,FALSE),VLOOKUP(C218,Гонки!$E$2:$P$16,12,FALSE))","v":24},"Белоцкая Елена",1987,"Belotskaya Elena","Белоцкая Елена / Belotskaya Elena / 1987","Ж",16,37.5,116.01]
[{"$f":"Гонки!$C$4","v":"Жук-трейл # 4 Минское Море "},{"$f":"Гонки!$D$6","v":"Трейл 8"},"Жук-трейл # 4 Минское Море  Трейл 8",9.57,"Ж",{"$f":"IF(E219=\"Ж\",VLOOKUP(C219,Гонки!$E$2:$P$16,11,FALSE),VLOOKUP(C219,Гонки!$E$2:$P$16,12,FALSE))","v":24},"Гладкова Анна",1985,"Gladkova Anna","Гладкова Анна / Gladkova Anna / 1985","Ж",17,33.333333333333343,103.12]
[{"$f":"Гонки!$C$4","v":"Жук-трейл # 4 Минское Море "},{"$f":"Гонки!$D$6","v":"Трейл 8"},"Жук-трейл # 4 Минское Море  Трейл 8",9.57,"Ж",{"$f":"IF(E220=\"Ж\",VLOOKUP(C220,Гонки!$E$2:$P$16,11,FALSE),VLOOKUP(C220,Гонки!$E$2:$P$16,12,FALSE))","v":24},"Когалёнок Елена",1979,"Kogaljonok Elena","Когалёнок Елена / Kogaljonok Elena / 1979","Ж",18,29.166666666666657,90.23]
[{"$f":"Гонки!$C$4","v":"Жук-трейл # 4 Минское Море "},{"$f":"Гонки!$D$6","v":"Трейл 8"},"Жук-трейл # 4 Минское Море  Трейл 8",9.57,"Ж",{"$f":"IF(E221=\"Ж\",VLOOKUP(C221,Гонки!$E$2:$P$16,11,FALSE),VLOOKUP(C221,Гонки!$E$2:$P$16,12,FALSE))","v":24},"Шкрабо Ольга",1985,"Shkrabo Olga","Шкрабо Ольга / Shkrabo Olga / 1985","Ж",19,25,77.34]
[{"$f":"Гонки!$C$4","v":"Жук-трейл # 4 Минское Море "},{"$f":"Гонки!$D$6","v":"Трейл 8"},"Жук-трейл # 4 Минское Море  Трейл 8",9.57,"Ж",{"$f":"IF(E222=\"Ж\",VLOOKUP(C222,Гонки!$E$2:$P$16,11,FALSE),VLOOKUP(C222,Гонки!$E$2:$P$16,12,FALSE))","v":24},"Круглова Александра",1989,"Kruglova Aleksandra","Круглова Александра / Kruglova Aleksandra / 1989","Ж",20,20.833333333333343,64.45]
[{"$f":"Гонки!$C$4","v":"Жук-трейл # 4 Минское Море "},{"$f":"Гонки!$D$6","v":"Трейл 8"},"Жук-трейл # 4 Минское Море  Трейл 8",9.57,"Ж",{"$f":"IF(E223=\"Ж\",VLOOKUP(C223,Гонки!$E$2:$P$16,11,FALSE),VLOOKUP(C223,Гонки!$E$2:$P$16,12,FALSE))","v":24},"Ладутько Наталья",1974,"Ladutko Natalya","Ладутько Наталья / Ladutko Natalya / 1974","Ж",21,16.666666666666657,51.56]
[{"$f":"Гонки!$C$4","v":"Жук-трейл # 4 Минское Море "},{"$f":"Гонки!$D$6","v":"Трейл 8"},"Жук-трейл # 4 Минское Море  Трейл 8",9.57,"Ж",{"$f":"IF(E224=\"Ж\",VLOOKUP(C224,Гонки!$E$2:$P$16,11,FALSE),VLOOKUP(C224,Гонки!$E$2:$P$16,12,FALSE))","v":24},"Федченко Ярослава",2002,"Fedchenko Yaroslava","Федченко Ярослава / Fedchenko Yaroslava / 2002","Ж",22,12.5,38.67]
[{"$f":"Гонки!$C$4","v":"Жук-трейл # 4 Минское Море "},{"$f":"Гонки!$D$6","v":"Трейл 8"},"Жук-трейл # 4 Минское Море  Трейл 8",9.57,"Ж",{"$f":"IF(E225=\"Ж\",VLOOKUP(C225,Гонки!$E$2:$P$16,11,FALSE),VLOOKUP(C225,Гонки!$E$2:$P$16,12,FALSE))","v":24},"Лабунская Ирина",1983,"Labunskaya Irina","Лабунская Ирина / Labunskaya Irina / 1983","Ж",23,8.3333333333333428,25.78]
[{"$f":"Гонки!$C$4","v":"Жук-трейл # 4 Минское Море "},{"$f":"Гонки!$D$6","v":"Трейл 8"},"Жук-трейл # 4 Минское Море  Трейл 8",9.57,"Ж",{"$f":"IF(E226=\"Ж\",VLOOKUP(C226,Гонки!$E$2:$P$16,11,FALSE),VLOOKUP(C226,Гонки!$E$2:$P$16,12,FALSE))","v":24},"Клауч Екатерина",1987,"Klauch Ekaterina","Клауч Екатерина / Klauch Ekaterina / 1987","Ж",24,4.1666666666666572,12.89]
[{"$f":"Гонки!$C$4","v":"Жук-трейл # 4 Минское Море "},{"$f":"Гонки!$D$6","v":"Трейл 8"},"Жук-трейл # 4 Минское Море  Трейл 8",9.57,"М",{"$f":"IF(E227=\"Ж\",VLOOKUP(C227,Гонки!$E$2:$P$16,11,FALSE),VLOOKUP(C227,Гонки!$E$2:$P$16,12,FALSE))","v":36},"Гидлевский Дмитрий",1986,"Gidlevskij Dmitrij","Гидлевский Дмитрий / Gidlevskij Dmitrij / 1986","М",1,100,309.35000000000002]
[{"$f":"Гонки!$C$4","v":"Жук-трейл # 4 Минское Море "},{"$f":"Гонки!$D$6","v":"Трейл 8"},"Жук-трейл # 4 Минское Море  Трейл 8",9.57,"М",{"$f":"IF(E228=\"Ж\",VLOOKUP(C228,Гонки!$E$2:$P$16,11,FALSE),VLOOKUP(C228,Гонки!$E$2:$P$16,12,FALSE))","v":36},"Шипунов Олег",1992,"Shipunov Oleg","Шипунов Олег / Shipunov Oleg / 1992","М",2,97.222222222222229,300.76]
[{"$f":"Гонки!$C$4","v":"Жук-трейл # 4 Минское Море "},{"$f":"Гонки!$D$6","v":"Трейл 8"},"Жук-трейл # 4 Минское Море  Трейл 8",9.57,"М",{"$f":"IF(E229=\"Ж\",VLOOKUP(C229,Гонки!$E$2:$P$16,11,FALSE),VLOOKUP(C229,Гонки!$E$2:$P$16,12,FALSE))","v":36},"Хорошавин Вячеслав",1985,"Horoshavin Vyacheslav","Хорошавин Вячеслав / Horoshavin Vyacheslav / 1985","М",3,94.444444444444443,292.17]
[{"$f":"Гонки!$C$4","v":"Жук-трейл # 4 Минское Море "},{"$f":"Гонки!$D$6","v":"Трейл 8"},"Жук-трейл # 4 Минское Море  Трейл 8",9.57,"М",{"$f":"IF(E230=\"Ж\",VLOOKUP(C230,Гонки!$E$2:$P$16,11,FALSE),VLOOKUP(C230,Гонки!$E$2:$P$16,12,FALSE))","v":36},"Жучин Алексей",1983,"Zhuchin Aleksej","Жучин Алексей / Zhuchin Aleksej / 1983","М",4,91.666666666666671,283.57]
[{"$f":"Гонки!$C$4","v":"Жук-трейл # 4 Минское Море "},{"$f":"Гонки!$D$6","v":"Трейл 8"},"Жук-трейл # 4 Минское Море  Трейл 8",9.57,"М",{"$f":"IF(E231=\"Ж\",VLOOKUP(C231,Гонки!$E$2:$P$16,11,FALSE),VLOOKUP(C231,Гонки!$E$2:$P$16,12,FALSE))","v":36},"Католиков Роман",1985,"Katolikov Roman","Католиков Роман / Katolikov Roman / 1985","М",5,88.888888888888886,274.98]
[{"$f":"Гонки!$C$4","v":"Жук-трейл # 4 Минское Море "},{"$f":"Гонки!$D$6","v":"Трейл 8"},"Жук-трейл # 4 Минское Море  Трейл 8",9.57,"М",{"$f":"IF(E232=\"Ж\",VLOOKUP(C232,Гонки!$E$2:$P$16,11,FALSE),VLOOKUP(C232,Гонки!$E$2:$P$16,12,FALSE))","v":36},"Симогостицкий Александр",1987,"Simogostitskij Aleksandr","Симогостицкий Александр / Simogostitskij Aleksandr / 1987","М",6,86.111111111111114,266.39]
[{"$f":"Гонки!$C$4","v":"Жук-трейл # 4 Минское Море "},{"$f":"Гонки!$D$6","v":"Трейл 8"},"Жук-трейл # 4 Минское Море  Трейл 8",9.57,"М",{"$f":"IF(E233=\"Ж\",VLOOKUP(C233,Гонки!$E$2:$P$16,11,FALSE),VLOOKUP(C233,Гонки!$E$2:$P$16,12,FALSE))","v":36},"Мацко Сергей",1991,"Matsko Sergej","Мацко Сергей / Matsko Sergej / 1991","М",7,83.333333333333343,257.8]
[{"$f":"Гонки!$C$4","v":"Жук-трейл # 4 Минское Море "},{"$f":"Гонки!$D$6","v":"Трейл 8"},"Жук-трейл # 4 Минское Море  Трейл 8",9.57,"М",{"$f":"IF(E234=\"Ж\",VLOOKUP(C234,Гонки!$E$2:$P$16,11,FALSE),VLOOKUP(C234,Гонки!$E$2:$P$16,12,FALSE))","v":36},"Синица Кирилл",1981,"Sinitsa Kirill","Синица Кирилл / Sinitsa Kirill / 1981","М",8,80.555555555555557,249.2]
[{"$f":"Гонки!$C$4","v":"Жук-трейл # 4 Минское Море "},{"$f":"Гонки!$D$6","v":"Трейл 8"},"Жук-трейл # 4 Минское Море  Трейл 8",9.57,"М",{"$f":"IF(E235=\"Ж\",VLOOKUP(C235,Гонки!$E$2:$P$16,11,FALSE),VLOOKUP(C235,Гонки!$E$2:$P$16,12,FALSE))","v":36},"Потапов Сергей",1988,"Potapov Sergej","Потапов Сергей / Potapov Sergej / 1988","М",9,77.777777777777771,240.61]
[{"$f":"Гонки!$C$4","v":"Жук-трейл # 4 Минское Море "},{"$f":"Гонки!$D$6","v":"Трейл 8"},"Жук-трейл # 4 Минское Море  Трейл 8",9.57,"М",{"$f":"IF(E236=\"Ж\",VLOOKUP(C236,Гонки!$E$2:$P$16,11,FALSE),VLOOKUP(C236,Гонки!$E$2:$P$16,12,FALSE))","v":36},"Григорович Руслан",1987,"Grigorovich Ruslan","Григорович Руслан / Grigorovich Ruslan / 1987","М",10,75,232.02]
[{"$f":"Гонки!$C$4","v":"Жук-трейл # 4 Минское Море "},{"$f":"Гонки!$D$6","v":"Трейл 8"},"Жук-трейл # 4 Минское Море  Трейл 8",9.57,"М",{"$f":"IF(E237=\"Ж\",VLOOKUP(C237,Гонки!$E$2:$P$16,11,FALSE),VLOOKUP(C237,Гонки!$E$2:$P$16,12,FALSE))","v":36},"Макарский Сергей",1987,"Makarskij Sergej","Макарский Сергей / Makarskij Sergej / 1987","М",11,72.222222222222229,223.42]
[{"$f":"Гонки!$C$4","v":"Жук-трейл # 4 Минское Море "},{"$f":"Гонки!$D$6","v":"Трейл 8"},"Жук-трейл # 4 Минское Море  Трейл 8",9.57,"М",{"$f":"IF(E238=\"Ж\",VLOOKUP(C238,Гонки!$E$2:$P$16,11,FALSE),VLOOKUP(C238,Гонки!$E$2:$P$16,12,FALSE))","v":36},"Сухобаевский Николай",1986,"Suhobaevskij Nikolaj","Сухобаевский Николай / Suhobaevskij Nikolaj / 1986","М",12,69.444444444444443,214.83]
[{"$f":"Гонки!$C$4","v":"Жук-трейл # 4 Минское Море "},{"$f":"Гонки!$D$6","v":"Трейл 8"},"Жук-трейл # 4 Минское Море  Трейл 8",9.57,"М",{"$f":"IF(E239=\"Ж\",VLOOKUP(C239,Гонки!$E$2:$P$16,11,FALSE),VLOOKUP(C239,Гонки!$E$2:$P$16,12,FALSE))","v":36},"Володько Андрей",1986,"Volodko Andrej","Володько Андрей / Volodko Andrej / 1986","М",13,66.666666666666671,206.24]
[{"$f":"Гонки!$C$4","v":"Жук-трейл # 4 Минское Море "},{"$f":"Гонки!$D$6","v":"Трейл 8"},"Жук-трейл # 4 Минское Море  Трейл 8",9.57,"М",{"$f":"IF(E240=\"Ж\",VLOOKUP(C240,Гонки!$E$2:$P$16,11,FALSE),VLOOKUP(C240,Гонки!$E$2:$P$16,12,FALSE))","v":36},"Королёв Максим",1989,"Koroljov Maksim","Королёв Максим / Koroljov Maksim / 1989","М",14,63.888888888888893,197.64]
[{"$f":"Гонки!$C$4","v":"Жук-трейл # 4 Минское Море "},{"$f":"Гонки!$D$6","v":"Трейл 8"},"Жук-трейл # 4 Минское Море  Трейл 8",9.57,"М",{"$f":"IF(E241=\"Ж\",VLOOKUP(C241,Гонки!$E$2:$P$16,11,FALSE),VLOOKUP(C241,Гонки!$E$2:$P$16,12,FALSE))","v":36},"Барсумян Артур",1992,"Barsumyan Artur","Барсумян Артур / Barsumyan Artur / 1992","М",15,61.111111111111107,189.05]
[{"$f":"Гонки!$C$4","v":"Жук-трейл # 4 Минское Море "},{"$f":"Гонки!$D$6","v":"Трейл 8"},"Жук-трейл # 4 Минское Море  Трейл 8",9.57,"М",{"$f":"IF(E242=\"Ж\",VLOOKUP(C242,Гонки!$E$2:$P$16,11,FALSE),VLOOKUP(C242,Гонки!$E$2:$P$16,12,FALSE))","v":36},"Нежаветс Сергей",1989,"Nezhavets Sergej","Нежаветс Сергей / Nezhavets Sergej / 1989","М",16,58.333333333333329,180.46]
[{"$f":"Гонки!$C$4","v":"Жук-трейл # 4 Минское Море "},{"$f":"Гонки!$D$6","v":"Трейл 8"},"Жук-трейл # 4 Минское Море  Трейл 8",9.57,"М",{"$f":"IF(E243=\"Ж\",VLOOKUP(C243,Гонки!$E$2:$P$16,11,FALSE),VLOOKUP(C243,Гонки!$E$2:$P$16,12,FALSE))","v":36},"Палий Андрей",1984,"Palij Andrej","Палий Андрей / Palij Andrej / 1984","М",17,55.555555555555557,171.86]
[{"$f":"Гонки!$C$4","v":"Жук-трейл # 4 Минское Море "},{"$f":"Гонки!$D$6","v":"Трейл 8"},"Жук-трейл # 4 Минское Море  Трейл 8",9.57,"М",{"$f":"IF(E244=\"Ж\",VLOOKUP(C244,Гонки!$E$2:$P$16,11,FALSE),VLOOKUP(C244,Гонки!$E$2:$P$16,12,FALSE))","v":36},"Фигурин Дмитрий",1982,"Figurin Dmitrij","Фигурин Дмитрий / Figurin Dmitrij / 1982","М",18,52.777777777777779,163.27000000000001]
[{"$f":"Гонки!$C$4","v":"Жук-трейл # 4 Минское Море "},{"$f":"Гонки!$D$6","v":"Трейл 8"},"Жук-трейл # 4 Минское Море  Трейл 8",9.57,"М",{"$f":"IF(E245=\"Ж\",VLOOKUP(C245,Гонки!$E$2:$P$16,11,FALSE),VLOOKUP(C245,Гонки!$E$2:$P$16,12,FALSE))","v":36},"Явтушенко Вадим",1981,"Yavtushenko Vadim","Явтушенко Вадим / Yavtushenko Vadim / 1981","М",19,50,154.68]
[{"$f":"Гонки!$C$4","v":"Жук-трейл # 4 Минское Море "},{"$f":"Гонки!$D$6","v":"Трейл 8"},"Жук-трейл # 4 Минское Море  Трейл 8",9.57,"М",{"$f":"IF(E246=\"Ж\",VLOOKUP(C246,Гонки!$E$2:$P$16,11,FALSE),VLOOKUP(C246,Гонки!$E$2:$P$16,12,FALSE))","v":36},"Медвецкий Денис",1986,"Medvetskij Denis","Медвецкий Денис / Medvetskij Denis / 1986","М",20,47.222222222222221,146.08000000000001]
[{"$f":"Гонки!$C$4","v":"Жук-трейл # 4 Минское Море "},{"$f":"Гонки!$D$6","v":"Трейл 8"},"Жук-трейл # 4 Минское Море  Трейл 8",9.57,"М",{"$f":"IF(E247=\"Ж\",VLOOKUP(C247,Гонки!$E$2:$P$16,11,FALSE),VLOOKUP(C247,Гонки!$E$2:$P$16,12,FALSE))","v":36},"Кравчук Александр",1983,"Kravchuk Aleksandr","Кравчук Александр / Kravchuk Aleksandr / 1983","М",21,44.444444444444443,137.49]
[{"$f":"Гонки!$C$4","v":"Жук-трейл # 4 Минское Море "},{"$f":"Гонки!$D$6","v":"Трейл 8"},"Жук-трейл # 4 Минское Море  Трейл 8",9.57,"М",{"$f":"IF(E248=\"Ж\",VLOOKUP(C248,Гонки!$E$2:$P$16,11,FALSE),VLOOKUP(C248,Гонки!$E$2:$P$16,12,FALSE))","v":36},"Дундуков Андрей",1985,"Dundukov Andrej","Дундуков Андрей / Dundukov Andrej / 1985","М",22,41.666666666666664,128.9]
[{"$f":"Гонки!$C$4","v":"Жук-трейл # 4 Минское Море "},{"$f":"Гонки!$D$6","v":"Трейл 8"},"Жук-трейл # 4 Минское Море  Трейл 8",9.57,"М",{"$f":"IF(E249=\"Ж\",VLOOKUP(C249,Гонки!$E$2:$P$16,11,FALSE),VLOOKUP(C249,Гонки!$E$2:$P$16,12,FALSE))","v":36},"Вайтешонок Сергей",1981,"Vajteshonok Sergej","Вайтешонок Сергей / Vajteshonok Sergej / 1981","М",23,38.888888888888886,120.3]
[{"$f":"Гонки!$C$4","v":"Жук-трейл # 4 Минское Море "},{"$f":"Гонки!$D$6","v":"Трейл 8"},"Жук-трейл # 4 Минское Море  Трейл 8",9.57,"М",{"$f":"IF(E250=\"Ж\",VLOOKUP(C250,Гонки!$E$2:$P$16,11,FALSE),VLOOKUP(C250,Гонки!$E$2:$P$16,12,FALSE))","v":36},"Метелица Антон",1989,"Metelitsa Anton","Метелица Антон / Metelitsa Anton / 1989","М",24,36.111111111111114,111.71]
[{"$f":"Гонки!$C$4","v":"Жук-трейл # 4 Минское Море "},{"$f":"Гонки!$D$6","v":"Трейл 8"},"Жук-трейл # 4 Минское Море  Трейл 8",9.57,"М",{"$f":"IF(E251=\"Ж\",VLOOKUP(C251,Гонки!$E$2:$P$16,11,FALSE),VLOOKUP(C251,Гонки!$E$2:$P$16,12,FALSE))","v":36},"Кузьменко Иван",1981,"Kuzmenko Ivan","Кузьменко Иван / Kuzmenko Ivan / 1981","М",25,33.333333333333343,103.12]
[{"$f":"Гонки!$C$4","v":"Жук-трейл # 4 Минское Море "},{"$f":"Гонки!$D$6","v":"Трейл 8"},"Жук-трейл # 4 Минское Море  Трейл 8",9.57,"М",{"$f":"IF(E252=\"Ж\",VLOOKUP(C252,Гонки!$E$2:$P$16,11,FALSE),VLOOKUP(C252,Гонки!$E$2:$P$16,12,FALSE))","v":36},"Пехтерев Сергей",1979,"Pehterev Sergej","Пехтерев Сергей / Pehterev Sergej / 1979","М",26,30.555555555555557,94.52]
[{"$f":"Гонки!$C$4","v":"Жук-трейл # 4 Минское Море "},{"$f":"Гонки!$D$6","v":"Трейл 8"},"Жук-трейл # 4 Минское Море  Трейл 8",9.57,"М",{"$f":"IF(E253=\"Ж\",VLOOKUP(C253,Гонки!$E$2:$P$16,11,FALSE),VLOOKUP(C253,Гонки!$E$2:$P$16,12,FALSE))","v":36},"Капустин Егор",2004,"Kapustin Egor","Капустин Егор / Kapustin Egor / 2004","М",27,27.777777777777786,85.93]
[{"$f":"Гонки!$C$4","v":"Жук-трейл # 4 Минское Море "},{"$f":"Гонки!$D$6","v":"Трейл 8"},"Жук-трейл # 4 Минское Море  Трейл 8",9.57,"М",{"$f":"IF(E254=\"Ж\",VLOOKUP(C254,Гонки!$E$2:$P$16,11,FALSE),VLOOKUP(C254,Гонки!$E$2:$P$16,12,FALSE))","v":36},"Захаров Иван",1979,"Zaharov Ivan","Захаров Иван / Zaharov Ivan / 1979","М",28,25,77.34]
[{"$f":"Гонки!$C$4","v":"Жук-трейл # 4 Минское Море "},{"$f":"Гонки!$D$6","v":"Трейл 8"},"Жук-трейл # 4 Минское Море  Трейл 8",9.57,"М",{"$f":"IF(E255=\"Ж\",VLOOKUP(C255,Гонки!$E$2:$P$16,11,FALSE),VLOOKUP(C255,Гонки!$E$2:$P$16,12,FALSE))","v":36},"Лазаренок Глеб",1982,"Lazarenok Gleb","Лазаренок Глеб / Lazarenok Gleb / 1982","М",29,22.222222222222214,68.75]
[{"$f":"Гонки!$C$4","v":"Жук-трейл # 4 Минское Море "},{"$f":"Гонки!$D$6","v":"Трейл 8"},"Жук-трейл # 4 Минское Море  Трейл 8",9.57,"М",{"$f":"IF(E256=\"Ж\",VLOOKUP(C256,Гонки!$E$2:$P$16,11,FALSE),VLOOKUP(C256,Гонки!$E$2:$P$16,12,FALSE))","v":36},"Шульпенков Александр",1986,"Shulpenkov Aleksandr","Шульпенков Александр / Shulpenkov Aleksandr / 1986","М",30,19.444444444444443,60.15]
[{"$f":"Гонки!$C$4","v":"Жук-трейл # 4 Минское Море "},{"$f":"Гонки!$D$6","v":"Трейл 8"},"Жук-трейл # 4 Минское Море  Трейл 8",9.57,"М",{"$f":"IF(E257=\"Ж\",VLOOKUP(C257,Гонки!$E$2:$P$16,11,FALSE),VLOOKUP(C257,Гонки!$E$2:$P$16,12,FALSE))","v":36},"Рускевич Максим",1990,"Ruskevich Maksim","Рускевич Максим / Ruskevich Maksim / 1990","М",31,16.666666666666657,51.56]
[{"$f":"Гонки!$C$4","v":"Жук-трейл # 4 Минское Море "},{"$f":"Гонки!$D$6","v":"Трейл 8"},{"$f":"CONCATENATE(A258,\" \",B258)","v":"Жук-трейл # 4 Минское Море  Трейл 8"},{"$f":"VLOOKUP(C258,Список_гонок,10,FALSE)","v":9.57},"М",{"$f":"IF(E258=\"Ж\",VLOOKUP(C258,Гонки!$E$2:$P$16,11,FALSE),VLOOKUP(C258,Гонки!$E$2:$P$16,12,FALSE))","v":36},"Моргачев Андрей",1981,{"$f":"Translit(G258)","v":"Morgachev Andrej"},{"$f":"CONCATENATE(G258,\" / \",I258,\" / \",H258)","v":"Моргачев Андрей / Morgachev Andrej / 1981"},{"$f":"E258","v":"М"},32,{"$f":"100-((L258-1)/F258)*100","v":13.888888888888886},{"$f":"ROUND(SQRT(D258)*M258,2)","v":42.97}]
[{"$f":"Гонки!$C$4","v":"Жук-трейл # 4 Минское Море "},{"$f":"Гонки!$D$6","v":"Трейл 8"},"Жук-трейл # 4 Минское Море  Трейл 8",9.57,"М",{"$f":"IF(E259=\"Ж\",VLOOKUP(C259,Гонки!$E$2:$P$16,11,FALSE),VLOOKUP(C259,Гонки!$E$2:$P$16,12,FALSE))","v":36},"Выробов Дмитрий",1988,"Vyrobov Dmitrij","Выробов Дмитрий / Vyrobov Dmitrij / 1988","М",33,11.111111111111114,34.369999999999997]
[{"$f":"Гонки!$C$4","v":"Жук-трейл # 4 Минское Море "},{"$f":"Гонки!$D$6","v":"Трейл 8"},"Жук-трейл # 4 Минское Море  Трейл 8",9.57,"М",{"$f":"IF(E260=\"Ж\",VLOOKUP(C260,Гонки!$E$2:$P$16,11,FALSE),VLOOKUP(C260,Гонки!$E$2:$P$16,12,FALSE))","v":36},"Чалый Николай",1980,"Chalyj Nikolaj","Чалый Николай / Chalyj Nikolaj / 1980","М",34,8.3333333333333428,25.78]
[{"$f":"Гонки!$C$4","v":"Жук-трейл # 4 Минское Море "},{"$f":"Гонки!$D$6","v":"Трейл 8"},"Жук-трейл # 4 Минское Море  Трейл 8",9.57,"М",{"$f":"IF(E261=\"Ж\",VLOOKUP(C261,Гонки!$E$2:$P$16,11,FALSE),VLOOKUP(C261,Гонки!$E$2:$P$16,12,FALSE))","v":36},"Манкевич Алексей",1972,"Mankevich Aleksej","Манкевич Алексей / Mankevich Aleksej / 1972","М",35,5.5555555555555571,17.190000000000001]
[{"$f":"Гонки!$C$4","v":"Жук-трейл # 4 Минское Море "},{"$f":"Гонки!$D$6","v":"Трейл 8"},"Жук-трейл # 4 Минское Море  Трейл 8",9.57,"М",{"$f":"IF(E262=\"Ж\",VLOOKUP(C262,Гонки!$E$2:$P$16,11,FALSE),VLOOKUP(C262,Гонки!$E$2:$P$16,12,FALSE))","v":36},"Клауч Виктор",1988,"Klauch Viktor","Клауч Виктор / Klauch Viktor / 1988","М",36,2.7777777777777857,8.59]
[{"$f":"Гонки!$C$7","v":"Жук-трейл # 5 Крево"},{"$f":"Гонки!$D$7","v":"Трейл 70"},"Жук-трейл # 5 Крево Трейл 70",80.010000000000005,"Ж",{"$f":"IF(E263=\"Ж\",VLOOKUP(C263,Гонки!$E$2:$P$16,11,FALSE),VLOOKUP(C263,Гонки!$E$2:$P$16,12,FALSE))","v":3},"Сулимчик Оксана",1986,"Sulimchik Oksana","Сулимчик Оксана / Sulimchik Oksana / 1986","Ж",1,100,894.48]
[{"$f":"Гонки!$C$7","v":"Жук-трейл # 5 Крево"},{"$f":"Гонки!$D$7","v":"Трейл 70"},"Жук-трейл # 5 Крево Трейл 70",80.010000000000005,"Ж",{"$f":"IF(E264=\"Ж\",VLOOKUP(C264,Гонки!$E$2:$P$16,11,FALSE),VLOOKUP(C264,Гонки!$E$2:$P$16,12,FALSE))","v":3},"Скирук Юлия",1988,"Skiruk Yuliya","Скирук Юлия / Skiruk Yuliya / 1988","Ж",2,66.666666666666671,596.32000000000005]
[{"$f":"Гонки!$C$7","v":"Жук-трейл # 5 Крево"},{"$f":"Гонки!$D$7","v":"Трейл 70"},"Жук-трейл # 5 Крево Трейл 70",80.010000000000005,"Ж",{"$f":"IF(E265=\"Ж\",VLOOKUP(C265,Гонки!$E$2:$P$16,11,FALSE),VLOOKUP(C265,Гонки!$E$2:$P$16,12,FALSE))","v":3},"Жила Анастасия",1994,"Zhila Anastasiya","Жила Анастасия / Zhila Anastasiya / 1994","Ж",3,33.333333333333343,298.16000000000003]
[{"$f":"Гонки!$C$7","v":"Жук-трейл # 5 Крево"},{"$f":"Гонки!$D$7","v":"Трейл 70"},"Жук-трейл # 5 Крево Трейл 70",80.010000000000005,"М",{"$f":"IF(E266=\"Ж\",VLOOKUP(C266,Гонки!$E$2:$P$16,11,FALSE),VLOOKUP(C266,Гонки!$E$2:$P$16,12,FALSE))","v":15},"Синица Кирилл",1981,"Sinitsa Kirill","Синица Кирилл / Sinitsa Kirill / 1981","М",1,100,894.48]
[{"$f":"Гонки!$C$7","v":"Жук-трейл # 5 Крево"},{"$f":"Гонки!$D$7","v":"Трейл 70"},"Жук-трейл # 5 Крево Трейл 70",80.010000000000005,"М",{"$f":"IF(E267=\"Ж\",VLOOKUP(C267,Гонки!$E$2:$P$16,11,FALSE),VLOOKUP(C267,Гонки!$E$2:$P$16,12,FALSE))","v":15},"Рагойша Пётр",1976,"Ragojsha Pjotr","Рагойша Пётр / Ragojsha Pjotr / 1976","М",2,93.333333333333329,834.85]
[{"$f":"Гонки!$C$7","v":"Жук-трейл # 5 Крево"},{"$f":"Гонки!$D$7","v":"Трейл 70"},"Жук-трейл # 5 Крево Трейл 70",80.010000000000005,"М",{"$f":"IF(E268=\"Ж\",VLOOKUP(C268,Гонки!$E$2:$P$16,11,FALSE),VLOOKUP(C268,Гонки!$E$2:$P$16,12,FALSE))","v":15},"Молочко Александр",1981,"Molochko Aleksandr","Молочко Александр / Molochko Aleksandr / 1981","М",3,86.666666666666671,775.22]
[{"$f":"Гонки!$C$7","v":"Жук-трейл # 5 Крево"},{"$f":"Гонки!$D$7","v":"Трейл 70"},"Жук-трейл # 5 Крево Трейл 70",80.010000000000005,"М",{"$f":"IF(E269=\"Ж\",VLOOKUP(C269,Гонки!$E$2:$P$16,11,FALSE),VLOOKUP(C269,Гонки!$E$2:$P$16,12,FALSE))","v":15},"Тюев Даниил",1977,"Tyuev Daniil","Тюев Даниил / Tyuev Daniil / 1977","М",4,80,715.59]
[{"$f":"Гонки!$C$7","v":"Жук-трейл # 5 Крево"},{"$f":"Гонки!$D$7","v":"Трейл 70"},"Жук-трейл # 5 Крево Трейл 70",80.010000000000005,"М",{"$f":"IF(E270=\"Ж\",VLOOKUP(C270,Гонки!$E$2:$P$16,11,FALSE),VLOOKUP(C270,Гонки!$E$2:$P$16,12,FALSE))","v":15},"Суховей Михаил",1991,"Suhovej Mihail","Суховей Михаил / Suhovej Mihail / 1991","М",5,73.333333333333329,655.95]
[{"$f":"Гонки!$C$7","v":"Жук-трейл # 5 Крево"},{"$f":"Гонки!$D$7","v":"Трейл 70"},"Жук-трейл # 5 Крево Трейл 70",80.010000000000005,"М",{"$f":"IF(E271=\"Ж\",VLOOKUP(C271,Гонки!$E$2:$P$16,11,FALSE),VLOOKUP(C271,Гонки!$E$2:$P$16,12,FALSE))","v":15},"Кислицын Артем",1992,"Kislitsyn Artem","Кислицын Артем / Kislitsyn Artem / 1992","М",6,66.666666666666671,596.32000000000005]
[{"$f":"Гонки!$C$7","v":"Жук-трейл # 5 Крево"},{"$f":"Гонки!$D$7","v":"Трейл 70"},"Жук-трейл # 5 Крево Трейл 70",80.010000000000005,"М",{"$f":"IF(E272=\"Ж\",VLOOKUP(C272,Гонки!$E$2:$P$16,11,FALSE),VLOOKUP(C272,Гонки!$E$2:$P$16,12,FALSE))","v":15},"Тофоров Дмитрий",1991,"Toforov Dmitrij","Тофоров Дмитрий / Toforov Dmitrij / 1991","М",7,60,536.69000000000005]
[{"$f":"Гонки!$C$7","v":"Жук-трейл # 5 Крево"},{"$f":"Гонки!$D$7","v":"Трейл 70"},"Жук-трейл # 5 Крево Трейл 70",80.010000000000005,"М",{"$f":"IF(E273=\"Ж\",VLOOKUP(C273,Гонки!$E$2:$P$16,11,FALSE),VLOOKUP(C273,Гонки!$E$2:$P$16,12,FALSE))","v":15},"Мартысевич Роман",1993,"Martysevich Roman","Мартысевич Роман / Martysevich Roman / 1993","М",8,53.333333333333336,477.06]
[{"$f":"Гонки!$C$7","v":"Жук-трейл # 5 Крево"},{"$f":"Гонки!$D$7","v":"Трейл 70"},"Жук-трейл # 5 Крево Трейл 70",80.010000000000005,"М",{"$f":"IF(E274=\"Ж\",VLOOKUP(C274,Гонки!$E$2:$P$16,11,FALSE),VLOOKUP(C274,Гонки!$E$2:$P$16,12,FALSE))","v":15},"Глушков Александр",1980,"Glushkov Aleksandr","Глушков Александр / Glushkov Aleksandr / 1980","М",9,46.666666666666664,417.43]
[{"$f":"Гонки!$C$7","v":"Жук-трейл # 5 Крево"},{"$f":"Гонки!$D$7","v":"Трейл 70"},"Жук-трейл # 5 Крево Трейл 70",80.010000000000005,"М",{"$f":"IF(E275=\"Ж\",VLOOKUP(C275,Гонки!$E$2:$P$16,11,FALSE),VLOOKUP(C275,Гонки!$E$2:$P$16,12,FALSE))","v":15},"Харитонов Иван",1973,"Haritonov Ivan","Харитонов Иван / Haritonov Ivan / 1973","М",9,46.666666666666664,417.43]
[{"$f":"Гонки!$C$7","v":"Жук-трейл # 5 Крево"},{"$f":"Гонки!$D$7","v":"Трейл 70"},"Жук-трейл # 5 Крево Трейл 70",80.010000000000005,"М",{"$f":"IF(E276=\"Ж\",VLOOKUP(C276,Гонки!$E$2:$P$16,11,FALSE),VLOOKUP(C276,Гонки!$E$2:$P$16,12,FALSE))","v":15},"Анацко Леонид",1961,"Anatsko Leonid","Анацко Леонид / Anatsko Leonid / 1961","М",11,33.333333333333343,298.16000000000003]
[{"$f":"Гонки!$C$7","v":"Жук-трейл # 5 Крево"},{"$f":"Гонки!$D$7","v":"Трейл 70"},"Жук-трейл # 5 Крево Трейл 70",80.010000000000005,"М",{"$f":"IF(E277=\"Ж\",VLOOKUP(C277,Гонки!$E$2:$P$16,11,FALSE),VLOOKUP(C277,Гонки!$E$2:$P$16,12,FALSE))","v":15},"Драгун Борис",1970,"Dragun Boris","Драгун Борис / Dragun Boris / 1970","М",11,33.333333333333343,298.16000000000003]
[{"$f":"Гонки!$C$7","v":"Жук-трейл # 5 Крево"},{"$f":"Гонки!$D$8","v":"Трейл 45"},"Жук-трейл # 5 Крево Трейл 45",51.02,"Ж",{"$f":"IF(E278=\"Ж\",VLOOKUP(C278,Гонки!$E$2:$P$16,11,FALSE),VLOOKUP(C278,Гонки!$E$2:$P$16,12,FALSE))","v":3},"Борисевич Анастасия",1985,"Borisevich Anastasiya","Борисевич Анастасия / Borisevich Anastasiya / 1985","Ж",1,100,714.28]
[{"$f":"Гонки!$C$7","v":"Жук-трейл # 5 Крево"},{"$f":"Гонки!$D$8","v":"Трейл 45"},"Жук-трейл # 5 Крево Трейл 45",51.02,"Ж",{"$f":"IF(E279=\"Ж\",VLOOKUP(C279,Гонки!$E$2:$P$16,11,FALSE),VLOOKUP(C279,Гонки!$E$2:$P$16,12,FALSE))","v":3},"Михно Алла",1979,"Mihno Alla","Михно Алла / Mihno Alla / 1979","Ж",2,66.666666666666671,476.19]
[{"$f":"Гонки!$C$7","v":"Жук-трейл # 5 Крево"},{"$f":"Гонки!$D$8","v":"Трейл 45"},"Жук-трейл # 5 Крево Трейл 45",51.02,"Ж",{"$f":"IF(E280=\"Ж\",VLOOKUP(C280,Гонки!$E$2:$P$16,11,FALSE),VLOOKUP(C280,Гонки!$E$2:$P$16,12,FALSE))","v":3},"Зятикова Наталья",1983,"Zyatikova Natalya","Зятикова Наталья / Zyatikova Natalya / 1983","Ж",3,33.333333333333343,238.09]
[{"$f":"Гонки!$C$7","v":"Жук-трейл # 5 Крево"},{"$f":"Гонки!$D$8","v":"Трейл 45"},"Жук-трейл # 5 Крево Трейл 45",51.02,"М",{"$f":"IF(E281=\"Ж\",VLOOKUP(C281,Гонки!$E$2:$P$16,11,FALSE),VLOOKUP(C281,Гонки!$E$2:$P$16,12,FALSE))","v":20},"Брагин Иван",1986,"Bragin Ivan","Брагин Иван / Bragin Ivan / 1986","М",1,100,714.28]
[{"$f":"Гонки!$C$7","v":"Жук-трейл # 5 Крево"},{"$f":"Гонки!$D$8","v":"Трейл 45"},"Жук-трейл # 5 Крево Трейл 45",51.02,"М",{"$f":"IF(E282=\"Ж\",VLOOKUP(C282,Гонки!$E$2:$P$16,11,FALSE),VLOOKUP(C282,Гонки!$E$2:$P$16,12,FALSE))","v":20},"Тихонов Василий",1993,"Tihonov Vasilij","Тихонов Василий / Tihonov Vasilij / 1993","М",2,95,678.57]
[{"$f":"Гонки!$C$7","v":"Жук-трейл # 5 Крево"},{"$f":"Гонки!$D$8","v":"Трейл 45"},"Жук-трейл # 5 Крево Трейл 45",51.02,"М",{"$f":"IF(E283=\"Ж\",VLOOKUP(C283,Гонки!$E$2:$P$16,11,FALSE),VLOOKUP(C283,Гонки!$E$2:$P$16,12,FALSE))","v":20},"Храмов Антон",1991,"Hramov Anton","Храмов Антон / Hramov Anton / 1991","М",3,90,642.85]
[{"$f":"Гонки!$C$7","v":"Жук-трейл # 5 Крево"},{"$f":"Гонки!$D$8","v":"Трейл 45"},"Жук-трейл # 5 Крево Трейл 45",51.02,"М",{"$f":"IF(E284=\"Ж\",VLOOKUP(C284,Гонки!$E$2:$P$16,11,FALSE),VLOOKUP(C284,Гонки!$E$2:$P$16,12,FALSE))","v":20},"Крисенков Алексей",1983,"Krisenkov Aleksej","Крисенков Алексей / Krisenkov Aleksej / 1983","М",4,85,607.14]
[{"$f":"Гонки!$C$7","v":"Жук-трейл # 5 Крево"},{"$f":"Гонки!$D$8","v":"Трейл 45"},"Жук-трейл # 5 Крево Трейл 45",51.02,"М",{"$f":"IF(E285=\"Ж\",VLOOKUP(C285,Гонки!$E$2:$P$16,11,FALSE),VLOOKUP(C285,Гонки!$E$2:$P$16,12,FALSE))","v":20},"Тарасенко Павел",1983,"Tarasenko Pavel","Тарасенко Павел / Tarasenko Pavel / 1983","М",5,80,571.42999999999995]
[{"$f":"Гонки!$C$7","v":"Жук-трейл # 5 Крево"},{"$f":"Гонки!$D$8","v":"Трейл 45"},"Жук-трейл # 5 Крево Трейл 45",51.02,"М",{"$f":"IF(E286=\"Ж\",VLOOKUP(C286,Гонки!$E$2:$P$16,11,FALSE),VLOOKUP(C286,Гонки!$E$2:$P$16,12,FALSE))","v":20},"Попадюк Игорь",1982,"Popadyuk Igor","Попадюк Игорь / Popadyuk Igor / 1982","М",6,75,535.71]
[{"$f":"Гонки!$C$7","v":"Жук-трейл # 5 Крево"},{"$f":"Гонки!$D$8","v":"Трейл 45"},"Жук-трейл # 5 Крево Трейл 45",51.02,"М",{"$f":"IF(E287=\"Ж\",VLOOKUP(C287,Гонки!$E$2:$P$16,11,FALSE),VLOOKUP(C287,Гонки!$E$2:$P$16,12,FALSE))","v":20},"Алексеев Алексей",1980,"Alekseev Aleksej","Алексеев Алексей / Alekseev Aleksej / 1980","М",7,70,500]
[{"$f":"Гонки!$C$7","v":"Жук-трейл # 5 Крево"},{"$f":"Гонки!$D$8","v":"Трейл 45"},"Жук-трейл # 5 Крево Трейл 45",51.02,"М",{"$f":"IF(E288=\"Ж\",VLOOKUP(C288,Гонки!$E$2:$P$16,11,FALSE),VLOOKUP(C288,Гонки!$E$2:$P$16,12,FALSE))","v":20},"Шило Руслан",1993,"Shilo Ruslan","Шило Руслан / Shilo Ruslan / 1993","М",8,65,464.28]
[{"$f":"Гонки!$C$7","v":"Жук-трейл # 5 Крево"},{"$f":"Гонки!$D$8","v":"Трейл 45"},"Жук-трейл # 5 Крево Трейл 45",51.02,"М",{"$f":"IF(E289=\"Ж\",VLOOKUP(C289,Гонки!$E$2:$P$16,11,FALSE),VLOOKUP(C289,Гонки!$E$2:$P$16,12,FALSE))","v":20},"Федорович Николай",1959,"Fedorovich Nikolaj","Федорович Николай / Fedorovich Nikolaj / 1959","М",9,60,428.57]
[{"$f":"Гонки!$C$7","v":"Жук-трейл # 5 Крево"},{"$f":"Гонки!$D$8","v":"Трейл 45"},"Жук-трейл # 5 Крево Трейл 45",51.02,"М",{"$f":"IF(E290=\"Ж\",VLOOKUP(C290,Гонки!$E$2:$P$16,11,FALSE),VLOOKUP(C290,Гонки!$E$2:$P$16,12,FALSE))","v":20},"Иванчик Константин",1983,"Ivanchik Konstantin","Иванчик Константин / Ivanchik Konstantin / 1983","М",10,55,392.86]
[{"$f":"Гонки!$C$7","v":"Жук-трейл # 5 Крево"},{"$f":"Гонки!$D$8","v":"Трейл 45"},"Жук-трейл # 5 Крево Трейл 45",51.02,"М",{"$f":"IF(E291=\"Ж\",VLOOKUP(C291,Гонки!$E$2:$P$16,11,FALSE),VLOOKUP(C291,Гонки!$E$2:$P$16,12,FALSE))","v":20},"Лисовский Виктор",1964,"Lisovskij Viktor","Лисовский Виктор / Lisovskij Viktor / 1964","М",11,50,357.14]
[{"$f":"Гонки!$C$7","v":"Жук-трейл # 5 Крево"},{"$f":"Гонки!$D$8","v":"Трейл 45"},"Жук-трейл # 5 Крево Трейл 45",51.02,"М",{"$f":"IF(E292=\"Ж\",VLOOKUP(C292,Гонки!$E$2:$P$16,11,FALSE),VLOOKUP(C292,Гонки!$E$2:$P$16,12,FALSE))","v":20},"Коровец Богдан",1976,"Korovets Bogdan","Коровец Богдан / Korovets Bogdan / 1976","М",12,44.999999999999993,321.43]
[{"$f":"Гонки!$C$7","v":"Жук-трейл # 5 Крево"},{"$f":"Гонки!$D$8","v":"Трейл 45"},"Жук-трейл # 5 Крево Трейл 45",51.02,"М",{"$f":"IF(E293=\"Ж\",VLOOKUP(C293,Гонки!$E$2:$P$16,11,FALSE),VLOOKUP(C293,Гонки!$E$2:$P$16,12,FALSE))","v":20},"Шапелевич Максим",1987,"Shapelevich Maksim","Шапелевич Максим / Shapelevich Maksim / 1987","М",13,40,285.70999999999998]
[{"$f":"Гонки!$C$7","v":"Жук-трейл # 5 Крево"},{"$f":"Гонки!$D$8","v":"Трейл 45"},"Жук-трейл # 5 Крево Трейл 45",51.02,"М",{"$f":"IF(E294=\"Ж\",VLOOKUP(C294,Гонки!$E$2:$P$16,11,FALSE),VLOOKUP(C294,Гонки!$E$2:$P$16,12,FALSE))","v":20},"Шклярик Олег",1970,"Shklyarik Oleg","Шклярик Олег / Shklyarik Oleg / 1970","М",14,35,250]
[{"$f":"Гонки!$C$7","v":"Жук-трейл # 5 Крево"},{"$f":"Гонки!$D$8","v":"Трейл 45"},"Жук-трейл # 5 Крево Трейл 45",51.02,"М",{"$f":"IF(E295=\"Ж\",VLOOKUP(C295,Гонки!$E$2:$P$16,11,FALSE),VLOOKUP(C295,Гонки!$E$2:$P$16,12,FALSE))","v":20},"Карпович Владимир",1983,"Karpovich Vladimir","Карпович Владимир / Karpovich Vladimir / 1983","М",15,30,214.28]
[{"$f":"Гонки!$C$7","v":"Жук-трейл # 5 Крево"},{"$f":"Гонки!$D$8","v":"Трейл 45"},"Жук-трейл # 5 Крево Трейл 45",51.02,"М",{"$f":"IF(E296=\"Ж\",VLOOKUP(C296,Гонки!$E$2:$P$16,11,FALSE),VLOOKUP(C296,Гонки!$E$2:$P$16,12,FALSE))","v":20},"Жучков Алексей",1985,"Zhuchkov Aleksej","Жучков Алексей / Zhuchkov Aleksej / 1985","М",16,25,178.57]
[{"$f":"Гонки!$C$7","v":"Жук-трейл # 5 Крево"},{"$f":"Гонки!$D$8","v":"Трейл 45"},"Жук-трейл # 5 Крево Трейл 45",51.02,"М",{"$f":"IF(E297=\"Ж\",VLOOKUP(C297,Гонки!$E$2:$P$16,11,FALSE),VLOOKUP(C297,Гонки!$E$2:$P$16,12,FALSE))","v":20},"Зятиков Евгений",1982,"Zyatikov Evgenij","Зятиков Евгений / Zyatikov Evgenij / 1982","М",17,20,142.86000000000001]
[{"$f":"Гонки!$C$7","v":"Жук-трейл # 5 Крево"},{"$f":"Гонки!$D$8","v":"Трейл 45"},"Жук-трейл # 5 Крево Трейл 45",51.02,"М",{"$f":"IF(E298=\"Ж\",VLOOKUP(C298,Гонки!$E$2:$P$16,11,FALSE),VLOOKUP(C298,Гонки!$E$2:$P$16,12,FALSE))","v":20},"Михно Борис",1982,"Mihno Boris","Михно Борис / Mihno Boris / 1982","М",17,20,142.86000000000001]
[{"$f":"Гонки!$C$7","v":"Жук-трейл # 5 Крево"},{"$f":"Гонки!$D$8","v":"Трейл 45"},"Жук-трейл # 5 Крево Трейл 45",51.02,"М",{"$f":"IF(E299=\"Ж\",VLOOKUP(C299,Гонки!$E$2:$P$16,11,FALSE),VLOOKUP(C299,Гонки!$E$2:$P$16,12,FALSE))","v":20},"Ben Bilel",1981,"Ben Bilel","Ben Bilel / Ben Bilel / 1981","М",19,10,71.430000000000007]
[{"$f":"Гонки!$C$7","v":"Жук-трейл # 5 Крево"},{"$f":"Гонки!$D$9","v":"Трейл 21"},"Жук-трейл # 5 Крево Трейл 21",24.380000000000003,"Ж",{"$f":"IF(E300=\"Ж\",VLOOKUP(C300,Гонки!$E$2:$P$16,11,FALSE),VLOOKUP(C300,Гонки!$E$2:$P$16,12,FALSE))","v":15},"Цвирбут Юлия",1992,"Tsvirbut Yuliya","Цвирбут Юлия / Tsvirbut Yuliya / 1992","Ж",1,100,493.76]
[{"$f":"Гонки!$C$7","v":"Жук-трейл # 5 Крево"},{"$f":"Гонки!$D$9","v":"Трейл 21"},"Жук-трейл # 5 Крево Трейл 21",24.380000000000003,"Ж",{"$f":"IF(E301=\"Ж\",VLOOKUP(C301,Гонки!$E$2:$P$16,11,FALSE),VLOOKUP(C301,Гонки!$E$2:$P$16,12,FALSE))","v":15},"Трубкина Анастасия",1989,"Trubkina Anastasiya","Трубкина Анастасия / Trubkina Anastasiya / 1989","Ж",2,93.333333333333329,460.84]
[{"$f":"Гонки!$C$7","v":"Жук-трейл # 5 Крево"},{"$f":"Гонки!$D$9","v":"Трейл 21"},"Жук-трейл # 5 Крево Трейл 21",24.380000000000003,"Ж",{"$f":"IF(E302=\"Ж\",VLOOKUP(C302,Гонки!$E$2:$P$16,11,FALSE),VLOOKUP(C302,Гонки!$E$2:$P$16,12,FALSE))","v":15},"Новик Анастасия",1985,"Novik Anastasiya","Новик Анастасия / Novik Anastasiya / 1985","Ж",3,86.666666666666671,427.93]
[{"$f":"Гонки!$C$7","v":"Жук-трейл # 5 Крево"},{"$f":"Гонки!$D$9","v":"Трейл 21"},"Жук-трейл # 5 Крево Трейл 21",24.380000000000003,"Ж",{"$f":"IF(E303=\"Ж\",VLOOKUP(C303,Гонки!$E$2:$P$16,11,FALSE),VLOOKUP(C303,Гонки!$E$2:$P$16,12,FALSE))","v":15},"Чернель Татьяна",1982,"Chernel Tatyana","Чернель Татьяна / Chernel Tatyana / 1982","Ж",4,80,395.01]
[{"$f":"Гонки!$C$7","v":"Жук-трейл # 5 Крево"},{"$f":"Гонки!$D$9","v":"Трейл 21"},"Жук-трейл # 5 Крево Трейл 21",24.380000000000003,"Ж",{"$f":"IF(E304=\"Ж\",VLOOKUP(C304,Гонки!$E$2:$P$16,11,FALSE),VLOOKUP(C304,Гонки!$E$2:$P$16,12,FALSE))","v":15},"Кордунская Екатерина",1983,"Kordunskaya Ekaterina","Кордунская Екатерина / Kordunskaya Ekaterina / 1983","Ж",5,73.333333333333329,362.09]
[{"$f":"Гонки!$C$7","v":"Жук-трейл # 5 Крево"},{"$f":"Гонки!$D$9","v":"Трейл 21"},"Жук-трейл # 5 Крево Трейл 21",24.380000000000003,"Ж",{"$f":"IF(E305=\"Ж\",VLOOKUP(C305,Гонки!$E$2:$P$16,11,FALSE),VLOOKUP(C305,Гонки!$E$2:$P$16,12,FALSE))","v":15},"Сильванович Валерия",1998,"Silvanovich Valeriya","Сильванович Валерия / Silvanovich Valeriya / 1998","Ж",6,66.666666666666671,329.17]
[{"$f":"Гонки!$C$7","v":"Жук-трейл # 5 Крево"},{"$f":"Гонки!$D$9","v":"Трейл 21"},"Жук-трейл # 5 Крево Трейл 21",24.380000000000003,"Ж",{"$f":"IF(E306=\"Ж\",VLOOKUP(C306,Гонки!$E$2:$P$16,11,FALSE),VLOOKUP(C306,Гонки!$E$2:$P$16,12,FALSE))","v":15},"Коротких Елена",1984,"Korotkih Elena","Коротких Елена / Korotkih Elena / 1984","Ж",7,60,296.26]
[{"$f":"Гонки!$C$7","v":"Жук-трейл # 5 Крево"},{"$f":"Гонки!$D$9","v":"Трейл 21"},"Жук-трейл # 5 Крево Трейл 21",24.380000000000003,"Ж",{"$f":"IF(E307=\"Ж\",VLOOKUP(C307,Гонки!$E$2:$P$16,11,FALSE),VLOOKUP(C307,Гонки!$E$2:$P$16,12,FALSE))","v":15},"Швайковская Ольга",1979,"Shvajkovskaya Olga","Швайковская Ольга / Shvajkovskaya Olga / 1979","Ж",8,53.333333333333336,263.33999999999997]
[{"$f":"Гонки!$C$7","v":"Жук-трейл # 5 Крево"},{"$f":"Гонки!$D$9","v":"Трейл 21"},"Жук-трейл # 5 Крево Трейл 21",24.380000000000003,"Ж",{"$f":"IF(E308=\"Ж\",VLOOKUP(C308,Гонки!$E$2:$P$16,11,FALSE),VLOOKUP(C308,Гонки!$E$2:$P$16,12,FALSE))","v":15},"Арловская Кристина",1989,"Arlovskaya Kristina","Арловская Кристина / Arlovskaya Kristina / 1989","Ж",9,46.666666666666664,230.42]
[{"$f":"Гонки!$C$7","v":"Жук-трейл # 5 Крево"},{"$f":"Гонки!$D$9","v":"Трейл 21"},"Жук-трейл # 5 Крево Трейл 21",24.380000000000003,"Ж",{"$f":"IF(E309=\"Ж\",VLOOKUP(C309,Гонки!$E$2:$P$16,11,FALSE),VLOOKUP(C309,Гонки!$E$2:$P$16,12,FALSE))","v":15},"Липницкая Виктория",1987,"Lipnitskaya Viktoriya","Липницкая Виктория / Lipnitskaya Viktoriya / 1987","Ж",10,40,197.5]
[{"$f":"Гонки!$C$7","v":"Жук-трейл # 5 Крево"},{"$f":"Гонки!$D$9","v":"Трейл 21"},"Жук-трейл # 5 Крево Трейл 21",24.380000000000003,"Ж",{"$f":"IF(E310=\"Ж\",VLOOKUP(C310,Гонки!$E$2:$P$16,11,FALSE),VLOOKUP(C310,Гонки!$E$2:$P$16,12,FALSE))","v":15},"Грейд Юлия",1986,"Grejd Yuliya","Грейд Юлия / Grejd Yuliya / 1986","Ж",11,33.333333333333343,164.59]
[{"$f":"Гонки!$C$7","v":"Жук-трейл # 5 Крево"},{"$f":"Гонки!$D$9","v":"Трейл 21"},"Жук-трейл # 5 Крево Трейл 21",24.380000000000003,"Ж",{"$f":"IF(E311=\"Ж\",VLOOKUP(C311,Гонки!$E$2:$P$16,11,FALSE),VLOOKUP(C311,Гонки!$E$2:$P$16,12,FALSE))","v":15},"Федченко Ярослава",2002,"Fedchenko Yaroslava","Федченко Ярослава / Fedchenko Yaroslava / 2002","Ж",12,26.666666666666671,131.66999999999999]
[{"$f":"Гонки!$C$7","v":"Жук-трейл # 5 Крево"},{"$f":"Гонки!$D$9","v":"Трейл 21"},"Жук-трейл # 5 Крево Трейл 21",24.380000000000003,"Ж",{"$f":"IF(E312=\"Ж\",VLOOKUP(C312,Гонки!$E$2:$P$16,11,FALSE),VLOOKUP(C312,Гонки!$E$2:$P$16,12,FALSE))","v":15},"Вдовиченко Ирина",1989,"Vdovichenko Irina","Вдовиченко Ирина / Vdovichenko Irina / 1989","Ж",13,20,98.75]
[{"$f":"Гонки!$C$7","v":"Жук-трейл # 5 Крево"},{"$f":"Гонки!$D$9","v":"Трейл 21"},"Жук-трейл # 5 Крево Трейл 21",24.380000000000003,"Ж",{"$f":"IF(E313=\"Ж\",VLOOKUP(C313,Гонки!$E$2:$P$16,11,FALSE),VLOOKUP(C313,Гонки!$E$2:$P$16,12,FALSE))","v":15},"Якимчук Надежда",1986,"Yakimchuk Nadezhda","Якимчук Надежда / Yakimchuk Nadezhda / 1986","Ж",14,13.333333333333329,65.83]
[{"$f":"Гонки!$C$7","v":"Жук-трейл # 5 Крево"},{"$f":"Гонки!$D$9","v":"Трейл 21"},"Жук-трейл # 5 Крево Трейл 21",24.380000000000003,"Ж",{"$f":"IF(E314=\"Ж\",VLOOKUP(C314,Гонки!$E$2:$P$16,11,FALSE),VLOOKUP(C314,Гонки!$E$2:$P$16,12,FALSE))","v":15},"Федченко Олеся",1977,"Fedchenko Olesya","Федченко Олеся / Fedchenko Olesya / 1977","Ж",15,6.6666666666666714,32.92]
[{"$f":"Гонки!$C$7","v":"Жук-трейл # 5 Крево"},{"$f":"Гонки!$D$9","v":"Трейл 21"},"Жук-трейл # 5 Крево Трейл 21",24.380000000000003,"М",{"$f":"IF(E315=\"Ж\",VLOOKUP(C315,Гонки!$E$2:$P$16,11,FALSE),VLOOKUP(C315,Гонки!$E$2:$P$16,12,FALSE))","v":45},"Мальков Валентин",1988,"Malkov Valentin","Мальков Валентин / Malkov Valentin / 1988","М",1,100,493.76]
[{"$f":"Гонки!$C$7","v":"Жук-трейл # 5 Крево"},{"$f":"Гонки!$D$9","v":"Трейл 21"},"Жук-трейл # 5 Крево Трейл 21",24.380000000000003,"М",{"$f":"IF(E316=\"Ж\",VLOOKUP(C316,Гонки!$E$2:$P$16,11,FALSE),VLOOKUP(C316,Гонки!$E$2:$P$16,12,FALSE))","v":45},"Овсиюк Богдан",1993,"Ovsiyuk Bogdan","Овсиюк Богдан / Ovsiyuk Bogdan / 1993","М",2,97.777777777777771,482.79]
[{"$f":"Гонки!$C$7","v":"Жук-трейл # 5 Крево"},{"$f":"Гонки!$D$9","v":"Трейл 21"},"Жук-трейл # 5 Крево Трейл 21",24.380000000000003,"М",{"$f":"IF(E317=\"Ж\",VLOOKUP(C317,Гонки!$E$2:$P$16,11,FALSE),VLOOKUP(C317,Гонки!$E$2:$P$16,12,FALSE))","v":45},"Ласюк Юрий",1987,"Lasyuk Yurij","Ласюк Юрий / Lasyuk Yurij / 1987","М",3,95.555555555555557,471.82]
[{"$f":"Гонки!$C$7","v":"Жук-трейл # 5 Крево"},{"$f":"Гонки!$D$9","v":"Трейл 21"},"Жук-трейл # 5 Крево Трейл 21",24.380000000000003,"М",{"$f":"IF(E318=\"Ж\",VLOOKUP(C318,Гонки!$E$2:$P$16,11,FALSE),VLOOKUP(C318,Гонки!$E$2:$P$16,12,FALSE))","v":45},"Вагин Андрей",1989,"Vagin Andrej","Вагин Андрей / Vagin Andrej / 1989","М",4,93.333333333333329,460.84]
[{"$f":"Гонки!$C$7","v":"Жук-трейл # 5 Крево"},{"$f":"Гонки!$D$9","v":"Трейл 21"},"Жук-трейл # 5 Крево Трейл 21",24.380000000000003,"М",{"$f":"IF(E319=\"Ж\",VLOOKUP(C319,Гонки!$E$2:$P$16,11,FALSE),VLOOKUP(C319,Гонки!$E$2:$P$16,12,FALSE))","v":45},"Бузо Александр",1982,"Buzo Aleksandr","Бузо Александр / Buzo Aleksandr / 1982","М",5,91.111111111111114,449.87]
[{"$f":"Гонки!$C$7","v":"Жук-трейл # 5 Крево"},{"$f":"Гонки!$D$9","v":"Трейл 21"},"Жук-трейл # 5 Крево Трейл 21",24.380000000000003,"М",{"$f":"IF(E320=\"Ж\",VLOOKUP(C320,Гонки!$E$2:$P$16,11,FALSE),VLOOKUP(C320,Гонки!$E$2:$P$16,12,FALSE))","v":45},"Никонов Максим",1979,"Nikonov Maksim","Никонов Максим / Nikonov Maksim / 1979","М",6,88.888888888888886,438.9]
[{"$f":"Гонки!$C$7","v":"Жук-трейл # 5 Крево"},{"$f":"Гонки!$D$9","v":"Трейл 21"},"Жук-трейл # 5 Крево Трейл 21",24.380000000000003,"М",{"$f":"IF(E321=\"Ж\",VLOOKUP(C321,Гонки!$E$2:$P$16,11,FALSE),VLOOKUP(C321,Гонки!$E$2:$P$16,12,FALSE))","v":45},"Насвит Дмитрий",1986,"Nasvit Dmitrij","Насвит Дмитрий / Nasvit Dmitrij / 1986","М",7,86.666666666666671,427.93]
[{"$f":"Гонки!$C$7","v":"Жук-трейл # 5 Крево"},{"$f":"Гонки!$D$9","v":"Трейл 21"},{"$f":"CONCATENATE(A322,\" \",B322)","v":"Жук-трейл # 5 Крево Трейл 21"},{"$f":"VLOOKUP(C322,Список_гонок,10,FALSE)","v":24.380000000000003},"М",{"$f":"IF(E322=\"Ж\",VLOOKUP(C322,Гонки!$E$2:$P$16,11,FALSE),VLOOKUP(C322,Гонки!$E$2:$P$16,12,FALSE))","v":45},"Лойко Сергей",1985,{"$f":"Translit(G322)","v":"Lojko Sergej"},{"$f":"CONCATENATE(G322,\" / \",I322,\" / \",H322)","v":"Лойко Сергей / Lojko Sergej / 1985"},{"$f":"E322","v":"М"},8,{"$f":"100-((L322-1)/F322)*100","v":84.444444444444443},{"$f":"ROUND(SQRT(D322)*M322,2)","v":416.95}]
[{"$f":"Гонки!$C$7","v":"Жук-трейл # 5 Крево"},{"$f":"Гонки!$D$9","v":"Трейл 21"},"Жук-трейл # 5 Крево Трейл 21",24.380000000000003,"М",{"$f":"IF(E323=\"Ж\",VLOOKUP(C323,Гонки!$E$2:$P$16,11,FALSE),VLOOKUP(C323,Гонки!$E$2:$P$16,12,FALSE))","v":45},"Скуратович Антон",1985,"Skuratovich Anton","Скуратович Антон / Skuratovich Anton / 1985","М",9,82.222222222222229,405.98]
[{"$f":"Гонки!$C$7","v":"Жук-трейл # 5 Крево"},{"$f":"Гонки!$D$9","v":"Трейл 21"},"Жук-трейл # 5 Крево Трейл 21",24.380000000000003,"М",{"$f":"IF(E324=\"Ж\",VLOOKUP(C324,Гонки!$E$2:$P$16,11,FALSE),VLOOKUP(C324,Гонки!$E$2:$P$16,12,FALSE))","v":45},"Кирcанов Алексей",1981,"Kircanov Aleksej","Кирcанов Алексей / Kircanov Aleksej / 1981","М",10,80,395.01]
[{"$f":"Гонки!$C$7","v":"Жук-трейл # 5 Крево"},{"$f":"Гонки!$D$9","v":"Трейл 21"},"Жук-трейл # 5 Крево Трейл 21",24.380000000000003,"М",{"$f":"IF(E325=\"Ж\",VLOOKUP(C325,Гонки!$E$2:$P$16,11,FALSE),VLOOKUP(C325,Гонки!$E$2:$P$16,12,FALSE))","v":45},"Ермохин Максим",1975,"Ermohin Maksim","Ермохин Максим / Ermohin Maksim / 1975","М",11,77.777777777777771,384.04]
[{"$f":"Гонки!$C$7","v":"Жук-трейл # 5 Крево"},{"$f":"Гонки!$D$9","v":"Трейл 21"},"Жук-трейл # 5 Крево Трейл 21",24.380000000000003,"М",{"$f":"IF(E326=\"Ж\",VLOOKUP(C326,Гонки!$E$2:$P$16,11,FALSE),VLOOKUP(C326,Гонки!$E$2:$P$16,12,FALSE))","v":45},"Молчан Александр",1988,"Molchan Aleksandr","Молчан Александр / Molchan Aleksandr / 1988","М",12,75.555555555555557,373.06]
[{"$f":"Гонки!$C$7","v":"Жук-трейл # 5 Крево"},{"$f":"Гонки!$D$9","v":"Трейл 21"},"Жук-трейл # 5 Крево Трейл 21",24.380000000000003,"М",{"$f":"IF(E327=\"Ж\",VLOOKUP(C327,Гонки!$E$2:$P$16,11,FALSE),VLOOKUP(C327,Гонки!$E$2:$P$16,12,FALSE))","v":45},"Кусов Иван",1993,"Kusov Ivan","Кусов Иван / Kusov Ivan / 1993","М",13,73.333333333333329,362.09]
[{"$f":"Гонки!$C$7","v":"Жук-трейл # 5 Крево"},{"$f":"Гонки!$D$9","v":"Трейл 21"},"Жук-трейл # 5 Крево Трейл 21",24.380000000000003,"М",{"$f":"IF(E328=\"Ж\",VLOOKUP(C328,Гонки!$E$2:$P$16,11,FALSE),VLOOKUP(C328,Гонки!$E$2:$P$16,12,FALSE))","v":45},"Выборный Александр",1985,"Vybornyj Aleksandr","Выборный Александр / Vybornyj Aleksandr / 1985","М",14,71.111111111111114,351.12]
[{"$f":"Гонки!$C$7","v":"Жук-трейл # 5 Крево"},{"$f":"Гонки!$D$9","v":"Трейл 21"},"Жук-трейл # 5 Крево Трейл 21",24.380000000000003,"М",{"$f":"IF(E329=\"Ж\",VLOOKUP(C329,Гонки!$E$2:$P$16,11,FALSE),VLOOKUP(C329,Гонки!$E$2:$P$16,12,FALSE))","v":45},"Юкевич Александр",1983,"Yukevich Aleksandr","Юкевич Александр / Yukevich Aleksandr / 1983","М",15,68.888888888888886,340.15]
[{"$f":"Гонки!$C$7","v":"Жук-трейл # 5 Крево"},{"$f":"Гонки!$D$9","v":"Трейл 21"},"Жук-трейл # 5 Крево Трейл 21",24.380000000000003,"М",{"$f":"IF(E330=\"Ж\",VLOOKUP(C330,Гонки!$E$2:$P$16,11,FALSE),VLOOKUP(C330,Гонки!$E$2:$P$16,12,FALSE))","v":45},"Евсюченя Александр",1991,"Evsyuchenya Aleksandr","Евсюченя Александр / Evsyuchenya Aleksandr / 1991","М",16,66.666666666666671,329.17]
[{"$f":"Гонки!$C$7","v":"Жук-трейл # 5 Крево"},{"$f":"Гонки!$D$9","v":"Трейл 21"},"Жук-трейл # 5 Крево Трейл 21",24.380000000000003,"М",{"$f":"IF(E331=\"Ж\",VLOOKUP(C331,Гонки!$E$2:$P$16,11,FALSE),VLOOKUP(C331,Гонки!$E$2:$P$16,12,FALSE))","v":45},"Левчук Александр",1970,"Levchuk Aleksandr","Левчук Александр / Levchuk Aleksandr / 1970","М",17,64.444444444444443,318.2]
[{"$f":"Гонки!$C$7","v":"Жук-трейл # 5 Крево"},{"$f":"Гонки!$D$9","v":"Трейл 21"},"Жук-трейл # 5 Крево Трейл 21",24.380000000000003,"М",{"$f":"IF(E332=\"Ж\",VLOOKUP(C332,Гонки!$E$2:$P$16,11,FALSE),VLOOKUP(C332,Гонки!$E$2:$P$16,12,FALSE))","v":45},"Андуро Сергей",1986,"Anduro Sergej","Андуро Сергей / Anduro Sergej / 1986","М",18,62.222222222222221,307.23]
[{"$f":"Гонки!$C$7","v":"Жук-трейл # 5 Крево"},{"$f":"Гонки!$D$9","v":"Трейл 21"},"Жук-трейл # 5 Крево Трейл 21",24.380000000000003,"М",{"$f":"IF(E333=\"Ж\",VLOOKUP(C333,Гонки!$E$2:$P$16,11,FALSE),VLOOKUP(C333,Гонки!$E$2:$P$16,12,FALSE))","v":45},"Володько Андрей",1986,"Volodko Andrej","Володько Андрей / Volodko Andrej / 1986","М",19,60,296.26]
[{"$f":"Гонки!$C$7","v":"Жук-трейл # 5 Крево"},{"$f":"Гонки!$D$9","v":"Трейл 21"},"Жук-трейл # 5 Крево Трейл 21",24.380000000000003,"М",{"$f":"IF(E334=\"Ж\",VLOOKUP(C334,Гонки!$E$2:$P$16,11,FALSE),VLOOKUP(C334,Гонки!$E$2:$P$16,12,FALSE))","v":45},"Кожан Михаил",1946,"Kozhan Mihail","Кожан Михаил / Kozhan Mihail / 1946","М",20,57.777777777777779,285.27999999999997]
[{"$f":"Гонки!$C$7","v":"Жук-трейл # 5 Крево"},{"$f":"Гонки!$D$9","v":"Трейл 21"},"Жук-трейл # 5 Крево Трейл 21",24.380000000000003,"М",{"$f":"IF(E335=\"Ж\",VLOOKUP(C335,Гонки!$E$2:$P$16,11,FALSE),VLOOKUP(C335,Гонки!$E$2:$P$16,12,FALSE))","v":45},"Веремейчик Юрий",1979,"Veremejchik Yurij","Веремейчик Юрий / Veremejchik Yurij / 1979","М",21,55.555555555555557,274.31]
[{"$f":"Гонки!$C$7","v":"Жук-трейл # 5 Крево"},{"$f":"Гонки!$D$9","v":"Трейл 21"},"Жук-трейл # 5 Крево Трейл 21",24.380000000000003,"М",{"$f":"IF(E336=\"Ж\",VLOOKUP(C336,Гонки!$E$2:$P$16,11,FALSE),VLOOKUP(C336,Гонки!$E$2:$P$16,12,FALSE))","v":45},"Иолтуховский Владислав",1971,"Ioltuhovskij Vladislav","Иолтуховский Владислав / Ioltuhovskij Vladislav / 1971","М",22,53.333333333333336,263.33999999999997]
[{"$f":"Гонки!$C$7","v":"Жук-трейл # 5 Крево"},{"$f":"Гонки!$D$9","v":"Трейл 21"},"Жук-трейл # 5 Крево Трейл 21",24.380000000000003,"М",{"$f":"IF(E337=\"Ж\",VLOOKUP(C337,Гонки!$E$2:$P$16,11,FALSE),VLOOKUP(C337,Гонки!$E$2:$P$16,12,FALSE))","v":45},"Шепетько Сергей",1987,"Shepetko Sergej","Шепетько Сергей / Shepetko Sergej / 1987","М",23,51.111111111111114,252.37]
[{"$f":"Гонки!$C$7","v":"Жук-трейл # 5 Крево"},{"$f":"Гонки!$D$9","v":"Трейл 21"},"Жук-трейл # 5 Крево Трейл 21",24.380000000000003,"М",{"$f":"IF(E338=\"Ж\",VLOOKUP(C338,Гонки!$E$2:$P$16,11,FALSE),VLOOKUP(C338,Гонки!$E$2:$P$16,12,FALSE))","v":45},"Печёнов Георгий",1975,"Pechjonov Georgij","Печёнов Георгий / Pechjonov Georgij / 1975","М",24,48.888888888888893,241.39]
[{"$f":"Гонки!$C$7","v":"Жук-трейл # 5 Крево"},{"$f":"Гонки!$D$9","v":"Трейл 21"},"Жук-трейл # 5 Крево Трейл 21",24.380000000000003,"М",{"$f":"IF(E339=\"Ж\",VLOOKUP(C339,Гонки!$E$2:$P$16,11,FALSE),VLOOKUP(C339,Гонки!$E$2:$P$16,12,FALSE))","v":45},"Грек Илья",1992,"Grek Ilya","Грек Илья / Grek Ilya / 1992","М",25,46.666666666666664,230.42]
[{"$f":"Гонки!$C$7","v":"Жук-трейл # 5 Крево"},{"$f":"Гонки!$D$9","v":"Трейл 21"},"Жук-трейл # 5 Крево Трейл 21",24.380000000000003,"М",{"$f":"IF(E340=\"Ж\",VLOOKUP(C340,Гонки!$E$2:$P$16,11,FALSE),VLOOKUP(C340,Гонки!$E$2:$P$16,12,FALSE))","v":45},"Юкевич Андрей",1990,"Yukevich Andrej","Юкевич Андрей / Yukevich Andrej / 1990","М",26,44.444444444444443,219.45]
[{"$f":"Гонки!$C$7","v":"Жук-трейл # 5 Крево"},{"$f":"Гонки!$D$9","v":"Трейл 21"},"Жук-трейл # 5 Крево Трейл 21",24.380000000000003,"М",{"$f":"IF(E341=\"Ж\",VLOOKUP(C341,Гонки!$E$2:$P$16,11,FALSE),VLOOKUP(C341,Гонки!$E$2:$P$16,12,FALSE))","v":45},"Жидович Вадим",1984,"Zhidovich Vadim","Жидович Вадим / Zhidovich Vadim / 1984","М",27,42.222222222222229,208.48]
[{"$f":"Гонки!$C$7","v":"Жук-трейл # 5 Крево"},{"$f":"Гонки!$D$9","v":"Трейл 21"},"Жук-трейл # 5 Крево Трейл 21",24.380000000000003,"М",{"$f":"IF(E342=\"Ж\",VLOOKUP(C342,Гонки!$E$2:$P$16,11,FALSE),VLOOKUP(C342,Гонки!$E$2:$P$16,12,FALSE))","v":45},"Казарин Дмитрий",1994,"Kazarin Dmitrij","Казарин Дмитрий / Kazarin Dmitrij / 1994","М",28,40,197.5]
[{"$f":"Гонки!$C$7","v":"Жук-трейл # 5 Крево"},{"$f":"Гонки!$D$9","v":"Трейл 21"},"Жук-трейл # 5 Крево Трейл 21",24.380000000000003,"М",{"$f":"IF(E343=\"Ж\",VLOOKUP(C343,Гонки!$E$2:$P$16,11,FALSE),VLOOKUP(C343,Гонки!$E$2:$P$16,12,FALSE))","v":45},"Якубовский Игорь",1984,"Yakubovskij Igor","Якубовский Игорь / Yakubovskij Igor / 1984","М",29,37.777777777777779,186.53]
[{"$f":"Гонки!$C$7","v":"Жук-трейл # 5 Крево"},{"$f":"Гонки!$D$9","v":"Трейл 21"},"Жук-трейл # 5 Крево Трейл 21",24.380000000000003,"М",{"$f":"IF(E344=\"Ж\",VLOOKUP(C344,Гонки!$E$2:$P$16,11,FALSE),VLOOKUP(C344,Гонки!$E$2:$P$16,12,FALSE))","v":45},"Леверовский Александр",1988,"Leverovskij Aleksandr","Леверовский Александр / Leverovskij Aleksandr / 1988","М",30,35.555555555555557,175.56]
[{"$f":"Гонки!$C$7","v":"Жук-трейл # 5 Крево"},{"$f":"Гонки!$D$9","v":"Трейл 21"},"Жук-трейл # 5 Крево Трейл 21",24.380000000000003,"М",{"$f":"IF(E345=\"Ж\",VLOOKUP(C345,Гонки!$E$2:$P$16,11,FALSE),VLOOKUP(C345,Гонки!$E$2:$P$16,12,FALSE))","v":45},"Радиончик Александр",1985,"Radionchik Aleksandr","Радиончик Александр / Radionchik Aleksandr / 1985","М",31,33.333333333333343,164.59]
[{"$f":"Гонки!$C$7","v":"Жук-трейл # 5 Крево"},{"$f":"Гонки!$D$9","v":"Трейл 21"},"Жук-трейл # 5 Крево Трейл 21",24.380000000000003,"М",{"$f":"IF(E346=\"Ж\",VLOOKUP(C346,Гонки!$E$2:$P$16,11,FALSE),VLOOKUP(C346,Гонки!$E$2:$P$16,12,FALSE))","v":45},"Аржаников Евгений",1976,"Arzhanikov Evgenij","Аржаников Евгений / Arzhanikov Evgenij / 1976","М",32,31.111111111111114,153.61000000000001]
[{"$f":"Гонки!$C$7","v":"Жук-трейл # 5 Крево"},{"$f":"Гонки!$D$9","v":"Трейл 21"},"Жук-трейл # 5 Крево Трейл 21",24.380000000000003,"М",{"$f":"IF(E347=\"Ж\",VLOOKUP(C347,Гонки!$E$2:$P$16,11,FALSE),VLOOKUP(C347,Гонки!$E$2:$P$16,12,FALSE))","v":45},"Герасимук Юрий",1992,"Gerasimuk Yurij","Герасимук Юрий / Gerasimuk Yurij / 1992","М",33,28.888888888888886,142.63999999999999]
[{"$f":"Гонки!$C$7","v":"Жук-трейл # 5 Крево"},{"$f":"Гонки!$D$9","v":"Трейл 21"},"Жук-трейл # 5 Крево Трейл 21",24.380000000000003,"М",{"$f":"IF(E348=\"Ж\",VLOOKUP(C348,Гонки!$E$2:$P$16,11,FALSE),VLOOKUP(C348,Гонки!$E$2:$P$16,12,FALSE))","v":45},"Зеленко Алексей",1980,"Zelenko Aleksej","Зеленко Алексей / Zelenko Aleksej / 1980","М",34,26.666666666666671,131.66999999999999]
[{"$f":"Гонки!$C$7","v":"Жук-трейл # 5 Крево"},{"$f":"Гонки!$D$9","v":"Трейл 21"},"Жук-трейл # 5 Крево Трейл 21",24.380000000000003,"М",{"$f":"IF(E349=\"Ж\",VLOOKUP(C349,Гонки!$E$2:$P$16,11,FALSE),VLOOKUP(C349,Гонки!$E$2:$P$16,12,FALSE))","v":45},"Чичин Юрий",1979,"Chichin Yurij","Чичин Юрий / Chichin Yurij / 1979","М",35,24.444444444444443,120.7]
[{"$f":"Гонки!$C$7","v":"Жук-трейл # 5 Крево"},{"$f":"Гонки!$D$9","v":"Трейл 21"},"Жук-трейл # 5 Крево Трейл 21",24.380000000000003,"М",{"$f":"IF(E350=\"Ж\",VLOOKUP(C350,Гонки!$E$2:$P$16,11,FALSE),VLOOKUP(C350,Гонки!$E$2:$P$16,12,FALSE))","v":45},"Ступяк Андрей",1979,"Stupyak Andrej","Ступяк Андрей / Stupyak Andrej / 1979","М",36,22.222222222222214,109.72]
[{"$f":"Гонки!$C$7","v":"Жук-трейл # 5 Крево"},{"$f":"Гонки!$D$9","v":"Трейл 21"},"Жук-трейл # 5 Крево Трейл 21",24.380000000000003,"М",{"$f":"IF(E351=\"Ж\",VLOOKUP(C351,Гонки!$E$2:$P$16,11,FALSE),VLOOKUP(C351,Гонки!$E$2:$P$16,12,FALSE))","v":45},"Комар Артем",1998,"Komar Artem","Комар Артем / Komar Artem / 1998","М",37,20,98.75]
[{"$f":"Гонки!$C$7","v":"Жук-трейл # 5 Крево"},{"$f":"Гонки!$D$9","v":"Трейл 21"},"Жук-трейл # 5 Крево Трейл 21",24.380000000000003,"М",{"$f":"IF(E352=\"Ж\",VLOOKUP(C352,Гонки!$E$2:$P$16,11,FALSE),VLOOKUP(C352,Гонки!$E$2:$P$16,12,FALSE))","v":45},"Лакустов Алексей",1986,"Lakustov Aleksej","Лакустов Алексей / Lakustov Aleksej / 1986","М",38,17.777777777777786,87.78]
[{"$f":"Гонки!$C$7","v":"Жук-трейл # 5 Крево"},{"$f":"Гонки!$D$9","v":"Трейл 21"},"Жук-трейл # 5 Крево Трейл 21",24.380000000000003,"М",{"$f":"IF(E353=\"Ж\",VLOOKUP(C353,Гонки!$E$2:$P$16,11,FALSE),VLOOKUP(C353,Гонки!$E$2:$P$16,12,FALSE))","v":45},"Кузьменок Денис",1979,"Kuzmenok Denis","Кузьменок Денис / Kuzmenok Denis / 1979","М",39,15.555555555555557,76.81]
[{"$f":"Гонки!$C$7","v":"Жук-трейл # 5 Крево"},{"$f":"Гонки!$D$9","v":"Трейл 21"},"Жук-трейл # 5 Крево Трейл 21",24.380000000000003,"М",{"$f":"IF(E354=\"Ж\",VLOOKUP(C354,Гонки!$E$2:$P$16,11,FALSE),VLOOKUP(C354,Гонки!$E$2:$P$16,12,FALSE))","v":45},"Зуй Александр",1980,"Zuj Aleksandr","Зуй Александр / Zuj Aleksandr / 1980","М",40,13.333333333333329,65.83]
[{"$f":"Гонки!$C$7","v":"Жук-трейл # 5 Крево"},{"$f":"Гонки!$D$9","v":"Трейл 21"},"Жук-трейл # 5 Крево Трейл 21",24.380000000000003,"М",{"$f":"IF(E355=\"Ж\",VLOOKUP(C355,Гонки!$E$2:$P$16,11,FALSE),VLOOKUP(C355,Гонки!$E$2:$P$16,12,FALSE))","v":45},"Щербина Максим",1976,"Scherbina Maksim","Щербина Максим / Scherbina Maksim / 1976","М",41,11.111111111111114,54.86]
[{"$f":"Гонки!$C$7","v":"Жук-трейл # 5 Крево"},{"$f":"Гонки!$D$9","v":"Трейл 21"},"Жук-трейл # 5 Крево Трейл 21",24.380000000000003,"М",{"$f":"IF(E356=\"Ж\",VLOOKUP(C356,Гонки!$E$2:$P$16,11,FALSE),VLOOKUP(C356,Гонки!$E$2:$P$16,12,FALSE))","v":45},"Мейсак Александр",1989,"Mejsak Aleksandr","Мейсак Александр / Mejsak Aleksandr / 1989","М",42,8.8888888888888857,43.89]
[{"$f":"Гонки!$C$7","v":"Жук-трейл # 5 Крево"},{"$f":"Гонки!$D$9","v":"Трейл 21"},"Жук-трейл # 5 Крево Трейл 21",24.380000000000003,"М",{"$f":"IF(E357=\"Ж\",VLOOKUP(C357,Гонки!$E$2:$P$16,11,FALSE),VLOOKUP(C357,Гонки!$E$2:$P$16,12,FALSE))","v":45},"Самсонов Никита",1989,"Samsonov Nikita","Самсонов Никита / Samsonov Nikita / 1989","М",43,6.6666666666666714,32.92]
[{"$f":"Гонки!$C$7","v":"Жук-трейл # 5 Крево"},{"$f":"Гонки!$D$9","v":"Трейл 21"},"Жук-трейл # 5 Крево Трейл 21",24.380000000000003,"М",{"$f":"IF(E358=\"Ж\",VLOOKUP(C358,Гонки!$E$2:$P$16,11,FALSE),VLOOKUP(C358,Гонки!$E$2:$P$16,12,FALSE))","v":45},"Славинский Дмитрий",1986,"Slavinskij Dmitrij","Славинский Дмитрий / Slavinskij Dmitrij / 1986","М",44,4.4444444444444429,21.94]
[{"$f":"Гонки!$C$7","v":"Жук-трейл # 5 Крево"},{"$f":"Гонки!$D$9","v":"Трейл 21"},"Жук-трейл # 5 Крево Трейл 21",24.380000000000003,"М",{"$f":"IF(E359=\"Ж\",VLOOKUP(C359,Гонки!$E$2:$P$16,11,FALSE),VLOOKUP(C359,Гонки!$E$2:$P$16,12,FALSE))","v":45},"Коньшин Андрей",1988,"Konshin Andrej","Коньшин Андрей / Konshin Andrej / 1988","М",45,2.2222222222222285,10.97]
[{"$f":"Гонки!$C$7","v":"Жук-трейл # 5 Крево"},{"$f":"Гонки!$D$10","v":"Трейл 10"},"Жук-трейл # 5 Крево Трейл 10",13.88,"Ж",{"$f":"IF(E360=\"Ж\",VLOOKUP(C360,Гонки!$E$2:$P$16,11,FALSE),VLOOKUP(C360,Гонки!$E$2:$P$16,12,FALSE))","v":26},"Милинкевич Елена",1977,"Milinkevich Elena","Милинкевич Елена / Milinkevich Elena / 1977","Ж",1,100,372.56]
[{"$f":"Гонки!$C$7","v":"Жук-трейл # 5 Крево"},{"$f":"Гонки!$D$10","v":"Трейл 10"},"Жук-трейл # 5 Крево Трейл 10",13.88,"Ж",{"$f":"IF(E361=\"Ж\",VLOOKUP(C361,Гонки!$E$2:$P$16,11,FALSE),VLOOKUP(C361,Гонки!$E$2:$P$16,12,FALSE))","v":26},"Куцакова Татьяна",1987,"Kutsakova Tatyana","Куцакова Татьяна / Kutsakova Tatyana / 1987","Ж",2,96.15384615384616,358.23]
[{"$f":"Гонки!$C$7","v":"Жук-трейл # 5 Крево"},{"$f":"Гонки!$D$10","v":"Трейл 10"},"Жук-трейл # 5 Крево Трейл 10",13.88,"Ж",{"$f":"IF(E362=\"Ж\",VLOOKUP(C362,Гонки!$E$2:$P$16,11,FALSE),VLOOKUP(C362,Гонки!$E$2:$P$16,12,FALSE))","v":26},"Тимошенко Алёна",1982,"Timoshenko Aljona","Тимошенко Алёна / Timoshenko Aljona / 1982","Ж",3,92.307692307692307,343.9]
[{"$f":"Гонки!$C$7","v":"Жук-трейл # 5 Крево"},{"$f":"Гонки!$D$10","v":"Трейл 10"},"Жук-трейл # 5 Крево Трейл 10",13.88,"Ж",{"$f":"IF(E363=\"Ж\",VLOOKUP(C363,Гонки!$E$2:$P$16,11,FALSE),VLOOKUP(C363,Гонки!$E$2:$P$16,12,FALSE))","v":26},"Едомская Вольга",1987,"Edomskaya Volga","Едомская Вольга / Edomskaya Volga / 1987","Ж",4,88.461538461538467,329.57]
[{"$f":"Гонки!$C$7","v":"Жук-трейл # 5 Крево"},{"$f":"Гонки!$D$10","v":"Трейл 10"},"Жук-трейл # 5 Крево Трейл 10",13.88,"Ж",{"$f":"IF(E364=\"Ж\",VLOOKUP(C364,Гонки!$E$2:$P$16,11,FALSE),VLOOKUP(C364,Гонки!$E$2:$P$16,12,FALSE))","v":26},"Черкас Александра",1992,"Cherkas Aleksandra","Черкас Александра / Cherkas Aleksandra / 1992","Ж",5,84.615384615384613,315.24]
[{"$f":"Гонки!$C$7","v":"Жук-трейл # 5 Крево"},{"$f":"Гонки!$D$10","v":"Трейл 10"},"Жук-трейл # 5 Крево Трейл 10",13.88,"Ж",{"$f":"IF(E365=\"Ж\",VLOOKUP(C365,Гонки!$E$2:$P$16,11,FALSE),VLOOKUP(C365,Гонки!$E$2:$P$16,12,FALSE))","v":26},"Павловская Светлана",1984,"Pavlovskaya Svetlana","Павловская Светлана / Pavlovskaya Svetlana / 1984","Ж",6,80.769230769230774,300.91000000000003]
[{"$f":"Гонки!$C$7","v":"Жук-трейл # 5 Крево"},{"$f":"Гонки!$D$10","v":"Трейл 10"},"Жук-трейл # 5 Крево Трейл 10",13.88,"Ж",{"$f":"IF(E366=\"Ж\",VLOOKUP(C366,Гонки!$E$2:$P$16,11,FALSE),VLOOKUP(C366,Гонки!$E$2:$P$16,12,FALSE))","v":26},"Телегина София",1991,"Telegina Sofiya","Телегина София / Telegina Sofiya / 1991","Ж",7,76.92307692307692,286.58]
[{"$f":"Гонки!$C$7","v":"Жук-трейл # 5 Крево"},{"$f":"Гонки!$D$10","v":"Трейл 10"},"Жук-трейл # 5 Крево Трейл 10",13.88,"Ж",{"$f":"IF(E367=\"Ж\",VLOOKUP(C367,Гонки!$E$2:$P$16,11,FALSE),VLOOKUP(C367,Гонки!$E$2:$P$16,12,FALSE))","v":26},"Недведская Елена",1986,"Nedvedskaya Elena","Недведская Елена / Nedvedskaya Elena / 1986","Ж",8,73.07692307692308,272.25]
[{"$f":"Гонки!$C$7","v":"Жук-трейл # 5 Крево"},{"$f":"Гонки!$D$10","v":"Трейл 10"},"Жук-трейл # 5 Крево Трейл 10",13.88,"Ж",{"$f":"IF(E368=\"Ж\",VLOOKUP(C368,Гонки!$E$2:$P$16,11,FALSE),VLOOKUP(C368,Гонки!$E$2:$P$16,12,FALSE))","v":26},"Гринько Анастасия",1993,"Grinko Anastasiya","Гринько Анастасия / Grinko Anastasiya / 1993","Ж",9,69.230769230769226,257.93]
[{"$f":"Гонки!$C$7","v":"Жук-трейл # 5 Крево"},{"$f":"Гонки!$D$10","v":"Трейл 10"},"Жук-трейл # 5 Крево Трейл 10",13.88,"Ж",{"$f":"IF(E369=\"Ж\",VLOOKUP(C369,Гонки!$E$2:$P$16,11,FALSE),VLOOKUP(C369,Гонки!$E$2:$P$16,12,FALSE))","v":26},"Гриб Екатерина",1981,"Grib Ekaterina","Гриб Екатерина / Grib Ekaterina / 1981","Ж",10,65.384615384615387,243.6]
[{"$f":"Гонки!$C$7","v":"Жук-трейл # 5 Крево"},{"$f":"Гонки!$D$10","v":"Трейл 10"},"Жук-трейл # 5 Крево Трейл 10",13.88,"Ж",{"$f":"IF(E370=\"Ж\",VLOOKUP(C370,Гонки!$E$2:$P$16,11,FALSE),VLOOKUP(C370,Гонки!$E$2:$P$16,12,FALSE))","v":26},"Полякова Анна",1987,"Polyakova Anna","Полякова Анна / Polyakova Anna / 1987","Ж",11,61.538461538461533,229.27]
[{"$f":"Гонки!$C$7","v":"Жук-трейл # 5 Крево"},{"$f":"Гонки!$D$10","v":"Трейл 10"},"Жук-трейл # 5 Крево Трейл 10",13.88,"Ж",{"$f":"IF(E371=\"Ж\",VLOOKUP(C371,Гонки!$E$2:$P$16,11,FALSE),VLOOKUP(C371,Гонки!$E$2:$P$16,12,FALSE))","v":26},"Туровец Ольга",1979,"Turovets Olga","Туровец Ольга / Turovets Olga / 1979","Ж",12,57.692307692307693,214.94]
[{"$f":"Гонки!$C$7","v":"Жук-трейл # 5 Крево"},{"$f":"Гонки!$D$10","v":"Трейл 10"},"Жук-трейл # 5 Крево Трейл 10",13.88,"Ж",{"$f":"IF(E372=\"Ж\",VLOOKUP(C372,Гонки!$E$2:$P$16,11,FALSE),VLOOKUP(C372,Гонки!$E$2:$P$16,12,FALSE))","v":26},"Тумашик Екатерина",1984,"Tumashik Ekaterina","Тумашик Екатерина / Tumashik Ekaterina / 1984","Ж",13,53.846153846153847,200.61]
[{"$f":"Гонки!$C$7","v":"Жук-трейл # 5 Крево"},{"$f":"Гонки!$D$10","v":"Трейл 10"},"Жук-трейл # 5 Крево Трейл 10",13.88,"Ж",{"$f":"IF(E373=\"Ж\",VLOOKUP(C373,Гонки!$E$2:$P$16,11,FALSE),VLOOKUP(C373,Гонки!$E$2:$P$16,12,FALSE))","v":26},"Торопова Мария",1989,"Toropova Mariya","Торопова Мария / Toropova Mariya / 1989","Ж",14,50,186.28]
[{"$f":"Гонки!$C$7","v":"Жук-трейл # 5 Крево"},{"$f":"Гонки!$D$10","v":"Трейл 10"},"Жук-трейл # 5 Крево Трейл 10",13.88,"Ж",{"$f":"IF(E374=\"Ж\",VLOOKUP(C374,Гонки!$E$2:$P$16,11,FALSE),VLOOKUP(C374,Гонки!$E$2:$P$16,12,FALSE))","v":26},"Дунаева Мария",1983,"Dunaeva Mariya","Дунаева Мария / Dunaeva Mariya / 1983","Ж",15,46.153846153846153,171.95]
[{"$f":"Гонки!$C$7","v":"Жук-трейл # 5 Крево"},{"$f":"Гонки!$D$10","v":"Трейл 10"},"Жук-трейл # 5 Крево Трейл 10",13.88,"Ж",{"$f":"IF(E375=\"Ж\",VLOOKUP(C375,Гонки!$E$2:$P$16,11,FALSE),VLOOKUP(C375,Гонки!$E$2:$P$16,12,FALSE))","v":26},"Кожемякина Анна",1991,"Kozhemyakina Anna","Кожемякина Анна / Kozhemyakina Anna / 1991","Ж",16,42.307692307692314,157.62]
[{"$f":"Гонки!$C$7","v":"Жук-трейл # 5 Крево"},{"$f":"Гонки!$D$10","v":"Трейл 10"},"Жук-трейл # 5 Крево Трейл 10",13.88,"Ж",{"$f":"IF(E376=\"Ж\",VLOOKUP(C376,Гонки!$E$2:$P$16,11,FALSE),VLOOKUP(C376,Гонки!$E$2:$P$16,12,FALSE))","v":26},"Войтович Татьяна",1986,"Vojtovich Tatyana","Войтович Татьяна / Vojtovich Tatyana / 1986","Ж",17,38.46153846153846,143.29]
[{"$f":"Гонки!$C$7","v":"Жук-трейл # 5 Крево"},{"$f":"Гонки!$D$10","v":"Трейл 10"},"Жук-трейл # 5 Крево Трейл 10",13.88,"Ж",{"$f":"IF(E377=\"Ж\",VLOOKUP(C377,Гонки!$E$2:$P$16,11,FALSE),VLOOKUP(C377,Гонки!$E$2:$P$16,12,FALSE))","v":26},"Жучина Катерина",1986,"Zhuchina Katerina","Жучина Катерина / Zhuchina Katerina / 1986","Ж",18,34.615384615384613,128.96]
[{"$f":"Гонки!$C$7","v":"Жук-трейл # 5 Крево"},{"$f":"Гонки!$D$10","v":"Трейл 10"},"Жук-трейл # 5 Крево Трейл 10",13.88,"Ж",{"$f":"IF(E378=\"Ж\",VLOOKUP(C378,Гонки!$E$2:$P$16,11,FALSE),VLOOKUP(C378,Гонки!$E$2:$P$16,12,FALSE))","v":26},"Левчук Ирина",1974,"Levchuk Irina","Левчук Ирина / Levchuk Irina / 1974","Ж",19,30.769230769230774,114.63]
[{"$f":"Гонки!$C$7","v":"Жук-трейл # 5 Крево"},{"$f":"Гонки!$D$10","v":"Трейл 10"},"Жук-трейл # 5 Крево Трейл 10",13.88,"Ж",{"$f":"IF(E379=\"Ж\",VLOOKUP(C379,Гонки!$E$2:$P$16,11,FALSE),VLOOKUP(C379,Гонки!$E$2:$P$16,12,FALSE))","v":26},"Казак Наталья",1979,"Kazak Natalya","Казак Наталья / Kazak Natalya / 1979","Ж",20,26.923076923076934,100.3]
[{"$f":"Гонки!$C$7","v":"Жук-трейл # 5 Крево"},{"$f":"Гонки!$D$10","v":"Трейл 10"},"Жук-трейл # 5 Крево Трейл 10",13.88,"Ж",{"$f":"IF(E380=\"Ж\",VLOOKUP(C380,Гонки!$E$2:$P$16,11,FALSE),VLOOKUP(C380,Гонки!$E$2:$P$16,12,FALSE))","v":26},"Фамичёва Елена",1993,"Famichjova Elena","Фамичёва Елена / Famichjova Elena / 1993","Ж",21,23.076923076923066,85.98]
[{"$f":"Гонки!$C$7","v":"Жук-трейл # 5 Крево"},{"$f":"Гонки!$D$10","v":"Трейл 10"},"Жук-трейл # 5 Крево Трейл 10",13.88,"Ж",{"$f":"IF(E381=\"Ж\",VLOOKUP(C381,Гонки!$E$2:$P$16,11,FALSE),VLOOKUP(C381,Гонки!$E$2:$P$16,12,FALSE))","v":26},"Гончарик Наталья",1991,"Goncharik Natalya","Гончарик Наталья / Goncharik Natalya / 1991","Ж",22,19.230769230769226,71.650000000000006]
[{"$f":"Гонки!$C$7","v":"Жук-трейл # 5 Крево"},{"$f":"Гонки!$D$10","v":"Трейл 10"},"Жук-трейл # 5 Крево Трейл 10",13.88,"Ж",{"$f":"IF(E382=\"Ж\",VLOOKUP(C382,Гонки!$E$2:$P$16,11,FALSE),VLOOKUP(C382,Гонки!$E$2:$P$16,12,FALSE))","v":26},"Зуй Марина",1984,"Zuj Marina","Зуй Марина / Zuj Marina / 1984","Ж",23,15.384615384615387,57.32]
[{"$f":"Гонки!$C$7","v":"Жук-трейл # 5 Крево"},{"$f":"Гонки!$D$10","v":"Трейл 10"},"Жук-трейл # 5 Крево Трейл 10",13.88,"Ж",{"$f":"IF(E383=\"Ж\",VLOOKUP(C383,Гонки!$E$2:$P$16,11,FALSE),VLOOKUP(C383,Гонки!$E$2:$P$16,12,FALSE))","v":26},"Ладутько Наталья",1974,"Ladutko Natalya","Ладутько Наталья / Ladutko Natalya / 1974","Ж",24,11.538461538461547,42.99]
[{"$f":"Гонки!$C$7","v":"Жук-трейл # 5 Крево"},{"$f":"Гонки!$D$10","v":"Трейл 10"},"Жук-трейл # 5 Крево Трейл 10",13.88,"Ж",{"$f":"IF(E384=\"Ж\",VLOOKUP(C384,Гонки!$E$2:$P$16,11,FALSE),VLOOKUP(C384,Гонки!$E$2:$P$16,12,FALSE))","v":26},"Гарбуз Алла",1969,"Garbuz Alla","Гарбуз Алла / Garbuz Alla / 1969","Ж",25,7.6923076923076934,28.66]
[{"$f":"Гонки!$C$7","v":"Жук-трейл # 5 Крево"},{"$f":"Гонки!$D$10","v":"Трейл 10"},"Жук-трейл # 5 Крево Трейл 10",13.88,"Ж",{"$f":"IF(E385=\"Ж\",VLOOKUP(C385,Гонки!$E$2:$P$16,11,FALSE),VLOOKUP(C385,Гонки!$E$2:$P$16,12,FALSE))","v":26},"Карабанькова Марина",1989,"Karabankova Marina","Карабанькова Марина / Karabankova Marina / 1989","Ж",26,3.8461538461538396,14.33]
[{"$f":"Гонки!$C$7","v":"Жук-трейл # 5 Крево"},{"$f":"Гонки!$D$10","v":"Трейл 10"},{"$f":"CONCATENATE(A386,\" \",B386)","v":"Жук-трейл # 5 Крево Трейл 10"},{"$f":"VLOOKUP(C386,Список_гонок,10,FALSE)","v":13.88},"М",{"$f":"IF(E386=\"Ж\",VLOOKUP(C386,Гонки!$E$2:$P$16,11,FALSE),VLOOKUP(C386,Гонки!$E$2:$P$16,12,FALSE))","v":56},"Лещевич Валерий",1989,{"$f":"Translit(G386)","v":"Leschevich Valerij"},{"$f":"CONCATENATE(G386,\" / \",I386,\" / \",H386)","v":"Лещевич Валерий / Leschevich Valerij / 1989"},{"$f":"E386","v":"М"},1,{"$f":"100-((L386-1)/F386)*100","v":100},{"$f":"ROUND(SQRT(D386)*M386,2)","v":372.56}]
[{"$f":"Гонки!$C$7","v":"Жук-трейл # 5 Крево"},{"$f":"Гонки!$D$10","v":"Трейл 10"},"Жук-трейл # 5 Крево Трейл 10",13.88,"М",{"$f":"IF(E387=\"Ж\",VLOOKUP(C387,Гонки!$E$2:$P$16,11,FALSE),VLOOKUP(C387,Гонки!$E$2:$P$16,12,FALSE))","v":56},"Мартынов Дмитрий",1984,"Martynov Dmitrij","Мартынов Дмитрий / Martynov Dmitrij / 1984","М",2,98.214285714285708,365.91]
[{"$f":"Гонки!$C$7","v":"Жук-трейл # 5 Крево"},{"$f":"Гонки!$D$10","v":"Трейл 10"},"Жук-трейл # 5 Крево Трейл 10",13.88,"М",{"$f":"IF(E388=\"Ж\",VLOOKUP(C388,Гонки!$E$2:$P$16,11,FALSE),VLOOKUP(C388,Гонки!$E$2:$P$16,12,FALSE))","v":56},"Гидлевский Дмитрий",1986,"Gidlevskij Dmitrij","Гидлевский Дмитрий / Gidlevskij Dmitrij / 1986","М",3,96.428571428571431,359.25]
[{"$f":"Гонки!$C$7","v":"Жук-трейл # 5 Крево"},{"$f":"Гонки!$D$10","v":"Трейл 10"},"Жук-трейл # 5 Крево Трейл 10",13.88,"М",{"$f":"IF(E389=\"Ж\",VLOOKUP(C389,Гонки!$E$2:$P$16,11,FALSE),VLOOKUP(C389,Гонки!$E$2:$P$16,12,FALSE))","v":56},"Католиков Роман",1985,"Katolikov Roman","Католиков Роман / Katolikov Roman / 1985","М",4,94.642857142857139,352.6]
[{"$f":"Гонки!$C$7","v":"Жук-трейл # 5 Крево"},{"$f":"Гонки!$D$10","v":"Трейл 10"},"Жук-трейл # 5 Крево Трейл 10",13.88,"М",{"$f":"IF(E390=\"Ж\",VLOOKUP(C390,Гонки!$E$2:$P$16,11,FALSE),VLOOKUP(C390,Гонки!$E$2:$P$16,12,FALSE))","v":56},"Гамидов Тимур",1996,"Gamidov Timur","Гамидов Тимур / Gamidov Timur / 1996","М",5,92.857142857142861,345.95]
[{"$f":"Гонки!$C$7","v":"Жук-трейл # 5 Крево"},{"$f":"Гонки!$D$10","v":"Трейл 10"},"Жук-трейл # 5 Крево Трейл 10",13.88,"М",{"$f":"IF(E391=\"Ж\",VLOOKUP(C391,Гонки!$E$2:$P$16,11,FALSE),VLOOKUP(C391,Гонки!$E$2:$P$16,12,FALSE))","v":56},"Хорошавин Вячеслав",1985,"Horoshavin Vyacheslav","Хорошавин Вячеслав / Horoshavin Vyacheslav / 1985","М",5,92.857142857142861,345.95]
[{"$f":"Гонки!$C$7","v":"Жук-трейл # 5 Крево"},{"$f":"Гонки!$D$10","v":"Трейл 10"},"Жук-трейл # 5 Крево Трейл 10",13.88,"М",{"$f":"IF(E392=\"Ж\",VLOOKUP(C392,Гонки!$E$2:$P$16,11,FALSE),VLOOKUP(C392,Гонки!$E$2:$P$16,12,FALSE))","v":56},"Жучин Алексей",1983,"Zhuchin Aleksej","Жучин Алексей / Zhuchin Aleksej / 1983","М",7,89.285714285714292,332.64]
[{"$f":"Гонки!$C$7","v":"Жук-трейл # 5 Крево"},{"$f":"Гонки!$D$10","v":"Трейл 10"},"Жук-трейл # 5 Крево Трейл 10",13.88,"М",{"$f":"IF(E393=\"Ж\",VLOOKUP(C393,Гонки!$E$2:$P$16,11,FALSE),VLOOKUP(C393,Гонки!$E$2:$P$16,12,FALSE))","v":56},"Кондяр Павел",1993,"Kondyar Pavel","Кондяр Павел / Kondyar Pavel / 1993","М",8,87.5,325.99]
[{"$f":"Гонки!$C$7","v":"Жук-трейл # 5 Крево"},{"$f":"Гонки!$D$10","v":"Трейл 10"},"Жук-трейл # 5 Крево Трейл 10",13.88,"М",{"$f":"IF(E394=\"Ж\",VLOOKUP(C394,Гонки!$E$2:$P$16,11,FALSE),VLOOKUP(C394,Гонки!$E$2:$P$16,12,FALSE))","v":56},"Орловский Павел",1989,"Orlovskij Pavel","Орловский Павел / Orlovskij Pavel / 1989","М",9,85.714285714285722,319.33999999999997]
[{"$f":"Гонки!$C$7","v":"Жук-трейл # 5 Крево"},{"$f":"Гонки!$D$10","v":"Трейл 10"},"Жук-трейл # 5 Крево Трейл 10",13.88,"М",{"$f":"IF(E395=\"Ж\",VLOOKUP(C395,Гонки!$E$2:$P$16,11,FALSE),VLOOKUP(C395,Гонки!$E$2:$P$16,12,FALSE))","v":56},"Селютин Владимир",1990,"Selyutin Vladimir","Селютин Владимир / Selyutin Vladimir / 1990","М",10,83.928571428571431,312.68]
[{"$f":"Гонки!$C$7","v":"Жук-трейл # 5 Крево"},{"$f":"Гонки!$D$10","v":"Трейл 10"},"Жук-трейл # 5 Крево Трейл 10",13.88,"М",{"$f":"IF(E396=\"Ж\",VLOOKUP(C396,Гонки!$E$2:$P$16,11,FALSE),VLOOKUP(C396,Гонки!$E$2:$P$16,12,FALSE))","v":56},"Баронов Роман",1993,"Baronov Roman","Баронов Роман / Baronov Roman / 1993","М",11,82.142857142857139,306.02999999999997]
[{"$f":"Гонки!$C$7","v":"Жук-трейл # 5 Крево"},{"$f":"Гонки!$D$10","v":"Трейл 10"},"Жук-трейл # 5 Крево Трейл 10",13.88,"М",{"$f":"IF(E397=\"Ж\",VLOOKUP(C397,Гонки!$E$2:$P$16,11,FALSE),VLOOKUP(C397,Гонки!$E$2:$P$16,12,FALSE))","v":56},"Гайдуков Александр",1989,"Gajdukov Aleksandr","Гайдуков Александр / Gajdukov Aleksandr / 1989","М",12,80.357142857142861,299.38]
[{"$f":"Гонки!$C$7","v":"Жук-трейл # 5 Крево"},{"$f":"Гонки!$D$10","v":"Трейл 10"},"Жук-трейл # 5 Крево Трейл 10",13.88,"М",{"$f":"IF(E398=\"Ж\",VLOOKUP(C398,Гонки!$E$2:$P$16,11,FALSE),VLOOKUP(C398,Гонки!$E$2:$P$16,12,FALSE))","v":56},"Брытько Роман",1995,"Brytko Roman","Брытько Роман / Brytko Roman / 1995","М",13,78.571428571428569,292.72000000000003]
[{"$f":"Гонки!$C$7","v":"Жук-трейл # 5 Крево"},{"$f":"Гонки!$D$10","v":"Трейл 10"},"Жук-трейл # 5 Крево Трейл 10",13.88,"М",{"$f":"IF(E399=\"Ж\",VLOOKUP(C399,Гонки!$E$2:$P$16,11,FALSE),VLOOKUP(C399,Гонки!$E$2:$P$16,12,FALSE))","v":56},"Данченко Глеб",1986,"Danchenko Gleb","Данченко Глеб / Danchenko Gleb / 1986","М",14,76.785714285714278,286.07]
[{"$f":"Гонки!$C$7","v":"Жук-трейл # 5 Крево"},{"$f":"Гонки!$D$10","v":"Трейл 10"},"Жук-трейл # 5 Крево Трейл 10",13.88,"М",{"$f":"IF(E400=\"Ж\",VLOOKUP(C400,Гонки!$E$2:$P$16,11,FALSE),VLOOKUP(C400,Гонки!$E$2:$P$16,12,FALSE))","v":56},"Домбровский Евгений",1987,"Dombrovskij Evgenij","Домбровский Евгений / Dombrovskij Evgenij / 1987","М",15,75,279.42]
[{"$f":"Гонки!$C$7","v":"Жук-трейл # 5 Крево"},{"$f":"Гонки!$D$10","v":"Трейл 10"},"Жук-трейл # 5 Крево Трейл 10",13.88,"М",{"$f":"IF(E401=\"Ж\",VLOOKUP(C401,Гонки!$E$2:$P$16,11,FALSE),VLOOKUP(C401,Гонки!$E$2:$P$16,12,FALSE))","v":56},"Ланин Иван",1989,"Lanin Ivan","Ланин Иван / Lanin Ivan / 1989","М",16,73.214285714285722,272.77]
[{"$f":"Гонки!$C$7","v":"Жук-трейл # 5 Крево"},{"$f":"Гонки!$D$10","v":"Трейл 10"},"Жук-трейл # 5 Крево Трейл 10",13.88,"М",{"$f":"IF(E402=\"Ж\",VLOOKUP(C402,Гонки!$E$2:$P$16,11,FALSE),VLOOKUP(C402,Гонки!$E$2:$P$16,12,FALSE))","v":56},"Костев Евгений",1990,"Kostev Evgenij","Костев Евгений / Kostev Evgenij / 1990","М",17,71.428571428571431,266.11]
[{"$f":"Гонки!$C$7","v":"Жук-трейл # 5 Крево"},{"$f":"Гонки!$D$10","v":"Трейл 10"},"Жук-трейл # 5 Крево Трейл 10",13.88,"М",{"$f":"IF(E403=\"Ж\",VLOOKUP(C403,Гонки!$E$2:$P$16,11,FALSE),VLOOKUP(C403,Гонки!$E$2:$P$16,12,FALSE))","v":56},"Сіпачоў Аляксей",1979,"Sіpachou Alyaksej","Сіпачоў Аляксей / Sіpachou Alyaksej / 1979","М",18,69.642857142857139,259.45999999999998]
[{"$f":"Гонки!$C$7","v":"Жук-трейл # 5 Крево"},{"$f":"Гонки!$D$10","v":"Трейл 10"},"Жук-трейл # 5 Крево Трейл 10",13.88,"М",{"$f":"IF(E404=\"Ж\",VLOOKUP(C404,Гонки!$E$2:$P$16,11,FALSE),VLOOKUP(C404,Гонки!$E$2:$P$16,12,FALSE))","v":56},"Крус Виктор",1980,"Krus Viktor","Крус Виктор / Krus Viktor / 1980","М",19,67.857142857142861,252.81]
[{"$f":"Гонки!$C$7","v":"Жук-трейл # 5 Крево"},{"$f":"Гонки!$D$10","v":"Трейл 10"},"Жук-трейл # 5 Крево Трейл 10",13.88,"М",{"$f":"IF(E405=\"Ж\",VLOOKUP(C405,Гонки!$E$2:$P$16,11,FALSE),VLOOKUP(C405,Гонки!$E$2:$P$16,12,FALSE))","v":56},"Щербаков Илья",1989,"Scherbakov Ilya","Щербаков Илья / Scherbakov Ilya / 1989","М",20,66.071428571428569,246.15]
[{"$f":"Гонки!$C$7","v":"Жук-трейл # 5 Крево"},{"$f":"Гонки!$D$10","v":"Трейл 10"},"Жук-трейл # 5 Крево Трейл 10",13.88,"М",{"$f":"IF(E406=\"Ж\",VLOOKUP(C406,Гонки!$E$2:$P$16,11,FALSE),VLOOKUP(C406,Гонки!$E$2:$P$16,12,FALSE))","v":56},"Медвецкий Денис",1986,"Medvetskij Denis","Медвецкий Денис / Medvetskij Denis / 1986","М",21,64.285714285714278,239.5]
[{"$f":"Гонки!$C$7","v":"Жук-трейл # 5 Крево"},{"$f":"Гонки!$D$10","v":"Трейл 10"},"Жук-трейл # 5 Крево Трейл 10",13.88,"М",{"$f":"IF(E407=\"Ж\",VLOOKUP(C407,Гонки!$E$2:$P$16,11,FALSE),VLOOKUP(C407,Гонки!$E$2:$P$16,12,FALSE))","v":56},"Бегун Егор",1988,"Begun Egor","Бегун Егор / Begun Egor / 1988","М",22,62.5,232.85]
[{"$f":"Гонки!$C$7","v":"Жук-трейл # 5 Крево"},{"$f":"Гонки!$D$10","v":"Трейл 10"},"Жук-трейл # 5 Крево Трейл 10",13.88,"М",{"$f":"IF(E408=\"Ж\",VLOOKUP(C408,Гонки!$E$2:$P$16,11,FALSE),VLOOKUP(C408,Гонки!$E$2:$P$16,12,FALSE))","v":56},"Хамицевич Андрей",1983,"Hamitsevich Andrej","Хамицевич Андрей / Hamitsevich Andrej / 1983","М",23,60.714285714285715,226.2]
[{"$f":"Гонки!$C$7","v":"Жук-трейл # 5 Крево"},{"$f":"Гонки!$D$10","v":"Трейл 10"},"Жук-трейл # 5 Крево Трейл 10",13.88,"М",{"$f":"IF(E409=\"Ж\",VLOOKUP(C409,Гонки!$E$2:$P$16,11,FALSE),VLOOKUP(C409,Гонки!$E$2:$P$16,12,FALSE))","v":56},"Ладеев Дмитрий",1981,"Ladeev Dmitrij","Ладеев Дмитрий / Ladeev Dmitrij / 1981","М",24,58.928571428571431,219.54]
[{"$f":"Гонки!$C$7","v":"Жук-трейл # 5 Крево"},{"$f":"Гонки!$D$10","v":"Трейл 10"},"Жук-трейл # 5 Крево Трейл 10",13.88,"М",{"$f":"IF(E410=\"Ж\",VLOOKUP(C410,Гонки!$E$2:$P$16,11,FALSE),VLOOKUP(C410,Гонки!$E$2:$P$16,12,FALSE))","v":56},"Миканович Антон",1990,"Mikanovich Anton","Миканович Антон / Mikanovich Anton / 1990","М",25,57.142857142857146,212.89]
[{"$f":"Гонки!$C$7","v":"Жук-трейл # 5 Крево"},{"$f":"Гонки!$D$10","v":"Трейл 10"},"Жук-трейл # 5 Крево Трейл 10",13.88,"М",{"$f":"IF(E411=\"Ж\",VLOOKUP(C411,Гонки!$E$2:$P$16,11,FALSE),VLOOKUP(C411,Гонки!$E$2:$P$16,12,FALSE))","v":56},"Бычинский Владислав",1992,"Bychinskij Vladislav","Бычинский Владислав / Bychinskij Vladislav / 1992","М",26,55.357142857142854,206.24]
[{"$f":"Гонки!$C$7","v":"Жук-трейл # 5 Крево"},{"$f":"Гонки!$D$10","v":"Трейл 10"},"Жук-трейл # 5 Крево Трейл 10",13.88,"М",{"$f":"IF(E412=\"Ж\",VLOOKUP(C412,Гонки!$E$2:$P$16,11,FALSE),VLOOKUP(C412,Гонки!$E$2:$P$16,12,FALSE))","v":56},"Вирский Константин",1977,"Virskij Konstantin","Вирский Константин / Virskij Konstantin / 1977","М",27,53.571428571428569,199.59]
[{"$f":"Гонки!$C$7","v":"Жук-трейл # 5 Крево"},{"$f":"Гонки!$D$10","v":"Трейл 10"},"Жук-трейл # 5 Крево Трейл 10",13.88,"М",{"$f":"IF(E413=\"Ж\",VLOOKUP(C413,Гонки!$E$2:$P$16,11,FALSE),VLOOKUP(C413,Гонки!$E$2:$P$16,12,FALSE))","v":56},"Куликовский Ян",1992,"Kulikovskij Yan","Куликовский Ян / Kulikovskij Yan / 1992","М",28,51.785714285714285,192.93]
[{"$f":"Гонки!$C$7","v":"Жук-трейл # 5 Крево"},{"$f":"Гонки!$D$10","v":"Трейл 10"},"Жук-трейл # 5 Крево Трейл 10",13.88,"М",{"$f":"IF(E414=\"Ж\",VLOOKUP(C414,Гонки!$E$2:$P$16,11,FALSE),VLOOKUP(C414,Гонки!$E$2:$P$16,12,FALSE))","v":56},"Зуевский Роман",1986,"Zuevskij Roman","Зуевский Роман / Zuevskij Roman / 1986","М",29,50,186.28]
[{"$f":"Гонки!$C$7","v":"Жук-трейл # 5 Крево"},{"$f":"Гонки!$D$10","v":"Трейл 10"},"Жук-трейл # 5 Крево Трейл 10",13.88,"М",{"$f":"IF(E415=\"Ж\",VLOOKUP(C415,Гонки!$E$2:$P$16,11,FALSE),VLOOKUP(C415,Гонки!$E$2:$P$16,12,FALSE))","v":56},"Гамидов Нариман",1972,"Gamidov Nariman","Гамидов Нариман / Gamidov Nariman / 1972","М",30,48.214285714285708,179.63]
[{"$f":"Гонки!$C$7","v":"Жук-трейл # 5 Крево"},{"$f":"Гонки!$D$10","v":"Трейл 10"},"Жук-трейл # 5 Крево Трейл 10",13.88,"М",{"$f":"IF(E416=\"Ж\",VLOOKUP(C416,Гонки!$E$2:$P$16,11,FALSE),VLOOKUP(C416,Гонки!$E$2:$P$16,12,FALSE))","v":56},"Хомич Юрий",1970,"Homich Yurij","Хомич Юрий / Homich Yurij / 1970","М",31,46.428571428571431,172.97]
[{"$f":"Гонки!$C$7","v":"Жук-трейл # 5 Крево"},{"$f":"Гонки!$D$10","v":"Трейл 10"},"Жук-трейл # 5 Крево Трейл 10",13.88,"М",{"$f":"IF(E417=\"Ж\",VLOOKUP(C417,Гонки!$E$2:$P$16,11,FALSE),VLOOKUP(C417,Гонки!$E$2:$P$16,12,FALSE))","v":56},"Лупин Сергей",1985,"Lupin Sergej","Лупин Сергей / Lupin Sergej / 1985","М",32,44.642857142857139,166.32]
[{"$f":"Гонки!$C$7","v":"Жук-трейл # 5 Крево"},{"$f":"Гонки!$D$10","v":"Трейл 10"},"Жук-трейл # 5 Крево Трейл 10",13.88,"М",{"$f":"IF(E418=\"Ж\",VLOOKUP(C418,Гонки!$E$2:$P$16,11,FALSE),VLOOKUP(C418,Гонки!$E$2:$P$16,12,FALSE))","v":56},"Явтушенко Вадим",1981,"Yavtushenko Vadim","Явтушенко Вадим / Yavtushenko Vadim / 1981","М",33,42.857142857142861,159.66999999999999]
[{"$f":"Гонки!$C$7","v":"Жук-трейл # 5 Крево"},{"$f":"Гонки!$D$10","v":"Трейл 10"},"Жук-трейл # 5 Крево Трейл 10",13.88,"М",{"$f":"IF(E419=\"Ж\",VLOOKUP(C419,Гонки!$E$2:$P$16,11,FALSE),VLOOKUP(C419,Гонки!$E$2:$P$16,12,FALSE))","v":56},"Воробьёв Дмитрий",1988,"Vorobjov Dmitrij","Воробьёв Дмитрий / Vorobjov Dmitrij / 1988","М",34,41.071428571428569,153.02000000000001]
[{"$f":"Гонки!$C$7","v":"Жук-трейл # 5 Крево"},{"$f":"Гонки!$D$10","v":"Трейл 10"},"Жук-трейл # 5 Крево Трейл 10",13.88,"М",{"$f":"IF(E420=\"Ж\",VLOOKUP(C420,Гонки!$E$2:$P$16,11,FALSE),VLOOKUP(C420,Гонки!$E$2:$P$16,12,FALSE))","v":56},"Грицевич Виталий",1987,"Gritsevich Vitalij","Грицевич Виталий / Gritsevich Vitalij / 1987","М",35,39.285714285714292,146.36000000000001]
[{"$f":"Гонки!$C$7","v":"Жук-трейл # 5 Крево"},{"$f":"Гонки!$D$10","v":"Трейл 10"},"Жук-трейл # 5 Крево Трейл 10",13.88,"М",{"$f":"IF(E421=\"Ж\",VLOOKUP(C421,Гонки!$E$2:$P$16,11,FALSE),VLOOKUP(C421,Гонки!$E$2:$P$16,12,FALSE))","v":56},"Бортник Александр",1994,"Bortnik Aleksandr","Бортник Александр / Bortnik Aleksandr / 1994","М",36,37.5,139.71]
[{"$f":"Гонки!$C$7","v":"Жук-трейл # 5 Крево"},{"$f":"Гонки!$D$10","v":"Трейл 10"},"Жук-трейл # 5 Крево Трейл 10",13.88,"М",{"$f":"IF(E422=\"Ж\",VLOOKUP(C422,Гонки!$E$2:$P$16,11,FALSE),VLOOKUP(C422,Гонки!$E$2:$P$16,12,FALSE))","v":56},"Симогостицкий Александр",1987,"Simogostitskij Aleksandr","Симогостицкий Александр / Simogostitskij Aleksandr / 1987","М",37,35.714285714285708,133.06]
[{"$f":"Гонки!$C$7","v":"Жук-трейл # 5 Крево"},{"$f":"Гонки!$D$10","v":"Трейл 10"},"Жук-трейл # 5 Крево Трейл 10",13.88,"М",{"$f":"IF(E423=\"Ж\",VLOOKUP(C423,Гонки!$E$2:$P$16,11,FALSE),VLOOKUP(C423,Гонки!$E$2:$P$16,12,FALSE))","v":56},"Рудович Александр",1990,"Rudovich Aleksandr","Рудович Александр / Rudovich Aleksandr / 1990","М",38,33.928571428571431,126.4]
[{"$f":"Гонки!$C$7","v":"Жук-трейл # 5 Крево"},{"$f":"Гонки!$D$10","v":"Трейл 10"},"Жук-трейл # 5 Крево Трейл 10",13.88,"М",{"$f":"IF(E424=\"Ж\",VLOOKUP(C424,Гонки!$E$2:$P$16,11,FALSE),VLOOKUP(C424,Гонки!$E$2:$P$16,12,FALSE))","v":56},"Логиновский Михаил",1976,"Loginovskij Mihail","Логиновский Михаил / Loginovskij Mihail / 1976","М",39,32.142857142857139,119.75]
[{"$f":"Гонки!$C$7","v":"Жук-трейл # 5 Крево"},{"$f":"Гонки!$D$10","v":"Трейл 10"},"Жук-трейл # 5 Крево Трейл 10",13.88,"М",{"$f":"IF(E425=\"Ж\",VLOOKUP(C425,Гонки!$E$2:$P$16,11,FALSE),VLOOKUP(C425,Гонки!$E$2:$P$16,12,FALSE))","v":56},"Ремизевич Вадим",1980,"Remizevich Vadim","Ремизевич Вадим / Remizevich Vadim / 1980","М",40,30.357142857142861,113.1]
[{"$f":"Гонки!$C$7","v":"Жук-трейл # 5 Крево"},{"$f":"Гонки!$D$10","v":"Трейл 10"},"Жук-трейл # 5 Крево Трейл 10",13.88,"М",{"$f":"IF(E426=\"Ж\",VLOOKUP(C426,Гонки!$E$2:$P$16,11,FALSE),VLOOKUP(C426,Гонки!$E$2:$P$16,12,FALSE))","v":56},"Незнанов Михаил",1982,"Neznanov Mihail","Незнанов Михаил / Neznanov Mihail / 1982","М",41,28.571428571428569,106.45]
[{"$f":"Гонки!$C$7","v":"Жук-трейл # 5 Крево"},{"$f":"Гонки!$D$10","v":"Трейл 10"},"Жук-трейл # 5 Крево Трейл 10",13.88,"М",{"$f":"IF(E427=\"Ж\",VLOOKUP(C427,Гонки!$E$2:$P$16,11,FALSE),VLOOKUP(C427,Гонки!$E$2:$P$16,12,FALSE))","v":56},"Капустин Егор",2004,"Kapustin Egor","Капустин Егор / Kapustin Egor / 2004","М",42,26.785714285714292,99.79]
[{"$f":"Гонки!$C$7","v":"Жук-трейл # 5 Крево"},{"$f":"Гонки!$D$10","v":"Трейл 10"},"Жук-трейл # 5 Крево Трейл 10",13.88,"М",{"$f":"IF(E428=\"Ж\",VLOOKUP(C428,Гонки!$E$2:$P$16,11,FALSE),VLOOKUP(C428,Гонки!$E$2:$P$16,12,FALSE))","v":56},"Жукович Артем",1988,"Zhukovich Artem","Жукович Артем / Zhukovich Artem / 1988","М",43,25,93.14]
[{"$f":"Гонки!$C$7","v":"Жук-трейл # 5 Крево"},{"$f":"Гонки!$D$10","v":"Трейл 10"},"Жук-трейл # 5 Крево Трейл 10",13.88,"М",{"$f":"IF(E429=\"Ж\",VLOOKUP(C429,Гонки!$E$2:$P$16,11,FALSE),VLOOKUP(C429,Гонки!$E$2:$P$16,12,FALSE))","v":56},"Дашкевич Павел",1999,"Dashkevich Pavel","Дашкевич Павел / Dashkevich Pavel / 1999","М",44,23.214285714285708,86.49]
[{"$f":"Гонки!$C$7","v":"Жук-трейл # 5 Крево"},{"$f":"Гонки!$D$10","v":"Трейл 10"},"Жук-трейл # 5 Крево Трейл 10",13.88,"М",{"$f":"IF(E430=\"Ж\",VLOOKUP(C430,Гонки!$E$2:$P$16,11,FALSE),VLOOKUP(C430,Гонки!$E$2:$P$16,12,FALSE))","v":56},"Мороз Евгений",1985,"Moroz Evgenij","Мороз Евгений / Moroz Evgenij / 1985","М",45,21.428571428571431,79.83]
[{"$f":"Гонки!$C$7","v":"Жук-трейл # 5 Крево"},{"$f":"Гонки!$D$10","v":"Трейл 10"},"Жук-трейл # 5 Крево Трейл 10",13.88,"М",{"$f":"IF(E431=\"Ж\",VLOOKUP(C431,Гонки!$E$2:$P$16,11,FALSE),VLOOKUP(C431,Гонки!$E$2:$P$16,12,FALSE))","v":56},"Мертенс Андрей",1992,"Mertens Andrej","Мертенс Андрей / Mertens Andrej / 1992","М",46,19.642857142857139,73.180000000000007]
[{"$f":"Гонки!$C$7","v":"Жук-трейл # 5 Крево"},{"$f":"Гонки!$D$10","v":"Трейл 10"},"Жук-трейл # 5 Крево Трейл 10",13.88,"М",{"$f":"IF(E432=\"Ж\",VLOOKUP(C432,Гонки!$E$2:$P$16,11,FALSE),VLOOKUP(C432,Гонки!$E$2:$P$16,12,FALSE))","v":56},"Сим Игорь",1989,"Sim Igor","Сим Игорь / Sim Igor / 1989","М",47,17.857142857142861,66.53]
[{"$f":"Гонки!$C$7","v":"Жук-трейл # 5 Крево"},{"$f":"Гонки!$D$10","v":"Трейл 10"},"Жук-трейл # 5 Крево Трейл 10",13.88,"М",{"$f":"IF(E433=\"Ж\",VLOOKUP(C433,Гонки!$E$2:$P$16,11,FALSE),VLOOKUP(C433,Гонки!$E$2:$P$16,12,FALSE))","v":56},"Ковалев Никита",2001,"Kovalev Nikita","Ковалев Никита / Kovalev Nikita / 2001","М",48,16.071428571428569,59.88]
[{"$f":"Гонки!$C$7","v":"Жук-трейл # 5 Крево"},{"$f":"Гонки!$D$10","v":"Трейл 10"},"Жук-трейл # 5 Крево Трейл 10",13.88,"М",{"$f":"IF(E434=\"Ж\",VLOOKUP(C434,Гонки!$E$2:$P$16,11,FALSE),VLOOKUP(C434,Гонки!$E$2:$P$16,12,FALSE))","v":56},"Ковалев Михаил",1970,"Kovalev Mihail","Ковалев Михаил / Kovalev Mihail / 1970","М",49,14.285714285714292,53.22]
[{"$f":"Гонки!$C$7","v":"Жук-трейл # 5 Крево"},{"$f":"Гонки!$D$10","v":"Трейл 10"},"Жук-трейл # 5 Крево Трейл 10",13.88,"М",{"$f":"IF(E435=\"Ж\",VLOOKUP(C435,Гонки!$E$2:$P$16,11,FALSE),VLOOKUP(C435,Гонки!$E$2:$P$16,12,FALSE))","v":56},"Ковриго Сергей",1981,"Kovrigo Sergej","Ковриго Сергей / Kovrigo Sergej / 1981","М",50,12.5,46.57]
[{"$f":"Гонки!$C$7","v":"Жук-трейл # 5 Крево"},{"$f":"Гонки!$D$10","v":"Трейл 10"},"Жук-трейл # 5 Крево Трейл 10",13.88,"М",{"$f":"IF(E436=\"Ж\",VLOOKUP(C436,Гонки!$E$2:$P$16,11,FALSE),VLOOKUP(C436,Гонки!$E$2:$P$16,12,FALSE))","v":56},"Дашкевич Сергей",1996,"Dashkevich Sergej","Дашкевич Сергей / Dashkevich Sergej / 1996","М",51,10.714285714285708,39.92]
[{"$f":"Гонки!$C$7","v":"Жук-трейл # 5 Крево"},{"$f":"Гонки!$D$10","v":"Трейл 10"},"Жук-трейл # 5 Крево Трейл 10",13.88,"М",{"$f":"IF(E437=\"Ж\",VLOOKUP(C437,Гонки!$E$2:$P$16,11,FALSE),VLOOKUP(C437,Гонки!$E$2:$P$16,12,FALSE))","v":56},"Лазаренок Глеб",1982,"Lazarenok Gleb","Лазаренок Глеб / Lazarenok Gleb / 1982","М",52,8.9285714285714306,33.26]
[{"$f":"Гонки!$C$7","v":"Жук-трейл # 5 Крево"},{"$f":"Гонки!$D$10","v":"Трейл 10"},"Жук-трейл # 5 Крево Трейл 10",13.88,"М",{"$f":"IF(E438=\"Ж\",VLOOKUP(C438,Гонки!$E$2:$P$16,11,FALSE),VLOOKUP(C438,Гонки!$E$2:$P$16,12,FALSE))","v":56},"Адаменко Виталий",1985,"Adamenko Vitalij","Адаменко Виталий / Adamenko Vitalij / 1985","М",53,7.1428571428571388,26.61]
[{"$f":"Гонки!$C$7","v":"Жук-трейл # 5 Крево"},{"$f":"Гонки!$D$10","v":"Трейл 10"},"Жук-трейл # 5 Крево Трейл 10",13.88,"М",{"$f":"IF(E439=\"Ж\",VLOOKUP(C439,Гонки!$E$2:$P$16,11,FALSE),VLOOKUP(C439,Гонки!$E$2:$P$16,12,FALSE))","v":56},"Курата Кеннет",1978,"Kurata Kennet","Курата Кеннет / Kurata Kennet / 1978","М",54,5.3571428571428612,19.96]
[{"$f":"Гонки!$C$7","v":"Жук-трейл # 5 Крево"},{"$f":"Гонки!$D$10","v":"Трейл 10"},"Жук-трейл # 5 Крево Трейл 10",13.88,"М",{"$f":"IF(E440=\"Ж\",VLOOKUP(C440,Гонки!$E$2:$P$16,11,FALSE),VLOOKUP(C440,Гонки!$E$2:$P$16,12,FALSE))","v":56},"Кузьмич Дмитрий",1975,"Kuzmich Dmitrij","Кузьмич Дмитрий / Kuzmich Dmitrij / 1975","М",55,3.5714285714285694,13.31]
[{"$f":"Гонки!$C$7","v":"Жук-трейл # 5 Крево"},{"$f":"Гонки!$D$10","v":"Трейл 10"},"Жук-трейл # 5 Крево Трейл 10",13.88,"М",{"$f":"IF(E441=\"Ж\",VLOOKUP(C441,Гонки!$E$2:$P$16,11,FALSE),VLOOKUP(C441,Гонки!$E$2:$P$16,12,FALSE))","v":56},"Павлов Александр",1992,"Pavlov Aleksandr","Павлов Александр / Pavlov Aleksandr / 1992","М",56,1.7857142857142918,6.65]
[{"$f":"Гонки!$C$11","v":"\"Налибоки 2018\""},{"$f":"Гонки!$D$13","v":"Трейл 100"},"\"Налибоки 2018\" Трейл 100",108.39999999999999,"Ж",{"$f":"IF(E442=\"Ж\",VLOOKUP(C442,Гонки!$E$2:$P$16,11,FALSE),VLOOKUP(C442,Гонки!$E$2:$P$16,12,FALSE))","v":3},"Гурская Татьяна",1980,"Gurskaya Tatyana","Гурская Татьяна / Gurskaya Tatyana / 1980","Ж",1,100,1041.1500000000001]
[{"$f":"Гонки!$C$11","v":"\"Налибоки 2018\""},{"$f":"Гонки!$D$13","v":"Трейл 100"},"\"Налибоки 2018\" Трейл 100",108.39999999999999,"Ж",{"$f":"IF(E443=\"Ж\",VLOOKUP(C443,Гонки!$E$2:$P$16,11,FALSE),VLOOKUP(C443,Гонки!$E$2:$P$16,12,FALSE))","v":3},"Полещук Татьяна",1988,"Poleschuk Tatyana","Полещук Татьяна / Poleschuk Tatyana / 1988","Ж",2,66.666666666666671,694.1]
[{"$f":"Гонки!$C$11","v":"\"Налибоки 2018\""},{"$f":"Гонки!$D$13","v":"Трейл 100"},"\"Налибоки 2018\" Трейл 100",108.39999999999999,"М",{"$f":"IF(E444=\"Ж\",VLOOKUP(C444,Гонки!$E$2:$P$16,11,FALSE),VLOOKUP(C444,Гонки!$E$2:$P$16,12,FALSE))","v":36},"Генсировский Павел",1979,"Gensirovskij Pavel","Генсировский Павел / Gensirovskij Pavel / 1979","М",1,100,1041.1500000000001]
[{"$f":"Гонки!$C$11","v":"\"Налибоки 2018\""},{"$f":"Гонки!$D$13","v":"Трейл 100"},"\"Налибоки 2018\" Трейл 100",108.39999999999999,"М",{"$f":"IF(E445=\"Ж\",VLOOKUP(C445,Гонки!$E$2:$P$16,11,FALSE),VLOOKUP(C445,Гонки!$E$2:$P$16,12,FALSE))","v":36},"Синица Кирилл",1981,"Sinitsa Kirill","Синица Кирилл / Sinitsa Kirill / 1981","М",2,97.222222222222229,1012.23]
[{"$f":"Гонки!$C$11","v":"\"Налибоки 2018\""},{"$f":"Гонки!$D$13","v":"Трейл 100"},"\"Налибоки 2018\" Трейл 100",108.39999999999999,"М",{"$f":"IF(E446=\"Ж\",VLOOKUP(C446,Гонки!$E$2:$P$16,11,FALSE),VLOOKUP(C446,Гонки!$E$2:$P$16,12,FALSE))","v":36},"Козич Андрей",1986,"Kozich Andrej","Козич Андрей / Kozich Andrej / 1986","М",3,94.444444444444443,983.31]
[{"$f":"Гонки!$C$11","v":"\"Налибоки 2018\""},{"$f":"Гонки!$D$13","v":"Трейл 100"},"\"Налибоки 2018\" Трейл 100",108.39999999999999,"М",{"$f":"IF(E447=\"Ж\",VLOOKUP(C447,Гонки!$E$2:$P$16,11,FALSE),VLOOKUP(C447,Гонки!$E$2:$P$16,12,FALSE))","v":36},"Грабовец Павел",1981,"Grabovets Pavel","Грабовец Павел / Grabovets Pavel / 1981","М",4,91.666666666666671,954.39]
[{"$f":"Гонки!$C$11","v":"\"Налибоки 2018\""},{"$f":"Гонки!$D$13","v":"Трейл 100"},"\"Налибоки 2018\" Трейл 100",108.39999999999999,"М",{"$f":"IF(E448=\"Ж\",VLOOKUP(C448,Гонки!$E$2:$P$16,11,FALSE),VLOOKUP(C448,Гонки!$E$2:$P$16,12,FALSE))","v":36},"Молочко Александр",1981,"Molochko Aleksandr","Молочко Александр / Molochko Aleksandr / 1981","М",5,88.888888888888886,925.47]
[{"$f":"Гонки!$C$11","v":"\"Налибоки 2018\""},{"$f":"Гонки!$D$13","v":"Трейл 100"},"\"Налибоки 2018\" Трейл 100",108.39999999999999,"М",{"$f":"IF(E449=\"Ж\",VLOOKUP(C449,Гонки!$E$2:$P$16,11,FALSE),VLOOKUP(C449,Гонки!$E$2:$P$16,12,FALSE))","v":36},"Лысенко Павел",1966,"Lysenko Pavel","Лысенко Павел / Lysenko Pavel / 1966","М",6,86.111111111111114,896.55]
[{"$f":"Гонки!$C$11","v":"\"Налибоки 2018\""},{"$f":"Гонки!$D$13","v":"Трейл 100"},{"$f":"CONCATENATE(A450,\" \",B450)","v":"\"Налибоки 2018\" Трейл 100"},{"$f":"VLOOKUP(C450,Список_гонок,10,FALSE)","v":108.39999999999999},"М",{"$f":"IF(E450=\"Ж\",VLOOKUP(C450,Гонки!$E$2:$P$16,11,FALSE),VLOOKUP(C450,Гонки!$E$2:$P$16,12,FALSE))","v":36},"Побединский Александр",1983,{"$f":"Translit(G450)","v":"Pobedinskij Aleksandr"},{"$f":"CONCATENATE(G450,\" / \",I450,\" / \",H450)","v":"Побединский Александр / Pobedinskij Aleksandr / 1983"},{"$f":"E450","v":"М"},7,{"$f":"100-((L450-1)/F450)*100","v":83.333333333333343},{"$f":"ROUND(SQRT(D450)*M450,2)","v":867.63}]
[{"$f":"Гонки!$C$11","v":"\"Налибоки 2018\""},{"$f":"Гонки!$D$13","v":"Трейл 100"},"\"Налибоки 2018\" Трейл 100",108.39999999999999,"М",{"$f":"IF(E451=\"Ж\",VLOOKUP(C451,Гонки!$E$2:$P$16,11,FALSE),VLOOKUP(C451,Гонки!$E$2:$P$16,12,FALSE))","v":36},"Исаев Антон",1979,"Isaev Anton","Исаев Антон / Isaev Anton / 1979","М",8,80.555555555555557,838.71]
[{"$f":"Гонки!$C$11","v":"\"Налибоки 2018\""},{"$f":"Гонки!$D$13","v":"Трейл 100"},"\"Налибоки 2018\" Трейл 100",108.39999999999999,"М",{"$f":"IF(E452=\"Ж\",VLOOKUP(C452,Гонки!$E$2:$P$16,11,FALSE),VLOOKUP(C452,Гонки!$E$2:$P$16,12,FALSE))","v":36},"Окромешко Антон",1990,"Okromeshko Anton","Окромешко Антон / Okromeshko Anton / 1990","М",9,77.777777777777771,809.79]
[{"$f":"Гонки!$C$11","v":"\"Налибоки 2018\""},{"$f":"Гонки!$D$13","v":"Трейл 100"},"\"Налибоки 2018\" Трейл 100",108.39999999999999,"М",{"$f":"IF(E453=\"Ж\",VLOOKUP(C453,Гонки!$E$2:$P$16,11,FALSE),VLOOKUP(C453,Гонки!$E$2:$P$16,12,FALSE))","v":36},"Глушков Александр",1980,"Glushkov Aleksandr","Глушков Александр / Glushkov Aleksandr / 1980","М",10,75,780.86]
[{"$f":"Гонки!$C$11","v":"\"Налибоки 2018\""},{"$f":"Гонки!$D$13","v":"Трейл 100"},"\"Налибоки 2018\" Трейл 100",108.39999999999999,"М",{"$f":"IF(E454=\"Ж\",VLOOKUP(C454,Гонки!$E$2:$P$16,11,FALSE),VLOOKUP(C454,Гонки!$E$2:$P$16,12,FALSE))","v":36},"Храмов Антон",1991,"Hramov Anton","Храмов Антон / Hramov Anton / 1991","М",11,72.222222222222229,751.94]
[{"$f":"Гонки!$C$11","v":"\"Налибоки 2018\""},{"$f":"Гонки!$D$13","v":"Трейл 100"},"\"Налибоки 2018\" Трейл 100",108.39999999999999,"М",{"$f":"IF(E455=\"Ж\",VLOOKUP(C455,Гонки!$E$2:$P$16,11,FALSE),VLOOKUP(C455,Гонки!$E$2:$P$16,12,FALSE))","v":36},"Мартысевич Роман",1993,"Martysevich Roman","Мартысевич Роман / Martysevich Roman / 1993","М",12,69.444444444444443,723.02]
[{"$f":"Гонки!$C$11","v":"\"Налибоки 2018\""},{"$f":"Гонки!$D$13","v":"Трейл 100"},"\"Налибоки 2018\" Трейл 100",108.39999999999999,"М",{"$f":"IF(E456=\"Ж\",VLOOKUP(C456,Гонки!$E$2:$P$16,11,FALSE),VLOOKUP(C456,Гонки!$E$2:$P$16,12,FALSE))","v":36},"Новікаў Анатоль",1984,"Novіkau Anatol","Новікаў Анатоль / Novіkau Anatol / 1984","М",13,66.666666666666671,694.1]
[{"$f":"Гонки!$C$11","v":"\"Налибоки 2018\""},{"$f":"Гонки!$D$13","v":"Трейл 100"},"\"Налибоки 2018\" Трейл 100",108.39999999999999,"М",{"$f":"IF(E457=\"Ж\",VLOOKUP(C457,Гонки!$E$2:$P$16,11,FALSE),VLOOKUP(C457,Гонки!$E$2:$P$16,12,FALSE))","v":36},"Федорович Николай",1959,"Fedorovich Nikolaj","Федорович Николай / Fedorovich Nikolaj / 1959","М",14,63.888888888888893,665.18]
[{"$f":"Гонки!$C$11","v":"\"Налибоки 2018\""},{"$f":"Гонки!$D$13","v":"Трейл 100"},"\"Налибоки 2018\" Трейл 100",108.39999999999999,"М",{"$f":"IF(E458=\"Ж\",VLOOKUP(C458,Гонки!$E$2:$P$16,11,FALSE),VLOOKUP(C458,Гонки!$E$2:$P$16,12,FALSE))","v":36},"Харитонов Иван",1973,"Haritonov Ivan","Харитонов Иван / Haritonov Ivan / 1973","М",15,61.111111111111107,636.26]
[{"$f":"Гонки!$C$11","v":"\"Налибоки 2018\""},{"$f":"Гонки!$D$13","v":"Трейл 100"},"\"Налибоки 2018\" Трейл 100",108.39999999999999,"М",{"$f":"IF(E459=\"Ж\",VLOOKUP(C459,Гонки!$E$2:$P$16,11,FALSE),VLOOKUP(C459,Гонки!$E$2:$P$16,12,FALSE))","v":36},"Тюев Даниил",1977,"Tyuev Daniil","Тюев Даниил / Tyuev Daniil / 1977","М",16,58.333333333333329,607.34]
[{"$f":"Гонки!$C$11","v":"\"Налибоки 2018\""},{"$f":"Гонки!$D$13","v":"Трейл 100"},"\"Налибоки 2018\" Трейл 100",108.39999999999999,"М",{"$f":"IF(E460=\"Ж\",VLOOKUP(C460,Гонки!$E$2:$P$16,11,FALSE),VLOOKUP(C460,Гонки!$E$2:$P$16,12,FALSE))","v":36},"Гусаревич Денис",1983,"Gusarevich Denis","Гусаревич Денис / Gusarevich Denis / 1983","М",17,55.555555555555557,578.41999999999996]
[{"$f":"Гонки!$C$11","v":"\"Налибоки 2018\""},{"$f":"Гонки!$D$13","v":"Трейл 100"},"\"Налибоки 2018\" Трейл 100",108.39999999999999,"М",{"$f":"IF(E461=\"Ж\",VLOOKUP(C461,Гонки!$E$2:$P$16,11,FALSE),VLOOKUP(C461,Гонки!$E$2:$P$16,12,FALSE))","v":36},"Трасковский Дмитрий",1986,"Traskovskij Dmitrij","Трасковский Дмитрий / Traskovskij Dmitrij / 1986","М",18,52.777777777777779,549.5]
[{"$f":"Гонки!$C$11","v":"\"Налибоки 2018\""},{"$f":"Гонки!$D$13","v":"Трейл 100"},"\"Налибоки 2018\" Трейл 100",108.39999999999999,"М",{"$f":"IF(E462=\"Ж\",VLOOKUP(C462,Гонки!$E$2:$P$16,11,FALSE),VLOOKUP(C462,Гонки!$E$2:$P$16,12,FALSE))","v":36},"Величко Павел",1982,"Velichko Pavel","Величко Павел / Velichko Pavel / 1982","М",19,50,520.58000000000004]
[{"$f":"Гонки!$C$11","v":"\"Налибоки 2018\""},{"$f":"Гонки!$D$13","v":"Трейл 100"},"\"Налибоки 2018\" Трейл 100",108.39999999999999,"М",{"$f":"IF(E463=\"Ж\",VLOOKUP(C463,Гонки!$E$2:$P$16,11,FALSE),VLOOKUP(C463,Гонки!$E$2:$P$16,12,FALSE))","v":36},"Шестаков Геннадий",1962,"Shestakov Gennadij","Шестаков Геннадий / Shestakov Gennadij / 1962","М",20,47.222222222222221,491.66]
[{"$f":"Гонки!$C$11","v":"\"Налибоки 2018\""},{"$f":"Гонки!$D$13","v":"Трейл 100"},"\"Налибоки 2018\" Трейл 100",108.39999999999999,"М",{"$f":"IF(E464=\"Ж\",VLOOKUP(C464,Гонки!$E$2:$P$16,11,FALSE),VLOOKUP(C464,Гонки!$E$2:$P$16,12,FALSE))","v":36},"Суховей Михаил",1991,"Suhovej Mihail","Суховей Михаил / Suhovej Mihail / 1991","М",21,44.444444444444443,462.73]
[{"$f":"Гонки!$C$11","v":"\"Налибоки 2018\""},{"$f":"Гонки!$D$13","v":"Трейл 100"},"\"Налибоки 2018\" Трейл 100",108.39999999999999,"М",{"$f":"IF(E465=\"Ж\",VLOOKUP(C465,Гонки!$E$2:$P$16,11,FALSE),VLOOKUP(C465,Гонки!$E$2:$P$16,12,FALSE))","v":36},"Комин Игорь",1959,"Komin Igor","Комин Игорь / Komin Igor / 1959","М",22,41.666666666666664,433.81]
[{"$f":"Гонки!$C$11","v":"\"Налибоки 2018\""},{"$f":"Гонки!$D$13","v":"Трейл 100"},"\"Налибоки 2018\" Трейл 100",108.39999999999999,"М",{"$f":"IF(E466=\"Ж\",VLOOKUP(C466,Гонки!$E$2:$P$16,11,FALSE),VLOOKUP(C466,Гонки!$E$2:$P$16,12,FALSE))","v":36},"Копоть Александр",1992,"Kopot Aleksandr","Копоть Александр / Kopot Aleksandr / 1992","М",23,38.888888888888886,404.89]
[{"$f":"Гонки!$C$11","v":"\"Налибоки 2018\""},{"$f":"Гонки!$D$13","v":"Трейл 100"},"\"Налибоки 2018\" Трейл 100",108.39999999999999,"М",{"$f":"IF(E467=\"Ж\",VLOOKUP(C467,Гонки!$E$2:$P$16,11,FALSE),VLOOKUP(C467,Гонки!$E$2:$P$16,12,FALSE))","v":36},"Астапов Владимир",1977,"Astapov Vladimir","Астапов Владимир / Astapov Vladimir / 1977","М",24,36.111111111111114,375.97]
[{"$f":"Гонки!$C$11","v":"\"Налибоки 2018\""},{"$f":"Гонки!$D$13","v":"Трейл 100"},"\"Налибоки 2018\" Трейл 100",108.39999999999999,"М",{"$f":"IF(E468=\"Ж\",VLOOKUP(C468,Гонки!$E$2:$P$16,11,FALSE),VLOOKUP(C468,Гонки!$E$2:$P$16,12,FALSE))","v":36},"Титуленко Егор",1983,"Titulenko Egor","Титуленко Егор / Titulenko Egor / 1983","М",25,33.333333333333343,347.05]
[{"$f":"Гонки!$C$11","v":"\"Налибоки 2018\""},{"$f":"Гонки!$D$13","v":"Трейл 100"},"\"Налибоки 2018\" Трейл 100",108.39999999999999,"М",{"$f":"IF(E469=\"Ж\",VLOOKUP(C469,Гонки!$E$2:$P$16,11,FALSE),VLOOKUP(C469,Гонки!$E$2:$P$16,12,FALSE))","v":36},"Рачковский Николай",1985,"Rachkovskij Nikolaj","Рачковский Николай / Rachkovskij Nikolaj / 1985","М",26,30.555555555555557,318.13]
[{"$f":"Гонки!$C$11","v":"\"Налибоки 2018\""},{"$f":"Гонки!$D$13","v":"Трейл 100"},"\"Налибоки 2018\" Трейл 100",108.39999999999999,"М",{"$f":"IF(E470=\"Ж\",VLOOKUP(C470,Гонки!$E$2:$P$16,11,FALSE),VLOOKUP(C470,Гонки!$E$2:$P$16,12,FALSE))","v":36},"Ковеня Андрей",1962,"Kovenya Andrej","Ковеня Андрей / Kovenya Andrej / 1962","М",27,27.777777777777786,289.20999999999998]
[{"$f":"Гонки!$C$11","v":"\"Налибоки 2018\""},{"$f":"Гонки!$D$13","v":"Трейл 100"},"\"Налибоки 2018\" Трейл 100",108.39999999999999,"М",{"$f":"IF(E471=\"Ж\",VLOOKUP(C471,Гонки!$E$2:$P$16,11,FALSE),VLOOKUP(C471,Гонки!$E$2:$P$16,12,FALSE))","v":36},"Трасковский Геннадий",1961,"Traskovskij Gennadij","Трасковский Геннадий / Traskovskij Gennadij / 1961","М",28,25,260.29000000000002]
[{"$f":"Гонки!$C$11","v":"\"Налибоки 2018\""},{"$f":"Гонки!$D$13","v":"Трейл 100"},"\"Налибоки 2018\" Трейл 100",108.39999999999999,"М",{"$f":"IF(E472=\"Ж\",VLOOKUP(C472,Гонки!$E$2:$P$16,11,FALSE),VLOOKUP(C472,Гонки!$E$2:$P$16,12,FALSE))","v":36},"Фомин Леонид",1983,"Fomin Leonid","Фомин Леонид / Fomin Leonid / 1983","М",29,22.222222222222214,231.37]
[{"$f":"Гонки!$C$11","v":"\"Налибоки 2018\""},{"$f":"Гонки!$D$13","v":"Трейл 100"},"\"Налибоки 2018\" Трейл 100",108.39999999999999,"М",{"$f":"IF(E473=\"Ж\",VLOOKUP(C473,Гонки!$E$2:$P$16,11,FALSE),VLOOKUP(C473,Гонки!$E$2:$P$16,12,FALSE))","v":36},"Гомон Сергей",1990,"Gomon Sergej","Гомон Сергей / Gomon Sergej / 1990","М",30,19.444444444444443,202.45]
[{"$f":"Гонки!$C$11","v":"\"Налибоки 2018\""},{"$f":"Гонки!$D$12","v":"Трейл 42"},"\"Налибоки 2018\" Трейл 42",51.8,"Ж",{"$f":"IF(E474=\"Ж\",VLOOKUP(C474,Гонки!$E$2:$P$16,11,FALSE),VLOOKUP(C474,Гонки!$E$2:$P$16,12,FALSE))","v":13},"Торубарова Татьяна",1983,"Torubarova Tatyana","Торубарова Татьяна / Torubarova Tatyana / 1983","Ж",1,100,719.72]
[{"$f":"Гонки!$C$11","v":"\"Налибоки 2018\""},{"$f":"Гонки!$D$12","v":"Трейл 42"},"\"Налибоки 2018\" Трейл 42",51.8,"Ж",{"$f":"IF(E475=\"Ж\",VLOOKUP(C475,Гонки!$E$2:$P$16,11,FALSE),VLOOKUP(C475,Гонки!$E$2:$P$16,12,FALSE))","v":13},"Белая Юлия",1988,"Belaya Yuliya","Белая Юлия / Belaya Yuliya / 1988","Ж",2,92.307692307692307,664.36]
[{"$f":"Гонки!$C$11","v":"\"Налибоки 2018\""},{"$f":"Гонки!$D$12","v":"Трейл 42"},"\"Налибоки 2018\" Трейл 42",51.8,"Ж",{"$f":"IF(E476=\"Ж\",VLOOKUP(C476,Гонки!$E$2:$P$16,11,FALSE),VLOOKUP(C476,Гонки!$E$2:$P$16,12,FALSE))","v":13},"Арабиенко Татьяна",1986,"Arabienko Tatyana","Арабиенко Татьяна / Arabienko Tatyana / 1986","Ж",3,84.615384615384613,609]
[{"$f":"Гонки!$C$11","v":"\"Налибоки 2018\""},{"$f":"Гонки!$D$12","v":"Трейл 42"},"\"Налибоки 2018\" Трейл 42",51.8,"Ж",{"$f":"IF(E477=\"Ж\",VLOOKUP(C477,Гонки!$E$2:$P$16,11,FALSE),VLOOKUP(C477,Гонки!$E$2:$P$16,12,FALSE))","v":13},"Колташова Елена",1984,"Koltashova Elena","Колташова Елена / Koltashova Elena / 1984","Ж",4,76.92307692307692,553.63]
[{"$f":"Гонки!$C$11","v":"\"Налибоки 2018\""},{"$f":"Гонки!$D$12","v":"Трейл 42"},"\"Налибоки 2018\" Трейл 42",51.8,"Ж",{"$f":"IF(E478=\"Ж\",VLOOKUP(C478,Гонки!$E$2:$P$16,11,FALSE),VLOOKUP(C478,Гонки!$E$2:$P$16,12,FALSE))","v":13},"Невмержицкая Анна",1997,"Nevmerzhitskaya Anna","Невмержицкая Анна / Nevmerzhitskaya Anna / 1997","Ж",5,69.230769230769226,498.27]
[{"$f":"Гонки!$C$11","v":"\"Налибоки 2018\""},{"$f":"Гонки!$D$12","v":"Трейл 42"},"\"Налибоки 2018\" Трейл 42",51.8,"Ж",{"$f":"IF(E479=\"Ж\",VLOOKUP(C479,Гонки!$E$2:$P$16,11,FALSE),VLOOKUP(C479,Гонки!$E$2:$P$16,12,FALSE))","v":13},"Трухтанова Елена",1985,"Truhtanova Elena","Трухтанова Елена / Truhtanova Elena / 1985","Ж",6,61.538461538461533,442.91]
[{"$f":"Гонки!$C$11","v":"\"Налибоки 2018\""},{"$f":"Гонки!$D$12","v":"Трейл 42"},"\"Налибоки 2018\" Трейл 42",51.8,"Ж",{"$f":"IF(E480=\"Ж\",VLOOKUP(C480,Гонки!$E$2:$P$16,11,FALSE),VLOOKUP(C480,Гонки!$E$2:$P$16,12,FALSE))","v":13},"Ткачук Дарья",1981,"Tkachuk Darya","Ткачук Дарья / Tkachuk Darya / 1981","Ж",7,53.846153846153847,387.54]
[{"$f":"Гонки!$C$11","v":"\"Налибоки 2018\""},{"$f":"Гонки!$D$12","v":"Трейл 42"},"\"Налибоки 2018\" Трейл 42",51.8,"Ж",{"$f":"IF(E481=\"Ж\",VLOOKUP(C481,Гонки!$E$2:$P$16,11,FALSE),VLOOKUP(C481,Гонки!$E$2:$P$16,12,FALSE))","v":13},"Лавриченок Светлана",1971,"Lavrichenok Svetlana","Лавриченок Светлана / Lavrichenok Svetlana / 1971","Ж",8,46.153846153846153,332.18]
[{"$f":"Гонки!$C$11","v":"\"Налибоки 2018\""},{"$f":"Гонки!$D$12","v":"Трейл 42"},"\"Налибоки 2018\" Трейл 42",51.8,"Ж",{"$f":"IF(E482=\"Ж\",VLOOKUP(C482,Гонки!$E$2:$P$16,11,FALSE),VLOOKUP(C482,Гонки!$E$2:$P$16,12,FALSE))","v":13},"Грицук Татьяна",1973,"Gritsuk Tatyana","Грицук Татьяна / Gritsuk Tatyana / 1973","Ж",9,38.46153846153846,276.82]
[{"$f":"Гонки!$C$11","v":"\"Налибоки 2018\""},{"$f":"Гонки!$D$12","v":"Трейл 42"},"\"Налибоки 2018\" Трейл 42",51.8,"Ж",{"$f":"IF(E483=\"Ж\",VLOOKUP(C483,Гонки!$E$2:$P$16,11,FALSE),VLOOKUP(C483,Гонки!$E$2:$P$16,12,FALSE))","v":13},"Пальвинская Валерия",1996,"Palvinskaya Valeriya","Пальвинская Валерия / Palvinskaya Valeriya / 1996","Ж",10,30.769230769230774,221.45]
[{"$f":"Гонки!$C$11","v":"\"Налибоки 2018\""},{"$f":"Гонки!$D$12","v":"Трейл 42"},"\"Налибоки 2018\" Трейл 42",51.8,"Ж",{"$f":"IF(E484=\"Ж\",VLOOKUP(C484,Гонки!$E$2:$P$16,11,FALSE),VLOOKUP(C484,Гонки!$E$2:$P$16,12,FALSE))","v":13},"Кукареко Екатерина",1986,"Kukareko Ekaterina","Кукареко Екатерина / Kukareko Ekaterina / 1986","Ж",11,23.076923076923066,166.09]
[{"$f":"Гонки!$C$11","v":"\"Налибоки 2018\""},{"$f":"Гонки!$D$12","v":"Трейл 42"},"\"Налибоки 2018\" Трейл 42",51.8,"М",{"$f":"IF(E485=\"Ж\",VLOOKUP(C485,Гонки!$E$2:$P$16,11,FALSE),VLOOKUP(C485,Гонки!$E$2:$P$16,12,FALSE))","v":41},"Вагин Андрей",1989,"Vagin Andrej","Вагин Андрей / Vagin Andrej / 1989","М",1,100,719.72]
[{"$f":"Гонки!$C$11","v":"\"Налибоки 2018\""},{"$f":"Гонки!$D$12","v":"Трейл 42"},"\"Налибоки 2018\" Трейл 42",51.8,"М",{"$f":"IF(E486=\"Ж\",VLOOKUP(C486,Гонки!$E$2:$P$16,11,FALSE),VLOOKUP(C486,Гонки!$E$2:$P$16,12,FALSE))","v":41},"Попов Юрий",1969,"Popov Yurij","Попов Юрий / Popov Yurij / 1969","М",2,97.560975609756099,702.17]
[{"$f":"Гонки!$C$11","v":"\"Налибоки 2018\""},{"$f":"Гонки!$D$12","v":"Трейл 42"},"\"Налибоки 2018\" Трейл 42",51.8,"М",{"$f":"IF(E487=\"Ж\",VLOOKUP(C487,Гонки!$E$2:$P$16,11,FALSE),VLOOKUP(C487,Гонки!$E$2:$P$16,12,FALSE))","v":41},"Крисенков Алексей",1983,"Krisenkov Aleksej","Крисенков Алексей / Krisenkov Aleksej / 1983","М",3,95.121951219512198,684.61]
[{"$f":"Гонки!$C$11","v":"\"Налибоки 2018\""},{"$f":"Гонки!$D$12","v":"Трейл 42"},"\"Налибоки 2018\" Трейл 42",51.8,"М",{"$f":"IF(E488=\"Ж\",VLOOKUP(C488,Гонки!$E$2:$P$16,11,FALSE),VLOOKUP(C488,Гонки!$E$2:$P$16,12,FALSE))","v":41},"Тарасенко Павел",1983,"Tarasenko Pavel","Тарасенко Павел / Tarasenko Pavel / 1983","М",4,92.682926829268297,667.06]
[{"$f":"Гонки!$C$11","v":"\"Налибоки 2018\""},{"$f":"Гонки!$D$12","v":"Трейл 42"},"\"Налибоки 2018\" Трейл 42",51.8,"М",{"$f":"IF(E489=\"Ж\",VLOOKUP(C489,Гонки!$E$2:$P$16,11,FALSE),VLOOKUP(C489,Гонки!$E$2:$P$16,12,FALSE))","v":41},"Дегтярев Сергей",1983,"Degtyarev Sergej","Дегтярев Сергей / Degtyarev Sergej / 1983","М",5,90.243902439024396,649.51]
[{"$f":"Гонки!$C$11","v":"\"Налибоки 2018\""},{"$f":"Гонки!$D$12","v":"Трейл 42"},"\"Налибоки 2018\" Трейл 42",51.8,"М",{"$f":"IF(E490=\"Ж\",VLOOKUP(C490,Гонки!$E$2:$P$16,11,FALSE),VLOOKUP(C490,Гонки!$E$2:$P$16,12,FALSE))","v":41},"Попадюк Игорь",1982,"Popadyuk Igor","Попадюк Игорь / Popadyuk Igor / 1982","М",6,87.804878048780495,631.95000000000005]
[{"$f":"Гонки!$C$11","v":"\"Налибоки 2018\""},{"$f":"Гонки!$D$12","v":"Трейл 42"},"\"Налибоки 2018\" Трейл 42",51.8,"М",{"$f":"IF(E491=\"Ж\",VLOOKUP(C491,Гонки!$E$2:$P$16,11,FALSE),VLOOKUP(C491,Гонки!$E$2:$P$16,12,FALSE))","v":41},"Казак Дмитрий",1979,"Kazak Dmitrij","Казак Дмитрий / Kazak Dmitrij / 1979","М",7,85.365853658536594,614.4]
[{"$f":"Гонки!$C$11","v":"\"Налибоки 2018\""},{"$f":"Гонки!$D$12","v":"Трейл 42"},"\"Налибоки 2018\" Трейл 42",51.8,"М",{"$f":"IF(E492=\"Ж\",VLOOKUP(C492,Гонки!$E$2:$P$16,11,FALSE),VLOOKUP(C492,Гонки!$E$2:$P$16,12,FALSE))","v":41},"Прокопович Ростислав",1982,"Prokopovich Rostislav","Прокопович Ростислав / Prokopovich Rostislav / 1982","М",8,82.926829268292678,596.84]
[{"$f":"Гонки!$C$11","v":"\"Налибоки 2018\""},{"$f":"Гонки!$D$12","v":"Трейл 42"},"\"Налибоки 2018\" Трейл 42",51.8,"М",{"$f":"IF(E493=\"Ж\",VLOOKUP(C493,Гонки!$E$2:$P$16,11,FALSE),VLOOKUP(C493,Гонки!$E$2:$P$16,12,FALSE))","v":41},"Лещинский Владимир",1983,"Leschinskij Vladimir","Лещинский Владимир / Leschinskij Vladimir / 1983","М",9,80.487804878048777,579.29]
[{"$f":"Гонки!$C$11","v":"\"Налибоки 2018\""},{"$f":"Гонки!$D$12","v":"Трейл 42"},"\"Налибоки 2018\" Трейл 42",51.8,"М",{"$f":"IF(E494=\"Ж\",VLOOKUP(C494,Гонки!$E$2:$P$16,11,FALSE),VLOOKUP(C494,Гонки!$E$2:$P$16,12,FALSE))","v":41},"Жданович Максим",1987,"Zhdanovich Maksim","Жданович Максим / Zhdanovich Maksim / 1987","М",10,78.048780487804876,561.73]
[{"$f":"Гонки!$C$11","v":"\"Налибоки 2018\""},{"$f":"Гонки!$D$12","v":"Трейл 42"},"\"Налибоки 2018\" Трейл 42",51.8,"М",{"$f":"IF(E495=\"Ж\",VLOOKUP(C495,Гонки!$E$2:$P$16,11,FALSE),VLOOKUP(C495,Гонки!$E$2:$P$16,12,FALSE))","v":41},"Минько Алексей",1997,"Minko Aleksej","Минько Алексей / Minko Aleksej / 1997","М",11,75.609756097560975,544.17999999999995]
[{"$f":"Гонки!$C$11","v":"\"Налибоки 2018\""},{"$f":"Гонки!$D$12","v":"Трейл 42"},"\"Налибоки 2018\" Трейл 42",51.8,"М",{"$f":"IF(E496=\"Ж\",VLOOKUP(C496,Гонки!$E$2:$P$16,11,FALSE),VLOOKUP(C496,Гонки!$E$2:$P$16,12,FALSE))","v":41},"Володько Андрей",1986,"Volodko Andrej","Володько Андрей / Volodko Andrej / 1986","М",12,73.170731707317074,526.63]
[{"$f":"Гонки!$C$11","v":"\"Налибоки 2018\""},{"$f":"Гонки!$D$12","v":"Трейл 42"},"\"Налибоки 2018\" Трейл 42",51.8,"М",{"$f":"IF(E497=\"Ж\",VLOOKUP(C497,Гонки!$E$2:$P$16,11,FALSE),VLOOKUP(C497,Гонки!$E$2:$P$16,12,FALSE))","v":41},"Пучик Александр",1983,"Puchik Aleksandr","Пучик Александр / Puchik Aleksandr / 1983","М",13,70.731707317073173,509.07]
[{"$f":"Гонки!$C$11","v":"\"Налибоки 2018\""},{"$f":"Гонки!$D$12","v":"Трейл 42"},"\"Налибоки 2018\" Трейл 42",51.8,"М",{"$f":"IF(E498=\"Ж\",VLOOKUP(C498,Гонки!$E$2:$P$16,11,FALSE),VLOOKUP(C498,Гонки!$E$2:$P$16,12,FALSE))","v":41},"Жидович Вадим",1984,"Zhidovich Vadim","Жидович Вадим / Zhidovich Vadim / 1984","М",14,68.292682926829272,491.52]
[{"$f":"Гонки!$C$11","v":"\"Налибоки 2018\""},{"$f":"Гонки!$D$12","v":"Трейл 42"},"\"Налибоки 2018\" Трейл 42",51.8,"М",{"$f":"IF(E499=\"Ж\",VLOOKUP(C499,Гонки!$E$2:$P$16,11,FALSE),VLOOKUP(C499,Гонки!$E$2:$P$16,12,FALSE))","v":41},"Николаевский Станислав",1985,"Nikolaevskij Stanislav","Николаевский Станислав / Nikolaevskij Stanislav / 1985","М",15,65.853658536585357,473.96]
[{"$f":"Гонки!$C$11","v":"\"Налибоки 2018\""},{"$f":"Гонки!$D$12","v":"Трейл 42"},"\"Налибоки 2018\" Трейл 42",51.8,"М",{"$f":"IF(E500=\"Ж\",VLOOKUP(C500,Гонки!$E$2:$P$16,11,FALSE),VLOOKUP(C500,Гонки!$E$2:$P$16,12,FALSE))","v":41},"Лисовский Виктор",1964,"Lisovskij Viktor","Лисовский Виктор / Lisovskij Viktor / 1964","М",16,63.414634146341463,456.41]
[{"$f":"Гонки!$C$11","v":"\"Налибоки 2018\""},{"$f":"Гонки!$D$12","v":"Трейл 42"},"\"Налибоки 2018\" Трейл 42",51.8,"М",{"$f":"IF(E501=\"Ж\",VLOOKUP(C501,Гонки!$E$2:$P$16,11,FALSE),VLOOKUP(C501,Гонки!$E$2:$P$16,12,FALSE))","v":41},"Коровец Богдан",1976,"Korovets Bogdan","Коровец Богдан / Korovets Bogdan / 1976","М",17,60.975609756097562,438.85]
[{"$f":"Гонки!$C$11","v":"\"Налибоки 2018\""},{"$f":"Гонки!$D$12","v":"Трейл 42"},"\"Налибоки 2018\" Трейл 42",51.8,"М",{"$f":"IF(E502=\"Ж\",VLOOKUP(C502,Гонки!$E$2:$P$16,11,FALSE),VLOOKUP(C502,Гонки!$E$2:$P$16,12,FALSE))","v":41},"Миканович Антон",1990,"Mikanovich Anton","Миканович Антон / Mikanovich Anton / 1990","М",18,58.536585365853661,421.3]
[{"$f":"Гонки!$C$11","v":"\"Налибоки 2018\""},{"$f":"Гонки!$D$12","v":"Трейл 42"},"\"Налибоки 2018\" Трейл 42",51.8,"М",{"$f":"IF(E503=\"Ж\",VLOOKUP(C503,Гонки!$E$2:$P$16,11,FALSE),VLOOKUP(C503,Гонки!$E$2:$P$16,12,FALSE))","v":41},"Хамицевич Михаил",1980,"Hamitsevich Mihail","Хамицевич Михаил / Hamitsevich Mihail / 1980","М",19,56.097560975609753,403.75]
[{"$f":"Гонки!$C$11","v":"\"Налибоки 2018\""},{"$f":"Гонки!$D$12","v":"Трейл 42"},"\"Налибоки 2018\" Трейл 42",51.8,"М",{"$f":"IF(E504=\"Ж\",VLOOKUP(C504,Гонки!$E$2:$P$16,11,FALSE),VLOOKUP(C504,Гонки!$E$2:$P$16,12,FALSE))","v":41},"Никитюк Алексей",1985,"Nikityuk Aleksej","Никитюк Алексей / Nikityuk Aleksej / 1985","М",20,53.658536585365852,386.19]
[{"$f":"Гонки!$C$11","v":"\"Налибоки 2018\""},{"$f":"Гонки!$D$12","v":"Трейл 42"},"\"Налибоки 2018\" Трейл 42",51.8,"М",{"$f":"IF(E505=\"Ж\",VLOOKUP(C505,Гонки!$E$2:$P$16,11,FALSE),VLOOKUP(C505,Гонки!$E$2:$P$16,12,FALSE))","v":41},"Труханов Сергей",1987,"Truhanov Sergej","Труханов Сергей / Truhanov Sergej / 1987","М",21,51.219512195121951,368.64]
[{"$f":"Гонки!$C$11","v":"\"Налибоки 2018\""},{"$f":"Гонки!$D$12","v":"Трейл 42"},"\"Налибоки 2018\" Трейл 42",51.8,"М",{"$f":"IF(E506=\"Ж\",VLOOKUP(C506,Гонки!$E$2:$P$16,11,FALSE),VLOOKUP(C506,Гонки!$E$2:$P$16,12,FALSE))","v":41},"Асаевич Роман",1964,"Asaevich Roman","Асаевич Роман / Asaevich Roman / 1964","М",22,48.780487804878049,351.08]
[{"$f":"Гонки!$C$11","v":"\"Налибоки 2018\""},{"$f":"Гонки!$D$12","v":"Трейл 42"},"\"Налибоки 2018\" Трейл 42",51.8,"М",{"$f":"IF(E507=\"Ж\",VLOOKUP(C507,Гонки!$E$2:$P$16,11,FALSE),VLOOKUP(C507,Гонки!$E$2:$P$16,12,FALSE))","v":41},"Юлов Герман",1993,"Yulov German","Юлов Герман / Yulov German / 1993","М",23,46.341463414634141,333.53]
[{"$f":"Гонки!$C$11","v":"\"Налибоки 2018\""},{"$f":"Гонки!$D$12","v":"Трейл 42"},"\"Налибоки 2018\" Трейл 42",51.8,"М",{"$f":"IF(E508=\"Ж\",VLOOKUP(C508,Гонки!$E$2:$P$16,11,FALSE),VLOOKUP(C508,Гонки!$E$2:$P$16,12,FALSE))","v":41},"Радиончик Александр",1985,"Radionchik Aleksandr","Радиончик Александр / Radionchik Aleksandr / 1985","М",24,43.90243902439024,315.98]
[{"$f":"Гонки!$C$11","v":"\"Налибоки 2018\""},{"$f":"Гонки!$D$12","v":"Трейл 42"},"\"Налибоки 2018\" Трейл 42",51.8,"М",{"$f":"IF(E509=\"Ж\",VLOOKUP(C509,Гонки!$E$2:$P$16,11,FALSE),VLOOKUP(C509,Гонки!$E$2:$P$16,12,FALSE))","v":41},"Сафонов Юрий",1983,"Safonov Yurij","Сафонов Юрий / Safonov Yurij / 1983","М",25,41.463414634146346,298.42]
[{"$f":"Гонки!$C$11","v":"\"Налибоки 2018\""},{"$f":"Гонки!$D$12","v":"Трейл 42"},"\"Налибоки 2018\" Трейл 42",51.8,"М",{"$f":"IF(E510=\"Ж\",VLOOKUP(C510,Гонки!$E$2:$P$16,11,FALSE),VLOOKUP(C510,Гонки!$E$2:$P$16,12,FALSE))","v":41},"Студенков Александр",1984,"Studenkov Aleksandr","Студенков Александр / Studenkov Aleksandr / 1984","М",26,39.024390243902438,280.87]
[{"$f":"Гонки!$C$11","v":"\"Налибоки 2018\""},{"$f":"Гонки!$D$12","v":"Трейл 42"},"\"Налибоки 2018\" Трейл 42",51.8,"М",{"$f":"IF(E511=\"Ж\",VLOOKUP(C511,Гонки!$E$2:$P$16,11,FALSE),VLOOKUP(C511,Гонки!$E$2:$P$16,12,FALSE))","v":41},"Греков Игорь",1970,"Grekov Igor","Греков Игорь / Grekov Igor / 1970","М",27,36.585365853658537,263.31]
[{"$f":"Гонки!$C$11","v":"\"Налибоки 2018\""},{"$f":"Гонки!$D$12","v":"Трейл 42"},"\"Налибоки 2018\" Трейл 42",51.8,"М",{"$f":"IF(E512=\"Ж\",VLOOKUP(C512,Гонки!$E$2:$P$16,11,FALSE),VLOOKUP(C512,Гонки!$E$2:$P$16,12,FALSE))","v":41},"Куцуха Александр",1992,"Kutsuha Aleksandr","Куцуха Александр / Kutsuha Aleksandr / 1992","М",28,34.146341463414629,245.76]
[{"$f":"Гонки!$C$11","v":"\"Налибоки 2018\""},{"$f":"Гонки!$D$12","v":"Трейл 42"},"\"Налибоки 2018\" Трейл 42",51.8,"М",{"$f":"IF(E513=\"Ж\",VLOOKUP(C513,Гонки!$E$2:$P$16,11,FALSE),VLOOKUP(C513,Гонки!$E$2:$P$16,12,FALSE))","v":41},"Ланин Иван",1989,"Lanin Ivan","Ланин Иван / Lanin Ivan / 1989","М",29,31.707317073170728,228.2]
[{"$f":"Гонки!$C$11","v":"\"Налибоки 2018\""},{"$f":"Гонки!$D$12","v":"Трейл 42"},{"$f":"CONCATENATE(A514,\" \",B514)","v":"\"Налибоки 2018\" Трейл 42"},{"$f":"VLOOKUP(C514,Список_гонок,10,FALSE)","v":51.8},"М",{"$f":"IF(E514=\"Ж\",VLOOKUP(C514,Гонки!$E$2:$P$16,11,FALSE),VLOOKUP(C514,Гонки!$E$2:$P$16,12,FALSE))","v":41},"Волостных Сергей",1989,{"$f":"Translit(G514)","v":"Volostnyh Sergej"},{"$f":"CONCATENATE(G514,\" / \",I514,\" / \",H514)","v":"Волостных Сергей / Volostnyh Sergej / 1989"},{"$f":"E514","v":"М"},30,{"$f":"100-((L514-1)/F514)*100","v":29.268292682926827},{"$f":"ROUND(SQRT(D514)*M514,2)","v":210.65}]
[{"$f":"Гонки!$C$11","v":"\"Налибоки 2018\""},{"$f":"Гонки!$D$12","v":"Трейл 42"},"\"Налибоки 2018\" Трейл 42",51.8,"М",{"$f":"IF(E515=\"Ж\",VLOOKUP(C515,Гонки!$E$2:$P$16,11,FALSE),VLOOKUP(C515,Гонки!$E$2:$P$16,12,FALSE))","v":41},"Жучков Алексей",1985,"Zhuchkov Aleksej","Жучков Алексей / Zhuchkov Aleksej / 1985","М",31,26.829268292682926,193.1]
[{"$f":"Гонки!$C$11","v":"\"Налибоки 2018\""},{"$f":"Гонки!$D$12","v":"Трейл 42"},"\"Налибоки 2018\" Трейл 42",51.8,"М",{"$f":"IF(E516=\"Ж\",VLOOKUP(C516,Гонки!$E$2:$P$16,11,FALSE),VLOOKUP(C516,Гонки!$E$2:$P$16,12,FALSE))","v":41},"Покульницкий Алексей",1988,"Pokulnitskij Aleksej","Покульницкий Алексей / Pokulnitskij Aleksej / 1988","М",32,24.390243902439025,175.54]
[{"$f":"Гонки!$C$11","v":"\"Налибоки 2018\""},{"$f":"Гонки!$D$12","v":"Трейл 42"},"\"Налибоки 2018\" Трейл 42",51.8,"М",{"$f":"IF(E517=\"Ж\",VLOOKUP(C517,Гонки!$E$2:$P$16,11,FALSE),VLOOKUP(C517,Гонки!$E$2:$P$16,12,FALSE))","v":41},"Бизюк Игорь",1956,"Bizyuk Igor","Бизюк Игорь / Bizyuk Igor / 1956","М",33,21.951219512195124,157.99]
[{"$f":"Гонки!$C$11","v":"\"Налибоки 2018\""},{"$f":"Гонки!$D$12","v":"Трейл 42"},"\"Налибоки 2018\" Трейл 42",51.8,"М",{"$f":"IF(E518=\"Ж\",VLOOKUP(C518,Гонки!$E$2:$P$16,11,FALSE),VLOOKUP(C518,Гонки!$E$2:$P$16,12,FALSE))","v":41},"Загорнов Александр",1966,"Zagornov Aleksandr","Загорнов Александр / Zagornov Aleksandr / 1966","М",34,19.512195121951208,140.43]
[{"$f":"Гонки!$C$11","v":"\"Налибоки 2018\""},{"$f":"Гонки!$D$12","v":"Трейл 42"},"\"Налибоки 2018\" Трейл 42",51.8,"М",{"$f":"IF(E519=\"Ж\",VLOOKUP(C519,Гонки!$E$2:$P$16,11,FALSE),VLOOKUP(C519,Гонки!$E$2:$P$16,12,FALSE))","v":41},"Фидек Виталий",1966,"Fidek Vitalij","Фидек Виталий / Fidek Vitalij / 1966","М",35,17.073170731707322,122.88]
[{"$f":"Гонки!$C$11","v":"\"Налибоки 2018\""},{"$f":"Гонки!$D$12","v":"Трейл 42"},"\"Налибоки 2018\" Трейл 42",51.8,"М",{"$f":"IF(E520=\"Ж\",VLOOKUP(C520,Гонки!$E$2:$P$16,11,FALSE),VLOOKUP(C520,Гонки!$E$2:$P$16,12,FALSE))","v":41},"Дубровский Виктор",1961,"Dubrovskij Viktor","Дубровский Виктор / Dubrovskij Viktor / 1961","М",36,14.634146341463421,105.33]
[{"$f":"Гонки!$C$11","v":"\"Налибоки 2018\""},{"$f":"Гонки!$D$12","v":"Трейл 42"},"\"Налибоки 2018\" Трейл 42",51.8,"М",{"$f":"IF(E521=\"Ж\",VLOOKUP(C521,Гонки!$E$2:$P$16,11,FALSE),VLOOKUP(C521,Гонки!$E$2:$P$16,12,FALSE))","v":41},"Дубровский Евгений",1984,"Dubrovskij Evgenij","Дубровский Евгений / Dubrovskij Evgenij / 1984","М",37,12.195121951219505,87.77]
[{"$f":"Гонки!$C$11","v":"\"Налибоки 2018\""},{"$f":"Гонки!$D$12","v":"Трейл 42"},"\"Налибоки 2018\" Трейл 42",51.8,"М",{"$f":"IF(E522=\"Ж\",VLOOKUP(C522,Гонки!$E$2:$P$16,11,FALSE),VLOOKUP(C522,Гонки!$E$2:$P$16,12,FALSE))","v":41},"Кудрейко Михаил",1981,"Kudrejko Mihail","Кудрейко Михаил / Kudrejko Mihail / 1981","М",38,9.7560975609756042,70.22]
[{"$f":"Гонки!$C$11","v":"\"Налибоки 2018\""},{"$f":"Гонки!$D$12","v":"Трейл 42"},"\"Налибоки 2018\" Трейл 42",51.8,"М",{"$f":"IF(E523=\"Ж\",VLOOKUP(C523,Гонки!$E$2:$P$16,11,FALSE),VLOOKUP(C523,Гонки!$E$2:$P$16,12,FALSE))","v":41},"Луцевич Eвгений",1964,"Lutsevich Evgenij","Луцевич Eвгений / Lutsevich Evgenij / 1964","М",39,7.3170731707317032,52.66]
[{"$f":"Гонки!$C$11","v":"\"Налибоки 2018\""},{"$f":"Гонки!$D$12","v":"Трейл 42"},"\"Налибоки 2018\" Трейл 42",51.8,"М",{"$f":"IF(E524=\"Ж\",VLOOKUP(C524,Гонки!$E$2:$P$16,11,FALSE),VLOOKUP(C524,Гонки!$E$2:$P$16,12,FALSE))","v":41},"Зументс Роберт",1979,"Zuments Robert","Зументс Роберт / Zuments Robert / 1979","М",40,4.8780487804878021,35.11]
[{"$f":"Гонки!$C$11","v":"\"Налибоки 2018\""},{"$f":"Гонки!$D$11","v":"Трейл 21"},"\"Налибоки 2018\" Трейл 21",25.03,"Ж",{"$f":"IF(E525=\"Ж\",VLOOKUP(C525,Гонки!$E$2:$P$16,11,FALSE),VLOOKUP(C525,Гонки!$E$2:$P$16,12,FALSE))","v":40},"Скирук Юлия",1988,"Skiruk Yuliya","Скирук Юлия / Skiruk Yuliya / 1988","Ж",1,100,500.3]
[{"$f":"Гонки!$C$11","v":"\"Налибоки 2018\""},{"$f":"Гонки!$D$11","v":"Трейл 21"},"\"Налибоки 2018\" Трейл 21",25.03,"Ж",{"$f":"IF(E526=\"Ж\",VLOOKUP(C526,Гонки!$E$2:$P$16,11,FALSE),VLOOKUP(C526,Гонки!$E$2:$P$16,12,FALSE))","v":40},"Зеленкевич Валентина",1999,"Zelenkevich Valentina","Зеленкевич Валентина / Zelenkevich Valentina / 1999","Ж",2,97.5,487.79]
[{"$f":"Гонки!$C$11","v":"\"Налибоки 2018\""},{"$f":"Гонки!$D$11","v":"Трейл 21"},"\"Налибоки 2018\" Трейл 21",25.03,"Ж",{"$f":"IF(E527=\"Ж\",VLOOKUP(C527,Гонки!$E$2:$P$16,11,FALSE),VLOOKUP(C527,Гонки!$E$2:$P$16,12,FALSE))","v":40},"Цвирбут Юлия",1992,"Tsvirbut Yuliya","Цвирбут Юлия / Tsvirbut Yuliya / 1992","Ж",3,95,475.28]
[{"$f":"Гонки!$C$11","v":"\"Налибоки 2018\""},{"$f":"Гонки!$D$11","v":"Трейл 21"},"\"Налибоки 2018\" Трейл 21",25.03,"Ж",{"$f":"IF(E528=\"Ж\",VLOOKUP(C528,Гонки!$E$2:$P$16,11,FALSE),VLOOKUP(C528,Гонки!$E$2:$P$16,12,FALSE))","v":40},"Черкас Александра",1992,"Cherkas Aleksandra","Черкас Александра / Cherkas Aleksandra / 1992","Ж",4,92.5,462.78]
[{"$f":"Гонки!$C$11","v":"\"Налибоки 2018\""},{"$f":"Гонки!$D$11","v":"Трейл 21"},"\"Налибоки 2018\" Трейл 21",25.03,"Ж",{"$f":"IF(E529=\"Ж\",VLOOKUP(C529,Гонки!$E$2:$P$16,11,FALSE),VLOOKUP(C529,Гонки!$E$2:$P$16,12,FALSE))","v":40},"Калвинковская Ольга",1994,"Kalvinkovskaya Olga","Калвинковская Ольга / Kalvinkovskaya Olga / 1994","Ж",5,90,450.27]
[{"$f":"Гонки!$C$11","v":"\"Налибоки 2018\""},{"$f":"Гонки!$D$11","v":"Трейл 21"},"\"Налибоки 2018\" Трейл 21",25.03,"Ж",{"$f":"IF(E530=\"Ж\",VLOOKUP(C530,Гонки!$E$2:$P$16,11,FALSE),VLOOKUP(C530,Гонки!$E$2:$P$16,12,FALSE))","v":40},"Делендик Надежда",1987,"Delendik Nadezhda","Делендик Надежда / Delendik Nadezhda / 1987","Ж",6,87.5,437.76]
[{"$f":"Гонки!$C$11","v":"\"Налибоки 2018\""},{"$f":"Гонки!$D$11","v":"Трейл 21"},"\"Налибоки 2018\" Трейл 21",25.03,"Ж",{"$f":"IF(E531=\"Ж\",VLOOKUP(C531,Гонки!$E$2:$P$16,11,FALSE),VLOOKUP(C531,Гонки!$E$2:$P$16,12,FALSE))","v":40},"Адамович Ирина",1973,"Adamovich Irina","Адамович Ирина / Adamovich Irina / 1973","Ж",7,85,425.25]
[{"$f":"Гонки!$C$11","v":"\"Налибоки 2018\""},{"$f":"Гонки!$D$11","v":"Трейл 21"},"\"Налибоки 2018\" Трейл 21",25.03,"Ж",{"$f":"IF(E532=\"Ж\",VLOOKUP(C532,Гонки!$E$2:$P$16,11,FALSE),VLOOKUP(C532,Гонки!$E$2:$P$16,12,FALSE))","v":40},"Драгун Алина",1993,"Dragun Alina","Драгун Алина / Dragun Alina / 1993","Ж",8,82.5,412.75]
[{"$f":"Гонки!$C$11","v":"\"Налибоки 2018\""},{"$f":"Гонки!$D$11","v":"Трейл 21"},"\"Налибоки 2018\" Трейл 21",25.03,"Ж",{"$f":"IF(E533=\"Ж\",VLOOKUP(C533,Гонки!$E$2:$P$16,11,FALSE),VLOOKUP(C533,Гонки!$E$2:$P$16,12,FALSE))","v":40},"Коледа Татьяна",1990,"Koleda Tatyana","Коледа Татьяна / Koleda Tatyana / 1990","Ж",9,80,400.24]
[{"$f":"Гонки!$C$11","v":"\"Налибоки 2018\""},{"$f":"Гонки!$D$11","v":"Трейл 21"},"\"Налибоки 2018\" Трейл 21",25.03,"Ж",{"$f":"IF(E534=\"Ж\",VLOOKUP(C534,Гонки!$E$2:$P$16,11,FALSE),VLOOKUP(C534,Гонки!$E$2:$P$16,12,FALSE))","v":40},"Медведева Ольга",1991,"Medvedeva Olga","Медведева Ольга / Medvedeva Olga / 1991","Ж",10,77.5,387.73]
[{"$f":"Гонки!$C$11","v":"\"Налибоки 2018\""},{"$f":"Гонки!$D$11","v":"Трейл 21"},"\"Налибоки 2018\" Трейл 21",25.03,"Ж",{"$f":"IF(E535=\"Ж\",VLOOKUP(C535,Гонки!$E$2:$P$16,11,FALSE),VLOOKUP(C535,Гонки!$E$2:$P$16,12,FALSE))","v":40},"Янченко Ксения",1997,"Yanchenko Kseniya","Янченко Ксения / Yanchenko Kseniya / 1997","Ж",11,75,375.22]
[{"$f":"Гонки!$C$11","v":"\"Налибоки 2018\""},{"$f":"Гонки!$D$11","v":"Трейл 21"},"\"Налибоки 2018\" Трейл 21",25.03,"Ж",{"$f":"IF(E536=\"Ж\",VLOOKUP(C536,Гонки!$E$2:$P$16,11,FALSE),VLOOKUP(C536,Гонки!$E$2:$P$16,12,FALSE))","v":40},"Кликун Татьяна",1989,"Klikun Tatyana","Кликун Татьяна / Klikun Tatyana / 1989","Ж",12,72.5,362.72]
[{"$f":"Гонки!$C$11","v":"\"Налибоки 2018\""},{"$f":"Гонки!$D$11","v":"Трейл 21"},"\"Налибоки 2018\" Трейл 21",25.03,"Ж",{"$f":"IF(E537=\"Ж\",VLOOKUP(C537,Гонки!$E$2:$P$16,11,FALSE),VLOOKUP(C537,Гонки!$E$2:$P$16,12,FALSE))","v":40},"Варданян Кристина",1981,"Vardanyan Kristina","Варданян Кристина / Vardanyan Kristina / 1981","Ж",13,70,350.21]
[{"$f":"Гонки!$C$11","v":"\"Налибоки 2018\""},{"$f":"Гонки!$D$11","v":"Трейл 21"},"\"Налибоки 2018\" Трейл 21",25.03,"Ж",{"$f":"IF(E538=\"Ж\",VLOOKUP(C538,Гонки!$E$2:$P$16,11,FALSE),VLOOKUP(C538,Гонки!$E$2:$P$16,12,FALSE))","v":40},"Кальвинковская Екатерина",1993,"Kalvinkovskaya Ekaterina","Кальвинковская Екатерина / Kalvinkovskaya Ekaterina / 1993","Ж",14,67.5,337.7]
[{"$f":"Гонки!$C$11","v":"\"Налибоки 2018\""},{"$f":"Гонки!$D$11","v":"Трейл 21"},"\"Налибоки 2018\" Трейл 21",25.03,"Ж",{"$f":"IF(E539=\"Ж\",VLOOKUP(C539,Гонки!$E$2:$P$16,11,FALSE),VLOOKUP(C539,Гонки!$E$2:$P$16,12,FALSE))","v":40},"Пухаева Светлана",1980,"Puhaeva Svetlana","Пухаева Светлана / Puhaeva Svetlana / 1980","Ж",15,65,325.19]
[{"$f":"Гонки!$C$11","v":"\"Налибоки 2018\""},{"$f":"Гонки!$D$11","v":"Трейл 21"},"\"Налибоки 2018\" Трейл 21",25.03,"Ж",{"$f":"IF(E540=\"Ж\",VLOOKUP(C540,Гонки!$E$2:$P$16,11,FALSE),VLOOKUP(C540,Гонки!$E$2:$P$16,12,FALSE))","v":40},"Полякова Анна",1987,"Polyakova Anna","Полякова Анна / Polyakova Anna / 1987","Ж",16,62.5,312.69]
[{"$f":"Гонки!$C$11","v":"\"Налибоки 2018\""},{"$f":"Гонки!$D$11","v":"Трейл 21"},"\"Налибоки 2018\" Трейл 21",25.03,"Ж",{"$f":"IF(E541=\"Ж\",VLOOKUP(C541,Гонки!$E$2:$P$16,11,FALSE),VLOOKUP(C541,Гонки!$E$2:$P$16,12,FALSE))","v":40},"Мурашкина Галина",1988,"Murashkina Galina","Мурашкина Галина / Murashkina Galina / 1988","Ж",17,60,300.18]
[{"$f":"Гонки!$C$11","v":"\"Налибоки 2018\""},{"$f":"Гонки!$D$11","v":"Трейл 21"},"\"Налибоки 2018\" Трейл 21",25.03,"Ж",{"$f":"IF(E542=\"Ж\",VLOOKUP(C542,Гонки!$E$2:$P$16,11,FALSE),VLOOKUP(C542,Гонки!$E$2:$P$16,12,FALSE))","v":40},"Широкова Анастасия",1988,"Shirokova Anastasiya","Широкова Анастасия / Shirokova Anastasiya / 1988","Ж",18,57.5,287.67]
[{"$f":"Гонки!$C$11","v":"\"Налибоки 2018\""},{"$f":"Гонки!$D$11","v":"Трейл 21"},"\"Налибоки 2018\" Трейл 21",25.03,"Ж",{"$f":"IF(E543=\"Ж\",VLOOKUP(C543,Гонки!$E$2:$P$16,11,FALSE),VLOOKUP(C543,Гонки!$E$2:$P$16,12,FALSE))","v":40},"Бондарь Юлия",1993,"Bondar Yuliya","Бондарь Юлия / Bondar Yuliya / 1993","Ж",19,55,275.16000000000003]
[{"$f":"Гонки!$C$11","v":"\"Налибоки 2018\""},{"$f":"Гонки!$D$11","v":"Трейл 21"},"\"Налибоки 2018\" Трейл 21",25.03,"Ж",{"$f":"IF(E544=\"Ж\",VLOOKUP(C544,Гонки!$E$2:$P$16,11,FALSE),VLOOKUP(C544,Гонки!$E$2:$P$16,12,FALSE))","v":40},"Кузеева Марина",1986,"Kuzeeva Marina","Кузеева Марина / Kuzeeva Marina / 1986","Ж",20,52.5,262.66000000000003]
[{"$f":"Гонки!$C$11","v":"\"Налибоки 2018\""},{"$f":"Гонки!$D$11","v":"Трейл 21"},"\"Налибоки 2018\" Трейл 21",25.03,"Ж",{"$f":"IF(E545=\"Ж\",VLOOKUP(C545,Гонки!$E$2:$P$16,11,FALSE),VLOOKUP(C545,Гонки!$E$2:$P$16,12,FALSE))","v":40},"Марченко Людмила",1972,"Marchenko Lyudmila","Марченко Людмила / Marchenko Lyudmila / 1972","Ж",21,50,250.15]
[{"$f":"Гонки!$C$11","v":"\"Налибоки 2018\""},{"$f":"Гонки!$D$11","v":"Трейл 21"},"\"Налибоки 2018\" Трейл 21",25.03,"Ж",{"$f":"IF(E546=\"Ж\",VLOOKUP(C546,Гонки!$E$2:$P$16,11,FALSE),VLOOKUP(C546,Гонки!$E$2:$P$16,12,FALSE))","v":40},"Нефедова Оксана",1979,"Nefedova Oksana","Нефедова Оксана / Nefedova Oksana / 1979","Ж",22,47.5,237.64]
[{"$f":"Гонки!$C$11","v":"\"Налибоки 2018\""},{"$f":"Гонки!$D$11","v":"Трейл 21"},"\"Налибоки 2018\" Трейл 21",25.03,"Ж",{"$f":"IF(E547=\"Ж\",VLOOKUP(C547,Гонки!$E$2:$P$16,11,FALSE),VLOOKUP(C547,Гонки!$E$2:$P$16,12,FALSE))","v":40},"Харик Анна",1986,"Harik Anna","Харик Анна / Harik Anna / 1986","Ж",23,44.999999999999993,225.13]
[{"$f":"Гонки!$C$11","v":"\"Налибоки 2018\""},{"$f":"Гонки!$D$11","v":"Трейл 21"},"\"Налибоки 2018\" Трейл 21",25.03,"Ж",{"$f":"IF(E548=\"Ж\",VLOOKUP(C548,Гонки!$E$2:$P$16,11,FALSE),VLOOKUP(C548,Гонки!$E$2:$P$16,12,FALSE))","v":40},"Корожан Наталья",1974,"Korozhan Natalya","Корожан Наталья / Korozhan Natalya / 1974","Ж",24,42.500000000000007,212.63]
[{"$f":"Гонки!$C$11","v":"\"Налибоки 2018\""},{"$f":"Гонки!$D$11","v":"Трейл 21"},"\"Налибоки 2018\" Трейл 21",25.03,"Ж",{"$f":"IF(E549=\"Ж\",VLOOKUP(C549,Гонки!$E$2:$P$16,11,FALSE),VLOOKUP(C549,Гонки!$E$2:$P$16,12,FALSE))","v":40},"Красовская Инна",1975,"Krasovskaya Inna","Красовская Инна / Krasovskaya Inna / 1975","Ж",25,40,200.12]
[{"$f":"Гонки!$C$11","v":"\"Налибоки 2018\""},{"$f":"Гонки!$D$11","v":"Трейл 21"},"\"Налибоки 2018\" Трейл 21",25.03,"Ж",{"$f":"IF(E550=\"Ж\",VLOOKUP(C550,Гонки!$E$2:$P$16,11,FALSE),VLOOKUP(C550,Гонки!$E$2:$P$16,12,FALSE))","v":40},"Островцова Марина",1987,"Ostrovtsova Marina","Островцова Марина / Ostrovtsova Marina / 1987","Ж",26,37.5,187.61]
[{"$f":"Гонки!$C$11","v":"\"Налибоки 2018\""},{"$f":"Гонки!$D$11","v":"Трейл 21"},"\"Налибоки 2018\" Трейл 21",25.03,"Ж",{"$f":"IF(E551=\"Ж\",VLOOKUP(C551,Гонки!$E$2:$P$16,11,FALSE),VLOOKUP(C551,Гонки!$E$2:$P$16,12,FALSE))","v":40},"Куликовских Иванна",1974,"Kulikovskih Ivanna","Куликовских Иванна / Kulikovskih Ivanna / 1974","Ж",27,35,175.1]
[{"$f":"Гонки!$C$11","v":"\"Налибоки 2018\""},{"$f":"Гонки!$D$11","v":"Трейл 21"},"\"Налибоки 2018\" Трейл 21",25.03,"Ж",{"$f":"IF(E552=\"Ж\",VLOOKUP(C552,Гонки!$E$2:$P$16,11,FALSE),VLOOKUP(C552,Гонки!$E$2:$P$16,12,FALSE))","v":40},"Кузнецова Наталья",1984,"Kuznetsova Natalya","Кузнецова Наталья / Kuznetsova Natalya / 1984","Ж",28,32.5,162.6]
[{"$f":"Гонки!$C$11","v":"\"Налибоки 2018\""},{"$f":"Гонки!$D$11","v":"Трейл 21"},"\"Налибоки 2018\" Трейл 21",25.03,"Ж",{"$f":"IF(E553=\"Ж\",VLOOKUP(C553,Гонки!$E$2:$P$16,11,FALSE),VLOOKUP(C553,Гонки!$E$2:$P$16,12,FALSE))","v":40},"Хинец Анна",1986,"Hinets Anna","Хинец Анна / Hinets Anna / 1986","Ж",29,30,150.09]
[{"$f":"Гонки!$C$11","v":"\"Налибоки 2018\""},{"$f":"Гонки!$D$11","v":"Трейл 21"},"\"Налибоки 2018\" Трейл 21",25.03,"Ж",{"$f":"IF(E554=\"Ж\",VLOOKUP(C554,Гонки!$E$2:$P$16,11,FALSE),VLOOKUP(C554,Гонки!$E$2:$P$16,12,FALSE))","v":40},"Борисевич Анастасия",1985,"Borisevich Anastasiya","Борисевич Анастасия / Borisevich Anastasiya / 1985","Ж",30,27.5,137.58000000000001]
[{"$f":"Гонки!$C$11","v":"\"Налибоки 2018\""},{"$f":"Гонки!$D$11","v":"Трейл 21"},"\"Налибоки 2018\" Трейл 21",25.03,"Ж",{"$f":"IF(E555=\"Ж\",VLOOKUP(C555,Гонки!$E$2:$P$16,11,FALSE),VLOOKUP(C555,Гонки!$E$2:$P$16,12,FALSE))","v":40},"Морозова Екатерина",1978,"Morozova Ekaterina","Морозова Екатерина / Morozova Ekaterina / 1978","Ж",31,25,125.07]
[{"$f":"Гонки!$C$11","v":"\"Налибоки 2018\""},{"$f":"Гонки!$D$11","v":"Трейл 21"},"\"Налибоки 2018\" Трейл 21",25.03,"Ж",{"$f":"IF(E556=\"Ж\",VLOOKUP(C556,Гонки!$E$2:$P$16,11,FALSE),VLOOKUP(C556,Гонки!$E$2:$P$16,12,FALSE))","v":40},"Фам Вероника",1982,"Fam Veronika","Фам Вероника / Fam Veronika / 1982","Ж",32,22.5,112.57]
[{"$f":"Гонки!$C$11","v":"\"Налибоки 2018\""},{"$f":"Гонки!$D$11","v":"Трейл 21"},"\"Налибоки 2018\" Трейл 21",25.03,"Ж",{"$f":"IF(E557=\"Ж\",VLOOKUP(C557,Гонки!$E$2:$P$16,11,FALSE),VLOOKUP(C557,Гонки!$E$2:$P$16,12,FALSE))","v":40},"Тимкина Наталья",1982,"Timkina Natalya","Тимкина Наталья / Timkina Natalya / 1982","Ж",33,20,100.06]
[{"$f":"Гонки!$C$11","v":"\"Налибоки 2018\""},{"$f":"Гонки!$D$11","v":"Трейл 21"},"\"Налибоки 2018\" Трейл 21",25.03,"Ж",{"$f":"IF(E558=\"Ж\",VLOOKUP(C558,Гонки!$E$2:$P$16,11,FALSE),VLOOKUP(C558,Гонки!$E$2:$P$16,12,FALSE))","v":40},"Забелова Юлия",1978,"Zabelova Yuliya","Забелова Юлия / Zabelova Yuliya / 1978","Ж",34,17.5,87.55]
[{"$f":"Гонки!$C$11","v":"\"Налибоки 2018\""},{"$f":"Гонки!$D$11","v":"Трейл 21"},"\"Налибоки 2018\" Трейл 21",25.03,"Ж",{"$f":"IF(E559=\"Ж\",VLOOKUP(C559,Гонки!$E$2:$P$16,11,FALSE),VLOOKUP(C559,Гонки!$E$2:$P$16,12,FALSE))","v":40},"Жук Лия",1980,"Zhuk Liya","Жук Лия / Zhuk Liya / 1980","Ж",35,15,75.040000000000006]
[{"$f":"Гонки!$C$11","v":"\"Налибоки 2018\""},{"$f":"Гонки!$D$11","v":"Трейл 21"},"\"Налибоки 2018\" Трейл 21",25.03,"Ж",{"$f":"IF(E560=\"Ж\",VLOOKUP(C560,Гонки!$E$2:$P$16,11,FALSE),VLOOKUP(C560,Гонки!$E$2:$P$16,12,FALSE))","v":40},"Иванова Екатерина",1989,"Ivanova Ekaterina","Иванова Екатерина / Ivanova Ekaterina / 1989","Ж",36,12.5,62.54]
[{"$f":"Гонки!$C$11","v":"\"Налибоки 2018\""},{"$f":"Гонки!$D$11","v":"Трейл 21"},"\"Налибоки 2018\" Трейл 21",25.03,"Ж",{"$f":"IF(E561=\"Ж\",VLOOKUP(C561,Гонки!$E$2:$P$16,11,FALSE),VLOOKUP(C561,Гонки!$E$2:$P$16,12,FALSE))","v":40},"Прокопенко Анна",1980,"Prokopenko Anna","Прокопенко Анна / Prokopenko Anna / 1980","Ж",37,10,50.03]
[{"$f":"Гонки!$C$11","v":"\"Налибоки 2018\""},{"$f":"Гонки!$D$11","v":"Трейл 21"},"\"Налибоки 2018\" Трейл 21",25.03,"Ж",{"$f":"IF(E562=\"Ж\",VLOOKUP(C562,Гонки!$E$2:$P$16,11,FALSE),VLOOKUP(C562,Гонки!$E$2:$P$16,12,FALSE))","v":40},"Будыхина Татьяна",1985,"Budyhina Tatyana","Будыхина Татьяна / Budyhina Tatyana / 1985","Ж",38,7.5,37.520000000000003]
[{"$f":"Гонки!$C$11","v":"\"Налибоки 2018\""},{"$f":"Гонки!$D$11","v":"Трейл 21"},"\"Налибоки 2018\" Трейл 21",25.03,"Ж",{"$f":"IF(E563=\"Ж\",VLOOKUP(C563,Гонки!$E$2:$P$16,11,FALSE),VLOOKUP(C563,Гонки!$E$2:$P$16,12,FALSE))","v":40},"Поволоцкая Кристина",1990,"Povolotskaya Kristina","Поволоцкая Кристина / Povolotskaya Kristina / 1990","Ж",39,5,25.01]
[{"$f":"Гонки!$C$11","v":"\"Налибоки 2018\""},{"$f":"Гонки!$D$11","v":"Трейл 21"},"\"Налибоки 2018\" Трейл 21",25.03,"Ж",{"$f":"IF(E564=\"Ж\",VLOOKUP(C564,Гонки!$E$2:$P$16,11,FALSE),VLOOKUP(C564,Гонки!$E$2:$P$16,12,FALSE))","v":40},"Дурейко Анна",1987,"Durejko Anna","Дурейко Анна / Durejko Anna / 1987","Ж",40,2.5,12.51]
[{"$f":"Гонки!$C$11","v":"\"Налибоки 2018\""},{"$f":"Гонки!$D$11","v":"Трейл 21"},"\"Налибоки 2018\" Трейл 21",25.03,"М",{"$f":"IF(E565=\"Ж\",VLOOKUP(C565,Гонки!$E$2:$P$16,11,FALSE),VLOOKUP(C565,Гонки!$E$2:$P$16,12,FALSE))","v":55},"Толкачев Дмитрий",1971,"Tolkachev Dmitrij","Толкачев Дмитрий / Tolkachev Dmitrij / 1971","М",1,100,500.3]
[{"$f":"Гонки!$C$11","v":"\"Налибоки 2018\""},{"$f":"Гонки!$D$11","v":"Трейл 21"},"\"Налибоки 2018\" Трейл 21",25.03,"М",{"$f":"IF(E566=\"Ж\",VLOOKUP(C566,Гонки!$E$2:$P$16,11,FALSE),VLOOKUP(C566,Гонки!$E$2:$P$16,12,FALSE))","v":55},"Плодунов Захар",1993,"Plodunov Zahar","Плодунов Захар / Plodunov Zahar / 1993","М",2,98.181818181818187,491.2]
[{"$f":"Гонки!$C$11","v":"\"Налибоки 2018\""},{"$f":"Гонки!$D$11","v":"Трейл 21"},"\"Налибоки 2018\" Трейл 21",25.03,"М",{"$f":"IF(E567=\"Ж\",VLOOKUP(C567,Гонки!$E$2:$P$16,11,FALSE),VLOOKUP(C567,Гонки!$E$2:$P$16,12,FALSE))","v":55},"Хорошавин Вячеслав",1985,"Horoshavin Vyacheslav","Хорошавин Вячеслав / Horoshavin Vyacheslav / 1985","М",3,96.36363636363636,482.11]
[{"$f":"Гонки!$C$11","v":"\"Налибоки 2018\""},{"$f":"Гонки!$D$11","v":"Трейл 21"},"\"Налибоки 2018\" Трейл 21",25.03,"М",{"$f":"IF(E568=\"Ж\",VLOOKUP(C568,Гонки!$E$2:$P$16,11,FALSE),VLOOKUP(C568,Гонки!$E$2:$P$16,12,FALSE))","v":55},"Мосийчук Максим",1984,"Mosijchuk Maksim","Мосийчук Максим / Mosijchuk Maksim / 1984","М",4,94.545454545454547,473.01]
[{"$f":"Гонки!$C$11","v":"\"Налибоки 2018\""},{"$f":"Гонки!$D$11","v":"Трейл 21"},"\"Налибоки 2018\" Трейл 21",25.03,"М",{"$f":"IF(E569=\"Ж\",VLOOKUP(C569,Гонки!$E$2:$P$16,11,FALSE),VLOOKUP(C569,Гонки!$E$2:$P$16,12,FALSE))","v":55},"Лойко Сергей",1985,"Lojko Sergej","Лойко Сергей / Lojko Sergej / 1985","М",5,92.727272727272734,463.91]
[{"$f":"Гонки!$C$11","v":"\"Налибоки 2018\""},{"$f":"Гонки!$D$11","v":"Трейл 21"},"\"Налибоки 2018\" Трейл 21",25.03,"М",{"$f":"IF(E570=\"Ж\",VLOOKUP(C570,Гонки!$E$2:$P$16,11,FALSE),VLOOKUP(C570,Гонки!$E$2:$P$16,12,FALSE))","v":55},"Мальков Валентин",1988,"Malkov Valentin","Мальков Валентин / Malkov Valentin / 1988","М",6,90.909090909090907,454.82]
[{"$f":"Гонки!$C$11","v":"\"Налибоки 2018\""},{"$f":"Гонки!$D$11","v":"Трейл 21"},"\"Налибоки 2018\" Трейл 21",25.03,"М",{"$f":"IF(E571=\"Ж\",VLOOKUP(C571,Гонки!$E$2:$P$16,11,FALSE),VLOOKUP(C571,Гонки!$E$2:$P$16,12,FALSE))","v":55},"Лукьяненко Александр",1984,"Lukyanenko Aleksandr","Лукьяненко Александр / Lukyanenko Aleksandr / 1984","М",7,89.090909090909093,445.72]
[{"$f":"Гонки!$C$11","v":"\"Налибоки 2018\""},{"$f":"Гонки!$D$11","v":"Трейл 21"},"\"Налибоки 2018\" Трейл 21",25.03,"М",{"$f":"IF(E572=\"Ж\",VLOOKUP(C572,Гонки!$E$2:$P$16,11,FALSE),VLOOKUP(C572,Гонки!$E$2:$P$16,12,FALSE))","v":55},"Куратник Юрий",1987,"Kuratnik Yurij","Куратник Юрий / Kuratnik Yurij / 1987","М",8,87.27272727272728,436.63]
[{"$f":"Гонки!$C$11","v":"\"Налибоки 2018\""},{"$f":"Гонки!$D$11","v":"Трейл 21"},"\"Налибоки 2018\" Трейл 21",25.03,"М",{"$f":"IF(E573=\"Ж\",VLOOKUP(C573,Гонки!$E$2:$P$16,11,FALSE),VLOOKUP(C573,Гонки!$E$2:$P$16,12,FALSE))","v":55},"Леденёв Андрей",1971,"Ledenjov Andrej","Леденёв Андрей / Ledenjov Andrej / 1971","М",9,85.454545454545453,427.53]
[{"$f":"Гонки!$C$11","v":"\"Налибоки 2018\""},{"$f":"Гонки!$D$11","v":"Трейл 21"},"\"Налибоки 2018\" Трейл 21",25.03,"М",{"$f":"IF(E574=\"Ж\",VLOOKUP(C574,Гонки!$E$2:$P$16,11,FALSE),VLOOKUP(C574,Гонки!$E$2:$P$16,12,FALSE))","v":55},"Молчан Александр",1988,"Molchan Aleksandr","Молчан Александр / Molchan Aleksandr / 1988","М",10,83.63636363636364,418.43]
[{"$f":"Гонки!$C$11","v":"\"Налибоки 2018\""},{"$f":"Гонки!$D$11","v":"Трейл 21"},"\"Налибоки 2018\" Трейл 21",25.03,"М",{"$f":"IF(E575=\"Ж\",VLOOKUP(C575,Гонки!$E$2:$P$16,11,FALSE),VLOOKUP(C575,Гонки!$E$2:$P$16,12,FALSE))","v":55},"Балашов Никита",1983,"Balashov Nikita","Балашов Никита / Balashov Nikita / 1983","М",11,81.818181818181813,409.34]
[{"$f":"Гонки!$C$11","v":"\"Налибоки 2018\""},{"$f":"Гонки!$D$11","v":"Трейл 21"},"\"Налибоки 2018\" Трейл 21",25.03,"М",{"$f":"IF(E576=\"Ж\",VLOOKUP(C576,Гонки!$E$2:$P$16,11,FALSE),VLOOKUP(C576,Гонки!$E$2:$P$16,12,FALSE))","v":55},"Кирcанов Алексей",1981,"Kircanov Aleksej","Кирcанов Алексей / Kircanov Aleksej / 1981","М",12,80,400.24]
[{"$f":"Гонки!$C$11","v":"\"Налибоки 2018\""},{"$f":"Гонки!$D$11","v":"Трейл 21"},"\"Налибоки 2018\" Трейл 21",25.03,"М",{"$f":"IF(E577=\"Ж\",VLOOKUP(C577,Гонки!$E$2:$P$16,11,FALSE),VLOOKUP(C577,Гонки!$E$2:$P$16,12,FALSE))","v":55},"Маркевич Денис",1981,"Markevich Denis","Маркевич Денис / Markevich Denis / 1981","М",13,78.181818181818187,391.14]
[{"$f":"Гонки!$C$11","v":"\"Налибоки 2018\""},{"$f":"Гонки!$D$11","v":"Трейл 21"},{"$f":"CONCATENATE(A578,\" \",B578)","v":"\"Налибоки 2018\" Трейл 21"},{"$f":"VLOOKUP(C578,Список_гонок,10,FALSE)","v":25.03},"М",{"$f":"IF(E578=\"Ж\",VLOOKUP(C578,Гонки!$E$2:$P$16,11,FALSE),VLOOKUP(C578,Гонки!$E$2:$P$16,12,FALSE))","v":55},"Яцкевич Кирилл",2001,{"$f":"Translit(G578)","v":"Yatskevich Kirill"},{"$f":"CONCATENATE(G578,\" / \",I578,\" / \",H578)","v":"Яцкевич Кирилл / Yatskevich Kirill / 2001"},{"$f":"E578","v":"М"},14,{"$f":"100-((L578-1)/F578)*100","v":76.36363636363636},{"$f":"ROUND(SQRT(D578)*M578,2)","v":382.05}]
[{"$f":"Гонки!$C$11","v":"\"Налибоки 2018\""},{"$f":"Гонки!$D$11","v":"Трейл 21"},"\"Налибоки 2018\" Трейл 21",25.03,"М",{"$f":"IF(E579=\"Ж\",VLOOKUP(C579,Гонки!$E$2:$P$16,11,FALSE),VLOOKUP(C579,Гонки!$E$2:$P$16,12,FALSE))","v":55},"Кошур Александр",1988,"Koshur Aleksandr","Кошур Александр / Koshur Aleksandr / 1988","М",15,74.545454545454547,372.95]
[{"$f":"Гонки!$C$11","v":"\"Налибоки 2018\""},{"$f":"Гонки!$D$11","v":"Трейл 21"},"\"Налибоки 2018\" Трейл 21",25.03,"М",{"$f":"IF(E580=\"Ж\",VLOOKUP(C580,Гонки!$E$2:$P$16,11,FALSE),VLOOKUP(C580,Гонки!$E$2:$P$16,12,FALSE))","v":55},"Палий Андрей",1984,"Palij Andrej","Палий Андрей / Palij Andrej / 1984","М",16,72.727272727272734,363.85]
[{"$f":"Гонки!$C$11","v":"\"Налибоки 2018\""},{"$f":"Гонки!$D$11","v":"Трейл 21"},"\"Налибоки 2018\" Трейл 21",25.03,"М",{"$f":"IF(E581=\"Ж\",VLOOKUP(C581,Гонки!$E$2:$P$16,11,FALSE),VLOOKUP(C581,Гонки!$E$2:$P$16,12,FALSE))","v":55},"Гладковский Владислав",1990,"Gladkovskij Vladislav","Гладковский Владислав / Gladkovskij Vladislav / 1990","М",17,70.909090909090907,354.76]
[{"$f":"Гонки!$C$11","v":"\"Налибоки 2018\""},{"$f":"Гонки!$D$11","v":"Трейл 21"},"\"Налибоки 2018\" Трейл 21",25.03,"М",{"$f":"IF(E582=\"Ж\",VLOOKUP(C582,Гонки!$E$2:$P$16,11,FALSE),VLOOKUP(C582,Гонки!$E$2:$P$16,12,FALSE))","v":55},"Бабич Виталий",1981,"Babich Vitalij","Бабич Виталий / Babich Vitalij / 1981","М",18,69.090909090909093,345.66]
[{"$f":"Гонки!$C$11","v":"\"Налибоки 2018\""},{"$f":"Гонки!$D$11","v":"Трейл 21"},"\"Налибоки 2018\" Трейл 21",25.03,"М",{"$f":"IF(E583=\"Ж\",VLOOKUP(C583,Гонки!$E$2:$P$16,11,FALSE),VLOOKUP(C583,Гонки!$E$2:$P$16,12,FALSE))","v":55},"Корожан Александр",1971,"Korozhan Aleksandr","Корожан Александр / Korozhan Aleksandr / 1971","М",19,67.27272727272728,336.57]
[{"$f":"Гонки!$C$11","v":"\"Налибоки 2018\""},{"$f":"Гонки!$D$11","v":"Трейл 21"},"\"Налибоки 2018\" Трейл 21",25.03,"М",{"$f":"IF(E584=\"Ж\",VLOOKUP(C584,Гонки!$E$2:$P$16,11,FALSE),VLOOKUP(C584,Гонки!$E$2:$P$16,12,FALSE))","v":55},"Коледа Константин",1976,"Koleda Konstantin","Коледа Константин / Koleda Konstantin / 1976","М",20,65.454545454545453,327.47000000000003]
[{"$f":"Гонки!$C$11","v":"\"Налибоки 2018\""},{"$f":"Гонки!$D$11","v":"Трейл 21"},"\"Налибоки 2018\" Трейл 21",25.03,"М",{"$f":"IF(E585=\"Ж\",VLOOKUP(C585,Гонки!$E$2:$P$16,11,FALSE),VLOOKUP(C585,Гонки!$E$2:$P$16,12,FALSE))","v":55},"Шепетько Сергей",1987,"Shepetko Sergej","Шепетько Сергей / Shepetko Sergej / 1987","М",21,63.636363636363633,318.37]
[{"$f":"Гонки!$C$11","v":"\"Налибоки 2018\""},{"$f":"Гонки!$D$11","v":"Трейл 21"},"\"Налибоки 2018\" Трейл 21",25.03,"М",{"$f":"IF(E586=\"Ж\",VLOOKUP(C586,Гонки!$E$2:$P$16,11,FALSE),VLOOKUP(C586,Гонки!$E$2:$P$16,12,FALSE))","v":55},"Герасимук Юрий",1992,"Gerasimuk Yurij","Герасимук Юрий / Gerasimuk Yurij / 1992","М",22,61.818181818181813,309.27999999999997]
[{"$f":"Гонки!$C$11","v":"\"Налибоки 2018\""},{"$f":"Гонки!$D$11","v":"Трейл 21"},"\"Налибоки 2018\" Трейл 21",25.03,"М",{"$f":"IF(E587=\"Ж\",VLOOKUP(C587,Гонки!$E$2:$P$16,11,FALSE),VLOOKUP(C587,Гонки!$E$2:$P$16,12,FALSE))","v":55},"Буховецкий Андрей",1987,"Buhovetskij Andrej","Буховецкий Андрей / Buhovetskij Andrej / 1987","М",23,60,300.18]
[{"$f":"Гонки!$C$11","v":"\"Налибоки 2018\""},{"$f":"Гонки!$D$11","v":"Трейл 21"},"\"Налибоки 2018\" Трейл 21",25.03,"М",{"$f":"IF(E588=\"Ж\",VLOOKUP(C588,Гонки!$E$2:$P$16,11,FALSE),VLOOKUP(C588,Гонки!$E$2:$P$16,12,FALSE))","v":55},"Чудаков Владислав",1977,"Chudakov Vladislav","Чудаков Владислав / Chudakov Vladislav / 1977","М",24,58.181818181818187,291.08]
[{"$f":"Гонки!$C$11","v":"\"Налибоки 2018\""},{"$f":"Гонки!$D$11","v":"Трейл 21"},"\"Налибоки 2018\" Трейл 21",25.03,"М",{"$f":"IF(E589=\"Ж\",VLOOKUP(C589,Гонки!$E$2:$P$16,11,FALSE),VLOOKUP(C589,Гонки!$E$2:$P$16,12,FALSE))","v":55},"Галка Дмитрий",1988,"Galka Dmitrij","Галка Дмитрий / Galka Dmitrij / 1988","М",25,56.363636363636367,281.99]
[{"$f":"Гонки!$C$11","v":"\"Налибоки 2018\""},{"$f":"Гонки!$D$11","v":"Трейл 21"},"\"Налибоки 2018\" Трейл 21",25.03,"М",{"$f":"IF(E590=\"Ж\",VLOOKUP(C590,Гонки!$E$2:$P$16,11,FALSE),VLOOKUP(C590,Гонки!$E$2:$P$16,12,FALSE))","v":55},"Костян Денис",1977,"Kostyan Denis","Костян Денис / Kostyan Denis / 1977","М",26,54.545454545454547,272.89]
[{"$f":"Гонки!$C$11","v":"\"Налибоки 2018\""},{"$f":"Гонки!$D$11","v":"Трейл 21"},"\"Налибоки 2018\" Трейл 21",25.03,"М",{"$f":"IF(E591=\"Ж\",VLOOKUP(C591,Гонки!$E$2:$P$16,11,FALSE),VLOOKUP(C591,Гонки!$E$2:$P$16,12,FALSE))","v":55},"Аржаников Евгений",1976,"Arzhanikov Evgenij","Аржаников Евгений / Arzhanikov Evgenij / 1976","М",27,52.727272727272727,263.79000000000002]
[{"$f":"Гонки!$C$11","v":"\"Налибоки 2018\""},{"$f":"Гонки!$D$11","v":"Трейл 21"},"\"Налибоки 2018\" Трейл 21",25.03,"М",{"$f":"IF(E592=\"Ж\",VLOOKUP(C592,Гонки!$E$2:$P$16,11,FALSE),VLOOKUP(C592,Гонки!$E$2:$P$16,12,FALSE))","v":55},"Шабанов Олег",1971,"Shabanov Oleg","Шабанов Олег / Shabanov Oleg / 1971","М",28,50.909090909090907,254.7]
[{"$f":"Гонки!$C$11","v":"\"Налибоки 2018\""},{"$f":"Гонки!$D$11","v":"Трейл 21"},"\"Налибоки 2018\" Трейл 21",25.03,"М",{"$f":"IF(E593=\"Ж\",VLOOKUP(C593,Гонки!$E$2:$P$16,11,FALSE),VLOOKUP(C593,Гонки!$E$2:$P$16,12,FALSE))","v":55},"Князев Родион",1995,"Knyazev Rodion","Князев Родион / Knyazev Rodion / 1995","М",29,49.090909090909093,245.6]
[{"$f":"Гонки!$C$11","v":"\"Налибоки 2018\""},{"$f":"Гонки!$D$11","v":"Трейл 21"},"\"Налибоки 2018\" Трейл 21",25.03,"М",{"$f":"IF(E594=\"Ж\",VLOOKUP(C594,Гонки!$E$2:$P$16,11,FALSE),VLOOKUP(C594,Гонки!$E$2:$P$16,12,FALSE))","v":55},"Винтергрин Андрей",1981,"Vintergrin Andrej","Винтергрин Андрей / Vintergrin Andrej / 1981","М",30,47.27272727272728,236.51]
[{"$f":"Гонки!$C$11","v":"\"Налибоки 2018\""},{"$f":"Гонки!$D$11","v":"Трейл 21"},"\"Налибоки 2018\" Трейл 21",25.03,"М",{"$f":"IF(E595=\"Ж\",VLOOKUP(C595,Гонки!$E$2:$P$16,11,FALSE),VLOOKUP(C595,Гонки!$E$2:$P$16,12,FALSE))","v":55},"Казарин Дмитрий",1994,"Kazarin Dmitrij","Казарин Дмитрий / Kazarin Dmitrij / 1994","М",31,45.45454545454546,227.41]
[{"$f":"Гонки!$C$11","v":"\"Налибоки 2018\""},{"$f":"Гонки!$D$11","v":"Трейл 21"},"\"Налибоки 2018\" Трейл 21",25.03,"М",{"$f":"IF(E596=\"Ж\",VLOOKUP(C596,Гонки!$E$2:$P$16,11,FALSE),VLOOKUP(C596,Гонки!$E$2:$P$16,12,FALSE))","v":55},"Борисевич Александр",1989,"Borisevich Aleksandr","Борисевич Александр / Borisevich Aleksandr / 1989","М",32,43.63636363636364,218.31]
[{"$f":"Гонки!$C$11","v":"\"Налибоки 2018\""},{"$f":"Гонки!$D$11","v":"Трейл 21"},"\"Налибоки 2018\" Трейл 21",25.03,"М",{"$f":"IF(E597=\"Ж\",VLOOKUP(C597,Гонки!$E$2:$P$16,11,FALSE),VLOOKUP(C597,Гонки!$E$2:$P$16,12,FALSE))","v":55},"Шестеров Андрей",1986,"Shesterov Andrej","Шестеров Андрей / Shesterov Andrej / 1986","М",33,41.81818181818182,209.22]
[{"$f":"Гонки!$C$11","v":"\"Налибоки 2018\""},{"$f":"Гонки!$D$11","v":"Трейл 21"},"\"Налибоки 2018\" Трейл 21",25.03,"М",{"$f":"IF(E598=\"Ж\",VLOOKUP(C598,Гонки!$E$2:$P$16,11,FALSE),VLOOKUP(C598,Гонки!$E$2:$P$16,12,FALSE))","v":55},"Заречанский Юрий",1980,"Zarechanskij Yurij","Заречанский Юрий / Zarechanskij Yurij / 1980","М",34,40,200.12]
[{"$f":"Гонки!$C$11","v":"\"Налибоки 2018\""},{"$f":"Гонки!$D$11","v":"Трейл 21"},"\"Налибоки 2018\" Трейл 21",25.03,"М",{"$f":"IF(E599=\"Ж\",VLOOKUP(C599,Гонки!$E$2:$P$16,11,FALSE),VLOOKUP(C599,Гонки!$E$2:$P$16,12,FALSE))","v":55},"Кулак Александр",1989,"Kulak Aleksandr","Кулак Александр / Kulak Aleksandr / 1989","М",35,38.181818181818187,191.02]
[{"$f":"Гонки!$C$11","v":"\"Налибоки 2018\""},{"$f":"Гонки!$D$11","v":"Трейл 21"},"\"Налибоки 2018\" Трейл 21",25.03,"М",{"$f":"IF(E600=\"Ж\",VLOOKUP(C600,Гонки!$E$2:$P$16,11,FALSE),VLOOKUP(C600,Гонки!$E$2:$P$16,12,FALSE))","v":55},"Чернявский Артем",1987,"Chernyavskij Artem","Чернявский Артем / Chernyavskij Artem / 1987","М",36,36.363636363636367,181.93]
[{"$f":"Гонки!$C$11","v":"\"Налибоки 2018\""},{"$f":"Гонки!$D$11","v":"Трейл 21"},"\"Налибоки 2018\" Трейл 21",25.03,"М",{"$f":"IF(E601=\"Ж\",VLOOKUP(C601,Гонки!$E$2:$P$16,11,FALSE),VLOOKUP(C601,Гонки!$E$2:$P$16,12,FALSE))","v":55},"Будник Владимир",1987,"Budnik Vladimir","Будник Владимир / Budnik Vladimir / 1987","М",37,34.545454545454547,172.83]
[{"$f":"Гонки!$C$11","v":"\"Налибоки 2018\""},{"$f":"Гонки!$D$11","v":"Трейл 21"},"\"Налибоки 2018\" Трейл 21",25.03,"М",{"$f":"IF(E602=\"Ж\",VLOOKUP(C602,Гонки!$E$2:$P$16,11,FALSE),VLOOKUP(C602,Гонки!$E$2:$P$16,12,FALSE))","v":55},"Кузьменок Денис",1979,"Kuzmenok Denis","Кузьменок Денис / Kuzmenok Denis / 1979","М",38,32.727272727272734,163.72999999999999]
[{"$f":"Гонки!$C$11","v":"\"Налибоки 2018\""},{"$f":"Гонки!$D$11","v":"Трейл 21"},"\"Налибоки 2018\" Трейл 21",25.03,"М",{"$f":"IF(E603=\"Ж\",VLOOKUP(C603,Гонки!$E$2:$P$16,11,FALSE),VLOOKUP(C603,Гонки!$E$2:$P$16,12,FALSE))","v":55},"Иванов Денис",1990,"Ivanov Denis","Иванов Денис / Ivanov Denis / 1990","М",39,30.909090909090907,154.63999999999999]
[{"$f":"Гонки!$C$11","v":"\"Налибоки 2018\""},{"$f":"Гонки!$D$11","v":"Трейл 21"},"\"Налибоки 2018\" Трейл 21",25.03,"М",{"$f":"IF(E604=\"Ж\",VLOOKUP(C604,Гонки!$E$2:$P$16,11,FALSE),VLOOKUP(C604,Гонки!$E$2:$P$16,12,FALSE))","v":55},"Кудрявец Валерий",1975,"Kudryavets Valerij","Кудрявец Валерий / Kudryavets Valerij / 1975","М",40,29.090909090909093,145.54]
[{"$f":"Гонки!$C$11","v":"\"Налибоки 2018\""},{"$f":"Гонки!$D$11","v":"Трейл 21"},"\"Налибоки 2018\" Трейл 21",25.03,"М",{"$f":"IF(E605=\"Ж\",VLOOKUP(C605,Гонки!$E$2:$P$16,11,FALSE),VLOOKUP(C605,Гонки!$E$2:$P$16,12,FALSE))","v":55},"Филипович Никита",1993,"Filipovich Nikita","Филипович Никита / Filipovich Nikita / 1993","М",41,27.272727272727266,136.44999999999999]
[{"$f":"Гонки!$C$11","v":"\"Налибоки 2018\""},{"$f":"Гонки!$D$11","v":"Трейл 21"},"\"Налибоки 2018\" Трейл 21",25.03,"М",{"$f":"IF(E606=\"Ж\",VLOOKUP(C606,Гонки!$E$2:$P$16,11,FALSE),VLOOKUP(C606,Гонки!$E$2:$P$16,12,FALSE))","v":55},"Шуленков Роман",1990,"Shulenkov Roman","Шуленков Роман / Shulenkov Roman / 1990","М",42,25.454545454545453,127.35]
[{"$f":"Гонки!$C$11","v":"\"Налибоки 2018\""},{"$f":"Гонки!$D$11","v":"Трейл 21"},"\"Налибоки 2018\" Трейл 21",25.03,"М",{"$f":"IF(E607=\"Ж\",VLOOKUP(C607,Гонки!$E$2:$P$16,11,FALSE),VLOOKUP(C607,Гонки!$E$2:$P$16,12,FALSE))","v":55},"Зуй Александр",1980,"Zuj Aleksandr","Зуй Александр / Zuj Aleksandr / 1980","М",43,23.636363636363626,118.25]
[{"$f":"Гонки!$C$11","v":"\"Налибоки 2018\""},{"$f":"Гонки!$D$11","v":"Трейл 21"},"\"Налибоки 2018\" Трейл 21",25.03,"М",{"$f":"IF(E608=\"Ж\",VLOOKUP(C608,Гонки!$E$2:$P$16,11,FALSE),VLOOKUP(C608,Гонки!$E$2:$P$16,12,FALSE))","v":55},"Лакустов Алексей",1986,"Lakustov Aleksej","Лакустов Алексей / Lakustov Aleksej / 1986","М",44,21.818181818181813,109.16]
[{"$f":"Гонки!$C$11","v":"\"Налибоки 2018\""},{"$f":"Гонки!$D$11","v":"Трейл 21"},"\"Налибоки 2018\" Трейл 21",25.03,"М",{"$f":"IF(E609=\"Ж\",VLOOKUP(C609,Гонки!$E$2:$P$16,11,FALSE),VLOOKUP(C609,Гонки!$E$2:$P$16,12,FALSE))","v":55},"Лунский Сергей",1995,"Lunskij Sergej","Лунский Сергей / Lunskij Sergej / 1995","М",45,20,100.06]
[{"$f":"Гонки!$C$11","v":"\"Налибоки 2018\""},{"$f":"Гонки!$D$11","v":"Трейл 21"},"\"Налибоки 2018\" Трейл 21",25.03,"М",{"$f":"IF(E610=\"Ж\",VLOOKUP(C610,Гонки!$E$2:$P$16,11,FALSE),VLOOKUP(C610,Гонки!$E$2:$P$16,12,FALSE))","v":55},"Белицкий Денис",1990,"Belitskij Denis","Белицкий Денис / Belitskij Denis / 1990","М",46,18.181818181818173,90.96]
[{"$f":"Гонки!$C$11","v":"\"Налибоки 2018\""},{"$f":"Гонки!$D$11","v":"Трейл 21"},"\"Налибоки 2018\" Трейл 21",25.03,"М",{"$f":"IF(E611=\"Ж\",VLOOKUP(C611,Гонки!$E$2:$P$16,11,FALSE),VLOOKUP(C611,Гонки!$E$2:$P$16,12,FALSE))","v":55},"Бычков Александр",1990,"Bychkov Aleksandr","Бычков Александр / Bychkov Aleksandr / 1990","М",47,16.363636363636374,81.87]
[{"$f":"Гонки!$C$11","v":"\"Налибоки 2018\""},{"$f":"Гонки!$D$11","v":"Трейл 21"},"\"Налибоки 2018\" Трейл 21",25.03,"М",{"$f":"IF(E612=\"Ж\",VLOOKUP(C612,Гонки!$E$2:$P$16,11,FALSE),VLOOKUP(C612,Гонки!$E$2:$P$16,12,FALSE))","v":55},"Городко Игорь",1970,"Gorodko Igor","Городко Игорь / Gorodko Igor / 1970","М",48,14.545454545454547,72.77]
[{"$f":"Гонки!$C$11","v":"\"Налибоки 2018\""},{"$f":"Гонки!$D$11","v":"Трейл 21"},"\"Налибоки 2018\" Трейл 21",25.03,"М",{"$f":"IF(E613=\"Ж\",VLOOKUP(C613,Гонки!$E$2:$P$16,11,FALSE),VLOOKUP(C613,Гонки!$E$2:$P$16,12,FALSE))","v":55},"Вирт Олег",1980,"Virt Oleg","Вирт Олег / Virt Oleg / 1980","М",49,12.727272727272734,63.67]
[{"$f":"Гонки!$C$11","v":"\"Налибоки 2018\""},{"$f":"Гонки!$D$11","v":"Трейл 21"},"\"Налибоки 2018\" Трейл 21",25.03,"М",{"$f":"IF(E614=\"Ж\",VLOOKUP(C614,Гонки!$E$2:$P$16,11,FALSE),VLOOKUP(C614,Гонки!$E$2:$P$16,12,FALSE))","v":55},"Новосяд Владимир",1968,"Novosyad Vladimir","Новосяд Владимир / Novosyad Vladimir / 1968","М",50,10.909090909090907,54.58]
[{"$f":"Гонки!$C$11","v":"\"Налибоки 2018\""},{"$f":"Гонки!$D$11","v":"Трейл 21"},"\"Налибоки 2018\" Трейл 21",25.03,"М",{"$f":"IF(E615=\"Ж\",VLOOKUP(C615,Гонки!$E$2:$P$16,11,FALSE),VLOOKUP(C615,Гонки!$E$2:$P$16,12,FALSE))","v":55},"Скребец Сергей",1963,"Skrebets Sergej","Скребец Сергей / Skrebets Sergej / 1963","М",51,9.0909090909090935,45.48]
[{"$f":"Гонки!$C$11","v":"\"Налибоки 2018\""},{"$f":"Гонки!$D$11","v":"Трейл 21"},"\"Налибоки 2018\" Трейл 21",25.03,"М",{"$f":"IF(E616=\"Ж\",VLOOKUP(C616,Гонки!$E$2:$P$16,11,FALSE),VLOOKUP(C616,Гонки!$E$2:$P$16,12,FALSE))","v":55},"Островцов Александр",1988,"Ostrovtsov Aleksandr","Островцов Александр / Ostrovtsov Aleksandr / 1988","М",52,7.2727272727272805,36.39]
[{"$f":"Гонки!$C$11","v":"\"Налибоки 2018\""},{"$f":"Гонки!$D$11","v":"Трейл 21"},"\"Налибоки 2018\" Трейл 21",25.03,"М",{"$f":"IF(E617=\"Ж\",VLOOKUP(C617,Гонки!$E$2:$P$16,11,FALSE),VLOOKUP(C617,Гонки!$E$2:$P$16,12,FALSE))","v":55},"Минчук Александр",1974,"Minchuk Aleksandr","Минчук Александр / Minchuk Aleksandr / 1974","М",53,5.4545454545454533,27.29]
[{"$f":"Гонки!$C$11","v":"\"Налибоки 2018\""},{"$f":"Гонки!$D$11","v":"Трейл 21"},"\"Налибоки 2018\" Трейл 21",25.03,"М",{"$f":"IF(E618=\"Ж\",VLOOKUP(C618,Гонки!$E$2:$P$16,11,FALSE),VLOOKUP(C618,Гонки!$E$2:$P$16,12,FALSE))","v":55},"Томашев Игорь",1965,"Tomashev Igor","Томашев Игорь / Tomashev Igor / 1965","М",54,3.6363636363636402,18.190000000000001]
[{"$f":"Гонки!$C$11","v":"\"Налибоки 2018\""},{"$f":"Гонки!$D$11","v":"Трейл 21"},"\"Налибоки 2018\" Трейл 21",25.03,"М",{"$f":"IF(E619=\"Ж\",VLOOKUP(C619,Гонки!$E$2:$P$16,11,FALSE),VLOOKUP(C619,Гонки!$E$2:$P$16,12,FALSE))","v":55},"Поволоцкий Даниил",1990,"Povolotskij Daniil","Поволоцкий Даниил / Povolotskij Daniil / 1990","М",55,1.818181818181813,9.1]
[{"$f":"Гонки!$C$14","v":"Жук-трейл #6 Купалье"},{"$f":"Гонки!$D$14","v":"Трейл 5"},"Жук-трейл #6 Купалье Трейл 5",5.6800000000000006,"Ж",{"$f":"IF(E620=\"Ж\",VLOOKUP(C620,Гонки!$E$2:$P$16,11,FALSE),VLOOKUP(C620,Гонки!$E$2:$P$16,12,FALSE))","v":28},"Скирук Юлия",1988,"Skiruk Yuliya","Скирук Юлия / Skiruk Yuliya / 1988","Ж",1,100,238.33]
[{"$f":"Гонки!$C$14","v":"Жук-трейл #6 Купалье"},{"$f":"Гонки!$D$14","v":"Трейл 5"},"Жук-трейл #6 Купалье Трейл 5",5.6800000000000006,"Ж",{"$f":"IF(E621=\"Ж\",VLOOKUP(C621,Гонки!$E$2:$P$16,11,FALSE),VLOOKUP(C621,Гонки!$E$2:$P$16,12,FALSE))","v":28},"Пиньковская Ирина",1986,"Pinkovskaya Irina","Пиньковская Ирина / Pinkovskaya Irina / 1986","Ж",2,96.428571428571431,229.82]
[{"$f":"Гонки!$C$14","v":"Жук-трейл #6 Купалье"},{"$f":"Гонки!$D$14","v":"Трейл 5"},"Жук-трейл #6 Купалье Трейл 5",5.6800000000000006,"Ж",{"$f":"IF(E622=\"Ж\",VLOOKUP(C622,Гонки!$E$2:$P$16,11,FALSE),VLOOKUP(C622,Гонки!$E$2:$P$16,12,FALSE))","v":28},"Зеленцова Галина",1988,"Zelentsova Galina","Зеленцова Галина / Zelentsova Galina / 1988","Ж",3,92.857142857142861,221.3]
[{"$f":"Гонки!$C$14","v":"Жук-трейл #6 Купалье"},{"$f":"Гонки!$D$14","v":"Трейл 5"},"Жук-трейл #6 Купалье Трейл 5",5.6800000000000006,"Ж",{"$f":"IF(E623=\"Ж\",VLOOKUP(C623,Гонки!$E$2:$P$16,11,FALSE),VLOOKUP(C623,Гонки!$E$2:$P$16,12,FALSE))","v":28},"Едомская Вольга",1987,"Edomskaya Volga","Едомская Вольга / Edomskaya Volga / 1987","Ж",4,89.285714285714292,212.79]
[{"$f":"Гонки!$C$14","v":"Жук-трейл #6 Купалье"},{"$f":"Гонки!$D$14","v":"Трейл 5"},"Жук-трейл #6 Купалье Трейл 5",5.6800000000000006,"Ж",{"$f":"IF(E624=\"Ж\",VLOOKUP(C624,Гонки!$E$2:$P$16,11,FALSE),VLOOKUP(C624,Гонки!$E$2:$P$16,12,FALSE))","v":28},"Молочко Анна",2006,"Molochko Anna","Молочко Анна / Molochko Anna / 2006","Ж",5,85.714285714285722,204.28]
[{"$f":"Гонки!$C$14","v":"Жук-трейл #6 Купалье"},{"$f":"Гонки!$D$14","v":"Трейл 5"},"Жук-трейл #6 Купалье Трейл 5",5.6800000000000006,"Ж",{"$f":"IF(E625=\"Ж\",VLOOKUP(C625,Гонки!$E$2:$P$16,11,FALSE),VLOOKUP(C625,Гонки!$E$2:$P$16,12,FALSE))","v":28},"Недведская Елена",1986,"Nedvedskaya Elena","Недведская Елена / Nedvedskaya Elena / 1986","Ж",6,82.142857142857139,195.77]
[{"$f":"Гонки!$C$14","v":"Жук-трейл #6 Купалье"},{"$f":"Гонки!$D$14","v":"Трейл 5"},"Жук-трейл #6 Купалье Трейл 5",5.6800000000000006,"Ж",{"$f":"IF(E626=\"Ж\",VLOOKUP(C626,Гонки!$E$2:$P$16,11,FALSE),VLOOKUP(C626,Гонки!$E$2:$P$16,12,FALSE))","v":28},"Силивонова Виктория",1994,"Silivonova Viktoriya","Силивонова Виктория / Silivonova Viktoriya / 1994","Ж",7,78.571428571428569,187.26]
[{"$f":"Гонки!$C$14","v":"Жук-трейл #6 Купалье"},{"$f":"Гонки!$D$14","v":"Трейл 5"},"Жук-трейл #6 Купалье Трейл 5",5.6800000000000006,"Ж",{"$f":"IF(E627=\"Ж\",VLOOKUP(C627,Гонки!$E$2:$P$16,11,FALSE),VLOOKUP(C627,Гонки!$E$2:$P$16,12,FALSE))","v":28},"Скабицкая Анна",1987,"Skabitskaya Anna","Скабицкая Анна / Skabitskaya Anna / 1987","Ж",8,75,178.75]
[{"$f":"Гонки!$C$14","v":"Жук-трейл #6 Купалье"},{"$f":"Гонки!$D$14","v":"Трейл 5"},"Жук-трейл #6 Купалье Трейл 5",5.6800000000000006,"Ж",{"$f":"IF(E628=\"Ж\",VLOOKUP(C628,Гонки!$E$2:$P$16,11,FALSE),VLOOKUP(C628,Гонки!$E$2:$P$16,12,FALSE))","v":28},"Крипа Светлана",1989,"Kripa Svetlana","Крипа Светлана / Kripa Svetlana / 1989","Ж",9,71.428571428571431,170.23]
[{"$f":"Гонки!$C$14","v":"Жук-трейл #6 Купалье"},{"$f":"Гонки!$D$14","v":"Трейл 5"},"Жук-трейл #6 Купалье Трейл 5",5.6800000000000006,"Ж",{"$f":"IF(E629=\"Ж\",VLOOKUP(C629,Гонки!$E$2:$P$16,11,FALSE),VLOOKUP(C629,Гонки!$E$2:$P$16,12,FALSE))","v":28},"Минич Ольга",1989,"Minich Olga","Минич Ольга / Minich Olga / 1989","Ж",10,67.857142857142861,161.72]
[{"$f":"Гонки!$C$14","v":"Жук-трейл #6 Купалье"},{"$f":"Гонки!$D$14","v":"Трейл 5"},"Жук-трейл #6 Купалье Трейл 5",5.6800000000000006,"Ж",{"$f":"IF(E630=\"Ж\",VLOOKUP(C630,Гонки!$E$2:$P$16,11,FALSE),VLOOKUP(C630,Гонки!$E$2:$P$16,12,FALSE))","v":28},"Стракович Екатерина",1991,"Strakovich Ekaterina","Стракович Екатерина / Strakovich Ekaterina / 1991","Ж",11,64.285714285714278,153.21]
[{"$f":"Гонки!$C$14","v":"Жук-трейл #6 Купалье"},{"$f":"Гонки!$D$14","v":"Трейл 5"},"Жук-трейл #6 Купалье Трейл 5",5.6800000000000006,"Ж",{"$f":"IF(E631=\"Ж\",VLOOKUP(C631,Гонки!$E$2:$P$16,11,FALSE),VLOOKUP(C631,Гонки!$E$2:$P$16,12,FALSE))","v":28},"Бурак Анжелика",1994,"Burak Anzhelika","Бурак Анжелика / Burak Anzhelika / 1994","Ж",12,60.714285714285715,144.69999999999999]
[{"$f":"Гонки!$C$14","v":"Жук-трейл #6 Купалье"},{"$f":"Гонки!$D$14","v":"Трейл 5"},"Жук-трейл #6 Купалье Трейл 5",5.6800000000000006,"Ж",{"$f":"IF(E632=\"Ж\",VLOOKUP(C632,Гонки!$E$2:$P$16,11,FALSE),VLOOKUP(C632,Гонки!$E$2:$P$16,12,FALSE))","v":28},"Моисеева Вероника",1983,"Moiseeva Veronika","Моисеева Вероника / Moiseeva Veronika / 1983","Ж",13,57.142857142857146,136.19]
[{"$f":"Гонки!$C$14","v":"Жук-трейл #6 Купалье"},{"$f":"Гонки!$D$14","v":"Трейл 5"},"Жук-трейл #6 Купалье Трейл 5",5.6800000000000006,"Ж",{"$f":"IF(E633=\"Ж\",VLOOKUP(C633,Гонки!$E$2:$P$16,11,FALSE),VLOOKUP(C633,Гонки!$E$2:$P$16,12,FALSE))","v":28},"Таранко Марта",1990,"Taranko Marta","Таранко Марта / Taranko Marta / 1990","Ж",14,53.571428571428569,127.68]
[{"$f":"Гонки!$C$14","v":"Жук-трейл #6 Купалье"},{"$f":"Гонки!$D$14","v":"Трейл 5"},"Жук-трейл #6 Купалье Трейл 5",5.6800000000000006,"Ж",{"$f":"IF(E634=\"Ж\",VLOOKUP(C634,Гонки!$E$2:$P$16,11,FALSE),VLOOKUP(C634,Гонки!$E$2:$P$16,12,FALSE))","v":28},"Кожемякина Анна",1991,"Kozhemyakina Anna","Кожемякина Анна / Kozhemyakina Anna / 1991","Ж",15,50,119.16]
[{"$f":"Гонки!$C$14","v":"Жук-трейл #6 Купалье"},{"$f":"Гонки!$D$14","v":"Трейл 5"},"Жук-трейл #6 Купалье Трейл 5",5.6800000000000006,"Ж",{"$f":"IF(E635=\"Ж\",VLOOKUP(C635,Гонки!$E$2:$P$16,11,FALSE),VLOOKUP(C635,Гонки!$E$2:$P$16,12,FALSE))","v":28},"Абаркина Елена",1983,"Abarkina Elena","Абаркина Елена / Abarkina Elena / 1983","Ж",16,46.428571428571431,110.65]
[{"$f":"Гонки!$C$14","v":"Жук-трейл #6 Купалье"},{"$f":"Гонки!$D$14","v":"Трейл 5"},"Жук-трейл #6 Купалье Трейл 5",5.6800000000000006,"Ж",{"$f":"IF(E636=\"Ж\",VLOOKUP(C636,Гонки!$E$2:$P$16,11,FALSE),VLOOKUP(C636,Гонки!$E$2:$P$16,12,FALSE))","v":28},"Якубовская Виктория",1984,"Yakubovskaya Viktoriya","Якубовская Виктория / Yakubovskaya Viktoriya / 1984","Ж",17,42.857142857142861,102.14]
[{"$f":"Гонки!$C$14","v":"Жук-трейл #6 Купалье"},{"$f":"Гонки!$D$14","v":"Трейл 5"},"Жук-трейл #6 Купалье Трейл 5",5.6800000000000006,"Ж",{"$f":"IF(E637=\"Ж\",VLOOKUP(C637,Гонки!$E$2:$P$16,11,FALSE),VLOOKUP(C637,Гонки!$E$2:$P$16,12,FALSE))","v":28},"Ладутько Наталья",1974,"Ladutko Natalya","Ладутько Наталья / Ladutko Natalya / 1974","Ж",18,39.285714285714292,93.63]
[{"$f":"Гонки!$C$14","v":"Жук-трейл #6 Купалье"},{"$f":"Гонки!$D$14","v":"Трейл 5"},"Жук-трейл #6 Купалье Трейл 5",5.6800000000000006,"Ж",{"$f":"IF(E638=\"Ж\",VLOOKUP(C638,Гонки!$E$2:$P$16,11,FALSE),VLOOKUP(C638,Гонки!$E$2:$P$16,12,FALSE))","v":28},"Самусик Елена",1992,"Samusik Elena","Самусик Елена / Samusik Elena / 1992","Ж",19,35.714285714285708,85.12]
[{"$f":"Гонки!$C$14","v":"Жук-трейл #6 Купалье"},{"$f":"Гонки!$D$14","v":"Трейл 5"},"Жук-трейл #6 Купалье Трейл 5",5.6800000000000006,"Ж",{"$f":"IF(E639=\"Ж\",VLOOKUP(C639,Гонки!$E$2:$P$16,11,FALSE),VLOOKUP(C639,Гонки!$E$2:$P$16,12,FALSE))","v":28},"Орлова Татьяна",1990,"Orlova Tatyana","Орлова Татьяна / Orlova Tatyana / 1990","Ж",20,32.142857142857139,76.61]
[{"$f":"Гонки!$C$14","v":"Жук-трейл #6 Купалье"},{"$f":"Гонки!$D$14","v":"Трейл 5"},"Жук-трейл #6 Купалье Трейл 5",5.6800000000000006,"Ж",{"$f":"IF(E640=\"Ж\",VLOOKUP(C640,Гонки!$E$2:$P$16,11,FALSE),VLOOKUP(C640,Гонки!$E$2:$P$16,12,FALSE))","v":28},"Липская Яна",2007,"Lipskaya Yana","Липская Яна / Lipskaya Yana / 2007","Ж",21,28.571428571428569,68.09]
[{"$f":"Гонки!$C$14","v":"Жук-трейл #6 Купалье"},{"$f":"Гонки!$D$14","v":"Трейл 5"},"Жук-трейл #6 Купалье Трейл 5",5.6800000000000006,"Ж",{"$f":"IF(E641=\"Ж\",VLOOKUP(C641,Гонки!$E$2:$P$16,11,FALSE),VLOOKUP(C641,Гонки!$E$2:$P$16,12,FALSE))","v":28},"Липская Наталья",1977,"Lipskaya Natalya","Липская Наталья / Lipskaya Natalya / 1977","Ж",22,25,59.58]
[{"$f":"Гонки!$C$14","v":"Жук-трейл #6 Купалье"},{"$f":"Гонки!$D$14","v":"Трейл 5"},{"$f":"CONCATENATE(A642,\" \",B642)","v":"Жук-трейл #6 Купалье Трейл 5"},{"$f":"VLOOKUP(C642,Список_гонок,10,FALSE)","v":5.6800000000000006},"Ж",{"$f":"IF(E642=\"Ж\",VLOOKUP(C642,Гонки!$E$2:$P$16,11,FALSE),VLOOKUP(C642,Гонки!$E$2:$P$16,12,FALSE))","v":28},"Гладкова Анна",1985,{"$f":"Translit(G642)","v":"Gladkova Anna"},{"$f":"CONCATENATE(G642,\" / \",I642,\" / \",H642)","v":"Гладкова Анна / Gladkova Anna / 1985"},{"$f":"E642","v":"Ж"},23,{"$f":"100-((L642-1)/F642)*100","v":21.428571428571431},{"$f":"ROUND(SQRT(D642)*M642,2)","v":51.07}]
[{"$f":"Гонки!$C$14","v":"Жук-трейл #6 Купалье"},{"$f":"Гонки!$D$14","v":"Трейл 5"},"Жук-трейл #6 Купалье Трейл 5",5.6800000000000006,"Ж",{"$f":"IF(E643=\"Ж\",VLOOKUP(C643,Гонки!$E$2:$P$16,11,FALSE),VLOOKUP(C643,Гонки!$E$2:$P$16,12,FALSE))","v":28},"Родионова Светлана",1981,"Rodionova Svetlana","Родионова Светлана / Rodionova Svetlana / 1981","Ж",24,17.857142857142861,42.56]
[{"$f":"Гонки!$C$14","v":"Жук-трейл #6 Купалье"},{"$f":"Гонки!$D$14","v":"Трейл 5"},"Жук-трейл #6 Купалье Трейл 5",5.6800000000000006,"Ж",{"$f":"IF(E644=\"Ж\",VLOOKUP(C644,Гонки!$E$2:$P$16,11,FALSE),VLOOKUP(C644,Гонки!$E$2:$P$16,12,FALSE))","v":28},"Ветохина София",2010,"Vetohina Sofiya","Ветохина София / Vetohina Sofiya / 2010","Ж",25,14.285714285714292,34.049999999999997]
[{"$f":"Гонки!$C$14","v":"Жук-трейл #6 Купалье"},{"$f":"Гонки!$D$14","v":"Трейл 5"},"Жук-трейл #6 Купалье Трейл 5",5.6800000000000006,"Ж",{"$f":"IF(E645=\"Ж\",VLOOKUP(C645,Гонки!$E$2:$P$16,11,FALSE),VLOOKUP(C645,Гонки!$E$2:$P$16,12,FALSE))","v":28},"Казак Наталья",1979,"Kazak Natalya","Казак Наталья / Kazak Natalya / 1979","Ж",26,10.714285714285708,25.54]
[{"$f":"Гонки!$C$14","v":"Жук-трейл #6 Купалье"},{"$f":"Гонки!$D$14","v":"Трейл 5"},"Жук-трейл #6 Купалье Трейл 5",5.6800000000000006,"Ж",{"$f":"IF(E646=\"Ж\",VLOOKUP(C646,Гонки!$E$2:$P$16,11,FALSE),VLOOKUP(C646,Гонки!$E$2:$P$16,12,FALSE))","v":28},"Гарбуз Алла",1969,"Garbuz Alla","Гарбуз Алла / Garbuz Alla / 1969","Ж",26,10.714285714285708,25.54]
[{"$f":"Гонки!$C$14","v":"Жук-трейл #6 Купалье"},{"$f":"Гонки!$D$14","v":"Трейл 5"},"Жук-трейл #6 Купалье Трейл 5",5.6800000000000006,"М",{"$f":"IF(E647=\"Ж\",VLOOKUP(C647,Гонки!$E$2:$P$16,11,FALSE),VLOOKUP(C647,Гонки!$E$2:$P$16,12,FALSE))","v":23},"Католиков Роман",1985,"Katolikov Roman","Католиков Роман / Katolikov Roman / 1985","М",1,100,238.33]
[{"$f":"Гонки!$C$14","v":"Жук-трейл #6 Купалье"},{"$f":"Гонки!$D$14","v":"Трейл 5"},"Жук-трейл #6 Купалье Трейл 5",5.6800000000000006,"М",{"$f":"IF(E648=\"Ж\",VLOOKUP(C648,Гонки!$E$2:$P$16,11,FALSE),VLOOKUP(C648,Гонки!$E$2:$P$16,12,FALSE))","v":23},"Крус Виктор",1980,"Krus Viktor","Крус Виктор / Krus Viktor / 1980","М",2,95.652173913043484,227.97]
[{"$f":"Гонки!$C$14","v":"Жук-трейл #6 Купалье"},{"$f":"Гонки!$D$14","v":"Трейл 5"},"Жук-трейл #6 Купалье Трейл 5",5.6800000000000006,"М",{"$f":"IF(E649=\"Ж\",VLOOKUP(C649,Гонки!$E$2:$P$16,11,FALSE),VLOOKUP(C649,Гонки!$E$2:$P$16,12,FALSE))","v":23},"Дашин Михаил",1986,"Dashin Mihail","Дашин Михаил / Dashin Mihail / 1986","М",3,91.304347826086953,217.6]
[{"$f":"Гонки!$C$14","v":"Жук-трейл #6 Купалье"},{"$f":"Гонки!$D$14","v":"Трейл 5"},"Жук-трейл #6 Купалье Трейл 5",5.6800000000000006,"М",{"$f":"IF(E650=\"Ж\",VLOOKUP(C650,Гонки!$E$2:$P$16,11,FALSE),VLOOKUP(C650,Гонки!$E$2:$P$16,12,FALSE))","v":23},"Геранин Дмитрий",null,"Geranin Dmitrij","Геранин Дмитрий / Geranin Dmitrij / ","М",4,86.956521739130437,207.24]
[{"$f":"Гонки!$C$14","v":"Жук-трейл #6 Купалье"},{"$f":"Гонки!$D$14","v":"Трейл 5"},"Жук-трейл #6 Купалье Трейл 5",5.6800000000000006,"М",{"$f":"IF(E651=\"Ж\",VLOOKUP(C651,Гонки!$E$2:$P$16,11,FALSE),VLOOKUP(C651,Гонки!$E$2:$P$16,12,FALSE))","v":23},"Щербо Виктор",1961,"Scherbo Viktor","Щербо Виктор / Scherbo Viktor / 1961","М",5,82.608695652173907,196.88]
[{"$f":"Гонки!$C$14","v":"Жук-трейл #6 Купалье"},{"$f":"Гонки!$D$14","v":"Трейл 5"},"Жук-трейл #6 Купалье Трейл 5",5.6800000000000006,"М",{"$f":"IF(E652=\"Ж\",VLOOKUP(C652,Гонки!$E$2:$P$16,11,FALSE),VLOOKUP(C652,Гонки!$E$2:$P$16,12,FALSE))","v":23},"Володько Владимир",2001,"Volodko Vladimir","Володько Владимир / Volodko Vladimir / 2001","М",6,78.260869565217391,186.52]
[{"$f":"Гонки!$C$14","v":"Жук-трейл #6 Купалье"},{"$f":"Гонки!$D$14","v":"Трейл 5"},"Жук-трейл #6 Купалье Трейл 5",5.6800000000000006,"М",{"$f":"IF(E653=\"Ж\",VLOOKUP(C653,Гонки!$E$2:$P$16,11,FALSE),VLOOKUP(C653,Гонки!$E$2:$P$16,12,FALSE))","v":23},"Воробьёв Дмитрий",1988,"Vorobjov Dmitrij","Воробьёв Дмитрий / Vorobjov Dmitrij / 1988","М",7,73.913043478260875,176.16]
[{"$f":"Гонки!$C$14","v":"Жук-трейл #6 Купалье"},{"$f":"Гонки!$D$14","v":"Трейл 5"},"Жук-трейл #6 Купалье Трейл 5",5.6800000000000006,"М",{"$f":"IF(E654=\"Ж\",VLOOKUP(C654,Гонки!$E$2:$P$16,11,FALSE),VLOOKUP(C654,Гонки!$E$2:$P$16,12,FALSE))","v":23},"Бойко Евгений",1985,"Bojko Evgenij","Бойко Евгений / Bojko Evgenij / 1985","М",8,69.565217391304344,165.79]
[{"$f":"Гонки!$C$14","v":"Жук-трейл #6 Купалье"},{"$f":"Гонки!$D$14","v":"Трейл 5"},"Жук-трейл #6 Купалье Трейл 5",5.6800000000000006,"М",{"$f":"IF(E655=\"Ж\",VLOOKUP(C655,Гонки!$E$2:$P$16,11,FALSE),VLOOKUP(C655,Гонки!$E$2:$P$16,12,FALSE))","v":23},"Круглик Игорь",1985,"Kruglik Igor","Круглик Игорь / Kruglik Igor / 1985","М",9,65.217391304347828,155.43]
[{"$f":"Гонки!$C$14","v":"Жук-трейл #6 Купалье"},{"$f":"Гонки!$D$14","v":"Трейл 5"},"Жук-трейл #6 Купалье Трейл 5",5.6800000000000006,"М",{"$f":"IF(E656=\"Ж\",VLOOKUP(C656,Гонки!$E$2:$P$16,11,FALSE),VLOOKUP(C656,Гонки!$E$2:$P$16,12,FALSE))","v":23},"Чирская Юлия",1992,"Chirskaya Yuliya","Чирская Юлия / Chirskaya Yuliya / 1992","М",10,60.869565217391305,145.07]
[{"$f":"Гонки!$C$14","v":"Жук-трейл #6 Купалье"},{"$f":"Гонки!$D$14","v":"Трейл 5"},"Жук-трейл #6 Купалье Трейл 5",5.6800000000000006,"М",{"$f":"IF(E657=\"Ж\",VLOOKUP(C657,Гонки!$E$2:$P$16,11,FALSE),VLOOKUP(C657,Гонки!$E$2:$P$16,12,FALSE))","v":23},"Казак Константин",2004,"Kazak Konstantin","Казак Константин / Kazak Konstantin / 2004","М",11,56.521739130434781,134.71]
[{"$f":"Гонки!$C$14","v":"Жук-трейл #6 Купалье"},{"$f":"Гонки!$D$14","v":"Трейл 5"},"Жук-трейл #6 Купалье Трейл 5",5.6800000000000006,"М",{"$f":"IF(E658=\"Ж\",VLOOKUP(C658,Гонки!$E$2:$P$16,11,FALSE),VLOOKUP(C658,Гонки!$E$2:$P$16,12,FALSE))","v":23},"Лазаренок Глеб",1982,"Lazarenok Gleb","Лазаренок Глеб / Lazarenok Gleb / 1982","М",12,52.173913043478258,124.34]
[{"$f":"Гонки!$C$14","v":"Жук-трейл #6 Купалье"},{"$f":"Гонки!$D$14","v":"Трейл 5"},"Жук-трейл #6 Купалье Трейл 5",5.6800000000000006,"М",{"$f":"IF(E659=\"Ж\",VLOOKUP(C659,Гонки!$E$2:$P$16,11,FALSE),VLOOKUP(C659,Гонки!$E$2:$P$16,12,FALSE))","v":23},"Бутурля Александр",1981,"Buturlya Aleksandr","Бутурля Александр / Buturlya Aleksandr / 1981","М",13,47.826086956521742,113.98]
[{"$f":"Гонки!$C$14","v":"Жук-трейл #6 Купалье"},{"$f":"Гонки!$D$14","v":"Трейл 5"},"Жук-трейл #6 Купалье Трейл 5",5.6800000000000006,"М",{"$f":"IF(E660=\"Ж\",VLOOKUP(C660,Гонки!$E$2:$P$16,11,FALSE),VLOOKUP(C660,Гонки!$E$2:$P$16,12,FALSE))","v":23},"Герасевич Максим",null,"Gerasevich Maksim","Герасевич Максим / Gerasevich Maksim / ","М",14,43.478260869565219,103.62]
[{"$f":"Гонки!$C$14","v":"Жук-трейл #6 Купалье"},{"$f":"Гонки!$D$14","v":"Трейл 5"},"Жук-трейл #6 Купалье Трейл 5",5.6800000000000006,"М",{"$f":"IF(E661=\"Ж\",VLOOKUP(C661,Гонки!$E$2:$P$16,11,FALSE),VLOOKUP(C661,Гонки!$E$2:$P$16,12,FALSE))","v":23},"Соколов Артем",1986,"Sokolov Artem","Соколов Артем / Sokolov Artem / 1986","М",15,39.130434782608688,93.26]
[{"$f":"Гонки!$C$14","v":"Жук-трейл #6 Купалье"},{"$f":"Гонки!$D$14","v":"Трейл 5"},"Жук-трейл #6 Купалье Трейл 5",5.6800000000000006,"М",{"$f":"IF(E662=\"Ж\",VLOOKUP(C662,Гонки!$E$2:$P$16,11,FALSE),VLOOKUP(C662,Гонки!$E$2:$P$16,12,FALSE))","v":23},"Якубовский Игорь",1984,"Yakubovskij Igor","Якубовский Игорь / Yakubovskij Igor / 1984","М",16,34.782608695652172,82.9]
[{"$f":"Гонки!$C$14","v":"Жук-трейл #6 Купалье"},{"$f":"Гонки!$D$14","v":"Трейл 5"},"Жук-трейл #6 Купалье Трейл 5",5.6800000000000006,"М",{"$f":"IF(E663=\"Ж\",VLOOKUP(C663,Гонки!$E$2:$P$16,11,FALSE),VLOOKUP(C663,Гонки!$E$2:$P$16,12,FALSE))","v":23},"Стешко Фёдор",1990,"Steshko Fjodor","Стешко Фёдор / Steshko Fjodor / 1990","М",17,30.434782608695656,72.53]
[{"$f":"Гонки!$C$14","v":"Жук-трейл #6 Купалье"},{"$f":"Гонки!$D$14","v":"Трейл 5"},"Жук-трейл #6 Купалье Трейл 5",5.6800000000000006,"М",{"$f":"IF(E664=\"Ж\",VLOOKUP(C664,Гонки!$E$2:$P$16,11,FALSE),VLOOKUP(C664,Гонки!$E$2:$P$16,12,FALSE))","v":23},"Шульпенков Александр",1986,"Shulpenkov Aleksandr","Шульпенков Александр / Shulpenkov Aleksandr / 1986","М",18,26.08695652173914,62.17]
[{"$f":"Гонки!$C$14","v":"Жук-трейл #6 Купалье"},{"$f":"Гонки!$D$14","v":"Трейл 5"},"Жук-трейл #6 Купалье Трейл 5",5.6800000000000006,"М",{"$f":"IF(E665=\"Ж\",VLOOKUP(C665,Гонки!$E$2:$P$16,11,FALSE),VLOOKUP(C665,Гонки!$E$2:$P$16,12,FALSE))","v":23},"Федоринчик Дмитрий",1988,"Fedorinchik Dmitrij","Федоринчик Дмитрий / Fedorinchik Dmitrij / 1988","М",19,21.739130434782609,51.81]
[{"$f":"Гонки!$C$14","v":"Жук-трейл #6 Купалье"},{"$f":"Гонки!$D$14","v":"Трейл 5"},"Жук-трейл #6 Купалье Трейл 5",5.6800000000000006,"М",{"$f":"IF(E666=\"Ж\",VLOOKUP(C666,Гонки!$E$2:$P$16,11,FALSE),VLOOKUP(C666,Гонки!$E$2:$P$16,12,FALSE))","v":23},"Ветохин Иван",1987,"Vetohin Ivan","Ветохин Иван / Vetohin Ivan / 1987","М",20,17.391304347826093,41.45]
[{"$f":"Гонки!$C$14","v":"Жук-трейл #6 Купалье"},{"$f":"Гонки!$D$14","v":"Трейл 5"},"Жук-трейл #6 Купалье Трейл 5",5.6800000000000006,"М",{"$f":"IF(E667=\"Ж\",VLOOKUP(C667,Гонки!$E$2:$P$16,11,FALSE),VLOOKUP(C667,Гонки!$E$2:$P$16,12,FALSE))","v":23},"Молочко Николай",2004,"Molochko Nikolaj","Молочко Николай / Molochko Nikolaj / 2004","М",21,13.043478260869563,31.09]
[{"$f":"Гонки!$C$14","v":"Жук-трейл #6 Купалье"},{"$f":"Гонки!$D$14","v":"Трейл 5"},"Жук-трейл #6 Купалье Трейл 5",5.6800000000000006,"М",{"$f":"IF(E668=\"Ж\",VLOOKUP(C668,Гонки!$E$2:$P$16,11,FALSE),VLOOKUP(C668,Гонки!$E$2:$P$16,12,FALSE))","v":23},"Сысков Никита",1985,"Syskov Nikita","Сысков Никита / Syskov Nikita / 1985","М",22,8.6956521739130466,20.72]
[{"$f":"Гонки!$C$14","v":"Жук-трейл #6 Купалье"},{"$f":"Гонки!$D$14","v":"Трейл 5"},"Жук-трейл #6 Купалье Трейл 5",5.6800000000000006,"М",{"$f":"IF(E669=\"Ж\",VLOOKUP(C669,Гонки!$E$2:$P$16,11,FALSE),VLOOKUP(C669,Гонки!$E$2:$P$16,12,FALSE))","v":23},"Кожемякин Алексей",1986,"Kozhemyakin Aleksej","Кожемякин Алексей / Kozhemyakin Aleksej / 1986","М",23,4.3478260869565162,10.36]
[{"$f":"Гонки!$C$14","v":"Жук-трейл #6 Купалье"},{"$f":"Гонки!D15","v":"Трейл 10"},"Жук-трейл #6 Купалье Трейл 10",9.3600000000000012,"М",{"$f":"IF(E670=\"Ж\",VLOOKUP(C670,Гонки!$E$2:$P$16,11,FALSE),VLOOKUP(C670,Гонки!$E$2:$P$16,12,FALSE))","v":60},"Афанасьев Иван",1979,"Afanasev Ivan","Афанасьев Иван / Afanasev Ivan / 1979","М",1,100,305.94]
[{"$f":"Гонки!$C$14","v":"Жук-трейл #6 Купалье"},{"$f":"$B$670","v":"Трейл 10"},"Жук-трейл #6 Купалье Трейл 10",9.3600000000000012,"М",{"$f":"IF(E671=\"Ж\",VLOOKUP(C671,Гонки!$E$2:$P$16,11,FALSE),VLOOKUP(C671,Гонки!$E$2:$P$16,12,FALSE))","v":60},"Хорошавин Вячеслав",1985,"Horoshavin Vyacheslav","Хорошавин Вячеслав / Horoshavin Vyacheslav / 1985","М",2,98.333333333333329,300.83999999999997]
[{"$f":"Гонки!$C$14","v":"Жук-трейл #6 Купалье"},"Трейл 10","Жук-трейл #6 Купалье Трейл 10",9.3600000000000012,"М",{"$f":"IF(E672=\"Ж\",VLOOKUP(C672,Гонки!$E$2:$P$16,11,FALSE),VLOOKUP(C672,Гонки!$E$2:$P$16,12,FALSE))","v":60},"Николаевич Дмитрий",1999,"Nikolaevich Dmitrij","Николаевич Дмитрий / Nikolaevich Dmitrij / 1999","М",3,96.666666666666671,295.74]
[{"$f":"Гонки!$C$14","v":"Жук-трейл #6 Купалье"},"Трейл 10","Жук-трейл #6 Купалье Трейл 10",9.3600000000000012,"М",{"$f":"IF(E673=\"Ж\",VLOOKUP(C673,Гонки!$E$2:$P$16,11,FALSE),VLOOKUP(C673,Гонки!$E$2:$P$16,12,FALSE))","v":60},"Кондяр Павел",1993,"Kondyar Pavel","Кондяр Павел / Kondyar Pavel / 1993","М",4,95,290.64]
[{"$f":"Гонки!$C$14","v":"Жук-трейл #6 Купалье"},"Трейл 10","Жук-трейл #6 Купалье Трейл 10",9.3600000000000012,"М",{"$f":"IF(E674=\"Ж\",VLOOKUP(C674,Гонки!$E$2:$P$16,11,FALSE),VLOOKUP(C674,Гонки!$E$2:$P$16,12,FALSE))","v":60},"Брытько Роман",1995,"Brytko Roman","Брытько Роман / Brytko Roman / 1995","М",5,93.333333333333329,285.55]
[{"$f":"Гонки!$C$14","v":"Жук-трейл #6 Купалье"},"Трейл 10","Жук-трейл #6 Купалье Трейл 10",9.3600000000000012,"М",{"$f":"IF(E675=\"Ж\",VLOOKUP(C675,Гонки!$E$2:$P$16,11,FALSE),VLOOKUP(C675,Гонки!$E$2:$P$16,12,FALSE))","v":60},"Зиновенко Павел",1997,"Zinovenko Pavel","Зиновенко Павел / Zinovenko Pavel / 1997","М",6,91.666666666666671,280.45]
[{"$f":"Гонки!$C$14","v":"Жук-трейл #6 Купалье"},"Трейл 10","Жук-трейл #6 Купалье Трейл 10",9.3600000000000012,"М",{"$f":"IF(E676=\"Ж\",VLOOKUP(C676,Гонки!$E$2:$P$16,11,FALSE),VLOOKUP(C676,Гонки!$E$2:$P$16,12,FALSE))","v":60},"Набоков Дмитрий",1998,"Nabokov Dmitrij","Набоков Дмитрий / Nabokov Dmitrij / 1998","М",7,90,275.35000000000002]
[{"$f":"Гонки!$C$14","v":"Жук-трейл #6 Купалье"},"Трейл 10","Жук-трейл #6 Купалье Трейл 10",9.3600000000000012,"М",{"$f":"IF(E677=\"Ж\",VLOOKUP(C677,Гонки!$E$2:$P$16,11,FALSE),VLOOKUP(C677,Гонки!$E$2:$P$16,12,FALSE))","v":60},"Стародуб Евгений",2000,"Starodub Evgenij","Стародуб Евгений / Starodub Evgenij / 2000","М",8,88.333333333333329,270.25]
[{"$f":"Гонки!$C$14","v":"Жук-трейл #6 Купалье"},"Трейл 10","Жук-трейл #6 Купалье Трейл 10",9.3600000000000012,"М",{"$f":"IF(E678=\"Ж\",VLOOKUP(C678,Гонки!$E$2:$P$16,11,FALSE),VLOOKUP(C678,Гонки!$E$2:$P$16,12,FALSE))","v":60},"Крисенков Алексей",1983,"Krisenkov Aleksej","Крисенков Алексей / Krisenkov Aleksej / 1983","М",9,86.666666666666671,265.14999999999998]
[{"$f":"Гонки!$C$14","v":"Жук-трейл #6 Купалье"},"Трейл 10","Жук-трейл #6 Купалье Трейл 10",9.3600000000000012,"М",{"$f":"IF(E679=\"Ж\",VLOOKUP(C679,Гонки!$E$2:$P$16,11,FALSE),VLOOKUP(C679,Гонки!$E$2:$P$16,12,FALSE))","v":60},"Симонов Александр",1999,"Simonov Aleksandr","Симонов Александр / Simonov Aleksandr / 1999","М",10,85,260.05]
[{"$f":"Гонки!$C$14","v":"Жук-трейл #6 Купалье"},"Трейл 10","Жук-трейл #6 Купалье Трейл 10",9.3600000000000012,"М",{"$f":"IF(E680=\"Ж\",VLOOKUP(C680,Гонки!$E$2:$P$16,11,FALSE),VLOOKUP(C680,Гонки!$E$2:$P$16,12,FALSE))","v":60},"Селютин Владимир",1990,"Selyutin Vladimir","Селютин Владимир / Selyutin Vladimir / 1990","М",11,83.333333333333343,254.95]
[{"$f":"Гонки!$C$14","v":"Жук-трейл #6 Купалье"},"Трейл 10","Жук-трейл #6 Купалье Трейл 10",9.3600000000000012,"М",{"$f":"IF(E681=\"Ж\",VLOOKUP(C681,Гонки!$E$2:$P$16,11,FALSE),VLOOKUP(C681,Гонки!$E$2:$P$16,12,FALSE))","v":60},"Нечаев Владимир",1995,"Nechaev Vladimir","Нечаев Владимир / Nechaev Vladimir / 1995","М",12,81.666666666666671,249.85]
[{"$f":"Гонки!$C$14","v":"Жук-трейл #6 Купалье"},"Трейл 10","Жук-трейл #6 Купалье Трейл 10",9.3600000000000012,"М",{"$f":"IF(E682=\"Ж\",VLOOKUP(C682,Гонки!$E$2:$P$16,11,FALSE),VLOOKUP(C682,Гонки!$E$2:$P$16,12,FALSE))","v":60},"Мельников Павел",1998,"Melnikov Pavel","Мельников Павел / Melnikov Pavel / 1998","М",13,80,244.75]
[{"$f":"Гонки!$C$14","v":"Жук-трейл #6 Купалье"},"Трейл 10","Жук-трейл #6 Купалье Трейл 10",9.3600000000000012,"М",{"$f":"IF(E683=\"Ж\",VLOOKUP(C683,Гонки!$E$2:$P$16,11,FALSE),VLOOKUP(C683,Гонки!$E$2:$P$16,12,FALSE))","v":60},"Остаповец Евгений",1990,"Ostapovets Evgenij","Остаповец Евгений / Ostapovets Evgenij / 1990","М",14,78.333333333333329,239.65]
[{"$f":"Гонки!$C$14","v":"Жук-трейл #6 Купалье"},"Трейл 10","Жук-трейл #6 Купалье Трейл 10",9.3600000000000012,"М",{"$f":"IF(E684=\"Ж\",VLOOKUP(C684,Гонки!$E$2:$P$16,11,FALSE),VLOOKUP(C684,Гонки!$E$2:$P$16,12,FALSE))","v":60},"Федькович Виталий",1995,"Fedkovich Vitalij","Федькович Виталий / Fedkovich Vitalij / 1995","М",15,76.666666666666671,234.55]
[{"$f":"Гонки!$C$14","v":"Жук-трейл #6 Купалье"},"Трейл 10","Жук-трейл #6 Купалье Трейл 10",9.3600000000000012,"М",{"$f":"IF(E685=\"Ж\",VLOOKUP(C685,Гонки!$E$2:$P$16,11,FALSE),VLOOKUP(C685,Гонки!$E$2:$P$16,12,FALSE))","v":60},"Богдевич Анатолий",1999,"Bogdevich Anatolij","Богдевич Анатолий / Bogdevich Anatolij / 1999","М",15,76.666666666666671,234.55]
[{"$f":"Гонки!$C$14","v":"Жук-трейл #6 Купалье"},"Трейл 10","Жук-трейл #6 Купалье Трейл 10",9.3600000000000012,"М",{"$f":"IF(E686=\"Ж\",VLOOKUP(C686,Гонки!$E$2:$P$16,11,FALSE),VLOOKUP(C686,Гонки!$E$2:$P$16,12,FALSE))","v":60},"Баронов Роман",1993,"Baronov Roman","Баронов Роман / Baronov Roman / 1993","М",17,73.333333333333329,224.36]
[{"$f":"Гонки!$C$14","v":"Жук-трейл #6 Купалье"},"Трейл 10","Жук-трейл #6 Купалье Трейл 10",9.3600000000000012,"М",{"$f":"IF(E687=\"Ж\",VLOOKUP(C687,Гонки!$E$2:$P$16,11,FALSE),VLOOKUP(C687,Гонки!$E$2:$P$16,12,FALSE))","v":60},"Савостеня Виктор",1989,"Savostenya Viktor","Савостеня Виктор / Savostenya Viktor / 1989","М",18,71.666666666666671,219.26]
[{"$f":"Гонки!$C$14","v":"Жук-трейл #6 Купалье"},"Трейл 10","Жук-трейл #6 Купалье Трейл 10",9.3600000000000012,"М",{"$f":"IF(E688=\"Ж\",VLOOKUP(C688,Гонки!$E$2:$P$16,11,FALSE),VLOOKUP(C688,Гонки!$E$2:$P$16,12,FALSE))","v":60},"Иванцов Вячеслав",1986,"Ivantsov Vyacheslav","Иванцов Вячеслав / Ivantsov Vyacheslav / 1986","М",19,70,214.16]
[{"$f":"Гонки!$C$14","v":"Жук-трейл #6 Купалье"},"Трейл 10","Жук-трейл #6 Купалье Трейл 10",9.3600000000000012,"М",{"$f":"IF(E689=\"Ж\",VLOOKUP(C689,Гонки!$E$2:$P$16,11,FALSE),VLOOKUP(C689,Гонки!$E$2:$P$16,12,FALSE))","v":60},"Комар Артем",1998,"Komar Artem","Комар Артем / Komar Artem / 1998","М",20,68.333333333333343,209.06]
[{"$f":"Гонки!$C$14","v":"Жук-трейл #6 Купалье"},"Трейл 10","Жук-трейл #6 Купалье Трейл 10",9.3600000000000012,"М",{"$f":"IF(E690=\"Ж\",VLOOKUP(C690,Гонки!$E$2:$P$16,11,FALSE),VLOOKUP(C690,Гонки!$E$2:$P$16,12,FALSE))","v":60},"Коваленко Леонид",1999,"Kovalenko Leonid","Коваленко Леонид / Kovalenko Leonid / 1999","М",21,66.666666666666671,203.96]
[{"$f":"Гонки!$C$14","v":"Жук-трейл #6 Купалье"},"Трейл 10","Жук-трейл #6 Купалье Трейл 10",9.3600000000000012,"М",{"$f":"IF(E691=\"Ж\",VLOOKUP(C691,Гонки!$E$2:$P$16,11,FALSE),VLOOKUP(C691,Гонки!$E$2:$P$16,12,FALSE))","v":60},"Дедков Никита",1998,"Dedkov Nikita","Дедков Никита / Dedkov Nikita / 1998","М",22,65,198.86]
[{"$f":"Гонки!$C$14","v":"Жук-трейл #6 Купалье"},"Трейл 10","Жук-трейл #6 Купалье Трейл 10",9.3600000000000012,"М",{"$f":"IF(E692=\"Ж\",VLOOKUP(C692,Гонки!$E$2:$P$16,11,FALSE),VLOOKUP(C692,Гонки!$E$2:$P$16,12,FALSE))","v":60},"Жевняк Андрей",1986,"Zhevnyak Andrej","Жевняк Андрей / Zhevnyak Andrej / 1986","М",23,63.333333333333336,193.76]
[{"$f":"Гонки!$C$14","v":"Жук-трейл #6 Купалье"},"Трейл 10","Жук-трейл #6 Купалье Трейл 10",9.3600000000000012,"М",{"$f":"IF(E693=\"Ж\",VLOOKUP(C693,Гонки!$E$2:$P$16,11,FALSE),VLOOKUP(C693,Гонки!$E$2:$P$16,12,FALSE))","v":60},"Дышлевич Сергей",1982,"Dyshlevich Sergej","Дышлевич Сергей / Dyshlevich Sergej / 1982","М",24,61.666666666666664,188.66]
[{"$f":"Гонки!$C$14","v":"Жук-трейл #6 Купалье"},"Трейл 10","Жук-трейл #6 Купалье Трейл 10",9.3600000000000012,"М",{"$f":"IF(E694=\"Ж\",VLOOKUP(C694,Гонки!$E$2:$P$16,11,FALSE),VLOOKUP(C694,Гонки!$E$2:$P$16,12,FALSE))","v":60},"Легчеков Дмитрий",1984,"Legchekov Dmitrij","Легчеков Дмитрий / Legchekov Dmitrij / 1984","М",25,60,183.56]
[{"$f":"Гонки!$C$14","v":"Жук-трейл #6 Купалье"},"Трейл 10","Жук-трейл #6 Купалье Трейл 10",9.3600000000000012,"М",{"$f":"IF(E695=\"Ж\",VLOOKUP(C695,Гонки!$E$2:$P$16,11,FALSE),VLOOKUP(C695,Гонки!$E$2:$P$16,12,FALSE))","v":60},"Нещик Алексей",1983,"Neschik Aleksej","Нещик Алексей / Neschik Aleksej / 1983","М",26,58.333333333333329,178.47]
[{"$f":"Гонки!$C$14","v":"Жук-трейл #6 Купалье"},"Трейл 10","Жук-трейл #6 Купалье Трейл 10",9.3600000000000012,"М",{"$f":"IF(E696=\"Ж\",VLOOKUP(C696,Гонки!$E$2:$P$16,11,FALSE),VLOOKUP(C696,Гонки!$E$2:$P$16,12,FALSE))","v":60},"Новиков Денис",1989,"Novikov Denis","Новиков Денис / Novikov Denis / 1989","М",27,56.666666666666664,173.37]
[{"$f":"Гонки!$C$14","v":"Жук-трейл #6 Купалье"},"Трейл 10","Жук-трейл #6 Купалье Трейл 10",9.3600000000000012,"М",{"$f":"IF(E697=\"Ж\",VLOOKUP(C697,Гонки!$E$2:$P$16,11,FALSE),VLOOKUP(C697,Гонки!$E$2:$P$16,12,FALSE))","v":60},"Савич Евгений",1980,"Savich Evgenij","Савич Евгений / Savich Evgenij / 1980","М",28,55,168.27]
[{"$f":"Гонки!$C$14","v":"Жук-трейл #6 Купалье"},"Трейл 10","Жук-трейл #6 Купалье Трейл 10",9.3600000000000012,"М",{"$f":"IF(E698=\"Ж\",VLOOKUP(C698,Гонки!$E$2:$P$16,11,FALSE),VLOOKUP(C698,Гонки!$E$2:$P$16,12,FALSE))","v":60},"Малявко Сергей",1990,"Malyavko Sergej","Малявко Сергей / Malyavko Sergej / 1990","М",29,53.333333333333336,163.16999999999999]
[{"$f":"Гонки!$C$14","v":"Жук-трейл #6 Купалье"},"Трейл 10","Жук-трейл #6 Купалье Трейл 10",9.3600000000000012,"М",{"$f":"IF(E699=\"Ж\",VLOOKUP(C699,Гонки!$E$2:$P$16,11,FALSE),VLOOKUP(C699,Гонки!$E$2:$P$16,12,FALSE))","v":60},"Суматохин Виталий",1989,"Sumatohin Vitalij","Суматохин Виталий / Sumatohin Vitalij / 1989","М",30,51.666666666666664,158.07]
[{"$f":"Гонки!$C$14","v":"Жук-трейл #6 Купалье"},"Трейл 10","Жук-трейл #6 Купалье Трейл 10",9.3600000000000012,"М",{"$f":"IF(E700=\"Ж\",VLOOKUP(C700,Гонки!$E$2:$P$16,11,FALSE),VLOOKUP(C700,Гонки!$E$2:$P$16,12,FALSE))","v":60},"Делендик Максим",1992,"Delendik Maksim","Делендик Максим / Delendik Maksim / 1992","М",31,50,152.97]
[{"$f":"Гонки!$C$14","v":"Жук-трейл #6 Купалье"},"Трейл 10","Жук-трейл #6 Купалье Трейл 10",9.3600000000000012,"М",{"$f":"IF(E701=\"Ж\",VLOOKUP(C701,Гонки!$E$2:$P$16,11,FALSE),VLOOKUP(C701,Гонки!$E$2:$P$16,12,FALSE))","v":60},"Щербаков Илья",1989,"Scherbakov Ilya","Щербаков Илья / Scherbakov Ilya / 1989","М",32,48.333333333333329,147.87]
[{"$f":"Гонки!$C$14","v":"Жук-трейл #6 Купалье"},"Трейл 10","Жук-трейл #6 Купалье Трейл 10",9.3600000000000012,"М",{"$f":"IF(E702=\"Ж\",VLOOKUP(C702,Гонки!$E$2:$P$16,11,FALSE),VLOOKUP(C702,Гонки!$E$2:$P$16,12,FALSE))","v":60},"Станкевич Владимир",1982,"Stankevich Vladimir","Станкевич Владимир / Stankevich Vladimir / 1982","М",33,46.666666666666664,142.77000000000001]
[{"$f":"Гонки!$C$14","v":"Жук-трейл #6 Купалье"},{"$f":"$B$670","v":"Трейл 10"},"Жук-трейл #6 Купалье Трейл 10",9.3600000000000012,"М",{"$f":"IF(E703=\"Ж\",VLOOKUP(C703,Гонки!$E$2:$P$16,11,FALSE),VLOOKUP(C703,Гонки!$E$2:$P$16,12,FALSE))","v":60},"Агаев Руслан",1995,"Agaev Ruslan","Агаев Руслан / Agaev Ruslan / 1995","М",34,44.999999999999993,137.66999999999999]
[{"$f":"Гонки!$C$14","v":"Жук-трейл #6 Купалье"},"Трейл 10","Жук-трейл #6 Купалье Трейл 10",9.3600000000000012,"М",{"$f":"IF(E704=\"Ж\",VLOOKUP(C704,Гонки!$E$2:$P$16,11,FALSE),VLOOKUP(C704,Гонки!$E$2:$P$16,12,FALSE))","v":60},"Белоусов Александр",1981,"Belousov Aleksandr","Белоусов Александр / Belousov Aleksandr / 1981","М",35,43.333333333333336,132.57]
[{"$f":"Гонки!$C$14","v":"Жук-трейл #6 Купалье"},"Трейл 10","Жук-трейл #6 Купалье Трейл 10",9.3600000000000012,"М",{"$f":"IF(E705=\"Ж\",VLOOKUP(C705,Гонки!$E$2:$P$16,11,FALSE),VLOOKUP(C705,Гонки!$E$2:$P$16,12,FALSE))","v":60},"Леонович Виталий",1984,"Leonovich Vitalij","Леонович Виталий / Leonovich Vitalij / 1984","М",36,41.666666666666664,127.48]
[{"$f":"Гонки!$C$14","v":"Жук-трейл #6 Купалье"},"Трейл 10",{"$f":"CONCATENATE(A706,\" \",B706)","v":"Жук-трейл #6 Купалье Трейл 10"},{"$f":"VLOOKUP(C706,Список_гонок,10,FALSE)","v":9.3600000000000012},"М",{"$f":"IF(E706=\"Ж\",VLOOKUP(C706,Гонки!$E$2:$P$16,11,FALSE),VLOOKUP(C706,Гонки!$E$2:$P$16,12,FALSE))","v":60},"Чудаков Владислав",1977,{"$f":"Translit(G706)","v":"Chudakov Vladislav"},{"$f":"CONCATENATE(G706,\" / \",I706,\" / \",H706)","v":"Чудаков Владислав / Chudakov Vladislav / 1977"},{"$f":"E706","v":"М"},37,{"$f":"100-((L706-1)/F706)*100","v":40},{"$f":"ROUND(SQRT(D706)*M706,2)","v":122.38}]
[{"$f":"Гонки!$C$14","v":"Жук-трейл #6 Купалье"},"Трейл 10","Жук-трейл #6 Купалье Трейл 10",9.3600000000000012,"М",{"$f":"IF(E707=\"Ж\",VLOOKUP(C707,Гонки!$E$2:$P$16,11,FALSE),VLOOKUP(C707,Гонки!$E$2:$P$16,12,FALSE))","v":60},"Суворов Александр",1983,"Suvorov Aleksandr","Суворов Александр / Suvorov Aleksandr / 1983","М",38,38.333333333333329,117.28]
[{"$f":"Гонки!$C$14","v":"Жук-трейл #6 Купалье"},"Трейл 10","Жук-трейл #6 Купалье Трейл 10",9.3600000000000012,"М",{"$f":"IF(E708=\"Ж\",VLOOKUP(C708,Гонки!$E$2:$P$16,11,FALSE),VLOOKUP(C708,Гонки!$E$2:$P$16,12,FALSE))","v":60},"Дашкевич Павел",1999,"Dashkevich Pavel","Дашкевич Павел / Dashkevich Pavel / 1999","М",39,36.666666666666671,112.18]
[{"$f":"Гонки!$C$14","v":"Жук-трейл #6 Купалье"},"Трейл 10","Жук-трейл #6 Купалье Трейл 10",9.3600000000000012,"М",{"$f":"IF(E709=\"Ж\",VLOOKUP(C709,Гонки!$E$2:$P$16,11,FALSE),VLOOKUP(C709,Гонки!$E$2:$P$16,12,FALSE))","v":60},"Куликовский Ян",1992,"Kulikovskij Yan","Куликовский Ян / Kulikovskij Yan / 1992","М",40,35,107.08]
[{"$f":"Гонки!$C$14","v":"Жук-трейл #6 Купалье"},"Трейл 10","Жук-трейл #6 Купалье Трейл 10",9.3600000000000012,"М",{"$f":"IF(E710=\"Ж\",VLOOKUP(C710,Гонки!$E$2:$P$16,11,FALSE),VLOOKUP(C710,Гонки!$E$2:$P$16,12,FALSE))","v":60},"Ращинский Александр",1990,"Raschinskij Aleksandr","Ращинский Александр / Raschinskij Aleksandr / 1990","М",41,33.333333333333343,101.98]
[{"$f":"Гонки!$C$14","v":"Жук-трейл #6 Купалье"},"Трейл 10","Жук-трейл #6 Купалье Трейл 10",9.3600000000000012,"М",{"$f":"IF(E711=\"Ж\",VLOOKUP(C711,Гонки!$E$2:$P$16,11,FALSE),VLOOKUP(C711,Гонки!$E$2:$P$16,12,FALSE))","v":60},"Дундуков Андрей",1985,"Dundukov Andrej","Дундуков Андрей / Dundukov Andrej / 1985","М",42,31.666666666666671,96.88]
[{"$f":"Гонки!$C$14","v":"Жук-трейл #6 Купалье"},"Трейл 10","Жук-трейл #6 Купалье Трейл 10",9.3600000000000012,"М",{"$f":"IF(E712=\"Ж\",VLOOKUP(C712,Гонки!$E$2:$P$16,11,FALSE),VLOOKUP(C712,Гонки!$E$2:$P$16,12,FALSE))","v":60},"Даник Даниил",1982,"Danik Daniil","Даник Даниил / Danik Daniil / 1982","М",43,30,91.78]
[{"$f":"Гонки!$C$14","v":"Жук-трейл #6 Купалье"},"Трейл 10","Жук-трейл #6 Купалье Трейл 10",9.3600000000000012,"М",{"$f":"IF(E713=\"Ж\",VLOOKUP(C713,Гонки!$E$2:$P$16,11,FALSE),VLOOKUP(C713,Гонки!$E$2:$P$16,12,FALSE))","v":60},"Щукин Макс",1992,"Schukin Maks","Щукин Макс / Schukin Maks / 1992","М",44,28.333333333333329,86.68]
[{"$f":"Гонки!$C$14","v":"Жук-трейл #6 Купалье"},"Трейл 10","Жук-трейл #6 Купалье Трейл 10",9.3600000000000012,"М",{"$f":"IF(E714=\"Ж\",VLOOKUP(C714,Гонки!$E$2:$P$16,11,FALSE),VLOOKUP(C714,Гонки!$E$2:$P$16,12,FALSE))","v":60},"Кислов Михаил",1992,"Kislov Mihail","Кислов Михаил / Kislov Mihail / 1992","М",45,26.666666666666671,81.58]
[{"$f":"Гонки!$C$14","v":"Жук-трейл #6 Купалье"},"Трейл 10","Жук-трейл #6 Купалье Трейл 10",9.3600000000000012,"М",{"$f":"IF(E715=\"Ж\",VLOOKUP(C715,Гонки!$E$2:$P$16,11,FALSE),VLOOKUP(C715,Гонки!$E$2:$P$16,12,FALSE))","v":60},"Липский Александр",1977,"Lipskij Aleksandr","Липский Александр / Lipskij Aleksandr / 1977","М",46,25,76.489999999999995]
[{"$f":"Гонки!$C$14","v":"Жук-трейл #6 Купалье"},"Трейл 10","Жук-трейл #6 Купалье Трейл 10",9.3600000000000012,"М",{"$f":"IF(E716=\"Ж\",VLOOKUP(C716,Гонки!$E$2:$P$16,11,FALSE),VLOOKUP(C716,Гонки!$E$2:$P$16,12,FALSE))","v":60},"Артихович Александр",1972,"Artihovich Aleksandr","Артихович Александр / Artihovich Aleksandr / 1972","М",47,23.333333333333329,71.39]
[{"$f":"Гонки!$C$14","v":"Жук-трейл #6 Купалье"},"Трейл 10","Жук-трейл #6 Купалье Трейл 10",9.3600000000000012,"М",{"$f":"IF(E717=\"Ж\",VLOOKUP(C717,Гонки!$E$2:$P$16,11,FALSE),VLOOKUP(C717,Гонки!$E$2:$P$16,12,FALSE))","v":60},"Бердников Дмитрий",null,"Berdnikov Dmitrij","Бердников Дмитрий / Berdnikov Dmitrij / ","М",48,21.666666666666671,66.290000000000006]
[{"$f":"Гонки!$C$14","v":"Жук-трейл #6 Купалье"},"Трейл 10","Жук-трейл #6 Купалье Трейл 10",9.3600000000000012,"М",{"$f":"IF(E718=\"Ж\",VLOOKUP(C718,Гонки!$E$2:$P$16,11,FALSE),VLOOKUP(C718,Гонки!$E$2:$P$16,12,FALSE))","v":60},"Мертенс Андрей",1992,"Mertens Andrej","Мертенс Андрей / Mertens Andrej / 1992","М",49,20,61.19]
[{"$f":"Гонки!$C$14","v":"Жук-трейл #6 Купалье"},"Трейл 10","Жук-трейл #6 Купалье Трейл 10",9.3600000000000012,"М",{"$f":"IF(E719=\"Ж\",VLOOKUP(C719,Гонки!$E$2:$P$16,11,FALSE),VLOOKUP(C719,Гонки!$E$2:$P$16,12,FALSE))","v":60},"Самсонов Никита",1989,"Samsonov Nikita","Самсонов Никита / Samsonov Nikita / 1989","М",50,18.333333333333329,56.09]
[{"$f":"Гонки!$C$14","v":"Жук-трейл #6 Купалье"},"Трейл 10","Жук-трейл #6 Купалье Трейл 10",9.3600000000000012,"М",{"$f":"IF(E720=\"Ж\",VLOOKUP(C720,Гонки!$E$2:$P$16,11,FALSE),VLOOKUP(C720,Гонки!$E$2:$P$16,12,FALSE))","v":60},"Йоцюс Виталий",null,"Jotsyus Vitalij","Йоцюс Виталий / Jotsyus Vitalij / ","М",51,16.666666666666657,50.99]
[{"$f":"Гонки!$C$14","v":"Жук-трейл #6 Купалье"},"Трейл 10","Жук-трейл #6 Купалье Трейл 10",9.3600000000000012,"М",{"$f":"IF(E721=\"Ж\",VLOOKUP(C721,Гонки!$E$2:$P$16,11,FALSE),VLOOKUP(C721,Гонки!$E$2:$P$16,12,FALSE))","v":60},"Халомзик Дмитрий",1972,"Halomzik Dmitrij","Халомзик Дмитрий / Halomzik Dmitrij / 1972","М",52,15,45.89]
[{"$f":"Гонки!$C$14","v":"Жук-трейл #6 Купалье"},"Трейл 10","Жук-трейл #6 Купалье Трейл 10",9.3600000000000012,"М",{"$f":"IF(E722=\"Ж\",VLOOKUP(C722,Гонки!$E$2:$P$16,11,FALSE),VLOOKUP(C722,Гонки!$E$2:$P$16,12,FALSE))","v":60},"Пилецкий Максим",1991,"Piletskij Maksim","Пилецкий Максим / Piletskij Maksim / 1991","М",53,13.333333333333329,40.79]
[{"$f":"Гонки!$C$14","v":"Жук-трейл #6 Купалье"},"Трейл 10","Жук-трейл #6 Купалье Трейл 10",9.3600000000000012,"М",{"$f":"IF(E723=\"Ж\",VLOOKUP(C723,Гонки!$E$2:$P$16,11,FALSE),VLOOKUP(C723,Гонки!$E$2:$P$16,12,FALSE))","v":60},"Калюжный Дмитрий",1986,"Kalyuzhnyj Dmitrij","Калюжный Дмитрий / Kalyuzhnyj Dmitrij / 1986","М",54,11.666666666666671,35.69]
[{"$f":"Гонки!$C$14","v":"Жук-трейл #6 Купалье"},"Трейл 10","Жук-трейл #6 Купалье Трейл 10",9.3600000000000012,"М",{"$f":"IF(E724=\"Ж\",VLOOKUP(C724,Гонки!$E$2:$P$16,11,FALSE),VLOOKUP(C724,Гонки!$E$2:$P$16,12,FALSE))","v":60},"Троцкий Игнат",2002,"Trotskij Ignat","Троцкий Игнат / Trotskij Ignat / 2002","М",55,10,30.59]
[{"$f":"Гонки!$C$14","v":"Жук-трейл #6 Купалье"},"Трейл 10","Жук-трейл #6 Купалье Трейл 10",9.3600000000000012,"М",{"$f":"IF(E725=\"Ж\",VLOOKUP(C725,Гонки!$E$2:$P$16,11,FALSE),VLOOKUP(C725,Гонки!$E$2:$P$16,12,FALSE))","v":60},"Кузьмич Дмитрий",1975,"Kuzmich Dmitrij","Кузьмич Дмитрий / Kuzmich Dmitrij / 1975","М",56,8.3333333333333428,25.5]
[{"$f":"Гонки!$C$14","v":"Жук-трейл #6 Купалье"},"Трейл 10","Жук-трейл #6 Купалье Трейл 10",9.3600000000000012,"М",{"$f":"IF(E726=\"Ж\",VLOOKUP(C726,Гонки!$E$2:$P$16,11,FALSE),VLOOKUP(C726,Гонки!$E$2:$P$16,12,FALSE))","v":60},"Гречишкин Алексей",1983,"Grechishkin Aleksej","Гречишкин Алексей / Grechishkin Aleksej / 1983","М",57,6.6666666666666714,20.399999999999999]
[{"$f":"Гонки!$C$14","v":"Жук-трейл #6 Купалье"},"Трейл 10","Жук-трейл #6 Купалье Трейл 10",9.3600000000000012,"Ж",{"$f":"IF(E727=\"Ж\",VLOOKUP(C727,Гонки!$E$2:$P$16,11,FALSE),VLOOKUP(C727,Гонки!$E$2:$P$16,12,FALSE))","v":37},"Гилевич Диана",1993,"Gilevich Diana","Гилевич Диана / Gilevich Diana / 1993","Ж",1,100,305.94]
[{"$f":"Гонки!$C$14","v":"Жук-трейл #6 Купалье"},"Трейл 10","Жук-трейл #6 Купалье Трейл 10",9.3600000000000012,"Ж",{"$f":"IF(E728=\"Ж\",VLOOKUP(C728,Гонки!$E$2:$P$16,11,FALSE),VLOOKUP(C728,Гонки!$E$2:$P$16,12,FALSE))","v":37},"Милинкевич Елена",1977,"Milinkevich Elena","Милинкевич Елена / Milinkevich Elena / 1977","Ж",2,97.297297297297291,297.67]
[{"$f":"Гонки!$C$14","v":"Жук-трейл #6 Купалье"},"Трейл 10","Жук-трейл #6 Купалье Трейл 10",9.3600000000000012,"Ж",{"$f":"IF(E729=\"Ж\",VLOOKUP(C729,Гонки!$E$2:$P$16,11,FALSE),VLOOKUP(C729,Гонки!$E$2:$P$16,12,FALSE))","v":37},"Козич Галина",1990,"Kozich Galina","Козич Галина / Kozich Galina / 1990","Ж",3,94.594594594594597,289.39999999999998]
[{"$f":"Гонки!$C$14","v":"Жук-трейл #6 Купалье"},"Трейл 10","Жук-трейл #6 Купалье Трейл 10",9.3600000000000012,"Ж",{"$f":"IF(E730=\"Ж\",VLOOKUP(C730,Гонки!$E$2:$P$16,11,FALSE),VLOOKUP(C730,Гонки!$E$2:$P$16,12,FALSE))","v":37},"Титова Инна",1986,"Titova Inna","Титова Инна / Titova Inna / 1986","Ж",4,91.891891891891888,281.14]
[{"$f":"Гонки!$C$14","v":"Жук-трейл #6 Купалье"},"Трейл 10","Жук-трейл #6 Купалье Трейл 10",9.3600000000000012,"Ж",{"$f":"IF(E731=\"Ж\",VLOOKUP(C731,Гонки!$E$2:$P$16,11,FALSE),VLOOKUP(C731,Гонки!$E$2:$P$16,12,FALSE))","v":37},"Шахметова Наталья",1992,"Shahmetova Natalya","Шахметова Наталья / Shahmetova Natalya / 1992","Ж",5,89.189189189189193,272.87]
[{"$f":"Гонки!$C$14","v":"Жук-трейл #6 Купалье"},"Трейл 10","Жук-трейл #6 Купалье Трейл 10",9.3600000000000012,"Ж",{"$f":"IF(E732=\"Ж\",VLOOKUP(C732,Гонки!$E$2:$P$16,11,FALSE),VLOOKUP(C732,Гонки!$E$2:$P$16,12,FALSE))","v":37},"Журавлёва Оксана",1980,"Zhuravljova Oksana","Журавлёва Оксана / Zhuravljova Oksana / 1980","Ж",6,86.486486486486484,264.60000000000002]
[{"$f":"Гонки!$C$14","v":"Жук-трейл #6 Купалье"},"Трейл 10","Жук-трейл #6 Купалье Трейл 10",9.3600000000000012,"Ж",{"$f":"IF(E733=\"Ж\",VLOOKUP(C733,Гонки!$E$2:$P$16,11,FALSE),VLOOKUP(C733,Гонки!$E$2:$P$16,12,FALSE))","v":37},"Малькевич Елена",1984,"Malkevich Elena","Малькевич Елена / Malkevich Elena / 1984","Ж",7,83.783783783783775,256.33]
[{"$f":"Гонки!$C$14","v":"Жук-трейл #6 Купалье"},"Трейл 10","Жук-трейл #6 Купалье Трейл 10",9.3600000000000012,"Ж",{"$f":"IF(E734=\"Ж\",VLOOKUP(C734,Гонки!$E$2:$P$16,11,FALSE),VLOOKUP(C734,Гонки!$E$2:$P$16,12,FALSE))","v":37},"Веремейчик Елена",1986,"Veremejchik Elena","Веремейчик Елена / Veremejchik Elena / 1986","Ж",8,81.081081081081081,248.06]
[{"$f":"Гонки!$C$14","v":"Жук-трейл #6 Купалье"},{"$f":"$B$670","v":"Трейл 10"},"Жук-трейл #6 Купалье Трейл 10",9.3600000000000012,"Ж",{"$f":"IF(E735=\"Ж\",VLOOKUP(C735,Гонки!$E$2:$P$16,11,FALSE),VLOOKUP(C735,Гонки!$E$2:$P$16,12,FALSE))","v":37},"Будрик Юлия",1995,"Budrik Yuliya","Будрик Юлия / Budrik Yuliya / 1995","Ж",9,78.378378378378386,239.79]
[{"$f":"Гонки!$C$14","v":"Жук-трейл #6 Купалье"},"Трейл 10","Жук-трейл #6 Купалье Трейл 10",9.3600000000000012,"Ж",{"$f":"IF(E736=\"Ж\",VLOOKUP(C736,Гонки!$E$2:$P$16,11,FALSE),VLOOKUP(C736,Гонки!$E$2:$P$16,12,FALSE))","v":37},"Лесникович Лиана",1988,"Lesnikovich Liana","Лесникович Лиана / Lesnikovich Liana / 1988","Ж",10,75.675675675675677,231.52]
[{"$f":"Гонки!$C$14","v":"Жук-трейл #6 Купалье"},"Трейл 10","Жук-трейл #6 Купалье Трейл 10",9.3600000000000012,"Ж",{"$f":"IF(E737=\"Ж\",VLOOKUP(C737,Гонки!$E$2:$P$16,11,FALSE),VLOOKUP(C737,Гонки!$E$2:$P$16,12,FALSE))","v":37},"Жила Анастасия",1994,"Zhila Anastasiya","Жила Анастасия / Zhila Anastasiya / 1994","Ж",11,72.972972972972968,223.25]
[{"$f":"Гонки!$C$14","v":"Жук-трейл #6 Купалье"},"Трейл 10","Жук-трейл #6 Купалье Трейл 10",9.3600000000000012,"Ж",{"$f":"IF(E738=\"Ж\",VLOOKUP(C738,Гонки!$E$2:$P$16,11,FALSE),VLOOKUP(C738,Гонки!$E$2:$P$16,12,FALSE))","v":37},"Пархимович Ирина",1988,"Parhimovich Irina","Пархимович Ирина / Parhimovich Irina / 1988","Ж",12,70.270270270270274,214.99]
[{"$f":"Гонки!$C$14","v":"Жук-трейл #6 Купалье"},"Трейл 10","Жук-трейл #6 Купалье Трейл 10",9.3600000000000012,"Ж",{"$f":"IF(E739=\"Ж\",VLOOKUP(C739,Гонки!$E$2:$P$16,11,FALSE),VLOOKUP(C739,Гонки!$E$2:$P$16,12,FALSE))","v":37},"Жданович Александра",1985,"Zhdanovich Aleksandra","Жданович Александра / Zhdanovich Aleksandra / 1985","Ж",13,67.567567567567565,206.72]
[{"$f":"Гонки!$C$14","v":"Жук-трейл #6 Купалье"},"Трейл 10","Жук-трейл #6 Купалье Трейл 10",9.3600000000000012,"Ж",{"$f":"IF(E740=\"Ж\",VLOOKUP(C740,Гонки!$E$2:$P$16,11,FALSE),VLOOKUP(C740,Гонки!$E$2:$P$16,12,FALSE))","v":37},"Павлова Анна",1992,"Pavlova Anna","Павлова Анна / Pavlova Anna / 1992","Ж",14,64.86486486486487,198.45]
[{"$f":"Гонки!$C$14","v":"Жук-трейл #6 Купалье"},"Трейл 10","Жук-трейл #6 Купалье Трейл 10",9.3600000000000012,"Ж",{"$f":"IF(E741=\"Ж\",VLOOKUP(C741,Гонки!$E$2:$P$16,11,FALSE),VLOOKUP(C741,Гонки!$E$2:$P$16,12,FALSE))","v":37},"Полякова Анна",1987,"Polyakova Anna","Полякова Анна / Polyakova Anna / 1987","Ж",15,62.162162162162161,190.18]
[{"$f":"Гонки!$C$14","v":"Жук-трейл #6 Купалье"},"Трейл 10","Жук-трейл #6 Купалье Трейл 10",9.3600000000000012,"Ж",{"$f":"IF(E742=\"Ж\",VLOOKUP(C742,Гонки!$E$2:$P$16,11,FALSE),VLOOKUP(C742,Гонки!$E$2:$P$16,12,FALSE))","v":37},"Рудковская Татьяна",1997,"Rudkovskaya Tatyana","Рудковская Татьяна / Rudkovskaya Tatyana / 1997","Ж",16,59.45945945945946,181.91]
[{"$f":"Гонки!$C$14","v":"Жук-трейл #6 Купалье"},"Трейл 10","Жук-трейл #6 Купалье Трейл 10",9.3600000000000012,"Ж",{"$f":"IF(E743=\"Ж\",VLOOKUP(C743,Гонки!$E$2:$P$16,11,FALSE),VLOOKUP(C743,Гонки!$E$2:$P$16,12,FALSE))","v":37},"Павловская Светлана",1984,"Pavlovskaya Svetlana","Павловская Светлана / Pavlovskaya Svetlana / 1984","Ж",17,56.756756756756758,173.64]
[{"$f":"Гонки!$C$14","v":"Жук-трейл #6 Купалье"},"Трейл 10","Жук-трейл #6 Купалье Трейл 10",9.3600000000000012,"Ж",{"$f":"IF(E744=\"Ж\",VLOOKUP(C744,Гонки!$E$2:$P$16,11,FALSE),VLOOKUP(C744,Гонки!$E$2:$P$16,12,FALSE))","v":37},"Необердина Мария",1987,"Neoberdina Mariya","Необердина Мария / Neoberdina Mariya / 1987","Ж",18,54.054054054054049,165.37]
[{"$f":"Гонки!$C$14","v":"Жук-трейл #6 Купалье"},"Трейл 10","Жук-трейл #6 Купалье Трейл 10",9.3600000000000012,"Ж",{"$f":"IF(E745=\"Ж\",VLOOKUP(C745,Гонки!$E$2:$P$16,11,FALSE),VLOOKUP(C745,Гонки!$E$2:$P$16,12,FALSE))","v":37},"Григорьева Светлана",1984,"Grigoreva Svetlana","Григорьева Светлана / Grigoreva Svetlana / 1984","Ж",19,51.351351351351347,157.1]
[{"$f":"Гонки!$C$14","v":"Жук-трейл #6 Купалье"},"Трейл 10","Жук-трейл #6 Купалье Трейл 10",9.3600000000000012,"Ж",{"$f":"IF(E746=\"Ж\",VLOOKUP(C746,Гонки!$E$2:$P$16,11,FALSE),VLOOKUP(C746,Гонки!$E$2:$P$16,12,FALSE))","v":37},"Русакова Татьяна",1979,"Rusakova Tatyana","Русакова Татьяна / Rusakova Tatyana / 1979","Ж",20,48.648648648648653,148.84]
[{"$f":"Гонки!$C$14","v":"Жук-трейл #6 Купалье"},"Трейл 10","Жук-трейл #6 Купалье Трейл 10",9.3600000000000012,"Ж",{"$f":"IF(E747=\"Ж\",VLOOKUP(C747,Гонки!$E$2:$P$16,11,FALSE),VLOOKUP(C747,Гонки!$E$2:$P$16,12,FALSE))","v":37},"Гарбар Екатерина",1989,"Garbar Ekaterina","Гарбар Екатерина / Garbar Ekaterina / 1989","Ж",21,45.945945945945944,140.57]
[{"$f":"Гонки!$C$14","v":"Жук-трейл #6 Купалье"},"Трейл 10","Жук-трейл #6 Купалье Трейл 10",9.3600000000000012,"Ж",{"$f":"IF(E748=\"Ж\",VLOOKUP(C748,Гонки!$E$2:$P$16,11,FALSE),VLOOKUP(C748,Гонки!$E$2:$P$16,12,FALSE))","v":37},"Ковалёва Катерина",1987,"Kovaljova Katerina","Ковалёва Катерина / Kovaljova Katerina / 1987","Ж",22,43.243243243243242,132.30000000000001]
[{"$f":"Гонки!$C$14","v":"Жук-трейл #6 Купалье"},"Трейл 10","Жук-трейл #6 Купалье Трейл 10",9.3600000000000012,"Ж",{"$f":"IF(E749=\"Ж\",VLOOKUP(C749,Гонки!$E$2:$P$16,11,FALSE),VLOOKUP(C749,Гонки!$E$2:$P$16,12,FALSE))","v":37},"Кукобникова Вита",1993,"Kukobnikova Vita","Кукобникова Вита / Kukobnikova Vita / 1993","Ж",23,40.54054054054054,124.03]
[{"$f":"Гонки!$C$14","v":"Жук-трейл #6 Купалье"},"Трейл 10","Жук-трейл #6 Купалье Трейл 10",9.3600000000000012,"Ж",{"$f":"IF(E750=\"Ж\",VLOOKUP(C750,Гонки!$E$2:$P$16,11,FALSE),VLOOKUP(C750,Гонки!$E$2:$P$16,12,FALSE))","v":37},"Терехова Татьяна",1982,"Terehova Tatyana","Терехова Татьяна / Terehova Tatyana / 1982","Ж",24,37.837837837837839,115.76]
[{"$f":"Гонки!$C$14","v":"Жук-трейл #6 Купалье"},"Трейл 10","Жук-трейл #6 Купалье Трейл 10",9.3600000000000012,"Ж",{"$f":"IF(E751=\"Ж\",VLOOKUP(C751,Гонки!$E$2:$P$16,11,FALSE),VLOOKUP(C751,Гонки!$E$2:$P$16,12,FALSE))","v":37},"Нехайчик Мария",1995,"Nehajchik Mariya","Нехайчик Мария / Nehajchik Mariya / 1995","Ж",25,35.13513513513513,107.49]
[{"$f":"Гонки!$C$14","v":"Жук-трейл #6 Купалье"},"Трейл 10","Жук-трейл #6 Купалье Трейл 10",9.3600000000000012,"Ж",{"$f":"IF(E752=\"Ж\",VLOOKUP(C752,Гонки!$E$2:$P$16,11,FALSE),VLOOKUP(C752,Гонки!$E$2:$P$16,12,FALSE))","v":37},"Ружицкая Елена",1983,"Ruzhitskaya Elena","Ружицкая Елена / Ruzhitskaya Elena / 1983","Ж",26,32.432432432432435,99.22]
[{"$f":"Гонки!$C$14","v":"Жук-трейл #6 Купалье"},"Трейл 10","Жук-трейл #6 Купалье Трейл 10",9.3600000000000012,"Ж",{"$f":"IF(E753=\"Ж\",VLOOKUP(C753,Гонки!$E$2:$P$16,11,FALSE),VLOOKUP(C753,Гонки!$E$2:$P$16,12,FALSE))","v":37},"Гракович Ольга",1994,"Grakovich Olga","Гракович Ольга / Grakovich Olga / 1994","Ж",27,29.729729729729726,90.96]
[{"$f":"Гонки!$C$14","v":"Жук-трейл #6 Купалье"},"Трейл 10","Жук-трейл #6 Купалье Трейл 10",9.3600000000000012,"Ж",{"$f":"IF(E754=\"Ж\",VLOOKUP(C754,Гонки!$E$2:$P$16,11,FALSE),VLOOKUP(C754,Гонки!$E$2:$P$16,12,FALSE))","v":37},"Завалова Анастасия",1994,"Zavalova Anastasiya","Завалова Анастасия / Zavalova Anastasiya / 1994","Ж",28,27.027027027027032,82.69]
[{"$f":"Гонки!$C$14","v":"Жук-трейл #6 Купалье"},"Трейл 10","Жук-трейл #6 Купалье Трейл 10",9.3600000000000012,"Ж",{"$f":"IF(E755=\"Ж\",VLOOKUP(C755,Гонки!$E$2:$P$16,11,FALSE),VLOOKUP(C755,Гонки!$E$2:$P$16,12,FALSE))","v":37},"Кривальцевич Валентина",1984,"Krivaltsevich Valentina","Кривальцевич Валентина / Krivaltsevich Valentina / 1984","Ж",29,24.324324324324323,74.42]
[{"$f":"Гонки!$C$14","v":"Жук-трейл #6 Купалье"},"Трейл 10","Жук-трейл #6 Купалье Трейл 10",9.3600000000000012,"Ж",{"$f":"IF(E756=\"Ж\",VLOOKUP(C756,Гонки!$E$2:$P$16,11,FALSE),VLOOKUP(C756,Гонки!$E$2:$P$16,12,FALSE))","v":37},"Ковальчук Екатерина",1987,"Kovalchuk Ekaterina","Ковальчук Екатерина / Kovalchuk Ekaterina / 1987","Ж",29,24.324324324324323,74.42]
[{"$f":"Гонки!$C$14","v":"Жук-трейл #6 Купалье"},"Трейл 10","Жук-трейл #6 Купалье Трейл 10",9.3600000000000012,"Ж",{"$f":"IF(E757=\"Ж\",VLOOKUP(C757,Гонки!$E$2:$P$16,11,FALSE),VLOOKUP(C757,Гонки!$E$2:$P$16,12,FALSE))","v":37},"Михайлова Марина",1988,"Mihajlova Marina","Михайлова Марина / Mihajlova Marina / 1988","Ж",31,18.918918918918919,57.88]
[{"$f":"Гонки!$C$14","v":"Жук-трейл #6 Купалье"},"Трейл 10","Жук-трейл #6 Купалье Трейл 10",9.3600000000000012,"Ж",{"$f":"IF(E758=\"Ж\",VLOOKUP(C758,Гонки!$E$2:$P$16,11,FALSE),VLOOKUP(C758,Гонки!$E$2:$P$16,12,FALSE))","v":37},"Зятикова Наталья",1983,"Zyatikova Natalya","Зятикова Наталья / Zyatikova Natalya / 1983","Ж",32,16.21621621621621,49.61]
[{"$f":"Гонки!$C$14","v":"Жук-трейл #6 Купалье"},"Трейл 10","Жук-трейл #6 Купалье Трейл 10",9.3600000000000012,"Ж",{"$f":"IF(E759=\"Ж\",VLOOKUP(C759,Гонки!$E$2:$P$16,11,FALSE),VLOOKUP(C759,Гонки!$E$2:$P$16,12,FALSE))","v":37},"Карабанькова Марина",1989,"Karabankova Marina","Карабанькова Марина / Karabankova Marina / 1989","Ж",33,13.513513513513516,41.34]
[{"$f":"Гонки!$C$14","v":"Жук-трейл #6 Купалье"},{"$f":"Гонки!D16","v":"Трейл 21"},"Жук-трейл #6 Купалье Трейл 21",14.720000000000002,"М",{"$f":"IF(E760=\"Ж\",VLOOKUP(C760,Гонки!$E$2:$P$16,11,FALSE),VLOOKUP(C760,Гонки!$E$2:$P$16,12,FALSE))","v":80},"Новиченко Антон",1997,"Novichenko Anton","Новиченко Антон / Novichenko Anton / 1997","М",1,100,383.67]
[{"$f":"Гонки!$C$14","v":"Жук-трейл #6 Купалье"},{"$f":"$B$760","v":"Трейл 21"},"Жук-трейл #6 Купалье Трейл 21",14.720000000000002,"М",{"$f":"IF(E761=\"Ж\",VLOOKUP(C761,Гонки!$E$2:$P$16,11,FALSE),VLOOKUP(C761,Гонки!$E$2:$P$16,12,FALSE))","v":80},"Мальков Валентин",1988,"Malkov Valentin","Мальков Валентин / Malkov Valentin / 1988","М",2,98.75,378.87]
[{"$f":"Гонки!$C$14","v":"Жук-трейл #6 Купалье"},"Трейл 21","Жук-трейл #6 Купалье Трейл 21",14.720000000000002,"М",{"$f":"IF(E762=\"Ж\",VLOOKUP(C762,Гонки!$E$2:$P$16,11,FALSE),VLOOKUP(C762,Гонки!$E$2:$P$16,12,FALSE))","v":80},"Пісарчык Сяргей",1980,"Pіsarchyk Syargej","Пісарчык Сяргей / Pіsarchyk Syargej / 1980","М",3,97.5,374.07]
[{"$f":"Гонки!$C$14","v":"Жук-трейл #6 Купалье"},"Трейл 21","Жук-трейл #6 Купалье Трейл 21",14.720000000000002,"М",{"$f":"IF(E763=\"Ж\",VLOOKUP(C763,Гонки!$E$2:$P$16,11,FALSE),VLOOKUP(C763,Гонки!$E$2:$P$16,12,FALSE))","v":80},"Аноничев Александр",1982,"Anonichev Aleksandr","Аноничев Александр / Anonichev Aleksandr / 1982","М",4,96.25,369.28]
[{"$f":"Гонки!$C$14","v":"Жук-трейл #6 Купалье"},"Трейл 21","Жук-трейл #6 Купалье Трейл 21",14.720000000000002,"М",{"$f":"IF(E764=\"Ж\",VLOOKUP(C764,Гонки!$E$2:$P$16,11,FALSE),VLOOKUP(C764,Гонки!$E$2:$P$16,12,FALSE))","v":80},"Салодкин Сергей",1984,"Salodkin Sergej","Салодкин Сергей / Salodkin Sergej / 1984","М",5,95,364.48]
[{"$f":"Гонки!$C$14","v":"Жук-трейл #6 Купалье"},"Трейл 21","Жук-трейл #6 Купалье Трейл 21",14.720000000000002,"М",{"$f":"IF(E765=\"Ж\",VLOOKUP(C765,Гонки!$E$2:$P$16,11,FALSE),VLOOKUP(C765,Гонки!$E$2:$P$16,12,FALSE))","v":80},"Журавлёв Андрей",1978,"Zhuravljov Andrej","Журавлёв Андрей / Zhuravljov Andrej / 1978","М",6,93.75,359.69]
[{"$f":"Гонки!$C$14","v":"Жук-трейл #6 Купалье"},"Трейл 21","Жук-трейл #6 Купалье Трейл 21",14.720000000000002,"М",{"$f":"IF(E766=\"Ж\",VLOOKUP(C766,Гонки!$E$2:$P$16,11,FALSE),VLOOKUP(C766,Гонки!$E$2:$P$16,12,FALSE))","v":80},"Синица Кирилл",1981,"Sinitsa Kirill","Синица Кирилл / Sinitsa Kirill / 1981","М",7,92.5,354.89]
[{"$f":"Гонки!$C$14","v":"Жук-трейл #6 Купалье"},"Трейл 21","Жук-трейл #6 Купалье Трейл 21",14.720000000000002,"М",{"$f":"IF(E767=\"Ж\",VLOOKUP(C767,Гонки!$E$2:$P$16,11,FALSE),VLOOKUP(C767,Гонки!$E$2:$P$16,12,FALSE))","v":80},"Леонов Иван",1986,"Leonov Ivan","Леонов Иван / Leonov Ivan / 1986","М",8,91.25,350.1]
[{"$f":"Гонки!$C$14","v":"Жук-трейл #6 Купалье"},"Трейл 21","Жук-трейл #6 Купалье Трейл 21",14.720000000000002,"М",{"$f":"IF(E768=\"Ж\",VLOOKUP(C768,Гонки!$E$2:$P$16,11,FALSE),VLOOKUP(C768,Гонки!$E$2:$P$16,12,FALSE))","v":80},"Ласюк Юрий",1987,"Lasyuk Yurij","Ласюк Юрий / Lasyuk Yurij / 1987","М",9,90,345.3]
[{"$f":"Гонки!$C$14","v":"Жук-трейл #6 Купалье"},"Трейл 21","Жук-трейл #6 Купалье Трейл 21",14.720000000000002,"М",{"$f":"IF(E769=\"Ж\",VLOOKUP(C769,Гонки!$E$2:$P$16,11,FALSE),VLOOKUP(C769,Гонки!$E$2:$P$16,12,FALSE))","v":80},"Зуйков Антон",1995,"Zujkov Anton","Зуйков Антон / Zujkov Anton / 1995","М",10,88.75,340.5]
[{"$f":"Гонки!$C$14","v":"Жук-трейл #6 Купалье"},"Трейл 21",{"$f":"CONCATENATE(A770,\" \",B770)","v":"Жук-трейл #6 Купалье Трейл 21"},{"$f":"VLOOKUP(C770,Список_гонок,10,FALSE)","v":14.720000000000002},"М",{"$f":"IF(E770=\"Ж\",VLOOKUP(C770,Гонки!$E$2:$P$16,11,FALSE),VLOOKUP(C770,Гонки!$E$2:$P$16,12,FALSE))","v":80},"Молчан Александр",1988,{"$f":"Translit(G770)","v":"Molchan Aleksandr"},{"$f":"CONCATENATE(G770,\" / \",I770,\" / \",H770)","v":"Молчан Александр / Molchan Aleksandr / 1988"},{"$f":"E770","v":"М"},11,{"$f":"100-((L770-1)/F770)*100","v":87.5},{"$f":"ROUND(SQRT(D770)*M770,2)","v":335.71}]
[{"$f":"Гонки!$C$14","v":"Жук-трейл #6 Купалье"},"Трейл 21","Жук-трейл #6 Купалье Трейл 21",14.720000000000002,"М",{"$f":"IF(E771=\"Ж\",VLOOKUP(C771,Гонки!$E$2:$P$16,11,FALSE),VLOOKUP(C771,Гонки!$E$2:$P$16,12,FALSE))","v":80},"Сидоревич Александр",1985,"Sidorevich Aleksandr","Сидоревич Александр / Sidorevich Aleksandr / 1985","М",12,86.25,330.91]
[{"$f":"Гонки!$C$14","v":"Жук-трейл #6 Купалье"},"Трейл 21","Жук-трейл #6 Купалье Трейл 21",14.720000000000002,"М",{"$f":"IF(E772=\"Ж\",VLOOKUP(C772,Гонки!$E$2:$P$16,11,FALSE),VLOOKUP(C772,Гонки!$E$2:$P$16,12,FALSE))","v":80},"Мосийчук Максим",1984,"Mosijchuk Maksim","Мосийчук Максим / Mosijchuk Maksim / 1984","М",13,85,326.12]
[{"$f":"Гонки!$C$14","v":"Жук-трейл #6 Купалье"},"Трейл 21","Жук-трейл #6 Купалье Трейл 21",14.720000000000002,"М",{"$f":"IF(E773=\"Ж\",VLOOKUP(C773,Гонки!$E$2:$P$16,11,FALSE),VLOOKUP(C773,Гонки!$E$2:$P$16,12,FALSE))","v":80},"Свечников Антон",1991,"Svechnikov Anton","Свечников Антон / Svechnikov Anton / 1991","М",14,83.75,321.32]
[{"$f":"Гонки!$C$14","v":"Жук-трейл #6 Купалье"},"Трейл 21","Жук-трейл #6 Купалье Трейл 21",14.720000000000002,"М",{"$f":"IF(E774=\"Ж\",VLOOKUP(C774,Гонки!$E$2:$P$16,11,FALSE),VLOOKUP(C774,Гонки!$E$2:$P$16,12,FALSE))","v":80},"Маханьков Александр",1983,"Mahankov Aleksandr","Маханьков Александр / Mahankov Aleksandr / 1983","М",15,82.5,316.52]
[{"$f":"Гонки!$C$14","v":"Жук-трейл #6 Купалье"},"Трейл 21","Жук-трейл #6 Купалье Трейл 21",14.720000000000002,"М",{"$f":"IF(E775=\"Ж\",VLOOKUP(C775,Гонки!$E$2:$P$16,11,FALSE),VLOOKUP(C775,Гонки!$E$2:$P$16,12,FALSE))","v":80},"Скуратович Антон",1985,"Skuratovich Anton","Скуратович Антон / Skuratovich Anton / 1985","М",16,81.25,311.73]
[{"$f":"Гонки!$C$14","v":"Жук-трейл #6 Купалье"},"Трейл 21","Жук-трейл #6 Купалье Трейл 21",14.720000000000002,"М",{"$f":"IF(E776=\"Ж\",VLOOKUP(C776,Гонки!$E$2:$P$16,11,FALSE),VLOOKUP(C776,Гонки!$E$2:$P$16,12,FALSE))","v":80},"Выборный Александр",1985,"Vybornyj Aleksandr","Выборный Александр / Vybornyj Aleksandr / 1985","М",17,80,306.93]
[{"$f":"Гонки!$C$14","v":"Жук-трейл #6 Купалье"},"Трейл 21","Жук-трейл #6 Купалье Трейл 21",14.720000000000002,"М",{"$f":"IF(E777=\"Ж\",VLOOKUP(C777,Гонки!$E$2:$P$16,11,FALSE),VLOOKUP(C777,Гонки!$E$2:$P$16,12,FALSE))","v":80},"Попов Александр",1986,"Popov Aleksandr","Попов Александр / Popov Aleksandr / 1986","М",18,78.75,302.14]
[{"$f":"Гонки!$C$14","v":"Жук-трейл #6 Купалье"},"Трейл 21","Жук-трейл #6 Купалье Трейл 21",14.720000000000002,"М",{"$f":"IF(E778=\"Ж\",VLOOKUP(C778,Гонки!$E$2:$P$16,11,FALSE),VLOOKUP(C778,Гонки!$E$2:$P$16,12,FALSE))","v":80},"Березовский Андрей",1973,"Berezovskij Andrej","Березовский Андрей / Berezovskij Andrej / 1973","М",19,77.5,297.33999999999997]
[{"$f":"Гонки!$C$14","v":"Жук-трейл #6 Купалье"},"Трейл 21","Жук-трейл #6 Купалье Трейл 21",14.720000000000002,"М",{"$f":"IF(E779=\"Ж\",VLOOKUP(C779,Гонки!$E$2:$P$16,11,FALSE),VLOOKUP(C779,Гонки!$E$2:$P$16,12,FALSE))","v":80},"Лойко Сергей",1985,"Lojko Sergej","Лойко Сергей / Lojko Sergej / 1985","М",20,76.25,292.55]
[{"$f":"Гонки!$C$14","v":"Жук-трейл #6 Купалье"},"Трейл 21","Жук-трейл #6 Купалье Трейл 21",14.720000000000002,"М",{"$f":"IF(E780=\"Ж\",VLOOKUP(C780,Гонки!$E$2:$P$16,11,FALSE),VLOOKUP(C780,Гонки!$E$2:$P$16,12,FALSE))","v":80},"Борисевич Леонид",1969,"Borisevich Leonid","Борисевич Леонид / Borisevich Leonid / 1969","М",20,76.25,292.55]
[{"$f":"Гонки!$C$14","v":"Жук-трейл #6 Купалье"},"Трейл 21","Жук-трейл #6 Купалье Трейл 21",14.720000000000002,"М",{"$f":"IF(E781=\"Ж\",VLOOKUP(C781,Гонки!$E$2:$P$16,11,FALSE),VLOOKUP(C781,Гонки!$E$2:$P$16,12,FALSE))","v":80},"Маркевич Денис",1981,"Markevich Denis","Маркевич Денис / Markevich Denis / 1981","М",22,73.75,282.95]
[{"$f":"Гонки!$C$14","v":"Жук-трейл #6 Купалье"},"Трейл 21","Жук-трейл #6 Купалье Трейл 21",14.720000000000002,"М",{"$f":"IF(E782=\"Ж\",VLOOKUP(C782,Гонки!$E$2:$P$16,11,FALSE),VLOOKUP(C782,Гонки!$E$2:$P$16,12,FALSE))","v":80},"Чернышев Дмитрий",1987,"Chernyshev Dmitrij","Чернышев Дмитрий / Chernyshev Dmitrij / 1987","М",23,72.5,278.16000000000003]
[{"$f":"Гонки!$C$14","v":"Жук-трейл #6 Купалье"},"Трейл 21","Жук-трейл #6 Купалье Трейл 21",14.720000000000002,"М",{"$f":"IF(E783=\"Ж\",VLOOKUP(C783,Гонки!$E$2:$P$16,11,FALSE),VLOOKUP(C783,Гонки!$E$2:$P$16,12,FALSE))","v":80},"Забабуро Сергей",1978,"Zababuro Sergej","Забабуро Сергей / Zababuro Sergej / 1978","М",24,71.25,273.36]
[{"$f":"Гонки!$C$14","v":"Жук-трейл #6 Купалье"},"Трейл 21","Жук-трейл #6 Купалье Трейл 21",14.720000000000002,"М",{"$f":"IF(E784=\"Ж\",VLOOKUP(C784,Гонки!$E$2:$P$16,11,FALSE),VLOOKUP(C784,Гонки!$E$2:$P$16,12,FALSE))","v":80},"Захарьев Алексей",1984,"Zaharev Aleksej","Захарьев Алексей / Zaharev Aleksej / 1984","М",25,70,268.57]
[{"$f":"Гонки!$C$14","v":"Жук-трейл #6 Купалье"},"Трейл 21","Жук-трейл #6 Купалье Трейл 21",14.720000000000002,"М",{"$f":"IF(E785=\"Ж\",VLOOKUP(C785,Гонки!$E$2:$P$16,11,FALSE),VLOOKUP(C785,Гонки!$E$2:$P$16,12,FALSE))","v":80},"Гумбар Илья",1989,"Gumbar Ilya","Гумбар Илья / Gumbar Ilya / 1989","М",26,68.75,263.77]
[{"$f":"Гонки!$C$14","v":"Жук-трейл #6 Купалье"},"Трейл 21","Жук-трейл #6 Купалье Трейл 21",14.720000000000002,"М",{"$f":"IF(E786=\"Ж\",VLOOKUP(C786,Гонки!$E$2:$P$16,11,FALSE),VLOOKUP(C786,Гонки!$E$2:$P$16,12,FALSE))","v":80},"Величко Павел",1982,"Velichko Pavel","Величко Павел / Velichko Pavel / 1982","М",27,67.5,258.97000000000003]
[{"$f":"Гонки!$C$14","v":"Жук-трейл #6 Купалье"},"Трейл 21","Жук-трейл #6 Купалье Трейл 21",14.720000000000002,"М",{"$f":"IF(E787=\"Ж\",VLOOKUP(C787,Гонки!$E$2:$P$16,11,FALSE),VLOOKUP(C787,Гонки!$E$2:$P$16,12,FALSE))","v":80},"Подрез Ярослав",1996,"Podrez Yaroslav","Подрез Ярослав / Podrez Yaroslav / 1996","М",28,66.25,254.18]
[{"$f":"Гонки!$C$14","v":"Жук-трейл #6 Купалье"},"Трейл 21","Жук-трейл #6 Купалье Трейл 21",14.720000000000002,"М",{"$f":"IF(E788=\"Ж\",VLOOKUP(C788,Гонки!$E$2:$P$16,11,FALSE),VLOOKUP(C788,Гонки!$E$2:$P$16,12,FALSE))","v":80},"Лесковец Александр",1990,"Leskovets Aleksandr","Лесковец Александр / Leskovets Aleksandr / 1990","М",29,65,249.38]
[{"$f":"Гонки!$C$14","v":"Жук-трейл #6 Купалье"},"Трейл 21","Жук-трейл #6 Купалье Трейл 21",14.720000000000002,"М",{"$f":"IF(E789=\"Ж\",VLOOKUP(C789,Гонки!$E$2:$P$16,11,FALSE),VLOOKUP(C789,Гонки!$E$2:$P$16,12,FALSE))","v":80},"Маковский Дмитрий",1981,"Makovskij Dmitrij","Маковский Дмитрий / Makovskij Dmitrij / 1981","М",30,63.75,244.59]
[{"$f":"Гонки!$C$14","v":"Жук-трейл #6 Купалье"},"Трейл 21","Жук-трейл #6 Купалье Трейл 21",14.720000000000002,"М",{"$f":"IF(E790=\"Ж\",VLOOKUP(C790,Гонки!$E$2:$P$16,11,FALSE),VLOOKUP(C790,Гонки!$E$2:$P$16,12,FALSE))","v":80},"Лавник Игорь",1983,"Lavnik Igor","Лавник Игорь / Lavnik Igor / 1983","М",31,62.5,239.79]
[{"$f":"Гонки!$C$14","v":"Жук-трейл #6 Купалье"},"Трейл 21","Жук-трейл #6 Купалье Трейл 21",14.720000000000002,"М",{"$f":"IF(E791=\"Ж\",VLOOKUP(C791,Гонки!$E$2:$P$16,11,FALSE),VLOOKUP(C791,Гонки!$E$2:$P$16,12,FALSE))","v":80},"Бузо Александр",1982,"Buzo Aleksandr","Бузо Александр / Buzo Aleksandr / 1982","М",32,61.25,235]
[{"$f":"Гонки!$C$14","v":"Жук-трейл #6 Купалье"},"Трейл 21","Жук-трейл #6 Купалье Трейл 21",14.720000000000002,"М",{"$f":"IF(E792=\"Ж\",VLOOKUP(C792,Гонки!$E$2:$P$16,11,FALSE),VLOOKUP(C792,Гонки!$E$2:$P$16,12,FALSE))","v":80},"Володько Андрей",1986,"Volodko Andrej","Володько Андрей / Volodko Andrej / 1986","М",33,60,230.2]
[{"$f":"Гонки!$C$14","v":"Жук-трейл #6 Купалье"},{"$f":"$B$760","v":"Трейл 21"},"Жук-трейл #6 Купалье Трейл 21",14.720000000000002,"М",{"$f":"IF(E793=\"Ж\",VLOOKUP(C793,Гонки!$E$2:$P$16,11,FALSE),VLOOKUP(C793,Гонки!$E$2:$P$16,12,FALSE))","v":80},"Алексеев Алексей",1980,"Alekseev Aleksej","Алексеев Алексей / Alekseev Aleksej / 1980","М",34,58.75,225.4]
[{"$f":"Гонки!$C$14","v":"Жук-трейл #6 Купалье"},"Трейл 21","Жук-трейл #6 Купалье Трейл 21",14.720000000000002,"М",{"$f":"IF(E794=\"Ж\",VLOOKUP(C794,Гонки!$E$2:$P$16,11,FALSE),VLOOKUP(C794,Гонки!$E$2:$P$16,12,FALSE))","v":80},"Казак Дмитрий",1979,"Kazak Dmitrij","Казак Дмитрий / Kazak Dmitrij / 1979","М",35,57.5,220.61]
[{"$f":"Гонки!$C$14","v":"Жук-трейл #6 Купалье"},"Трейл 21","Жук-трейл #6 Купалье Трейл 21",14.720000000000002,"М",{"$f":"IF(E795=\"Ж\",VLOOKUP(C795,Гонки!$E$2:$P$16,11,FALSE),VLOOKUP(C795,Гонки!$E$2:$P$16,12,FALSE))","v":80},"Палий Андрей",1984,"Palij Andrej","Палий Андрей / Palij Andrej / 1984","М",36,56.25,215.81]
[{"$f":"Гонки!$C$14","v":"Жук-трейл #6 Купалье"},"Трейл 21","Жук-трейл #6 Купалье Трейл 21",14.720000000000002,"М",{"$f":"IF(E796=\"Ж\",VLOOKUP(C796,Гонки!$E$2:$P$16,11,FALSE),VLOOKUP(C796,Гонки!$E$2:$P$16,12,FALSE))","v":80},"Молочко Александр",1981,"Molochko Aleksandr","Молочко Александр / Molochko Aleksandr / 1981","М",37,55,211.02]
[{"$f":"Гонки!$C$14","v":"Жук-трейл #6 Купалье"},"Трейл 21","Жук-трейл #6 Купалье Трейл 21",14.720000000000002,"М",{"$f":"IF(E797=\"Ж\",VLOOKUP(C797,Гонки!$E$2:$P$16,11,FALSE),VLOOKUP(C797,Гонки!$E$2:$P$16,12,FALSE))","v":80},"Рагойша Пётр",1976,"Ragojsha Pjotr","Рагойша Пётр / Ragojsha Pjotr / 1976","М",38,53.75,206.22]
[{"$f":"Гонки!$C$14","v":"Жук-трейл #6 Купалье"},"Трейл 21","Жук-трейл #6 Купалье Трейл 21",14.720000000000002,"М",{"$f":"IF(E798=\"Ж\",VLOOKUP(C798,Гонки!$E$2:$P$16,11,FALSE),VLOOKUP(C798,Гонки!$E$2:$P$16,12,FALSE))","v":80},"Тюев Даниил",1977,"Tyuev Daniil","Тюев Даниил / Tyuev Daniil / 1977","М",38,53.75,206.22]
[{"$f":"Гонки!$C$14","v":"Жук-трейл #6 Купалье"},"Трейл 21","Жук-трейл #6 Купалье Трейл 21",14.720000000000002,"М",{"$f":"IF(E799=\"Ж\",VLOOKUP(C799,Гонки!$E$2:$P$16,11,FALSE),VLOOKUP(C799,Гонки!$E$2:$P$16,12,FALSE))","v":80},"Попадюк Игорь",1982,"Popadyuk Igor","Попадюк Игорь / Popadyuk Igor / 1982","М",40,51.25,196.63]
[{"$f":"Гонки!$C$14","v":"Жук-трейл #6 Купалье"},"Трейл 21","Жук-трейл #6 Купалье Трейл 21",14.720000000000002,"М",{"$f":"IF(E800=\"Ж\",VLOOKUP(C800,Гонки!$E$2:$P$16,11,FALSE),VLOOKUP(C800,Гонки!$E$2:$P$16,12,FALSE))","v":80},"Глушков Александр",1980,"Glushkov Aleksandr","Глушков Александр / Glushkov Aleksandr / 1980","М",41,50,191.83]
[{"$f":"Гонки!$C$14","v":"Жук-трейл #6 Купалье"},"Трейл 21","Жук-трейл #6 Купалье Трейл 21",14.720000000000002,"М",{"$f":"IF(E801=\"Ж\",VLOOKUP(C801,Гонки!$E$2:$P$16,11,FALSE),VLOOKUP(C801,Гонки!$E$2:$P$16,12,FALSE))","v":80},"Харитонов Иван",1973,"Haritonov Ivan","Харитонов Иван / Haritonov Ivan / 1973","М",42,48.750000000000007,187.04]
[{"$f":"Гонки!$C$14","v":"Жук-трейл #6 Купалье"},"Трейл 21","Жук-трейл #6 Купалье Трейл 21",14.720000000000002,"М",{"$f":"IF(E802=\"Ж\",VLOOKUP(C802,Гонки!$E$2:$P$16,11,FALSE),VLOOKUP(C802,Гонки!$E$2:$P$16,12,FALSE))","v":80},"Бажанский Виталий",1982,"Bazhanskij Vitalij","Бажанский Виталий / Bazhanskij Vitalij / 1982","М",43,47.5,182.24]
[{"$f":"Гонки!$C$14","v":"Жук-трейл #6 Купалье"},"Трейл 21","Жук-трейл #6 Купалье Трейл 21",14.720000000000002,"М",{"$f":"IF(E803=\"Ж\",VLOOKUP(C803,Гонки!$E$2:$P$16,11,FALSE),VLOOKUP(C803,Гонки!$E$2:$P$16,12,FALSE))","v":80},"Шепетько Сергей",1987,"Shepetko Sergej","Шепетько Сергей / Shepetko Sergej / 1987","М",44,46.25,177.45]
[{"$f":"Гонки!$C$14","v":"Жук-трейл #6 Купалье"},"Трейл 21","Жук-трейл #6 Купалье Трейл 21",14.720000000000002,"М",{"$f":"IF(E804=\"Ж\",VLOOKUP(C804,Гонки!$E$2:$P$16,11,FALSE),VLOOKUP(C804,Гонки!$E$2:$P$16,12,FALSE))","v":80},"Утлик Максим",1985,"Utlik Maksim","Утлик Максим / Utlik Maksim / 1985","М",45,44.999999999999993,172.65]
[{"$f":"Гонки!$C$14","v":"Жук-трейл #6 Купалье"},"Трейл 21","Жук-трейл #6 Купалье Трейл 21",14.720000000000002,"М",{"$f":"IF(E805=\"Ж\",VLOOKUP(C805,Гонки!$E$2:$P$16,11,FALSE),VLOOKUP(C805,Гонки!$E$2:$P$16,12,FALSE))","v":80},"Зеленский Александр",1978,"Zelenskij Aleksandr","Зеленский Александр / Zelenskij Aleksandr / 1978","М",46,43.75,167.85]
[{"$f":"Гонки!$C$14","v":"Жук-трейл #6 Купалье"},"Трейл 21","Жук-трейл #6 Купалье Трейл 21",14.720000000000002,"М",{"$f":"IF(E806=\"Ж\",VLOOKUP(C806,Гонки!$E$2:$P$16,11,FALSE),VLOOKUP(C806,Гонки!$E$2:$P$16,12,FALSE))","v":80},"Леонов Алексей",1986,"Leonov Aleksej","Леонов Алексей / Leonov Aleksej / 1986","М",47,42.500000000000007,163.06]
[{"$f":"Гонки!$C$14","v":"Жук-трейл #6 Купалье"},"Трейл 21","Жук-трейл #6 Купалье Трейл 21",14.720000000000002,"М",{"$f":"IF(E807=\"Ж\",VLOOKUP(C807,Гонки!$E$2:$P$16,11,FALSE),VLOOKUP(C807,Гонки!$E$2:$P$16,12,FALSE))","v":80},"Барановский Алексей",1981,"Baranovskij Aleksej","Барановский Алексей / Baranovskij Aleksej / 1981","М",48,41.25,158.26]
[{"$f":"Гонки!$C$14","v":"Жук-трейл #6 Купалье"},"Трейл 21","Жук-трейл #6 Купалье Трейл 21",14.720000000000002,"М",{"$f":"IF(E808=\"Ж\",VLOOKUP(C808,Гонки!$E$2:$P$16,11,FALSE),VLOOKUP(C808,Гонки!$E$2:$P$16,12,FALSE))","v":80},"Медвецкий Денис",1986,"Medvetskij Denis","Медвецкий Денис / Medvetskij Denis / 1986","М",49,40,153.47]
[{"$f":"Гонки!$C$14","v":"Жук-трейл #6 Купалье"},"Трейл 21","Жук-трейл #6 Купалье Трейл 21",14.720000000000002,"М",{"$f":"IF(E809=\"Ж\",VLOOKUP(C809,Гонки!$E$2:$P$16,11,FALSE),VLOOKUP(C809,Гонки!$E$2:$P$16,12,FALSE))","v":80},"Березин Артём",1986,"Berezin Artjom","Березин Артём / Berezin Artjom / 1986","М",50,38.749999999999993,148.66999999999999]
[{"$f":"Гонки!$C$14","v":"Жук-трейл #6 Купалье"},"Трейл 21","Жук-трейл #6 Купалье Трейл 21",14.720000000000002,"М",{"$f":"IF(E810=\"Ж\",VLOOKUP(C810,Гонки!$E$2:$P$16,11,FALSE),VLOOKUP(C810,Гонки!$E$2:$P$16,12,FALSE))","v":80},"Коровец Богдан",1976,"Korovets Bogdan","Коровец Богдан / Korovets Bogdan / 1976","М",51,37.5,143.87]
[{"$f":"Гонки!$C$14","v":"Жук-трейл #6 Купалье"},"Трейл 21","Жук-трейл #6 Купалье Трейл 21",14.720000000000002,"М",{"$f":"IF(E811=\"Ж\",VLOOKUP(C811,Гонки!$E$2:$P$16,11,FALSE),VLOOKUP(C811,Гонки!$E$2:$P$16,12,FALSE))","v":80},"Федорович Николай",1959,"Fedorovich Nikolaj","Федорович Николай / Fedorovich Nikolaj / 1959","М",52,36.250000000000007,139.08000000000001]
[{"$f":"Гонки!$C$14","v":"Жук-трейл #6 Купалье"},"Трейл 21","Жук-трейл #6 Купалье Трейл 21",14.720000000000002,"М",{"$f":"IF(E812=\"Ж\",VLOOKUP(C812,Гонки!$E$2:$P$16,11,FALSE),VLOOKUP(C812,Гонки!$E$2:$P$16,12,FALSE))","v":80},"Хадорик Владимир",1986,"Hadorik Vladimir","Хадорик Владимир / Hadorik Vladimir / 1986","М",53,35,134.28]
[{"$f":"Гонки!$C$14","v":"Жук-трейл #6 Купалье"},"Трейл 21","Жук-трейл #6 Купалье Трейл 21",14.720000000000002,"М",{"$f":"IF(E813=\"Ж\",VLOOKUP(C813,Гонки!$E$2:$P$16,11,FALSE),VLOOKUP(C813,Гонки!$E$2:$P$16,12,FALSE))","v":80},"Искорцев Алексей",1980,"Iskortsev Aleksej","Искорцев Алексей / Iskortsev Aleksej / 1980","М",54,33.75,129.49]
[{"$f":"Гонки!$C$14","v":"Жук-трейл #6 Купалье"},"Трейл 21","Жук-трейл #6 Купалье Трейл 21",14.720000000000002,"М",{"$f":"IF(E814=\"Ж\",VLOOKUP(C814,Гонки!$E$2:$P$16,11,FALSE),VLOOKUP(C814,Гонки!$E$2:$P$16,12,FALSE))","v":80},"Борисевич Александр",1989,"Borisevich Aleksandr","Борисевич Александр / Borisevich Aleksandr / 1989","М",55,32.5,124.69]
[{"$f":"Гонки!$C$14","v":"Жук-трейл #6 Купалье"},"Трейл 21","Жук-трейл #6 Купалье Трейл 21",14.720000000000002,"М",{"$f":"IF(E815=\"Ж\",VLOOKUP(C815,Гонки!$E$2:$P$16,11,FALSE),VLOOKUP(C815,Гонки!$E$2:$P$16,12,FALSE))","v":80},"Хамицевич Михаил",1980,"Hamitsevich Mihail","Хамицевич Михаил / Hamitsevich Mihail / 1980","М",56,31.25,119.9]
[{"$f":"Гонки!$C$14","v":"Жук-трейл #6 Купалье"},"Трейл 21","Жук-трейл #6 Купалье Трейл 21",14.720000000000002,"М",{"$f":"IF(E816=\"Ж\",VLOOKUP(C816,Гонки!$E$2:$P$16,11,FALSE),VLOOKUP(C816,Гонки!$E$2:$P$16,12,FALSE))","v":80},"Симонов Вадим",1985,"Simonov Vadim","Симонов Вадим / Simonov Vadim / 1985","М",57,30,115.1]
[{"$f":"Гонки!$C$14","v":"Жук-трейл #6 Купалье"},"Трейл 21","Жук-трейл #6 Купалье Трейл 21",14.720000000000002,"М",{"$f":"IF(E817=\"Ж\",VLOOKUP(C817,Гонки!$E$2:$P$16,11,FALSE),VLOOKUP(C817,Гонки!$E$2:$P$16,12,FALSE))","v":80},"Сербаев Виталий",1979,"Serbaev Vitalij","Сербаев Виталий / Serbaev Vitalij / 1979","М",58,28.75,110.3]
[{"$f":"Гонки!$C$14","v":"Жук-трейл #6 Купалье"},"Трейл 21","Жук-трейл #6 Купалье Трейл 21",14.720000000000002,"М",{"$f":"IF(E818=\"Ж\",VLOOKUP(C818,Гонки!$E$2:$P$16,11,FALSE),VLOOKUP(C818,Гонки!$E$2:$P$16,12,FALSE))","v":80},"Шапелевич Максим",1987,"Shapelevich Maksim","Шапелевич Максим / Shapelevich Maksim / 1987","М",59,27.5,105.51]
[{"$f":"Гонки!$C$14","v":"Жук-трейл #6 Купалье"},"Трейл 21","Жук-трейл #6 Купалье Трейл 21",14.720000000000002,"М",{"$f":"IF(E819=\"Ж\",VLOOKUP(C819,Гонки!$E$2:$P$16,11,FALSE),VLOOKUP(C819,Гонки!$E$2:$P$16,12,FALSE))","v":80},"Ключеня Виталий",1982,"Klyuchenya Vitalij","Ключеня Виталий / Klyuchenya Vitalij / 1982","М",60,26.25,100.71]
[{"$f":"Гонки!$C$14","v":"Жук-трейл #6 Купалье"},"Трейл 21","Жук-трейл #6 Купалье Трейл 21",14.720000000000002,"М",{"$f":"IF(E820=\"Ж\",VLOOKUP(C820,Гонки!$E$2:$P$16,11,FALSE),VLOOKUP(C820,Гонки!$E$2:$P$16,12,FALSE))","v":80},"Бушковский Максим",1989,"Bushkovskij Maksim","Бушковский Максим / Bushkovskij Maksim / 1989","М",61,25,95.92]
[{"$f":"Гонки!$C$14","v":"Жук-трейл #6 Купалье"},"Трейл 21","Жук-трейл #6 Купалье Трейл 21",14.720000000000002,"М",{"$f":"IF(E821=\"Ж\",VLOOKUP(C821,Гонки!$E$2:$P$16,11,FALSE),VLOOKUP(C821,Гонки!$E$2:$P$16,12,FALSE))","v":80},"Орлов Максим",1990,"Orlov Maksim","Орлов Максим / Orlov Maksim / 1990","М",62,23.75,91.12]
[{"$f":"Гонки!$C$14","v":"Жук-трейл #6 Купалье"},"Трейл 21","Жук-трейл #6 Купалье Трейл 21",14.720000000000002,"М",{"$f":"IF(E822=\"Ж\",VLOOKUP(C822,Гонки!$E$2:$P$16,11,FALSE),VLOOKUP(C822,Гонки!$E$2:$P$16,12,FALSE))","v":80},"Кудрявец Валерий",1975,"Kudryavets Valerij","Кудрявец Валерий / Kudryavets Valerij / 1975","М",63,22.5,86.32]
[{"$f":"Гонки!$C$14","v":"Жук-трейл #6 Купалье"},"Трейл 21","Жук-трейл #6 Купалье Трейл 21",14.720000000000002,"М",{"$f":"IF(E823=\"Ж\",VLOOKUP(C823,Гонки!$E$2:$P$16,11,FALSE),VLOOKUP(C823,Гонки!$E$2:$P$16,12,FALSE))","v":80},"Лисовский Виктор",1964,"Lisovskij Viktor","Лисовский Виктор / Lisovskij Viktor / 1964","М",64,21.25,81.53]
[{"$f":"Гонки!$C$14","v":"Жук-трейл #6 Купалье"},"Трейл 21","Жук-трейл #6 Купалье Трейл 21",14.720000000000002,"М",{"$f":"IF(E824=\"Ж\",VLOOKUP(C824,Гонки!$E$2:$P$16,11,FALSE),VLOOKUP(C824,Гонки!$E$2:$P$16,12,FALSE))","v":80},"Жидович Вадим",1984,"Zhidovich Vadim","Жидович Вадим / Zhidovich Vadim / 1984","М",65,20,76.73]
[{"$f":"Гонки!$C$14","v":"Жук-трейл #6 Купалье"},{"$f":"$B$760","v":"Трейл 21"},"Жук-трейл #6 Купалье Трейл 21",14.720000000000002,"М",{"$f":"IF(E825=\"Ж\",VLOOKUP(C825,Гонки!$E$2:$P$16,11,FALSE),VLOOKUP(C825,Гонки!$E$2:$P$16,12,FALSE))","v":80},"Шабанов Олег",1971,"Shabanov Oleg","Шабанов Олег / Shabanov Oleg / 1971","М",66,18.75,71.94]
[{"$f":"Гонки!$C$14","v":"Жук-трейл #6 Купалье"},"Трейл 21","Жук-трейл #6 Купалье Трейл 21",14.720000000000002,"М",{"$f":"IF(E826=\"Ж\",VLOOKUP(C826,Гонки!$E$2:$P$16,11,FALSE),VLOOKUP(C826,Гонки!$E$2:$P$16,12,FALSE))","v":80},"Тарасенко Павел",1983,"Tarasenko Pavel","Тарасенко Павел / Tarasenko Pavel / 1983","М",66,18.75,71.94]
[{"$f":"Гонки!$C$14","v":"Жук-трейл #6 Купалье"},"Трейл 21","Жук-трейл #6 Купалье Трейл 21",14.720000000000002,"М",{"$f":"IF(E827=\"Ж\",VLOOKUP(C827,Гонки!$E$2:$P$16,11,FALSE),VLOOKUP(C827,Гонки!$E$2:$P$16,12,FALSE))","v":80},"Радиончик Александр",1985,"Radionchik Aleksandr","Радиончик Александр / Radionchik Aleksandr / 1985","М",68,16.25,62.35]
[{"$f":"Гонки!$C$14","v":"Жук-трейл #6 Купалье"},"Трейл 21","Жук-трейл #6 Купалье Трейл 21",14.720000000000002,"М",{"$f":"IF(E828=\"Ж\",VLOOKUP(C828,Гонки!$E$2:$P$16,11,FALSE),VLOOKUP(C828,Гонки!$E$2:$P$16,12,FALSE))","v":80},"Лучинович Сергей",1979,"Luchinovich Sergej","Лучинович Сергей / Luchinovich Sergej / 1979","М",69,15,57.55]
[{"$f":"Гонки!$C$14","v":"Жук-трейл #6 Купалье"},"Трейл 21","Жук-трейл #6 Купалье Трейл 21",14.720000000000002,"М",{"$f":"IF(E829=\"Ж\",VLOOKUP(C829,Гонки!$E$2:$P$16,11,FALSE),VLOOKUP(C829,Гонки!$E$2:$P$16,12,FALSE))","v":80},"Карпович Владимир",1983,"Karpovich Vladimir","Карпович Владимир / Karpovich Vladimir / 1983","М",70,13.75,52.75]
[{"$f":"Гонки!$C$14","v":"Жук-трейл #6 Купалье"},"Трейл 21","Жук-трейл #6 Купалье Трейл 21",14.720000000000002,"М",{"$f":"IF(E830=\"Ж\",VLOOKUP(C830,Гонки!$E$2:$P$16,11,FALSE),VLOOKUP(C830,Гонки!$E$2:$P$16,12,FALSE))","v":80},"Таран Виталий",1983,"Taran Vitalij","Таран Виталий / Taran Vitalij / 1983","М",71,12.5,47.96]
[{"$f":"Гонки!$C$14","v":"Жук-трейл #6 Купалье"},"Трейл 21","Жук-трейл #6 Купалье Трейл 21",14.720000000000002,"М",{"$f":"IF(E831=\"Ж\",VLOOKUP(C831,Гонки!$E$2:$P$16,11,FALSE),VLOOKUP(C831,Гонки!$E$2:$P$16,12,FALSE))","v":80},"Белицкий Денис",1990,"Belitskij Denis","Белицкий Денис / Belitskij Denis / 1990","М",72,11.25,43.16]
[{"$f":"Гонки!$C$14","v":"Жук-трейл #6 Купалье"},"Трейл 21","Жук-трейл #6 Купалье Трейл 21",14.720000000000002,"М",{"$f":"IF(E832=\"Ж\",VLOOKUP(C832,Гонки!$E$2:$P$16,11,FALSE),VLOOKUP(C832,Гонки!$E$2:$P$16,12,FALSE))","v":80},"Жучков Алексей",1985,"Zhuchkov Aleksej","Жучков Алексей / Zhuchkov Aleksej / 1985","М",73,10,38.369999999999997]
[{"$f":"Гонки!$C$14","v":"Жук-трейл #6 Купалье"},"Трейл 21","Жук-трейл #6 Купалье Трейл 21",14.720000000000002,"М",{"$f":"IF(E833=\"Ж\",VLOOKUP(C833,Гонки!$E$2:$P$16,11,FALSE),VLOOKUP(C833,Гонки!$E$2:$P$16,12,FALSE))","v":80},"Якимченко Анатолий",1967,"Yakimchenko Anatolij","Якимченко Анатолий / Yakimchenko Anatolij / 1967","М",74,8.75,33.57]
[{"$f":"Гонки!$C$14","v":"Жук-трейл #6 Купалье"},"Трейл 21",{"$f":"CONCATENATE(A834,\" \",B834)","v":"Жук-трейл #6 Купалье Трейл 21"},{"$f":"VLOOKUP(C834,Список_гонок,10,FALSE)","v":14.720000000000002},"М",{"$f":"IF(E834=\"Ж\",VLOOKUP(C834,Гонки!$E$2:$P$16,11,FALSE),VLOOKUP(C834,Гонки!$E$2:$P$16,12,FALSE))","v":80},"Лупин Сергей",1985,{"$f":"Translit(G834)","v":"Lupin Sergej"},{"$f":"CONCATENATE(G834,\" / \",I834,\" / \",H834)","v":"Лупин Сергей / Lupin Sergej / 1985"},{"$f":"E834","v":"М"},75,{"$f":"100-((L834-1)/F834)*100","v":7.5},{"$f":"ROUND(SQRT(D834)*M834,2)","v":28.77}]
[{"$f":"Гонки!$C$14","v":"Жук-трейл #6 Купалье"},"Трейл 21","Жук-трейл #6 Купалье Трейл 21",14.720000000000002,"М",{"$f":"IF(E835=\"Ж\",VLOOKUP(C835,Гонки!$E$2:$P$16,11,FALSE),VLOOKUP(C835,Гонки!$E$2:$P$16,12,FALSE))","v":80},"Покульницкий Алексей",1988,"Pokulnitskij Aleksej","Покульницкий Алексей / Pokulnitskij Aleksej / 1988","М",76,6.25,23.98]
[{"$f":"Гонки!$C$14","v":"Жук-трейл #6 Купалье"},"Трейл 21","Жук-трейл #6 Купалье Трейл 21",14.720000000000002,"М",{"$f":"IF(E836=\"Ж\",VLOOKUP(C836,Гонки!$E$2:$P$16,11,FALSE),VLOOKUP(C836,Гонки!$E$2:$P$16,12,FALSE))","v":80},"Зятиков Евгений",1982,"Zyatikov Evgenij","Зятиков Евгений / Zyatikov Evgenij / 1982","М",77,5,19.18]
[{"$f":"Гонки!$C$14","v":"Жук-трейл #6 Купалье"},"Трейл 21","Жук-трейл #6 Купалье Трейл 21",14.720000000000002,"М",{"$f":"IF(E837=\"Ж\",VLOOKUP(C837,Гонки!$E$2:$P$16,11,FALSE),VLOOKUP(C837,Гонки!$E$2:$P$16,12,FALSE))","v":80},"Анацко Леонид",1961,"Anatsko Leonid","Анацко Леонид / Anatsko Leonid / 1961","М",78,3.75,14.39]
[{"$f":"Гонки!$C$14","v":"Жук-трейл #6 Купалье"},"Трейл 21","Жук-трейл #6 Купалье Трейл 21",14.720000000000002,"Ж",{"$f":"IF(E838=\"Ж\",VLOOKUP(C838,Гонки!$E$2:$P$16,11,FALSE),VLOOKUP(C838,Гонки!$E$2:$P$16,12,FALSE))","v":14},"Цвирбут Юлия",1992,"Tsvirbut Yuliya","Цвирбут Юлия / Tsvirbut Yuliya / 1992","Ж",1,100,383.67]
[{"$f":"Гонки!$C$14","v":"Жук-трейл #6 Купалье"},"Трейл 21","Жук-трейл #6 Купалье Трейл 21",14.720000000000002,"Ж",{"$f":"IF(E839=\"Ж\",VLOOKUP(C839,Гонки!$E$2:$P$16,11,FALSE),VLOOKUP(C839,Гонки!$E$2:$P$16,12,FALSE))","v":14},"Черкас Александра",1992,"Cherkas Aleksandra","Черкас Александра / Cherkas Aleksandra / 1992","Ж",2,92.857142857142861,356.26]
[{"$f":"Гонки!$C$14","v":"Жук-трейл #6 Купалье"},"Трейл 21","Жук-трейл #6 Купалье Трейл 21",14.720000000000002,"Ж",{"$f":"IF(E840=\"Ж\",VLOOKUP(C840,Гонки!$E$2:$P$16,11,FALSE),VLOOKUP(C840,Гонки!$E$2:$P$16,12,FALSE))","v":14},"Делендик Надежда",1987,"Delendik Nadezhda","Делендик Надежда / Delendik Nadezhda / 1987","Ж",3,85.714285714285722,328.86]
[{"$f":"Гонки!$C$14","v":"Жук-трейл #6 Купалье"},"Трейл 21","Жук-трейл #6 Купалье Трейл 21",14.720000000000002,"Ж",{"$f":"IF(E841=\"Ж\",VLOOKUP(C841,Гонки!$E$2:$P$16,11,FALSE),VLOOKUP(C841,Гонки!$E$2:$P$16,12,FALSE))","v":14},"Сулимчик Оксана",1986,"Sulimchik Oksana","Сулимчик Оксана / Sulimchik Oksana / 1986","Ж",4,78.571428571428569,301.45]
[{"$f":"Гонки!$C$14","v":"Жук-трейл #6 Купалье"},"Трейл 21","Жук-трейл #6 Купалье Трейл 21",14.720000000000002,"Ж",{"$f":"IF(E842=\"Ж\",VLOOKUP(C842,Гонки!$E$2:$P$16,11,FALSE),VLOOKUP(C842,Гонки!$E$2:$P$16,12,FALSE))","v":14},"Белая Юлия",1988,"Belaya Yuliya","Белая Юлия / Belaya Yuliya / 1988","Ж",5,71.428571428571431,274.05]
[{"$f":"Гонки!$C$14","v":"Жук-трейл #6 Купалье"},"Трейл 21","Жук-трейл #6 Купалье Трейл 21",14.720000000000002,"Ж",{"$f":"IF(E843=\"Ж\",VLOOKUP(C843,Гонки!$E$2:$P$16,11,FALSE),VLOOKUP(C843,Гонки!$E$2:$P$16,12,FALSE))","v":14},"Кликун Татьяна",1989,"Klikun Tatyana","Кликун Татьяна / Klikun Tatyana / 1989","Ж",6,64.285714285714278,246.64]
[{"$f":"Гонки!$C$14","v":"Жук-трейл #6 Купалье"},"Трейл 21","Жук-трейл #6 Купалье Трейл 21",14.720000000000002,"Ж",{"$f":"IF(E844=\"Ж\",VLOOKUP(C844,Гонки!$E$2:$P$16,11,FALSE),VLOOKUP(C844,Гонки!$E$2:$P$16,12,FALSE))","v":14},"Лисовская Наталья",1998,"Lisovskaya Natalya","Лисовская Наталья / Lisovskaya Natalya / 1998","Ж",7,57.142857142857146,219.24]
[{"$f":"Гонки!$C$14","v":"Жук-трейл #6 Купалье"},"Трейл 21","Жук-трейл #6 Купалье Трейл 21",14.720000000000002,"Ж",{"$f":"IF(E845=\"Ж\",VLOOKUP(C845,Гонки!$E$2:$P$16,11,FALSE),VLOOKUP(C845,Гонки!$E$2:$P$16,12,FALSE))","v":14},"Старовойтова Евгения",1996,"Starovojtova Evgeniya","Старовойтова Евгения / Starovojtova Evgeniya / 1996","Ж",8,50,191.83]
[{"$f":"Гонки!$C$14","v":"Жук-трейл #6 Купалье"},"Трейл 21","Жук-трейл #6 Купалье Трейл 21",14.720000000000002,"Ж",{"$f":"IF(E846=\"Ж\",VLOOKUP(C846,Гонки!$E$2:$P$16,11,FALSE),VLOOKUP(C846,Гонки!$E$2:$P$16,12,FALSE))","v":14},"Голубева Елена",1987,"Golubeva Elena","Голубева Елена / Golubeva Elena / 1987","Ж",9,42.857142857142861,164.43]
[{"$f":"Гонки!$C$14","v":"Жук-трейл #6 Купалье"},"Трейл 21","Жук-трейл #6 Купалье Трейл 21",14.720000000000002,"Ж",{"$f":"IF(E847=\"Ж\",VLOOKUP(C847,Гонки!$E$2:$P$16,11,FALSE),VLOOKUP(C847,Гонки!$E$2:$P$16,12,FALSE))","v":14},"Лапко Оля",1992,"Lapko Olya","Лапко Оля / Lapko Olya / 1992","Ж",10,35.714285714285708,137.02000000000001]
[{"$f":"Гонки!$C$14","v":"Жук-трейл #6 Купалье"},"Трейл 21","Жук-трейл #6 Купалье Трейл 21",14.720000000000002,"Ж",{"$f":"IF(E848=\"Ж\",VLOOKUP(C848,Гонки!$E$2:$P$16,11,FALSE),VLOOKUP(C848,Гонки!$E$2:$P$16,12,FALSE))","v":14},"Туровец Ольга",1979,"Turovets Olga","Туровец Ольга / Turovets Olga / 1979","Ж",11,28.571428571428569,109.62]
[{"$f":"Гонки!$C$14","v":"Жук-трейл #6 Купалье"},"Трейл 21","Жук-трейл #6 Купалье Трейл 21",14.720000000000002,"Ж",{"$f":"IF(E849=\"Ж\",VLOOKUP(C849,Гонки!$E$2:$P$16,11,FALSE),VLOOKUP(C849,Гонки!$E$2:$P$16,12,FALSE))","v":14},"Сильванович Валерия",1998,"Silvanovich Valeriya","Сильванович Валерия / Silvanovich Valeriya / 1998","Ж",12,21.428571428571431,82.21]
[{"$f":"Гонки!$C$14","v":"Жук-трейл #6 Купалье"},"Трейл 21","Жук-трейл #6 Купалье Трейл 21",14.720000000000002,"Ж",{"$f":"IF(E850=\"Ж\",VLOOKUP(C850,Гонки!$E$2:$P$16,11,FALSE),VLOOKUP(C850,Гонки!$E$2:$P$16,12,FALSE))","v":14},"Суховерхая Татьяна",1986,"Suhoverhaya Tatyana","Суховерхая Татьяна / Suhoverhaya Tatyana / 1986","Ж",13,14.285714285714292,54.81]
[{"$f":"Гонки!$C$14","v":"Жук-трейл #6 Купалье"},"Трейл 21","Жук-трейл #6 Купалье Трейл 21",14.720000000000002,"Ж",{"$f":"IF(E851=\"Ж\",VLOOKUP(C851,Гонки!$E$2:$P$16,11,FALSE),VLOOKUP(C851,Гонки!$E$2:$P$16,12,FALSE))","v":14},"Василевич Валентина",1998,"Vasilevich Valentina","Василевич Валентина / Vasilevich Valentina / 1998","Ж",14,7.1428571428571388,27.4]
[{"$f":"Гонки!C17","v":"Жук-трейл #7 Раубичи"},{"$f":"Гонки!D17","v":"Трейл 5"},"Жук-трейл #7 Раубичи Трейл 5",{"$f":"VLOOKUP(C852,Гонки!$E$1:$N$19,10,FALSE)","v":8},"Ж",{"$f":"IF(E852=\"Ж\",VLOOKUP(C852,Гонки!$E$2:$P$19,11,FALSE),VLOOKUP(C852,Гонки!$E$2:$P$19,12,FALSE))","v":41},"Фомина Ирина",1986,"Fomina Irina","Фомина Ирина / Fomina Irina / 1986",{"$f":"E852","v":"Ж"},1,100,282.83999999999997]
[{"$f":"$A$852","v":"Жук-трейл #7 Раубичи"},{"$f":"$B$852","v":"Трейл 5"},"Жук-трейл #7 Раубичи Трейл 5",{"$f":"VLOOKUP(C853,Гонки!$E$1:$N$19,10,FALSE)","v":8},"Ж",{"$f":"IF(E853=\"Ж\",VLOOKUP(C853,Гонки!$E$2:$P$19,11,FALSE),VLOOKUP(C853,Гонки!$E$2:$P$19,12,FALSE))","v":41},"Журавлёва Оксана",1980,"Zhuravljova Oksana","Журавлёва Оксана / Zhuravljova Oksana / 1980","Ж",2,97.560975609756099,275.94]
["Жук-трейл #7 Раубичи","Трейл 5","Жук-трейл #7 Раубичи Трейл 5",{"$f":"VLOOKUP(C854,Гонки!$E$1:$N$19,10,FALSE)","v":8},"Ж",{"$f":"IF(E854=\"Ж\",VLOOKUP(C854,Гонки!$E$2:$P$19,11,FALSE),VLOOKUP(C854,Гонки!$E$2:$P$19,12,FALSE))","v":41},"Жданович Александра",1985,"Zhdanovich Aleksandra","Жданович Александра / Zhdanovich Aleksandra / 1985","Ж",3,95.121951219512198,269.05]
["Жук-трейл #7 Раубичи","Трейл 5","Жук-трейл #7 Раубичи Трейл 5",{"$f":"VLOOKUP(C855,Гонки!$E$1:$N$19,10,FALSE)","v":8},"Ж",{"$f":"IF(E855=\"Ж\",VLOOKUP(C855,Гонки!$E$2:$P$19,11,FALSE),VLOOKUP(C855,Гонки!$E$2:$P$19,12,FALSE))","v":41},"Питкевич Екатерина",1984,"Pitkevich Ekaterina","Питкевич Екатерина / Pitkevich Ekaterina / 1984","Ж",4,92.682926829268297,262.14999999999998]
["Жук-трейл #7 Раубичи","Трейл 5","Жук-трейл #7 Раубичи Трейл 5",{"$f":"VLOOKUP(C856,Гонки!$E$1:$N$19,10,FALSE)","v":8},"Ж",{"$f":"IF(E856=\"Ж\",VLOOKUP(C856,Гонки!$E$2:$P$19,11,FALSE),VLOOKUP(C856,Гонки!$E$2:$P$19,12,FALSE))","v":41},"Костеневич Ольга",1990,"Kostenevich Olga","Костеневич Ольга / Kostenevich Olga / 1990","Ж",5,90.243902439024396,255.25]
["Жук-трейл #7 Раубичи","Трейл 5","Жук-трейл #7 Раубичи Трейл 5",{"$f":"VLOOKUP(C857,Гонки!$E$1:$N$19,10,FALSE)","v":8},"Ж",{"$f":"IF(E857=\"Ж\",VLOOKUP(C857,Гонки!$E$2:$P$19,11,FALSE),VLOOKUP(C857,Гонки!$E$2:$P$19,12,FALSE))","v":41},"Жукова Елизавета",1989,"Zhukova Elizaveta","Жукова Елизавета / Zhukova Elizaveta / 1989","Ж",6,87.804878048780495,248.35]
["Жук-трейл #7 Раубичи","Трейл 5","Жук-трейл #7 Раубичи Трейл 5",{"$f":"VLOOKUP(C858,Гонки!$E$1:$N$19,10,FALSE)","v":8},"Ж",{"$f":"IF(E858=\"Ж\",VLOOKUP(C858,Гонки!$E$2:$P$19,11,FALSE),VLOOKUP(C858,Гонки!$E$2:$P$19,12,FALSE))","v":41},"Гецман Мила",1988,"Getsman Mila","Гецман Мила / Getsman Mila / 1988","Ж",7,85.365853658536594,241.45]
["Жук-трейл #7 Раубичи","Трейл 5","Жук-трейл #7 Раубичи Трейл 5",{"$f":"VLOOKUP(C859,Гонки!$E$1:$N$19,10,FALSE)","v":8},"Ж",{"$f":"IF(E859=\"Ж\",VLOOKUP(C859,Гонки!$E$2:$P$19,11,FALSE),VLOOKUP(C859,Гонки!$E$2:$P$19,12,FALSE))","v":41},"Купреева Татьяна",1990,"Kupreeva Tatyana","Купреева Татьяна / Kupreeva Tatyana / 1990","Ж",8,82.926829268292678,234.55]
["Жук-трейл #7 Раубичи","Трейл 5","Жук-трейл #7 Раубичи Трейл 5",{"$f":"VLOOKUP(C860,Гонки!$E$1:$N$19,10,FALSE)","v":8},"Ж",{"$f":"IF(E860=\"Ж\",VLOOKUP(C860,Гонки!$E$2:$P$19,11,FALSE),VLOOKUP(C860,Гонки!$E$2:$P$19,12,FALSE))","v":41},"Новикова Анастасия",1992,"Novikova Anastasiya","Новикова Анастасия / Novikova Anastasiya / 1992","Ж",9,80.487804878048777,227.65]
["Жук-трейл #7 Раубичи","Трейл 5","Жук-трейл #7 Раубичи Трейл 5",{"$f":"VLOOKUP(C861,Гонки!$E$1:$N$19,10,FALSE)","v":8},"Ж",{"$f":"IF(E861=\"Ж\",VLOOKUP(C861,Гонки!$E$2:$P$19,11,FALSE),VLOOKUP(C861,Гонки!$E$2:$P$19,12,FALSE))","v":41},"Кшановская Ирина",1977,"Kshanovskaya Irina","Кшановская Ирина / Kshanovskaya Irina / 1977","Ж",10,78.048780487804876,220.76]
["Жук-трейл #7 Раубичи","Трейл 5","Жук-трейл #7 Раубичи Трейл 5",{"$f":"VLOOKUP(C862,Гонки!$E$1:$N$19,10,FALSE)","v":8},"Ж",{"$f":"IF(E862=\"Ж\",VLOOKUP(C862,Гонки!$E$2:$P$19,11,FALSE),VLOOKUP(C862,Гонки!$E$2:$P$19,12,FALSE))","v":41},"Необердина Мария",1987,"Neoberdina Mariya","Необердина Мария / Neoberdina Mariya / 1987","Ж",11,75.609756097560975,213.86]
["Жук-трейл #7 Раубичи","Трейл 5","Жук-трейл #7 Раубичи Трейл 5",{"$f":"VLOOKUP(C863,Гонки!$E$1:$N$19,10,FALSE)","v":8},"Ж",{"$f":"IF(E863=\"Ж\",VLOOKUP(C863,Гонки!$E$2:$P$19,11,FALSE),VLOOKUP(C863,Гонки!$E$2:$P$19,12,FALSE))","v":41},"Кликун Татьяна",1989,"Klikun Tatyana","Кликун Татьяна / Klikun Tatyana / 1989","Ж",12,73.170731707317074,206.96]
["Жук-трейл #7 Раубичи","Трейл 5","Жук-трейл #7 Раубичи Трейл 5",{"$f":"VLOOKUP(C864,Гонки!$E$1:$N$19,10,FALSE)","v":8},"Ж",{"$f":"IF(E864=\"Ж\",VLOOKUP(C864,Гонки!$E$2:$P$19,11,FALSE),VLOOKUP(C864,Гонки!$E$2:$P$19,12,FALSE))","v":41},"Федченко Ярослава",2002,"Fedchenko Yaroslava","Федченко Ярослава / Fedchenko Yaroslava / 2002","Ж",13,70.731707317073173,200.06]
["Жук-трейл #7 Раубичи","Трейл 5","Жук-трейл #7 Раубичи Трейл 5",{"$f":"VLOOKUP(C865,Гонки!$E$1:$N$19,10,FALSE)","v":8},"Ж",{"$f":"IF(E865=\"Ж\",VLOOKUP(C865,Гонки!$E$2:$P$19,11,FALSE),VLOOKUP(C865,Гонки!$E$2:$P$19,12,FALSE))","v":41},"Фадеева Светлана",1980,"Fadeeva Svetlana","Фадеева Светлана / Fadeeva Svetlana / 1980","Ж",14,68.292682926829272,193.16]
["Жук-трейл #7 Раубичи","Трейл 5","Жук-трейл #7 Раубичи Трейл 5",{"$f":"VLOOKUP(C866,Гонки!$E$1:$N$19,10,FALSE)","v":8},"Ж",{"$f":"IF(E866=\"Ж\",VLOOKUP(C866,Гонки!$E$2:$P$19,11,FALSE),VLOOKUP(C866,Гонки!$E$2:$P$19,12,FALSE))","v":41},"Тмофеева Александр",1990,"Tmofeeva Aleksandr","Тмофеева Александр / Tmofeeva Aleksandr / 1990","Ж",15,65.853658536585357,186.26]
["Жук-трейл #7 Раубичи","Трейл 5","Жук-трейл #7 Раубичи Трейл 5",{"$f":"VLOOKUP(C867,Гонки!$E$1:$N$19,10,FALSE)","v":8},"Ж",{"$f":"IF(E867=\"Ж\",VLOOKUP(C867,Гонки!$E$2:$P$19,11,FALSE),VLOOKUP(C867,Гонки!$E$2:$P$19,12,FALSE))","v":41},"Хурс Елена",1989,"Hurs Elena","Хурс Елена / Hurs Elena / 1989","Ж",16,63.414634146341463,179.36]
["Жук-трейл #7 Раубичи","Трейл 5","Жук-трейл #7 Раубичи Трейл 5",{"$f":"VLOOKUP(C868,Гонки!$E$1:$N$19,10,FALSE)","v":8},"Ж",{"$f":"IF(E868=\"Ж\",VLOOKUP(C868,Гонки!$E$2:$P$19,11,FALSE),VLOOKUP(C868,Гонки!$E$2:$P$19,12,FALSE))","v":41},"Косач Надежда",1981,"Kosach Nadezhda","Косач Надежда / Kosach Nadezhda / 1981","Ж",17,60.975609756097562,172.47]
["Жук-трейл #7 Раубичи","Трейл 5","Жук-трейл #7 Раубичи Трейл 5",{"$f":"VLOOKUP(C869,Гонки!$E$1:$N$19,10,FALSE)","v":8},"Ж",{"$f":"IF(E869=\"Ж\",VLOOKUP(C869,Гонки!$E$2:$P$19,11,FALSE),VLOOKUP(C869,Гонки!$E$2:$P$19,12,FALSE))","v":41},"Даниленко Инесса",1984,"Danilenko Inessa","Даниленко Инесса / Danilenko Inessa / 1984","Ж",18,58.536585365853661,165.57]
["Жук-трейл #7 Раубичи","Трейл 5","Жук-трейл #7 Раубичи Трейл 5",{"$f":"VLOOKUP(C870,Гонки!$E$1:$N$19,10,FALSE)","v":8},"Ж",{"$f":"IF(E870=\"Ж\",VLOOKUP(C870,Гонки!$E$2:$P$19,11,FALSE),VLOOKUP(C870,Гонки!$E$2:$P$19,12,FALSE))","v":41},"Лаханич Мария",1991,"Lahanich Mariya","Лаханич Мария / Lahanich Mariya / 1991","Ж",19,56.097560975609753,158.66999999999999]
["Жук-трейл #7 Раубичи","Трейл 5","Жук-трейл #7 Раубичи Трейл 5",{"$f":"VLOOKUP(C871,Гонки!$E$1:$N$19,10,FALSE)","v":8},"Ж",{"$f":"IF(E871=\"Ж\",VLOOKUP(C871,Гонки!$E$2:$P$19,11,FALSE),VLOOKUP(C871,Гонки!$E$2:$P$19,12,FALSE))","v":41},"Грушевская Виктория",1992,"Grushevskaya Viktoriya","Грушевская Виктория / Grushevskaya Viktoriya / 1992","Ж",20,53.658536585365852,151.77000000000001]
["Жук-трейл #7 Раубичи","Трейл 5","Жук-трейл #7 Раубичи Трейл 5",{"$f":"VLOOKUP(C872,Гонки!$E$1:$N$19,10,FALSE)","v":8},"Ж",{"$f":"IF(E872=\"Ж\",VLOOKUP(C872,Гонки!$E$2:$P$19,11,FALSE),VLOOKUP(C872,Гонки!$E$2:$P$19,12,FALSE))","v":41},"Позднева Мария",2001,"Pozdneva Mariya","Позднева Мария / Pozdneva Mariya / 2001","Ж",21,51.219512195121951,144.87]
["Жук-трейл #7 Раубичи","Трейл 5","Жук-трейл #7 Раубичи Трейл 5",{"$f":"VLOOKUP(C873,Гонки!$E$1:$N$19,10,FALSE)","v":8},"Ж",{"$f":"IF(E873=\"Ж\",VLOOKUP(C873,Гонки!$E$2:$P$19,11,FALSE),VLOOKUP(C873,Гонки!$E$2:$P$19,12,FALSE))","v":41},"Гославская Анастасия",1991,"Goslavskaya Anastasiya","Гославская Анастасия / Goslavskaya Anastasiya / 1991","Ж",22,48.780487804878049,137.97]
["Жук-трейл #7 Раубичи","Трейл 5","Жук-трейл #7 Раубичи Трейл 5",{"$f":"VLOOKUP(C874,Гонки!$E$1:$N$19,10,FALSE)","v":8},"Ж",{"$f":"IF(E874=\"Ж\",VLOOKUP(C874,Гонки!$E$2:$P$19,11,FALSE),VLOOKUP(C874,Гонки!$E$2:$P$19,12,FALSE))","v":41},"Степук Наталья",1984,"Stepuk Natalya","Степук Наталья / Stepuk Natalya / 1984","Ж",23,46.341463414634141,131.07]
["Жук-трейл #7 Раубичи","Трейл 5","Жук-трейл #7 Раубичи Трейл 5",{"$f":"VLOOKUP(C875,Гонки!$E$1:$N$19,10,FALSE)","v":8},"Ж",{"$f":"IF(E875=\"Ж\",VLOOKUP(C875,Гонки!$E$2:$P$19,11,FALSE),VLOOKUP(C875,Гонки!$E$2:$P$19,12,FALSE))","v":41},"Тенюго Татьяна",1978,"Tenyugo Tatyana","Тенюго Татьяна / Tenyugo Tatyana / 1978","Ж",24,43.90243902439024,124.17]
["Жук-трейл #7 Раубичи","Трейл 5","Жук-трейл #7 Раубичи Трейл 5",{"$f":"VLOOKUP(C876,Гонки!$E$1:$N$19,10,FALSE)","v":8},"Ж",{"$f":"IF(E876=\"Ж\",VLOOKUP(C876,Гонки!$E$2:$P$19,11,FALSE),VLOOKUP(C876,Гонки!$E$2:$P$19,12,FALSE))","v":41},"Моисеева Вероника",1983,"Moiseeva Veronika","Моисеева Вероника / Moiseeva Veronika / 1983","Ж",25,41.463414634146346,117.28]
["Жук-трейл #7 Раубичи","Трейл 5","Жук-трейл #7 Раубичи Трейл 5",{"$f":"VLOOKUP(C877,Гонки!$E$1:$N$19,10,FALSE)","v":8},"Ж",{"$f":"IF(E877=\"Ж\",VLOOKUP(C877,Гонки!$E$2:$P$19,11,FALSE),VLOOKUP(C877,Гонки!$E$2:$P$19,12,FALSE))","v":41},"Каленская Наталия",1986,"Kalenskaya Nataliya","Каленская Наталия / Kalenskaya Nataliya / 1986","Ж",26,39.024390243902438,110.38]
["Жук-трейл #7 Раубичи","Трейл 5","Жук-трейл #7 Раубичи Трейл 5",{"$f":"VLOOKUP(C878,Гонки!$E$1:$N$19,10,FALSE)","v":8},"Ж",{"$f":"IF(E878=\"Ж\",VLOOKUP(C878,Гонки!$E$2:$P$19,11,FALSE),VLOOKUP(C878,Гонки!$E$2:$P$19,12,FALSE))","v":41},"Княжевич Алеся",1992,"Knyazhevich Alesya","Княжевич Алеся / Knyazhevich Alesya / 1992","Ж",27,36.585365853658537,103.48]
["Жук-трейл #7 Раубичи","Трейл 5","Жук-трейл #7 Раубичи Трейл 5",{"$f":"VLOOKUP(C879,Гонки!$E$1:$N$19,10,FALSE)","v":8},"Ж",{"$f":"IF(E879=\"Ж\",VLOOKUP(C879,Гонки!$E$2:$P$19,11,FALSE),VLOOKUP(C879,Гонки!$E$2:$P$19,12,FALSE))","v":41},"Фомичёва Елена",1993,"Fomichjova Elena","Фомичёва Елена / Fomichjova Elena / 1993","Ж",28,34.146341463414629,96.58]
["Жук-трейл #7 Раубичи","Трейл 5","Жук-трейл #7 Раубичи Трейл 5",{"$f":"VLOOKUP(C880,Гонки!$E$1:$N$19,10,FALSE)","v":8},"Ж",{"$f":"IF(E880=\"Ж\",VLOOKUP(C880,Гонки!$E$2:$P$19,11,FALSE),VLOOKUP(C880,Гонки!$E$2:$P$19,12,FALSE))","v":41},"Мамонтова Марина",1992,"Mamontova Marina","Мамонтова Марина / Mamontova Marina / 1992","Ж",29,31.707317073170728,89.68]
["Жук-трейл #7 Раубичи","Трейл 5","Жук-трейл #7 Раубичи Трейл 5",{"$f":"VLOOKUP(C881,Гонки!$E$1:$N$19,10,FALSE)","v":8},"Ж",{"$f":"IF(E881=\"Ж\",VLOOKUP(C881,Гонки!$E$2:$P$19,11,FALSE),VLOOKUP(C881,Гонки!$E$2:$P$19,12,FALSE))","v":41},"Кравченко Марина",1990,"Kravchenko Marina","Кравченко Марина / Kravchenko Marina / 1990","Ж",30,29.268292682926827,82.78]
["Жук-трейл #7 Раубичи","Трейл 5","Жук-трейл #7 Раубичи Трейл 5",{"$f":"VLOOKUP(C882,Гонки!$E$1:$N$19,10,FALSE)","v":8},"Ж",{"$f":"IF(E882=\"Ж\",VLOOKUP(C882,Гонки!$E$2:$P$19,11,FALSE),VLOOKUP(C882,Гонки!$E$2:$P$19,12,FALSE))","v":41},"Шеремет Евгения",1981,"Sheremet Evgeniya","Шеремет Евгения / Sheremet Evgeniya / 1981","Ж",31,26.829268292682926,75.88]
["Жук-трейл #7 Раубичи","Трейл 5","Жук-трейл #7 Раубичи Трейл 5",{"$f":"VLOOKUP(C883,Гонки!$E$1:$N$19,10,FALSE)","v":8},"Ж",{"$f":"IF(E883=\"Ж\",VLOOKUP(C883,Гонки!$E$2:$P$19,11,FALSE),VLOOKUP(C883,Гонки!$E$2:$P$19,12,FALSE))","v":41},"Зятикова Наталья",1983,"Zyatikova Natalya","Зятикова Наталья / Zyatikova Natalya / 1983","Ж",32,24.390243902439025,68.989999999999995]
["Жук-трейл #7 Раубичи","Трейл 5","Жук-трейл #7 Раубичи Трейл 5",{"$f":"VLOOKUP(C884,Гонки!$E$1:$N$19,10,FALSE)","v":8},"Ж",{"$f":"IF(E884=\"Ж\",VLOOKUP(C884,Гонки!$E$2:$P$19,11,FALSE),VLOOKUP(C884,Гонки!$E$2:$P$19,12,FALSE))","v":41},"Кликун Алла",1961,"Klikun Alla","Кликун Алла / Klikun Alla / 1961","Ж",33,21.951219512195124,62.09]
[{"$f":"$A$852","v":"Жук-трейл #7 Раубичи"},{"$f":"$B$852","v":"Трейл 5"},"Жук-трейл #7 Раубичи Трейл 5",{"$f":"VLOOKUP(C885,Гонки!$E$1:$N$19,10,FALSE)","v":8},"Ж",{"$f":"IF(E885=\"Ж\",VLOOKUP(C885,Гонки!$E$2:$P$19,11,FALSE),VLOOKUP(C885,Гонки!$E$2:$P$19,12,FALSE))","v":41},"Родионова Светлана",1981,"Rodionova Svetlana","Родионова Светлана / Rodionova Svetlana / 1981","Ж",34,19.512195121951208,55.19]
["Жук-трейл #7 Раубичи","Трейл 5","Жук-трейл #7 Раубичи Трейл 5",{"$f":"VLOOKUP(C886,Гонки!$E$1:$N$19,10,FALSE)","v":8},"Ж",{"$f":"IF(E886=\"Ж\",VLOOKUP(C886,Гонки!$E$2:$P$19,11,FALSE),VLOOKUP(C886,Гонки!$E$2:$P$19,12,FALSE))","v":41},"Постникова Ольга",1990,"Postnikova Olga","Постникова Ольга / Postnikova Olga / 1990","Ж",35,17.073170731707322,48.29]
["Жук-трейл #7 Раубичи","Трейл 5","Жук-трейл #7 Раубичи Трейл 5",{"$f":"VLOOKUP(C887,Гонки!$E$1:$N$19,10,FALSE)","v":8},"Ж",{"$f":"IF(E887=\"Ж\",VLOOKUP(C887,Гонки!$E$2:$P$19,11,FALSE),VLOOKUP(C887,Гонки!$E$2:$P$19,12,FALSE))","v":41},"Ладутько Наталья",1974,"Ladutko Natalya","Ладутько Наталья / Ladutko Natalya / 1974","Ж",36,14.634146341463421,41.39]
["Жук-трейл #7 Раубичи","Трейл 5","Жук-трейл #7 Раубичи Трейл 5",{"$f":"VLOOKUP(C888,Гонки!$E$1:$N$19,10,FALSE)","v":8},"Ж",{"$f":"IF(E888=\"Ж\",VLOOKUP(C888,Гонки!$E$2:$P$19,11,FALSE),VLOOKUP(C888,Гонки!$E$2:$P$19,12,FALSE))","v":41},"Гарбуз Алла",1969,"Garbuz Alla","Гарбуз Алла / Garbuz Alla / 1969","Ж",36,14.634146341463421,41.39]
["Жук-трейл #7 Раубичи","Трейл 5","Жук-трейл #7 Раубичи Трейл 5",{"$f":"VLOOKUP(C889,Гонки!$E$1:$N$19,10,FALSE)","v":8},"Ж",{"$f":"IF(E889=\"Ж\",VLOOKUP(C889,Гонки!$E$2:$P$19,11,FALSE),VLOOKUP(C889,Гонки!$E$2:$P$19,12,FALSE))","v":41},"Позняк Лидия",2002,"Poznyak Lidiya","Позняк Лидия / Poznyak Lidiya / 2002","Ж",38,9.7560975609756042,27.59]
["Жук-трейл #7 Раубичи","Трейл 5","Жук-трейл #7 Раубичи Трейл 5",{"$f":"VLOOKUP(C890,Гонки!$E$1:$N$19,10,FALSE)","v":8},"Ж",{"$f":"IF(E890=\"Ж\",VLOOKUP(C890,Гонки!$E$2:$P$19,11,FALSE),VLOOKUP(C890,Гонки!$E$2:$P$19,12,FALSE))","v":41},"Рябцева Инна",1974,"Ryabtseva Inna","Рябцева Инна / Ryabtseva Inna / 1974","Ж",39,7.3170731707317032,20.7]
["Жук-трейл #7 Раубичи","Трейл 5","Жук-трейл #7 Раубичи Трейл 5",{"$f":"VLOOKUP(C891,Гонки!$E$1:$N$19,10,FALSE)","v":8},"Ж",{"$f":"IF(E891=\"Ж\",VLOOKUP(C891,Гонки!$E$2:$P$19,11,FALSE),VLOOKUP(C891,Гонки!$E$2:$P$19,12,FALSE))","v":41},"Бортняк Екатерина",1994,"Bortnyak Ekaterina","Бортняк Екатерина / Bortnyak Ekaterina / 1994","Ж",40,4.8780487804878021,13.8]
["Жук-трейл #7 Раубичи","Трейл 5","Жук-трейл #7 Раубичи Трейл 5",{"$f":"VLOOKUP(C892,Гонки!$E$1:$N$19,10,FALSE)","v":8},"Ж",{"$f":"IF(E892=\"Ж\",VLOOKUP(C892,Гонки!$E$2:$P$19,11,FALSE),VLOOKUP(C892,Гонки!$E$2:$P$19,12,FALSE))","v":41},"Савченко Марина",1983,"Savchenko Marina","Савченко Марина / Savchenko Marina / 1983","Ж",41,2.4390243902439011,6.9]
["Жук-трейл #7 Раубичи","Трейл 5","Жук-трейл #7 Раубичи Трейл 5",{"$f":"VLOOKUP(C893,Гонки!$E$1:$N$19,10,FALSE)","v":8},"М",{"$f":"IF(E893=\"Ж\",VLOOKUP(C893,Гонки!$E$2:$P$19,11,FALSE),VLOOKUP(C893,Гонки!$E$2:$P$19,12,FALSE))","v":30},"Лещевич Валерий",1989,"Leschevich Valerij","Лещевич Валерий / Leschevich Valerij / 1989","М",1,100,282.83999999999997]
["Жук-трейл #7 Раубичи","Трейл 5","Жук-трейл #7 Раубичи Трейл 5",{"$f":"VLOOKUP(C894,Гонки!$E$1:$N$19,10,FALSE)","v":8},"М",{"$f":"IF(E894=\"Ж\",VLOOKUP(C894,Гонки!$E$2:$P$19,11,FALSE),VLOOKUP(C894,Гонки!$E$2:$P$19,12,FALSE))","v":30},"Католиков Роман",1985,"Katolikov Roman","Католиков Роман / Katolikov Roman / 1985","М",2,96.666666666666671,273.41000000000003]
["Жук-трейл #7 Раубичи","Трейл 5","Жук-трейл #7 Раубичи Трейл 5",{"$f":"VLOOKUP(C895,Гонки!$E$1:$N$19,10,FALSE)","v":8},"М",{"$f":"IF(E895=\"Ж\",VLOOKUP(C895,Гонки!$E$2:$P$19,11,FALSE),VLOOKUP(C895,Гонки!$E$2:$P$19,12,FALSE))","v":30},"Селютин Владимир",1990,"Selyutin Vladimir","Селютин Владимир / Selyutin Vladimir / 1990","М",3,93.333333333333329,263.99]
["Жук-трейл #7 Раубичи","Трейл 5","Жук-трейл #7 Раубичи Трейл 5",{"$f":"VLOOKUP(C896,Гонки!$E$1:$N$19,10,FALSE)","v":8},"М",{"$f":"IF(E896=\"Ж\",VLOOKUP(C896,Гонки!$E$2:$P$19,11,FALSE),VLOOKUP(C896,Гонки!$E$2:$P$19,12,FALSE))","v":30},"Брытько Роман",1995,"Brytko Roman","Брытько Роман / Brytko Roman / 1995","М",4,90,254.56]
["Жук-трейл #7 Раубичи","Трейл 5","Жук-трейл #7 Раубичи Трейл 5",{"$f":"VLOOKUP(C897,Гонки!$E$1:$N$19,10,FALSE)","v":8},"М",{"$f":"IF(E897=\"Ж\",VLOOKUP(C897,Гонки!$E$2:$P$19,11,FALSE),VLOOKUP(C897,Гонки!$E$2:$P$19,12,FALSE))","v":30},"Герасимук Дмитрий",1993,"Gerasimuk Dmitrij","Герасимук Дмитрий / Gerasimuk Dmitrij / 1993","М",5,86.666666666666671,245.13]
["Жук-трейл #7 Раубичи","Трейл 5",{"$f":"CONCATENATE(A898,\" \",B898)","v":"Жук-трейл #7 Раубичи Трейл 5"},{"$f":"VLOOKUP(C898,Гонки!$E$1:$N$19,10,FALSE)","v":8},"М",{"$f":"IF(E898=\"Ж\",VLOOKUP(C898,Гонки!$E$2:$P$19,11,FALSE),VLOOKUP(C898,Гонки!$E$2:$P$19,12,FALSE))","v":30},"Гайдуков Александр",1989,{"$f":"Translit(G898)","v":"Gajdukov Aleksandr"},{"$f":"CONCATENATE(G898,\" / \",I898,\" / \",H898)","v":"Гайдуков Александр / Gajdukov Aleksandr / 1989"},"М",6,{"$f":"100-((L898-1)/F898)*100","v":83.333333333333343},{"$f":"ROUND(SQRT(D898)*M898,2)","v":235.7}]
["Жук-трейл #7 Раубичи","Трейл 5","Жук-трейл #7 Раубичи Трейл 5",{"$f":"VLOOKUP(C899,Гонки!$E$1:$N$19,10,FALSE)","v":8},"М",{"$f":"IF(E899=\"Ж\",VLOOKUP(C899,Гонки!$E$2:$P$19,11,FALSE),VLOOKUP(C899,Гонки!$E$2:$P$19,12,FALSE))","v":30},"Матвийчук Вадим",1976,"Matvijchuk Vadim","Матвийчук Вадим / Matvijchuk Vadim / 1976","М",7,80,226.27]
["Жук-трейл #7 Раубичи","Трейл 5","Жук-трейл #7 Раубичи Трейл 5",{"$f":"VLOOKUP(C900,Гонки!$E$1:$N$19,10,FALSE)","v":8},"М",{"$f":"IF(E900=\"Ж\",VLOOKUP(C900,Гонки!$E$2:$P$19,11,FALSE),VLOOKUP(C900,Гонки!$E$2:$P$19,12,FALSE))","v":30},"Зеленко Дмитрий",1987,"Zelenko Dmitrij","Зеленко Дмитрий / Zelenko Dmitrij / 1987","М",8,76.666666666666671,216.85]
["Жук-трейл #7 Раубичи","Трейл 5","Жук-трейл #7 Раубичи Трейл 5",{"$f":"VLOOKUP(C901,Гонки!$E$1:$N$19,10,FALSE)","v":8},"М",{"$f":"IF(E901=\"Ж\",VLOOKUP(C901,Гонки!$E$2:$P$19,11,FALSE),VLOOKUP(C901,Гонки!$E$2:$P$19,12,FALSE))","v":30},"Дашин Михаил",1986,"Dashin Mihail","Дашин Михаил / Dashin Mihail / 1986","М",9,73.333333333333329,207.42]
["Жук-трейл #7 Раубичи","Трейл 5","Жук-трейл #7 Раубичи Трейл 5",{"$f":"VLOOKUP(C902,Гонки!$E$1:$N$19,10,FALSE)","v":8},"М",{"$f":"IF(E902=\"Ж\",VLOOKUP(C902,Гонки!$E$2:$P$19,11,FALSE),VLOOKUP(C902,Гонки!$E$2:$P$19,12,FALSE))","v":30},"Нестерович Сергей",1994,"Nesterovich Sergej","Нестерович Сергей / Nesterovich Sergej / 1994","М",10,70,197.99]
["Жук-трейл #7 Раубичи","Трейл 5","Жук-трейл #7 Раубичи Трейл 5",{"$f":"VLOOKUP(C903,Гонки!$E$1:$N$19,10,FALSE)","v":8},"М",{"$f":"IF(E903=\"Ж\",VLOOKUP(C903,Гонки!$E$2:$P$19,11,FALSE),VLOOKUP(C903,Гонки!$E$2:$P$19,12,FALSE))","v":30},"Мельников Роман",1983,"Melnikov Roman","Мельников Роман / Melnikov Roman / 1983","М",11,66.666666666666671,188.56]
["Жук-трейл #7 Раубичи","Трейл 5","Жук-трейл #7 Раубичи Трейл 5",{"$f":"VLOOKUP(C904,Гонки!$E$1:$N$19,10,FALSE)","v":8},"М",{"$f":"IF(E904=\"Ж\",VLOOKUP(C904,Гонки!$E$2:$P$19,11,FALSE),VLOOKUP(C904,Гонки!$E$2:$P$19,12,FALSE))","v":30},"Гончаров Николай",1984,"Goncharov Nikolaj","Гончаров Николай / Goncharov Nikolaj / 1984","М",12,63.333333333333336,179.13]
["Жук-трейл #7 Раубичи","Трейл 5","Жук-трейл #7 Раубичи Трейл 5",{"$f":"VLOOKUP(C905,Гонки!$E$1:$N$19,10,FALSE)","v":8},"М",{"$f":"IF(E905=\"Ж\",VLOOKUP(C905,Гонки!$E$2:$P$19,11,FALSE),VLOOKUP(C905,Гонки!$E$2:$P$19,12,FALSE))","v":30},"Мананков Дмитрий",1988,"Manankov Dmitrij","Мананков Дмитрий / Manankov Dmitrij / 1988","М",13,60,169.71]
["Жук-трейл #7 Раубичи","Трейл 5","Жук-трейл #7 Раубичи Трейл 5",{"$f":"VLOOKUP(C906,Гонки!$E$1:$N$19,10,FALSE)","v":8},"М",{"$f":"IF(E906=\"Ж\",VLOOKUP(C906,Гонки!$E$2:$P$19,11,FALSE),VLOOKUP(C906,Гонки!$E$2:$P$19,12,FALSE))","v":30},"Тимофеев Алексей",1990,"Timofeev Aleksej","Тимофеев Алексей / Timofeev Aleksej / 1990","М",14,56.666666666666664,160.28]
["Жук-трейл #7 Раубичи","Трейл 5","Жук-трейл #7 Раубичи Трейл 5",{"$f":"VLOOKUP(C907,Гонки!$E$1:$N$19,10,FALSE)","v":8},"М",{"$f":"IF(E907=\"Ж\",VLOOKUP(C907,Гонки!$E$2:$P$19,11,FALSE),VLOOKUP(C907,Гонки!$E$2:$P$19,12,FALSE))","v":30},"Лапухин Андрей",1989,"Lapuhin Andrej","Лапухин Андрей / Lapuhin Andrej / 1989","М",15,53.333333333333336,150.85]
["Жук-трейл #7 Раубичи","Трейл 5","Жук-трейл #7 Раубичи Трейл 5",{"$f":"VLOOKUP(C908,Гонки!$E$1:$N$19,10,FALSE)","v":8},"М",{"$f":"IF(E908=\"Ж\",VLOOKUP(C908,Гонки!$E$2:$P$19,11,FALSE),VLOOKUP(C908,Гонки!$E$2:$P$19,12,FALSE))","v":30},"Новиков Евгений",1988,"Novikov Evgenij","Новиков Евгений / Novikov Evgenij / 1988","М",16,50,141.41999999999999]
["Жук-трейл #7 Раубичи","Трейл 5","Жук-трейл #7 Раубичи Трейл 5",{"$f":"VLOOKUP(C909,Гонки!$E$1:$N$19,10,FALSE)","v":8},"М",{"$f":"IF(E909=\"Ж\",VLOOKUP(C909,Гонки!$E$2:$P$19,11,FALSE),VLOOKUP(C909,Гонки!$E$2:$P$19,12,FALSE))","v":30},"Чичин Юрий",1979,"Chichin Yurij","Чичин Юрий / Chichin Yurij / 1979","М",17,46.666666666666664,131.99]
["Жук-трейл #7 Раубичи","Трейл 5","Жук-трейл #7 Раубичи Трейл 5",{"$f":"VLOOKUP(C910,Гонки!$E$1:$N$19,10,FALSE)","v":8},"М",{"$f":"IF(E910=\"Ж\",VLOOKUP(C910,Гонки!$E$2:$P$19,11,FALSE),VLOOKUP(C910,Гонки!$E$2:$P$19,12,FALSE))","v":30},"Щербо Виктор",1961,"Scherbo Viktor","Щербо Виктор / Scherbo Viktor / 1961","М",18,43.333333333333336,122.57]
["Жук-трейл #7 Раубичи","Трейл 5","Жук-трейл #7 Раубичи Трейл 5",{"$f":"VLOOKUP(C911,Гонки!$E$1:$N$19,10,FALSE)","v":8},"М",{"$f":"IF(E911=\"Ж\",VLOOKUP(C911,Гонки!$E$2:$P$19,11,FALSE),VLOOKUP(C911,Гонки!$E$2:$P$19,12,FALSE))","v":30},"Яковлев Евгений",1988,"Yakovlev Evgenij","Яковлев Евгений / Yakovlev Evgenij / 1988","М",19,40,113.14]
["Жук-трейл #7 Раубичи","Трейл 5","Жук-трейл #7 Раубичи Трейл 5",{"$f":"VLOOKUP(C912,Гонки!$E$1:$N$19,10,FALSE)","v":8},"М",{"$f":"IF(E912=\"Ж\",VLOOKUP(C912,Гонки!$E$2:$P$19,11,FALSE),VLOOKUP(C912,Гонки!$E$2:$P$19,12,FALSE))","v":30},"Данілаў Віктар",1987,"Danіlau Vіktar","Данілаў Віктар / Danіlau Vіktar / 1987","М",20,36.666666666666671,103.71]
["Жук-трейл #7 Раубичи","Трейл 5","Жук-трейл #7 Раубичи Трейл 5",{"$f":"VLOOKUP(C913,Гонки!$E$1:$N$19,10,FALSE)","v":8},"М",{"$f":"IF(E913=\"Ж\",VLOOKUP(C913,Гонки!$E$2:$P$19,11,FALSE),VLOOKUP(C913,Гонки!$E$2:$P$19,12,FALSE))","v":30},"Галец Константин",1988,"Galets Konstantin","Галец Константин / Galets Konstantin / 1988","М",21,33.333333333333343,94.28]
["Жук-трейл #7 Раубичи","Трейл 5","Жук-трейл #7 Раубичи Трейл 5",{"$f":"VLOOKUP(C914,Гонки!$E$1:$N$19,10,FALSE)","v":8},"М",{"$f":"IF(E914=\"Ж\",VLOOKUP(C914,Гонки!$E$2:$P$19,11,FALSE),VLOOKUP(C914,Гонки!$E$2:$P$19,12,FALSE))","v":30},"Флерчук Евгений",1992,"Flerchuk Evgenij","Флерчук Евгений / Flerchuk Evgenij / 1992","М",22,30,84.85]
["Жук-трейл #7 Раубичи","Трейл 5","Жук-трейл #7 Раубичи Трейл 5",{"$f":"VLOOKUP(C915,Гонки!$E$1:$N$19,10,FALSE)","v":8},"М",{"$f":"IF(E915=\"Ж\",VLOOKUP(C915,Гонки!$E$2:$P$19,11,FALSE),VLOOKUP(C915,Гонки!$E$2:$P$19,12,FALSE))","v":30},"Клюшин Олег",1972,"Klyushin Oleg","Клюшин Олег / Klyushin Oleg / 1972","М",23,26.666666666666671,75.42]
["Жук-трейл #7 Раубичи","Трейл 5","Жук-трейл #7 Раубичи Трейл 5",{"$f":"VLOOKUP(C916,Гонки!$E$1:$N$19,10,FALSE)","v":8},"М",{"$f":"IF(E916=\"Ж\",VLOOKUP(C916,Гонки!$E$2:$P$19,11,FALSE),VLOOKUP(C916,Гонки!$E$2:$P$19,12,FALSE))","v":30},"Соколов Артем",1986,"Sokolov Artem","Соколов Артем / Sokolov Artem / 1986",{"$f":"E916","v":"М"},24,23.333333333333329,66]
[{"$f":"$A$852","v":"Жук-трейл #7 Раубичи"},{"$f":"$B$852","v":"Трейл 5"},"Жук-трейл #7 Раубичи Трейл 5",{"$f":"VLOOKUP(C917,Гонки!$E$1:$N$19,10,FALSE)","v":8},"М",{"$f":"IF(E917=\"Ж\",VLOOKUP(C917,Гонки!$E$2:$P$19,11,FALSE),VLOOKUP(C917,Гонки!$E$2:$P$19,12,FALSE))","v":30},"Косач Антон",1983,"Kosach Anton","Косач Антон / Kosach Anton / 1983","М",25,20,56.57]
["Жук-трейл #7 Раубичи","Трейл 5","Жук-трейл #7 Раубичи Трейл 5",{"$f":"VLOOKUP(C918,Гонки!$E$1:$N$19,10,FALSE)","v":8},"М",{"$f":"IF(E918=\"Ж\",VLOOKUP(C918,Гонки!$E$2:$P$19,11,FALSE),VLOOKUP(C918,Гонки!$E$2:$P$19,12,FALSE))","v":30},"Жукович Артем",1988,"Zhukovich Artem","Жукович Артем / Zhukovich Artem / 1988","М",26,16.666666666666657,47.14]
["Жук-трейл #7 Раубичи","Трейл 5","Жук-трейл #7 Раубичи Трейл 5",{"$f":"VLOOKUP(C919,Гонки!$E$1:$N$19,10,FALSE)","v":8},"М",{"$f":"IF(E919=\"Ж\",VLOOKUP(C919,Гонки!$E$2:$P$19,11,FALSE),VLOOKUP(C919,Гонки!$E$2:$P$19,12,FALSE))","v":30},"Лазаренок Глеб",1982,"Lazarenok Gleb","Лазаренок Глеб / Lazarenok Gleb / 1982","М",27,13.333333333333329,37.71]
["Жук-трейл #7 Раубичи","Трейл 5","Жук-трейл #7 Раубичи Трейл 5",{"$f":"VLOOKUP(C920,Гонки!$E$1:$N$19,10,FALSE)","v":8},"М",{"$f":"IF(E920=\"Ж\",VLOOKUP(C920,Гонки!$E$2:$P$19,11,FALSE),VLOOKUP(C920,Гонки!$E$2:$P$19,12,FALSE))","v":30},"Постников Михаил",1984,"Postnikov Mihail","Постников Михаил / Postnikov Mihail / 1984","М",28,10,28.28]
["Жук-трейл #7 Раубичи","Трейл 5","Жук-трейл #7 Раубичи Трейл 5",{"$f":"VLOOKUP(C921,Гонки!$E$1:$N$19,10,FALSE)","v":8},"М",{"$f":"IF(E921=\"Ж\",VLOOKUP(C921,Гонки!$E$2:$P$19,11,FALSE),VLOOKUP(C921,Гонки!$E$2:$P$19,12,FALSE))","v":30},"Адаменко Виталий",1985,"Adamenko Vitalij","Адаменко Виталий / Adamenko Vitalij / 1985","М",29,6.6666666666666714,18.86]
["Жук-трейл #7 Раубичи","Трейл 5","Жук-трейл #7 Раубичи Трейл 5",{"$f":"VLOOKUP(C922,Гонки!$E$1:$N$19,10,FALSE)","v":8},"М",{"$f":"IF(E922=\"Ж\",VLOOKUP(C922,Гонки!$E$2:$P$19,11,FALSE),VLOOKUP(C922,Гонки!$E$2:$P$19,12,FALSE))","v":30},"Сысков Никита",1985,"Syskov Nikita","Сысков Никита / Syskov Nikita / 1985","М",30,3.3333333333333286,9.43]
["Жук-трейл #7 Раубичи",{"$f":"Гонки!D18","v":"Трейл 10"},"Жук-трейл #7 Раубичи Трейл 10",{"$f":"VLOOKUP(C923,Гонки!$E$1:$N$19,10,FALSE)","v":16},"Ж",{"$f":"IF(E923=\"Ж\",VLOOKUP(C923,Гонки!$E$2:$P$19,11,FALSE),VLOOKUP(C923,Гонки!$E$2:$P$19,12,FALSE))","v":19},"Пехтерева Татьяна",1987,"Pehtereva Tatyana","Пехтерева Татьяна / Pehtereva Tatyana / 1987","Ж",1,100,400]
["Жук-трейл #7 Раубичи",{"$f":"$B$923","v":"Трейл 10"},"Жук-трейл #7 Раубичи Трейл 10",{"$f":"VLOOKUP(C924,Гонки!$E$1:$N$19,10,FALSE)","v":16},"Ж",{"$f":"IF(E924=\"Ж\",VLOOKUP(C924,Гонки!$E$2:$P$19,11,FALSE),VLOOKUP(C924,Гонки!$E$2:$P$19,12,FALSE))","v":19},"Крюкова Наталья",1987,"Kryukova Natalya","Крюкова Наталья / Kryukova Natalya / 1987","Ж",2,94.736842105263165,378.95]
["Жук-трейл #7 Раубичи","Трейл 10","Жук-трейл #7 Раубичи Трейл 10",{"$f":"VLOOKUP(C925,Гонки!$E$1:$N$19,10,FALSE)","v":16},"Ж",{"$f":"IF(E925=\"Ж\",VLOOKUP(C925,Гонки!$E$2:$P$19,11,FALSE),VLOOKUP(C925,Гонки!$E$2:$P$19,12,FALSE))","v":19},"Шахметова Наталья",1992,"Shahmetova Natalya","Шахметова Наталья / Shahmetova Natalya / 1992","Ж",3,89.473684210526315,357.89]
["Жук-трейл #7 Раубичи","Трейл 10","Жук-трейл #7 Раубичи Трейл 10",{"$f":"VLOOKUP(C926,Гонки!$E$1:$N$19,10,FALSE)","v":16},"Ж",{"$f":"IF(E926=\"Ж\",VLOOKUP(C926,Гонки!$E$2:$P$19,11,FALSE),VLOOKUP(C926,Гонки!$E$2:$P$19,12,FALSE))","v":19},"Стойчикова Ксения",1997,"Stojchikova Kseniya","Стойчикова Ксения / Stojchikova Kseniya / 1997","Ж",4,84.21052631578948,336.84]
["Жук-трейл #7 Раубичи","Трейл 10","Жук-трейл #7 Раубичи Трейл 10",{"$f":"VLOOKUP(C927,Гонки!$E$1:$N$19,10,FALSE)","v":16},"Ж",{"$f":"IF(E927=\"Ж\",VLOOKUP(C927,Гонки!$E$2:$P$19,11,FALSE),VLOOKUP(C927,Гонки!$E$2:$P$19,12,FALSE))","v":19},"Яцкевич Ольга",1988,"Yatskevich Olga","Яцкевич Ольга / Yatskevich Olga / 1988","Ж",5,78.94736842105263,315.79000000000002]
["Жук-трейл #7 Раубичи","Трейл 10","Жук-трейл #7 Раубичи Трейл 10",{"$f":"VLOOKUP(C928,Гонки!$E$1:$N$19,10,FALSE)","v":16},"Ж",{"$f":"IF(E928=\"Ж\",VLOOKUP(C928,Гонки!$E$2:$P$19,11,FALSE),VLOOKUP(C928,Гонки!$E$2:$P$19,12,FALSE))","v":19},"Едомская Вольга",1987,"Edomskaya Volga","Едомская Вольга / Edomskaya Volga / 1987","Ж",6,73.684210526315795,294.74]
["Жук-трейл #7 Раубичи","Трейл 10","Жук-трейл #7 Раубичи Трейл 10",{"$f":"VLOOKUP(C929,Гонки!$E$1:$N$19,10,FALSE)","v":16},"Ж",{"$f":"IF(E929=\"Ж\",VLOOKUP(C929,Гонки!$E$2:$P$19,11,FALSE),VLOOKUP(C929,Гонки!$E$2:$P$19,12,FALSE))","v":19},"Морозик Юлия",1993,"Morozik Yuliya","Морозик Юлия / Morozik Yuliya / 1993","Ж",7,68.421052631578945,273.68]
["Жук-трейл #7 Раубичи","Трейл 10","Жук-трейл #7 Раубичи Трейл 10",{"$f":"VLOOKUP(C930,Гонки!$E$1:$N$19,10,FALSE)","v":16},"Ж",{"$f":"IF(E930=\"Ж\",VLOOKUP(C930,Гонки!$E$2:$P$19,11,FALSE),VLOOKUP(C930,Гонки!$E$2:$P$19,12,FALSE))","v":19},"Завалова Анастасия",1994,"Zavalova Anastasiya","Завалова Анастасия / Zavalova Anastasiya / 1994","Ж",8,63.15789473684211,252.63]
["Жук-трейл #7 Раубичи","Трейл 10","Жук-трейл #7 Раубичи Трейл 10",{"$f":"VLOOKUP(C931,Гонки!$E$1:$N$19,10,FALSE)","v":16},"Ж",{"$f":"IF(E931=\"Ж\",VLOOKUP(C931,Гонки!$E$2:$P$19,11,FALSE),VLOOKUP(C931,Гонки!$E$2:$P$19,12,FALSE))","v":19},"Егорова Дарина",1994,"Egorova Darina","Егорова Дарина / Egorova Darina / 1994","Ж",9,57.894736842105267,231.58]
["Жук-трейл #7 Раубичи","Трейл 10","Жук-трейл #7 Раубичи Трейл 10",{"$f":"VLOOKUP(C932,Гонки!$E$1:$N$19,10,FALSE)","v":16},"Ж",{"$f":"IF(E932=\"Ж\",VLOOKUP(C932,Гонки!$E$2:$P$19,11,FALSE),VLOOKUP(C932,Гонки!$E$2:$P$19,12,FALSE))","v":19},"Кукобникова Вита",1993,"Kukobnikova Vita","Кукобникова Вита / Kukobnikova Vita / 1993","Ж",10,52.631578947368425,210.53]
["Жук-трейл #7 Раубичи","Трейл 10","Жук-трейл #7 Раубичи Трейл 10",{"$f":"VLOOKUP(C933,Гонки!$E$1:$N$19,10,FALSE)","v":16},"Ж",{"$f":"IF(E933=\"Ж\",VLOOKUP(C933,Гонки!$E$2:$P$19,11,FALSE),VLOOKUP(C933,Гонки!$E$2:$P$19,12,FALSE))","v":19},"Цветкова Мария",1994,"Tsvetkova Mariya","Цветкова Мария / Tsvetkova Mariya / 1994","Ж",11,47.368421052631582,189.47]
["Жук-трейл #7 Раубичи","Трейл 10","Жук-трейл #7 Раубичи Трейл 10",{"$f":"VLOOKUP(C934,Гонки!$E$1:$N$19,10,FALSE)","v":16},"Ж",{"$f":"IF(E934=\"Ж\",VLOOKUP(C934,Гонки!$E$2:$P$19,11,FALSE),VLOOKUP(C934,Гонки!$E$2:$P$19,12,FALSE))","v":19},"Горевцова Евгения",1989,"Gorevtsova Evgeniya","Горевцова Евгения / Gorevtsova Evgeniya / 1989","Ж",12,42.105263157894733,168.42]
["Жук-трейл #7 Раубичи","Трейл 10","Жук-трейл #7 Раубичи Трейл 10",{"$f":"VLOOKUP(C935,Гонки!$E$1:$N$19,10,FALSE)","v":16},"Ж",{"$f":"IF(E935=\"Ж\",VLOOKUP(C935,Гонки!$E$2:$P$19,11,FALSE),VLOOKUP(C935,Гонки!$E$2:$P$19,12,FALSE))","v":19},"Струщенко Светлана",1986,"Struschenko Svetlana","Струщенко Светлана / Struschenko Svetlana / 1986","Ж",13,36.842105263157897,147.37]
["Жук-трейл #7 Раубичи","Трейл 10","Жук-трейл #7 Раубичи Трейл 10",{"$f":"VLOOKUP(C936,Гонки!$E$1:$N$19,10,FALSE)","v":16},"Ж",{"$f":"IF(E936=\"Ж\",VLOOKUP(C936,Гонки!$E$2:$P$19,11,FALSE),VLOOKUP(C936,Гонки!$E$2:$P$19,12,FALSE))","v":19},"Войтович Татьяна",1986,"Vojtovich Tatyana","Войтович Татьяна / Vojtovich Tatyana / 1986","Ж",14,31.578947368421055,126.32]
["Жук-трейл #7 Раубичи","Трейл 10","Жук-трейл #7 Раубичи Трейл 10",{"$f":"VLOOKUP(C937,Гонки!$E$1:$N$19,10,FALSE)","v":16},"Ж",{"$f":"IF(E937=\"Ж\",VLOOKUP(C937,Гонки!$E$2:$P$19,11,FALSE),VLOOKUP(C937,Гонки!$E$2:$P$19,12,FALSE))","v":19},"Хмелевская Ольга",1988,"Hmelevskaya Olga","Хмелевская Ольга / Hmelevskaya Olga / 1988","Ж",15,26.31578947368422,105.26]
["Жук-трейл #7 Раубичи","Трейл 10","Жук-трейл #7 Раубичи Трейл 10",{"$f":"VLOOKUP(C938,Гонки!$E$1:$N$19,10,FALSE)","v":16},"Ж",{"$f":"IF(E938=\"Ж\",VLOOKUP(C938,Гонки!$E$2:$P$19,11,FALSE),VLOOKUP(C938,Гонки!$E$2:$P$19,12,FALSE))","v":19},"Шавель Татьяна",1986,"Shavel Tatyana","Шавель Татьяна / Shavel Tatyana / 1986","Ж",16,21.05263157894737,84.21]
["Жук-трейл #7 Раубичи","Трейл 10","Жук-трейл #7 Раубичи Трейл 10",{"$f":"VLOOKUP(C939,Гонки!$E$1:$N$19,10,FALSE)","v":16},"Ж",{"$f":"IF(E939=\"Ж\",VLOOKUP(C939,Гонки!$E$2:$P$19,11,FALSE),VLOOKUP(C939,Гонки!$E$2:$P$19,12,FALSE))","v":19},"Борисевич Анастасия",1985,"Borisevich Anastasiya","Борисевич Анастасия / Borisevich Anastasiya / 1985","Ж",17,15.789473684210535,63.16]
["Жук-трейл #7 Раубичи","Трейл 10","Жук-трейл #7 Раубичи Трейл 10",{"$f":"VLOOKUP(C940,Гонки!$E$1:$N$19,10,FALSE)","v":16},"М",{"$f":"IF(E940=\"Ж\",VLOOKUP(C940,Гонки!$E$2:$P$19,11,FALSE),VLOOKUP(C940,Гонки!$E$2:$P$19,12,FALSE))","v":44},"Курилович Дмитрий",1998,"Kurilovich Dmitrij","Курилович Дмитрий / Kurilovich Dmitrij / 1998","М",1,100,400]
["Жук-трейл #7 Раубичи","Трейл 10","Жук-трейл #7 Раубичи Трейл 10",{"$f":"VLOOKUP(C941,Гонки!$E$1:$N$19,10,FALSE)","v":16},"М",{"$f":"IF(E941=\"Ж\",VLOOKUP(C941,Гонки!$E$2:$P$19,11,FALSE),VLOOKUP(C941,Гонки!$E$2:$P$19,12,FALSE))","v":44},"Медведев Константин",1990,"Medvedev Konstantin","Медведев Константин / Medvedev Konstantin / 1990","М",2,97.727272727272734,390.91]
["Жук-трейл #7 Раубичи","Трейл 10","Жук-трейл #7 Раубичи Трейл 10",{"$f":"VLOOKUP(C942,Гонки!$E$1:$N$19,10,FALSE)","v":16},"М",{"$f":"IF(E942=\"Ж\",VLOOKUP(C942,Гонки!$E$2:$P$19,11,FALSE),VLOOKUP(C942,Гонки!$E$2:$P$19,12,FALSE))","v":44},"Журавлёв Андрей",1978,"Zhuravljov Andrej","Журавлёв Андрей / Zhuravljov Andrej / 1978","М",3,95.454545454545453,381.82]
["Жук-трейл #7 Раубичи","Трейл 10","Жук-трейл #7 Раубичи Трейл 10",{"$f":"VLOOKUP(C943,Гонки!$E$1:$N$19,10,FALSE)","v":16},"М",{"$f":"IF(E943=\"Ж\",VLOOKUP(C943,Гонки!$E$2:$P$19,11,FALSE),VLOOKUP(C943,Гонки!$E$2:$P$19,12,FALSE))","v":44},"Совпель Максим",1993,"Sovpel Maksim","Совпель Максим / Sovpel Maksim / 1993","М",4,93.181818181818187,372.73]
["Жук-трейл #7 Раубичи","Трейл 10","Жук-трейл #7 Раубичи Трейл 10",{"$f":"VLOOKUP(C944,Гонки!$E$1:$N$19,10,FALSE)","v":16},"М",{"$f":"IF(E944=\"Ж\",VLOOKUP(C944,Гонки!$E$2:$P$19,11,FALSE),VLOOKUP(C944,Гонки!$E$2:$P$19,12,FALSE))","v":44},"Мальков Валентин",1988,"Malkov Valentin","Мальков Валентин / Malkov Valentin / 1988","М",5,90.909090909090907,363.64]
["Жук-трейл #7 Раубичи","Трейл 10","Жук-трейл #7 Раубичи Трейл 10",{"$f":"VLOOKUP(C945,Гонки!$E$1:$N$19,10,FALSE)","v":16},"М",{"$f":"IF(E945=\"Ж\",VLOOKUP(C945,Гонки!$E$2:$P$19,11,FALSE),VLOOKUP(C945,Гонки!$E$2:$P$19,12,FALSE))","v":44},"Синица Кирилл",1981,"Sinitsa Kirill","Синица Кирилл / Sinitsa Kirill / 1981","М",6,88.63636363636364,354.55]
["Жук-трейл #7 Раубичи","Трейл 10","Жук-трейл #7 Раубичи Трейл 10",{"$f":"VLOOKUP(C946,Гонки!$E$1:$N$19,10,FALSE)","v":16},"М",{"$f":"IF(E946=\"Ж\",VLOOKUP(C946,Гонки!$E$2:$P$19,11,FALSE),VLOOKUP(C946,Гонки!$E$2:$P$19,12,FALSE))","v":44},"Солодкин Сергей",1984,"Solodkin Sergej","Солодкин Сергей / Solodkin Sergej / 1984","М",7,86.36363636363636,345.45]
["Жук-трейл #7 Раубичи","Трейл 10","Жук-трейл #7 Раубичи Трейл 10",{"$f":"VLOOKUP(C947,Гонки!$E$1:$N$19,10,FALSE)","v":16},"М",{"$f":"IF(E947=\"Ж\",VLOOKUP(C947,Гонки!$E$2:$P$19,11,FALSE),VLOOKUP(C947,Гонки!$E$2:$P$19,12,FALSE))","v":44},"Свечников Антон",1991,"Svechnikov Anton","Свечников Антон / Svechnikov Anton / 1991","М",8,84.090909090909093,336.36]
["Жук-трейл #7 Раубичи","Трейл 10","Жук-трейл #7 Раубичи Трейл 10",{"$f":"VLOOKUP(C948,Гонки!$E$1:$N$19,10,FALSE)","v":16},"М",{"$f":"IF(E948=\"Ж\",VLOOKUP(C948,Гонки!$E$2:$P$19,11,FALSE),VLOOKUP(C948,Гонки!$E$2:$P$19,12,FALSE))","v":44},"Новиков Денис",1989,"Novikov Denis","Новиков Денис / Novikov Denis / 1989","М",9,81.818181818181813,327.27]
[{"$f":"$A$852","v":"Жук-трейл #7 Раубичи"},"Трейл 10","Жук-трейл #7 Раубичи Трейл 10",{"$f":"VLOOKUP(C949,Гонки!$E$1:$N$19,10,FALSE)","v":16},"М",{"$f":"IF(E949=\"Ж\",VLOOKUP(C949,Гонки!$E$2:$P$19,11,FALSE),VLOOKUP(C949,Гонки!$E$2:$P$19,12,FALSE))","v":44},"Лойко Сергей",1985,"Lojko Sergej","Лойко Сергей / Lojko Sergej / 1985","М",10,79.545454545454547,318.18]
["Жук-трейл #7 Раубичи","Трейл 10","Жук-трейл #7 Раубичи Трейл 10",{"$f":"VLOOKUP(C950,Гонки!$E$1:$N$19,10,FALSE)","v":16},"М",{"$f":"IF(E950=\"Ж\",VLOOKUP(C950,Гонки!$E$2:$P$19,11,FALSE),VLOOKUP(C950,Гонки!$E$2:$P$19,12,FALSE))","v":44},"Бузо Александр",1982,"Buzo Aleksandr","Бузо Александр / Buzo Aleksandr / 1982","М",11,77.27272727272728,309.08999999999997]
["Жук-трейл #7 Раубичи","Трейл 10","Жук-трейл #7 Раубичи Трейл 10",{"$f":"VLOOKUP(C951,Гонки!$E$1:$N$19,10,FALSE)","v":16},"М",{"$f":"IF(E951=\"Ж\",VLOOKUP(C951,Гонки!$E$2:$P$19,11,FALSE),VLOOKUP(C951,Гонки!$E$2:$P$19,12,FALSE))","v":44},"Барановский Александр",1984,"Baranovskij Aleksandr","Барановский Александр / Baranovskij Aleksandr / 1984","М",12,75,300]
["Жук-трейл #7 Раубичи","Трейл 10","Жук-трейл #7 Раубичи Трейл 10",{"$f":"VLOOKUP(C952,Гонки!$E$1:$N$19,10,FALSE)","v":16},"М",{"$f":"IF(E952=\"Ж\",VLOOKUP(C952,Гонки!$E$2:$P$19,11,FALSE),VLOOKUP(C952,Гонки!$E$2:$P$19,12,FALSE))","v":44},"Дрофа Виталий",1970,"Drofa Vitalij","Дрофа Виталий / Drofa Vitalij / 1970","М",13,72.727272727272734,290.91000000000003]
["Жук-трейл #7 Раубичи","Трейл 10","Жук-трейл #7 Раубичи Трейл 10",{"$f":"VLOOKUP(C953,Гонки!$E$1:$N$19,10,FALSE)","v":16},"М",{"$f":"IF(E953=\"Ж\",VLOOKUP(C953,Гонки!$E$2:$P$19,11,FALSE),VLOOKUP(C953,Гонки!$E$2:$P$19,12,FALSE))","v":44},"Ключеня Виталий",1982,"Klyuchenya Vitalij","Ключеня Виталий / Klyuchenya Vitalij / 1982","М",14,70.454545454545453,281.82]
["Жук-трейл #7 Раубичи","Трейл 10","Жук-трейл #7 Раубичи Трейл 10",{"$f":"VLOOKUP(C954,Гонки!$E$1:$N$19,10,FALSE)","v":16},"М",{"$f":"IF(E954=\"Ж\",VLOOKUP(C954,Гонки!$E$2:$P$19,11,FALSE),VLOOKUP(C954,Гонки!$E$2:$P$19,12,FALSE))","v":44},"Балашов Никита",1983,"Balashov Nikita","Балашов Никита / Balashov Nikita / 1983","М",15,68.181818181818187,272.73]
["Жук-трейл #7 Раубичи","Трейл 10","Жук-трейл #7 Раубичи Трейл 10",{"$f":"VLOOKUP(C955,Гонки!$E$1:$N$19,10,FALSE)","v":16},"М",{"$f":"IF(E955=\"Ж\",VLOOKUP(C955,Гонки!$E$2:$P$19,11,FALSE),VLOOKUP(C955,Гонки!$E$2:$P$19,12,FALSE))","v":44},"Веремич Юрий",1979,"Veremich Yurij","Веремич Юрий / Veremich Yurij / 1979","М",16,65.909090909090907,263.64]
["Жук-трейл #7 Раубичи",{"$f":"$B$923","v":"Трейл 10"},"Жук-трейл #7 Раубичи Трейл 10",{"$f":"VLOOKUP(C956,Гонки!$E$1:$N$19,10,FALSE)","v":16},"М",{"$f":"IF(E956=\"Ж\",VLOOKUP(C956,Гонки!$E$2:$P$19,11,FALSE),VLOOKUP(C956,Гонки!$E$2:$P$19,12,FALSE))","v":44},"Яроцкий Евгений",1987,"Yarotskij Evgenij","Яроцкий Евгений / Yarotskij Evgenij / 1987","М",17,63.636363636363633,254.55]
["Жук-трейл #7 Раубичи","Трейл 10","Жук-трейл #7 Раубичи Трейл 10",{"$f":"VLOOKUP(C957,Гонки!$E$1:$N$19,10,FALSE)","v":16},"М",{"$f":"IF(E957=\"Ж\",VLOOKUP(C957,Гонки!$E$2:$P$19,11,FALSE),VLOOKUP(C957,Гонки!$E$2:$P$19,12,FALSE))","v":44},"Иванцов Вячеслав",1986,"Ivantsov Vyacheslav","Иванцов Вячеслав / Ivantsov Vyacheslav / 1986","М",18,61.363636363636367,245.45]
["Жук-трейл #7 Раубичи","Трейл 10","Жук-трейл #7 Раубичи Трейл 10",{"$f":"VLOOKUP(C958,Гонки!$E$1:$N$19,10,FALSE)","v":16},"М",{"$f":"IF(E958=\"Ж\",VLOOKUP(C958,Гонки!$E$2:$P$19,11,FALSE),VLOOKUP(C958,Гонки!$E$2:$P$19,12,FALSE))","v":44},"Карпович Алексей",1991,"Karpovich Aleksej","Карпович Алексей / Karpovich Aleksej / 1991","М",19,59.090909090909086,236.36]
["Жук-трейл #7 Раубичи","Трейл 10","Жук-трейл #7 Раубичи Трейл 10",{"$f":"VLOOKUP(C959,Гонки!$E$1:$N$19,10,FALSE)","v":16},"М",{"$f":"IF(E959=\"Ж\",VLOOKUP(C959,Гонки!$E$2:$P$19,11,FALSE),VLOOKUP(C959,Гонки!$E$2:$P$19,12,FALSE))","v":44},"Сверчков Сергей",1988,"Sverchkov Sergej","Сверчков Сергей / Sverchkov Sergej / 1988","М",20,56.81818181818182,227.27]
["Жук-трейл #7 Раубичи","Трейл 10","Жук-трейл #7 Раубичи Трейл 10",{"$f":"VLOOKUP(C960,Гонки!$E$1:$N$19,10,FALSE)","v":16},"М",{"$f":"IF(E960=\"Ж\",VLOOKUP(C960,Гонки!$E$2:$P$19,11,FALSE),VLOOKUP(C960,Гонки!$E$2:$P$19,12,FALSE))","v":44},"Мельник Сергей",1975,"Melnik Sergej","Мельник Сергей / Melnik Sergej / 1975","М",21,54.545454545454547,218.18]
["Жук-трейл #7 Раубичи","Трейл 10","Жук-трейл #7 Раубичи Трейл 10",{"$f":"VLOOKUP(C961,Гонки!$E$1:$N$19,10,FALSE)","v":16},"М",{"$f":"IF(E961=\"Ж\",VLOOKUP(C961,Гонки!$E$2:$P$19,11,FALSE),VLOOKUP(C961,Гонки!$E$2:$P$19,12,FALSE))","v":44},"Никифоров Дмитрий",1989,"Nikiforov Dmitrij","Никифоров Дмитрий / Nikiforov Dmitrij / 1989","М",22,52.272727272727273,209.09]
["Жук-трейл #7 Раубичи","Трейл 10",{"$f":"CONCATENATE(A962,\" \",B962)","v":"Жук-трейл #7 Раубичи Трейл 10"},{"$f":"VLOOKUP(C962,Гонки!$E$1:$N$19,10,FALSE)","v":16},"М",{"$f":"IF(E962=\"Ж\",VLOOKUP(C962,Гонки!$E$2:$P$19,11,FALSE),VLOOKUP(C962,Гонки!$E$2:$P$19,12,FALSE))","v":44},"Карпович Владимир",1983,{"$f":"Translit(G962)","v":"Karpovich Vladimir"},{"$f":"CONCATENATE(G962,\" / \",I962,\" / \",H962)","v":"Карпович Владимир / Karpovich Vladimir / 1983"},"М",23,{"$f":"100-((L962-1)/F962)*100","v":50},{"$f":"ROUND(SQRT(D962)*M962,2)","v":200}]
["Жук-трейл #7 Раубичи","Трейл 10","Жук-трейл #7 Раубичи Трейл 10",{"$f":"VLOOKUP(C963,Гонки!$E$1:$N$19,10,FALSE)","v":16},"М",{"$f":"IF(E963=\"Ж\",VLOOKUP(C963,Гонки!$E$2:$P$19,11,FALSE),VLOOKUP(C963,Гонки!$E$2:$P$19,12,FALSE))","v":44},"Зданович Андрей",1973,"Zdanovich Andrej","Зданович Андрей / Zdanovich Andrej / 1973","М",24,47.727272727272727,190.91]
["Жук-трейл #7 Раубичи","Трейл 10","Жук-трейл #7 Раубичи Трейл 10",{"$f":"VLOOKUP(C964,Гонки!$E$1:$N$19,10,FALSE)","v":16},"М",{"$f":"IF(E964=\"Ж\",VLOOKUP(C964,Гонки!$E$2:$P$19,11,FALSE),VLOOKUP(C964,Гонки!$E$2:$P$19,12,FALSE))","v":44},"Орлов Алексей",1981,"Orlov Aleksej","Орлов Алексей / Orlov Aleksej / 1981","М",25,45.45454545454546,181.82]
["Жук-трейл #7 Раубичи","Трейл 10","Жук-трейл #7 Раубичи Трейл 10",{"$f":"VLOOKUP(C965,Гонки!$E$1:$N$19,10,FALSE)","v":16},"М",{"$f":"IF(E965=\"Ж\",VLOOKUP(C965,Гонки!$E$2:$P$19,11,FALSE),VLOOKUP(C965,Гонки!$E$2:$P$19,12,FALSE))","v":44},"Варава Андрей",1994,"Varava Andrej","Варава Андрей / Varava Andrej / 1994","М",26,43.18181818181818,172.73]
["Жук-трейл #7 Раубичи","Трейл 10","Жук-трейл #7 Раубичи Трейл 10",{"$f":"VLOOKUP(C966,Гонки!$E$1:$N$19,10,FALSE)","v":16},"М",{"$f":"IF(E966=\"Ж\",VLOOKUP(C966,Гонки!$E$2:$P$19,11,FALSE),VLOOKUP(C966,Гонки!$E$2:$P$19,12,FALSE))","v":44},"Казарин Дмитрий",1994,"Kazarin Dmitrij","Казарин Дмитрий / Kazarin Dmitrij / 1994","М",26,43.18181818181818,172.73]
["Жук-трейл #7 Раубичи","Трейл 10","Жук-трейл #7 Раубичи Трейл 10",{"$f":"VLOOKUP(C967,Гонки!$E$1:$N$19,10,FALSE)","v":16},"М",{"$f":"IF(E967=\"Ж\",VLOOKUP(C967,Гонки!$E$2:$P$19,11,FALSE),VLOOKUP(C967,Гонки!$E$2:$P$19,12,FALSE))","v":44},"Лисовский Павел",1986,"Lisovskij Pavel","Лисовский Павел / Lisovskij Pavel / 1986","М",28,38.636363636363633,154.55000000000001]
["Жук-трейл #7 Раубичи","Трейл 10","Жук-трейл #7 Раубичи Трейл 10",{"$f":"VLOOKUP(C968,Гонки!$E$1:$N$19,10,FALSE)","v":16},"М",{"$f":"IF(E968=\"Ж\",VLOOKUP(C968,Гонки!$E$2:$P$19,11,FALSE),VLOOKUP(C968,Гонки!$E$2:$P$19,12,FALSE))","v":44},"Рак Дмитрий",1992,"Rak Dmitrij","Рак Дмитрий / Rak Dmitrij / 1992","М",29,36.363636363636367,145.44999999999999]
["Жук-трейл #7 Раубичи","Трейл 10","Жук-трейл #7 Раубичи Трейл 10",{"$f":"VLOOKUP(C969,Гонки!$E$1:$N$19,10,FALSE)","v":16},"М",{"$f":"IF(E969=\"Ж\",VLOOKUP(C969,Гонки!$E$2:$P$19,11,FALSE),VLOOKUP(C969,Гонки!$E$2:$P$19,12,FALSE))","v":44},"Чудаков Владислав",1977,"Chudakov Vladislav","Чудаков Владислав / Chudakov Vladislav / 1977","М",30,34.090909090909093,136.36000000000001]
["Жук-трейл #7 Раубичи","Трейл 10","Жук-трейл #7 Раубичи Трейл 10",{"$f":"VLOOKUP(C970,Гонки!$E$1:$N$19,10,FALSE)","v":16},"М",{"$f":"IF(E970=\"Ж\",VLOOKUP(C970,Гонки!$E$2:$P$19,11,FALSE),VLOOKUP(C970,Гонки!$E$2:$P$19,12,FALSE))","v":44},"Подосетников Андрей",1976,"Podosetnikov Andrej","Подосетников Андрей / Podosetnikov Andrej / 1976","М",31,31.818181818181827,127.27]
["Жук-трейл #7 Раубичи","Трейл 10","Жук-трейл #7 Раубичи Трейл 10",{"$f":"VLOOKUP(C971,Гонки!$E$1:$N$19,10,FALSE)","v":16},"М",{"$f":"IF(E971=\"Ж\",VLOOKUP(C971,Гонки!$E$2:$P$19,11,FALSE),VLOOKUP(C971,Гонки!$E$2:$P$19,12,FALSE))","v":44},"Кравчук Артём",1992,"Kravchuk Artjom","Кравчук Артём / Kravchuk Artjom / 1992","М",32,29.545454545454547,118.18]
["Жук-трейл #7 Раубичи","Трейл 10","Жук-трейл #7 Раубичи Трейл 10",{"$f":"VLOOKUP(C972,Гонки!$E$1:$N$19,10,FALSE)","v":16},"М",{"$f":"IF(E972=\"Ж\",VLOOKUP(C972,Гонки!$E$2:$P$19,11,FALSE),VLOOKUP(C972,Гонки!$E$2:$P$19,12,FALSE))","v":44},"Крус Виктор",1980,"Krus Viktor","Крус Виктор / Krus Viktor / 1980","М",33,27.272727272727266,109.09]
["Жук-трейл #7 Раубичи","Трейл 10","Жук-трейл #7 Раубичи Трейл 10",{"$f":"VLOOKUP(C973,Гонки!$E$1:$N$19,10,FALSE)","v":16},"М",{"$f":"IF(E973=\"Ж\",VLOOKUP(C973,Гонки!$E$2:$P$19,11,FALSE),VLOOKUP(C973,Гонки!$E$2:$P$19,12,FALSE))","v":44},"Суворов Александр",1983,"Suvorov Aleksandr","Суворов Александр / Suvorov Aleksandr / 1983","М",34,25,100]
["Жук-трейл #7 Раубичи","Трейл 10","Жук-трейл #7 Раубичи Трейл 10",{"$f":"VLOOKUP(C974,Гонки!$E$1:$N$19,10,FALSE)","v":16},"М",{"$f":"IF(E974=\"Ж\",VLOOKUP(C974,Гонки!$E$2:$P$19,11,FALSE),VLOOKUP(C974,Гонки!$E$2:$P$19,12,FALSE))","v":44},"Якубовский Игорь",1984,"Yakubovskij Igor","Якубовский Игорь / Yakubovskij Igor / 1984","М",35,22.727272727272734,90.91]
["Жук-трейл #7 Раубичи","Трейл 10","Жук-трейл #7 Раубичи Трейл 10",{"$f":"VLOOKUP(C975,Гонки!$E$1:$N$19,10,FALSE)","v":16},"М",{"$f":"IF(E975=\"Ж\",VLOOKUP(C975,Гонки!$E$2:$P$19,11,FALSE),VLOOKUP(C975,Гонки!$E$2:$P$19,12,FALSE))","v":44},"Явтушенко Вадим",1981,"Yavtushenko Vadim","Явтушенко Вадим / Yavtushenko Vadim / 1981","М",36,20.454545454545453,81.819999999999993]
["Жук-трейл #7 Раубичи","Трейл 10","Жук-трейл #7 Раубичи Трейл 10",{"$f":"VLOOKUP(C976,Гонки!$E$1:$N$19,10,FALSE)","v":16},"М",{"$f":"IF(E976=\"Ж\",VLOOKUP(C976,Гонки!$E$2:$P$19,11,FALSE),VLOOKUP(C976,Гонки!$E$2:$P$19,12,FALSE))","v":44},"Гандзюк Всеволод",null,"Gandzyuk Vsevolod","Гандзюк Всеволод / Gandzyuk Vsevolod / ","М",37,18.181818181818173,72.73]
["Жук-трейл #7 Раубичи","Трейл 10","Жук-трейл #7 Раубичи Трейл 10",{"$f":"VLOOKUP(C977,Гонки!$E$1:$N$19,10,FALSE)","v":16},"М",{"$f":"IF(E977=\"Ж\",VLOOKUP(C977,Гонки!$E$2:$P$19,11,FALSE),VLOOKUP(C977,Гонки!$E$2:$P$19,12,FALSE))","v":44},"Васильченко Вадим",1987,"Vasilchenko Vadim","Васильченко Вадим / Vasilchenko Vadim / 1987","М",38,15.909090909090907,63.64]
["Жук-трейл #7 Раубичи","Трейл 10","Жук-трейл #7 Раубичи Трейл 10",{"$f":"VLOOKUP(C978,Гонки!$E$1:$N$19,10,FALSE)","v":16},"М",{"$f":"IF(E978=\"Ж\",VLOOKUP(C978,Гонки!$E$2:$P$19,11,FALSE),VLOOKUP(C978,Гонки!$E$2:$P$19,12,FALSE))","v":44},"Ракомсин Юрий",1983,"Rakomsin Yurij","Ракомсин Юрий / Rakomsin Yurij / 1983","М",39,13.63636363636364,54.55]
["Жук-трейл #7 Раубичи","Трейл 10","Жук-трейл #7 Раубичи Трейл 10",{"$f":"VLOOKUP(C979,Гонки!$E$1:$N$19,10,FALSE)","v":16},"М",{"$f":"IF(E979=\"Ж\",VLOOKUP(C979,Гонки!$E$2:$P$19,11,FALSE),VLOOKUP(C979,Гонки!$E$2:$P$19,12,FALSE))","v":44},"Куликовский Ян",1992,"Kulikovskij Yan","Куликовский Ян / Kulikovskij Yan / 1992","М",40,11.36363636363636,45.45]
["Жук-трейл #7 Раубичи","Трейл 10","Жук-трейл #7 Раубичи Трейл 10",{"$f":"VLOOKUP(C980,Гонки!$E$1:$N$19,10,FALSE)","v":16},"М",{"$f":"IF(E980=\"Ж\",VLOOKUP(C980,Гонки!$E$2:$P$19,11,FALSE),VLOOKUP(C980,Гонки!$E$2:$P$19,12,FALSE))","v":44},"Пилецкий Максим",1991,"Piletskij Maksim","Пилецкий Максим / Piletskij Maksim / 1991",{"$f":"E980","v":"М"},41,9.0909090909090935,36.36]
[{"$f":"$A$852","v":"Жук-трейл #7 Раубичи"},"Трейл 10","Жук-трейл #7 Раубичи Трейл 10",{"$f":"VLOOKUP(C981,Гонки!$E$1:$N$19,10,FALSE)","v":16},"М",{"$f":"IF(E981=\"Ж\",VLOOKUP(C981,Гонки!$E$2:$P$19,11,FALSE),VLOOKUP(C981,Гонки!$E$2:$P$19,12,FALSE))","v":44},"Обухов Артём",1985,"Obuhov Artjom","Обухов Артём / Obuhov Artjom / 1985","М",42,6.8181818181818272,27.27]
["Жук-трейл #7 Раубичи","Трейл 10","Жук-трейл #7 Раубичи Трейл 10",{"$f":"VLOOKUP(C982,Гонки!$E$1:$N$19,10,FALSE)","v":16},"М",{"$f":"IF(E982=\"Ж\",VLOOKUP(C982,Гонки!$E$2:$P$19,11,FALSE),VLOOKUP(C982,Гонки!$E$2:$P$19,12,FALSE))","v":44},"Кузьмич Дмитрий",1975,"Kuzmich Dmitrij","Кузьмич Дмитрий / Kuzmich Dmitrij / 1975","М",43,4.5454545454545467,18.18]
["Жук-трейл #7 Раубичи",{"$f":"Гонки!D19","v":"Трейл 21"},"Жук-трейл #7 Раубичи Трейл 21",{"$f":"VLOOKUP(C983,Гонки!$E$1:$N$19,10,FALSE)","v":26},"Ж",{"$f":"IF(E983=\"Ж\",VLOOKUP(C983,Гонки!$E$2:$P$19,11,FALSE),VLOOKUP(C983,Гонки!$E$2:$P$19,12,FALSE))","v":9},"Торубарова Татьяна",1983,"Torubarova Tatyana","Торубарова Татьяна / Torubarova Tatyana / 1983","Ж",1,100,509.9]
["Жук-трейл #7 Раубичи",{"$f":"$B$983","v":"Трейл 21"},"Жук-трейл #7 Раубичи Трейл 21",{"$f":"VLOOKUP(C984,Гонки!$E$1:$N$19,10,FALSE)","v":26},"Ж",{"$f":"IF(E984=\"Ж\",VLOOKUP(C984,Гонки!$E$2:$P$19,11,FALSE),VLOOKUP(C984,Гонки!$E$2:$P$19,12,FALSE))","v":9},"Черкас Александра",1992,"Cherkas Aleksandra","Черкас Александра / Cherkas Aleksandra / 1992","Ж",2,88.888888888888886,453.25]
["Жук-трейл #7 Раубичи","Трейл 21","Жук-трейл #7 Раубичи Трейл 21",{"$f":"VLOOKUP(C985,Гонки!$E$1:$N$19,10,FALSE)","v":26},"Ж",{"$f":"IF(E985=\"Ж\",VLOOKUP(C985,Гонки!$E$2:$P$19,11,FALSE),VLOOKUP(C985,Гонки!$E$2:$P$19,12,FALSE))","v":9},"Трубкина Анастасия",1989,"Trubkina Anastasiya","Трубкина Анастасия / Trubkina Anastasiya / 1989","Ж",3,77.777777777777771,396.59]
["Жук-трейл #7 Раубичи","Трейл 21","Жук-трейл #7 Раубичи Трейл 21",{"$f":"VLOOKUP(C986,Гонки!$E$1:$N$19,10,FALSE)","v":26},"Ж",{"$f":"IF(E986=\"Ж\",VLOOKUP(C986,Гонки!$E$2:$P$19,11,FALSE),VLOOKUP(C986,Гонки!$E$2:$P$19,12,FALSE))","v":9},"Тимошенко Алёна",1982,"Timoshenko Aljona","Тимошенко Алёна / Timoshenko Aljona / 1982","Ж",4,66.666666666666671,339.93]
["Жук-трейл #7 Раубичи","Трейл 21","Жук-трейл #7 Раубичи Трейл 21",{"$f":"VLOOKUP(C987,Гонки!$E$1:$N$19,10,FALSE)","v":26},"Ж",{"$f":"IF(E987=\"Ж\",VLOOKUP(C987,Гонки!$E$2:$P$19,11,FALSE),VLOOKUP(C987,Гонки!$E$2:$P$19,12,FALSE))","v":9},"Адамович Ирина",1973,"Adamovich Irina","Адамович Ирина / Adamovich Irina / 1973","Ж",5,55.555555555555557,283.27999999999997]
["Жук-трейл #7 Раубичи","Трейл 21","Жук-трейл #7 Раубичи Трейл 21",{"$f":"VLOOKUP(C988,Гонки!$E$1:$N$19,10,FALSE)","v":26},"Ж",{"$f":"IF(E988=\"Ж\",VLOOKUP(C988,Гонки!$E$2:$P$19,11,FALSE),VLOOKUP(C988,Гонки!$E$2:$P$19,12,FALSE))","v":9},"Веремейчик Елена",1986,"Veremejchik Elena","Веремейчик Елена / Veremejchik Elena / 1986","Ж",6,44.444444444444443,226.62]
["Жук-трейл #7 Раубичи","Трейл 21","Жук-трейл #7 Раубичи Трейл 21",{"$f":"VLOOKUP(C989,Гонки!$E$1:$N$19,10,FALSE)","v":26},"М",{"$f":"IF(E989=\"Ж\",VLOOKUP(C989,Гонки!$E$2:$P$19,11,FALSE),VLOOKUP(C989,Гонки!$E$2:$P$19,12,FALSE))","v":42},"Григорьев Никита",1990,"Grigorev Nikita","Григорьев Никита / Grigorev Nikita / 1990","М",1,100,509.9]
["Жук-трейл #7 Раубичи","Трейл 21","Жук-трейл #7 Раубичи Трейл 21",{"$f":"VLOOKUP(C990,Гонки!$E$1:$N$19,10,FALSE)","v":26},"М",{"$f":"IF(E990=\"Ж\",VLOOKUP(C990,Гонки!$E$2:$P$19,11,FALSE),VLOOKUP(C990,Гонки!$E$2:$P$19,12,FALSE))","v":42},"Злобин Денис",1982,"Zlobin Denis","Злобин Денис / Zlobin Denis / 1982","М",2,97.61904761904762,497.76]
["Жук-трейл #7 Раубичи","Трейл 21","Жук-трейл #7 Раубичи Трейл 21",{"$f":"VLOOKUP(C991,Гонки!$E$1:$N$19,10,FALSE)","v":26},"М",{"$f":"IF(E991=\"Ж\",VLOOKUP(C991,Гонки!$E$2:$P$19,11,FALSE),VLOOKUP(C991,Гонки!$E$2:$P$19,12,FALSE))","v":42},"Сердитов Вадим",1993,"Serditov Vadim","Сердитов Вадим / Serditov Vadim / 1993","М",3,95.238095238095241,485.62]
["Жук-трейл #7 Раубичи","Трейл 21","Жук-трейл #7 Раубичи Трейл 21",{"$f":"VLOOKUP(C992,Гонки!$E$1:$N$19,10,FALSE)","v":26},"М",{"$f":"IF(E992=\"Ж\",VLOOKUP(C992,Гонки!$E$2:$P$19,11,FALSE),VLOOKUP(C992,Гонки!$E$2:$P$19,12,FALSE))","v":42},"Ходан Александр",1988,"Hodan Aleksandr","Ходан Александр / Hodan Aleksandr / 1988","М",4,92.857142857142861,473.48]
["Жук-трейл #7 Раубичи","Трейл 21","Жук-трейл #7 Раубичи Трейл 21",{"$f":"VLOOKUP(C993,Гонки!$E$1:$N$19,10,FALSE)","v":26},"М",{"$f":"IF(E993=\"Ж\",VLOOKUP(C993,Гонки!$E$2:$P$19,11,FALSE),VLOOKUP(C993,Гонки!$E$2:$P$19,12,FALSE))","v":42},"Крюков Дима",1988,"Kryukov Dima","Крюков Дима / Kryukov Dima / 1988","М",5,90.476190476190482,461.34]
["Жук-трейл #7 Раубичи","Трейл 21","Жук-трейл #7 Раубичи Трейл 21",{"$f":"VLOOKUP(C994,Гонки!$E$1:$N$19,10,FALSE)","v":26},"М",{"$f":"IF(E994=\"Ж\",VLOOKUP(C994,Гонки!$E$2:$P$19,11,FALSE),VLOOKUP(C994,Гонки!$E$2:$P$19,12,FALSE))","v":42},"Леонов Иван",1986,"Leonov Ivan","Леонов Иван / Leonov Ivan / 1986","М",6,88.095238095238102,449.2]
["Жук-трейл #7 Раубичи","Трейл 21","Жук-трейл #7 Раубичи Трейл 21",{"$f":"VLOOKUP(C995,Гонки!$E$1:$N$19,10,FALSE)","v":26},"М",{"$f":"IF(E995=\"Ж\",VLOOKUP(C995,Гонки!$E$2:$P$19,11,FALSE),VLOOKUP(C995,Гонки!$E$2:$P$19,12,FALSE))","v":42},"Богачев Борис",1991,"Bogachev Boris","Богачев Борис / Bogachev Boris / 1991","М",7,85.714285714285722,437.06]
["Жук-трейл #7 Раубичи","Трейл 21","Жук-трейл #7 Раубичи Трейл 21",{"$f":"VLOOKUP(C996,Гонки!$E$1:$N$19,10,FALSE)","v":26},"М",{"$f":"IF(E996=\"Ж\",VLOOKUP(C996,Гонки!$E$2:$P$19,11,FALSE),VLOOKUP(C996,Гонки!$E$2:$P$19,12,FALSE))","v":42},"Ласюк Юрий",1987,"Lasyuk Yurij","Ласюк Юрий / Lasyuk Yurij / 1987","М",8,83.333333333333343,424.92]
["Жук-трейл #7 Раубичи","Трейл 21","Жук-трейл #7 Раубичи Трейл 21",{"$f":"VLOOKUP(C997,Гонки!$E$1:$N$19,10,FALSE)","v":26},"М",{"$f":"IF(E997=\"Ж\",VLOOKUP(C997,Гонки!$E$2:$P$19,11,FALSE),VLOOKUP(C997,Гонки!$E$2:$P$19,12,FALSE))","v":42},"Дальниченко Юрий",1985,"Dalnichenko Yurij","Дальниченко Юрий / Dalnichenko Yurij / 1985","М",9,80.952380952380949,412.78]
["Жук-трейл #7 Раубичи","Трейл 21","Жук-трейл #7 Раубичи Трейл 21",{"$f":"VLOOKUP(C998,Гонки!$E$1:$N$19,10,FALSE)","v":26},"М",{"$f":"IF(E998=\"Ж\",VLOOKUP(C998,Гонки!$E$2:$P$19,11,FALSE),VLOOKUP(C998,Гонки!$E$2:$P$19,12,FALSE))","v":42},"Евсюченя Александр",1991,"Evsyuchenya Aleksandr","Евсюченя Александр / Evsyuchenya Aleksandr / 1991","М",10,78.571428571428569,400.64]
["Жук-трейл #7 Раубичи","Трейл 21","Жук-трейл #7 Раубичи Трейл 21",{"$f":"VLOOKUP(C999,Гонки!$E$1:$N$19,10,FALSE)","v":26},"М",{"$f":"IF(E999=\"Ж\",VLOOKUP(C999,Гонки!$E$2:$P$19,11,FALSE),VLOOKUP(C999,Гонки!$E$2:$P$19,12,FALSE))","v":42},"Никонов Максим",1979,"Nikonov Maksim","Никонов Максим / Nikonov Maksim / 1979","М",11,76.19047619047619,388.5]
["Жук-трейл #7 Раубичи","Трейл 21","Жук-трейл #7 Раубичи Трейл 21",{"$f":"VLOOKUP(C1000,Гонки!$E$1:$N$19,10,FALSE)","v":26},"М",{"$f":"IF(E1000=\"Ж\",VLOOKUP(C1000,Гонки!$E$2:$P$19,11,FALSE),VLOOKUP(C1000,Гонки!$E$2:$P$19,12,FALSE))","v":42},"Березовский Андрей",1973,"Berezovskij Andrej","Березовский Андрей / Berezovskij Andrej / 1973","М",12,73.80952380952381,376.36]
["Жук-трейл #7 Раубичи","Трейл 21","Жук-трейл #7 Раубичи Трейл 21",{"$f":"VLOOKUP(C1001,Гонки!$E$1:$N$19,10,FALSE)","v":26},"М",{"$f":"IF(E1001=\"Ж\",VLOOKUP(C1001,Гонки!$E$2:$P$19,11,FALSE),VLOOKUP(C1001,Гонки!$E$2:$P$19,12,FALSE))","v":42},"Орловский Павел",1989,"Orlovskij Pavel","Орловский Павел / Orlovskij Pavel / 1989","М",13,71.428571428571431,364.22]
["Жук-трейл #7 Раубичи","Трейл 21","Жук-трейл #7 Раубичи Трейл 21",{"$f":"VLOOKUP(C1002,Гонки!$E$1:$N$19,10,FALSE)","v":26},"М",{"$f":"IF(E1002=\"Ж\",VLOOKUP(C1002,Гонки!$E$2:$P$19,11,FALSE),VLOOKUP(C1002,Гонки!$E$2:$P$19,12,FALSE))","v":42},"Волков Николай",1989,"Volkov Nikolaj","Волков Николай / Volkov Nikolaj / 1989","М",14,69.047619047619051,352.08]
["Жук-трейл #7 Раубичи","Трейл 21","Жук-трейл #7 Раубичи Трейл 21",{"$f":"VLOOKUP(C1003,Гонки!$E$1:$N$19,10,FALSE)","v":26},"М",{"$f":"IF(E1003=\"Ж\",VLOOKUP(C1003,Гонки!$E$2:$P$19,11,FALSE),VLOOKUP(C1003,Гонки!$E$2:$P$19,12,FALSE))","v":42},"Скуратович Антон",1985,"Skuratovich Anton","Скуратович Антон / Skuratovich Anton / 1985","М",15,66.666666666666671,339.93]
["Жук-трейл #7 Раубичи","Трейл 21","Жук-трейл #7 Раубичи Трейл 21",{"$f":"VLOOKUP(C1004,Гонки!$E$1:$N$19,10,FALSE)","v":26},"М",{"$f":"IF(E1004=\"Ж\",VLOOKUP(C1004,Гонки!$E$2:$P$19,11,FALSE),VLOOKUP(C1004,Гонки!$E$2:$P$19,12,FALSE))","v":42},"Молчан Александр",1988,"Molchan Aleksandr","Молчан Александр / Molchan Aleksandr / 1988","М",16,64.285714285714278,327.79]
["Жук-трейл #7 Раубичи","Трейл 21","Жук-трейл #7 Раубичи Трейл 21",{"$f":"VLOOKUP(C1005,Гонки!$E$1:$N$19,10,FALSE)","v":26},"М",{"$f":"IF(E1005=\"Ж\",VLOOKUP(C1005,Гонки!$E$2:$P$19,11,FALSE),VLOOKUP(C1005,Гонки!$E$2:$P$19,12,FALSE))","v":42},"Храмов Антон",1991,"Hramov Anton","Храмов Антон / Hramov Anton / 1991","М",17,61.904761904761905,315.64999999999998]
["Жук-трейл #7 Раубичи","Трейл 21","Жук-трейл #7 Раубичи Трейл 21",{"$f":"VLOOKUP(C1006,Гонки!$E$1:$N$19,10,FALSE)","v":26},"М",{"$f":"IF(E1006=\"Ж\",VLOOKUP(C1006,Гонки!$E$2:$P$19,11,FALSE),VLOOKUP(C1006,Гонки!$E$2:$P$19,12,FALSE))","v":42},"McTavish John",1987,"McTavish John","McTavish John / McTavish John / 1987","М",18,59.523809523809526,303.51]
["Жук-трейл #7 Раубичи","Трейл 21","Жук-трейл #7 Раубичи Трейл 21",{"$f":"VLOOKUP(C1007,Гонки!$E$1:$N$19,10,FALSE)","v":26},"М",{"$f":"IF(E1007=\"Ж\",VLOOKUP(C1007,Гонки!$E$2:$P$19,11,FALSE),VLOOKUP(C1007,Гонки!$E$2:$P$19,12,FALSE))","v":42},"Крисенков Алексей",1983,"Krisenkov Aleksej","Крисенков Алексей / Krisenkov Aleksej / 1983","М",19,57.142857142857146,291.37]
["Жук-трейл #7 Раубичи","Трейл 21","Жук-трейл #7 Раубичи Трейл 21",{"$f":"VLOOKUP(C1008,Гонки!$E$1:$N$19,10,FALSE)","v":26},"М",{"$f":"IF(E1008=\"Ж\",VLOOKUP(C1008,Гонки!$E$2:$P$19,11,FALSE),VLOOKUP(C1008,Гонки!$E$2:$P$19,12,FALSE))","v":42},"Лавник Игорь",1983,"Lavnik Igor","Лавник Игорь / Lavnik Igor / 1983","М",20,54.761904761904759,279.23]
["Жук-трейл #7 Раубичи","Трейл 21","Жук-трейл #7 Раубичи Трейл 21",{"$f":"VLOOKUP(C1009,Гонки!$E$1:$N$19,10,FALSE)","v":26},"М",{"$f":"IF(E1009=\"Ж\",VLOOKUP(C1009,Гонки!$E$2:$P$19,11,FALSE),VLOOKUP(C1009,Гонки!$E$2:$P$19,12,FALSE))","v":42},"Попадюк Игорь",1982,"Popadyuk Igor","Попадюк Игорь / Popadyuk Igor / 1982","М",21,52.380952380952387,267.08999999999997]
["Жук-трейл #7 Раубичи","Трейл 21","Жук-трейл #7 Раубичи Трейл 21",{"$f":"VLOOKUP(C1010,Гонки!$E$1:$N$19,10,FALSE)","v":26},"М",{"$f":"IF(E1010=\"Ж\",VLOOKUP(C1010,Гонки!$E$2:$P$19,11,FALSE),VLOOKUP(C1010,Гонки!$E$2:$P$19,12,FALSE))","v":42},"Чернышев Дмитрий",1987,"Chernyshev Dmitrij","Чернышев Дмитрий / Chernyshev Dmitrij / 1987","М",22,50,254.95]
["Жук-трейл #7 Раубичи","Трейл 21","Жук-трейл #7 Раубичи Трейл 21",{"$f":"VLOOKUP(C1011,Гонки!$E$1:$N$19,10,FALSE)","v":26},"М",{"$f":"IF(E1011=\"Ж\",VLOOKUP(C1011,Гонки!$E$2:$P$19,11,FALSE),VLOOKUP(C1011,Гонки!$E$2:$P$19,12,FALSE))","v":42},"Храмов Иван",2001,"Hramov Ivan","Храмов Иван / Hramov Ivan / 2001","М",23,47.619047619047613,242.81]
["Жук-трейл #7 Раубичи","Трейл 21","Жук-трейл #7 Раубичи Трейл 21",{"$f":"VLOOKUP(C1012,Гонки!$E$1:$N$19,10,FALSE)","v":26},"М",{"$f":"IF(E1012=\"Ж\",VLOOKUP(C1012,Гонки!$E$2:$P$19,11,FALSE),VLOOKUP(C1012,Гонки!$E$2:$P$19,12,FALSE))","v":42},"Молочко Александр",1981,"Molochko Aleksandr","Молочко Александр / Molochko Aleksandr / 1981","М",24,45.238095238095234,230.67]
[{"$f":"$A$852","v":"Жук-трейл #7 Раубичи"},"Трейл 21","Жук-трейл #7 Раубичи Трейл 21",{"$f":"VLOOKUP(C1013,Гонки!$E$1:$N$19,10,FALSE)","v":26},"М",{"$f":"IF(E1013=\"Ж\",VLOOKUP(C1013,Гонки!$E$2:$P$19,11,FALSE),VLOOKUP(C1013,Гонки!$E$2:$P$19,12,FALSE))","v":42},"Тарасенко Павел",1983,"Tarasenko Pavel","Тарасенко Павел / Tarasenko Pavel / 1983","М",25,42.857142857142861,218.53]
["Жук-трейл #7 Раубичи","Трейл 21","Жук-трейл #7 Раубичи Трейл 21",{"$f":"VLOOKUP(C1014,Гонки!$E$1:$N$19,10,FALSE)","v":26},"М",{"$f":"IF(E1014=\"Ж\",VLOOKUP(C1014,Гонки!$E$2:$P$19,11,FALSE),VLOOKUP(C1014,Гонки!$E$2:$P$19,12,FALSE))","v":42},"Палий Андрей",1984,"Palij Andrej","Палий Андрей / Palij Andrej / 1984","М",26,40.476190476190474,206.39]
["Жук-трейл #7 Раубичи","Трейл 21","Жук-трейл #7 Раубичи Трейл 21",{"$f":"VLOOKUP(C1015,Гонки!$E$1:$N$19,10,FALSE)","v":26},"М",{"$f":"IF(E1015=\"Ж\",VLOOKUP(C1015,Гонки!$E$2:$P$19,11,FALSE),VLOOKUP(C1015,Гонки!$E$2:$P$19,12,FALSE))","v":42},"Шепетько Сергей",1987,"Shepetko Sergej","Шепетько Сергей / Shepetko Sergej / 1987","М",27,38.095238095238095,194.25]
["Жук-трейл #7 Раубичи","Трейл 21","Жук-трейл #7 Раубичи Трейл 21",{"$f":"VLOOKUP(C1016,Гонки!$E$1:$N$19,10,FALSE)","v":26},"М",{"$f":"IF(E1016=\"Ж\",VLOOKUP(C1016,Гонки!$E$2:$P$19,11,FALSE),VLOOKUP(C1016,Гонки!$E$2:$P$19,12,FALSE))","v":42},"Березин Артём",1986,"Berezin Artjom","Березин Артём / Berezin Artjom / 1986","М",28,35.714285714285708,182.11]
["Жук-трейл #7 Раубичи","Трейл 21","Жук-трейл #7 Раубичи Трейл 21",{"$f":"VLOOKUP(C1017,Гонки!$E$1:$N$19,10,FALSE)","v":26},"М",{"$f":"IF(E1017=\"Ж\",VLOOKUP(C1017,Гонки!$E$2:$P$19,11,FALSE),VLOOKUP(C1017,Гонки!$E$2:$P$19,12,FALSE))","v":42},"Дегтярев Сергей",1983,"Degtyarev Sergej","Дегтярев Сергей / Degtyarev Sergej / 1983","М",29,{"$f":"100-((L1017-1)/F1017)*100","v":33.333333333333343},169.97]
["Жук-трейл #7 Раубичи","Трейл 21","Жук-трейл #7 Раубичи Трейл 21",{"$f":"VLOOKUP(C1018,Гонки!$E$1:$N$19,10,FALSE)","v":26},"М",{"$f":"IF(E1018=\"Ж\",VLOOKUP(C1018,Гонки!$E$2:$P$19,11,FALSE),VLOOKUP(C1018,Гонки!$E$2:$P$19,12,FALSE))","v":42},"Иванчик Константин",1983,"Ivanchik Konstantin","Иванчик Константин / Ivanchik Konstantin / 1983","М",30,30.952380952380949,157.83000000000001]
["Жук-трейл #7 Раубичи","Трейл 21","Жук-трейл #7 Раубичи Трейл 21",{"$f":"VLOOKUP(C1019,Гонки!$E$1:$N$19,10,FALSE)","v":26},"М",{"$f":"IF(E1019=\"Ж\",VLOOKUP(C1019,Гонки!$E$2:$P$19,11,FALSE),VLOOKUP(C1019,Гонки!$E$2:$P$19,12,FALSE))","v":42},"Тюев Даниил",1977,"Tyuev Daniil","Тюев Даниил / Tyuev Daniil / 1977","М",31,28.571428571428569,145.69]
["Жук-трейл #7 Раубичи","Трейл 21","Жук-трейл #7 Раубичи Трейл 21",{"$f":"VLOOKUP(C1020,Гонки!$E$1:$N$19,10,FALSE)","v":26},"М",{"$f":"IF(E1020=\"Ж\",VLOOKUP(C1020,Гонки!$E$2:$P$19,11,FALSE),VLOOKUP(C1020,Гонки!$E$2:$P$19,12,FALSE))","v":42},"Бокша Сергей",1988,"Boksha Sergej","Бокша Сергей / Boksha Sergej / 1988","М",32,26.19047619047619,133.55000000000001]
["Жук-трейл #7 Раубичи","Трейл 21","Жук-трейл #7 Раубичи Трейл 21",{"$f":"VLOOKUP(C1021,Гонки!$E$1:$N$19,10,FALSE)","v":26},"М",{"$f":"IF(E1021=\"Ж\",VLOOKUP(C1021,Гонки!$E$2:$P$19,11,FALSE),VLOOKUP(C1021,Гонки!$E$2:$P$19,12,FALSE))","v":42},"Федорович Николай",1959,"Fedorovich Nikolaj","Федорович Николай / Fedorovich Nikolaj / 1959","М",33,23.80952380952381,121.41]
["Жук-трейл #7 Раубичи","Трейл 21","Жук-трейл #7 Раубичи Трейл 21",{"$f":"VLOOKUP(C1022,Гонки!$E$1:$N$19,10,FALSE)","v":26},"М",{"$f":"IF(E1022=\"Ж\",VLOOKUP(C1022,Гонки!$E$2:$P$19,11,FALSE),VLOOKUP(C1022,Гонки!$E$2:$P$19,12,FALSE))","v":42},"Зятиков Евгений",1982,"Zyatikov Evgenij","Зятиков Евгений / Zyatikov Evgenij / 1982","М",34,21.428571428571431,109.26]
[{"$f":"Гонки!C20","v":"Дорога замков"},{"$f":"Гонки!D20","v":"Трейл 10"},"Дорога замков Трейл 10",{"$f":"VLOOKUP(C1023,Гонки!$E$1:$N$23,10,FALSE)","v":12.68},"М",{"$f":"IF(E1023=\"Ж\",VLOOKUP(C1023,Гонки!$E$2:$P$23,11,FALSE),VLOOKUP(C1023,Гонки!$E$2:$P$23,12,FALSE))","v":37},"Католиков Роман",1985,"Katolikov Roman","Католиков Роман / Katolikov Roman / 1985","М",1,{"$f":"100-((L1023-1)/F1023)*100","v":100},{"$f":"ROUND(SQRT(D1023)*M1023,2)","v":356.09}]
[{"$f":"A1023","v":"Дорога замков"},{"$f":"$B$1023","v":"Трейл 10"},"Дорога замков Трейл 10",{"$f":"VLOOKUP(C1024,Гонки!$E$1:$N$23,10,FALSE)","v":12.68},"М",{"$f":"IF(E1024=\"Ж\",VLOOKUP(C1024,Гонки!$E$2:$P$23,11,FALSE),VLOOKUP(C1024,Гонки!$E$2:$P$23,12,FALSE))","v":37},"Плодунов Захар",1993,"Plodunov Zahar","Плодунов Захар / Plodunov Zahar / 1993","М",2,97.297297297297291,346.47]
[{"$f":"$A$1023","v":"Дорога замков"},{"$f":"$B$1023","v":"Трейл 10"},"Дорога замков Трейл 10",{"$f":"VLOOKUP(C1025,Гонки!$E$1:$N$23,10,FALSE)","v":12.68},"М",{"$f":"IF(E1025=\"Ж\",VLOOKUP(C1025,Гонки!$E$2:$P$23,11,FALSE),VLOOKUP(C1025,Гонки!$E$2:$P$23,12,FALSE))","v":37},"Паплёвка Иван",1990,"Papljovka Ivan","Паплёвка Иван / Papljovka Ivan / 1990","М",3,94.594594594594597,336.84]
[{"$f":"$A$1023","v":"Дорога замков"},"Трейл 10",{"$f":"CONCATENATE(A1026,\" \",B1026)","v":"Дорога замков Трейл 10"},{"$f":"VLOOKUP(C1026,Гонки!$E$1:$N$23,10,FALSE)","v":12.68},"М",{"$f":"IF(E1026=\"Ж\",VLOOKUP(C1026,Гонки!$E$2:$P$23,11,FALSE),VLOOKUP(C1026,Гонки!$E$2:$P$23,12,FALSE))","v":37},"Селютин Владимир",1990,{"$f":"Translit(G1026)","v":"Selyutin Vladimir"},{"$f":"CONCATENATE(G1026,\" / \",I1026,\" / \",H1026)","v":"Селютин Владимир / Selyutin Vladimir / 1990"},"М",4,91.891891891891888,327.22000000000003]
["Дорога замков","Трейл 10","Дорога замков Трейл 10",{"$f":"VLOOKUP(C1027,Гонки!$E$1:$N$23,10,FALSE)","v":12.68},"М",{"$f":"IF(E1027=\"Ж\",VLOOKUP(C1027,Гонки!$E$2:$P$23,11,FALSE),VLOOKUP(C1027,Гонки!$E$2:$P$23,12,FALSE))","v":37},"Мартынов Дмитрий",1984,"Martynov Dmitrij","Мартынов Дмитрий / Martynov Dmitrij / 1984","М",5,89.189189189189193,317.58999999999997]
["Дорога замков","Трейл 10","Дорога замков Трейл 10",{"$f":"VLOOKUP(C1028,Гонки!$E$1:$N$23,10,FALSE)","v":12.68},"М",{"$f":"IF(E1028=\"Ж\",VLOOKUP(C1028,Гонки!$E$2:$P$23,11,FALSE),VLOOKUP(C1028,Гонки!$E$2:$P$23,12,FALSE))","v":37},"Скуратович Антон",1985,"Skuratovich Anton","Скуратович Антон / Skuratovich Anton / 1985","М",6,86.486486486486484,307.97000000000003]
["Дорога замков","Трейл 10","Дорога замков Трейл 10",{"$f":"VLOOKUP(C1029,Гонки!$E$1:$N$23,10,FALSE)","v":12.68},"М",{"$f":"IF(E1029=\"Ж\",VLOOKUP(C1029,Гонки!$E$2:$P$23,11,FALSE),VLOOKUP(C1029,Гонки!$E$2:$P$23,12,FALSE))","v":37},"Ярмончик Игорь",1985,"Yarmonchik Igor","Ярмончик Игорь / Yarmonchik Igor / 1985","М",7,83.783783783783775,298.35000000000002]
["Дорога замков","Трейл 10","Дорога замков Трейл 10",{"$f":"VLOOKUP(C1030,Гонки!$E$1:$N$23,10,FALSE)","v":12.68},"М",{"$f":"IF(E1030=\"Ж\",VLOOKUP(C1030,Гонки!$E$2:$P$23,11,FALSE),VLOOKUP(C1030,Гонки!$E$2:$P$23,12,FALSE))","v":37},"Грек Илья",1992,"Grek Ilya","Грек Илья / Grek Ilya / 1992","М",8,81.081081081081081,288.72000000000003]
["Дорога замков","Трейл 10","Дорога замков Трейл 10",{"$f":"VLOOKUP(C1031,Гонки!$E$1:$N$23,10,FALSE)","v":12.68},"М",{"$f":"IF(E1031=\"Ж\",VLOOKUP(C1031,Гонки!$E$2:$P$23,11,FALSE),VLOOKUP(C1031,Гонки!$E$2:$P$23,12,FALSE))","v":37},"Акулич Владимир",1986,"Akulich Vladimir","Акулич Владимир / Akulich Vladimir / 1986","М",9,78.378378378378386,279.10000000000002]
["Дорога замков","Трейл 10","Дорога замков Трейл 10",{"$f":"VLOOKUP(C1032,Гонки!$E$1:$N$23,10,FALSE)","v":12.68},"М",{"$f":"IF(E1032=\"Ж\",VLOOKUP(C1032,Гонки!$E$2:$P$23,11,FALSE),VLOOKUP(C1032,Гонки!$E$2:$P$23,12,FALSE))","v":37},"Костров Александр",1982,"Kostrov Aleksandr","Костров Александр / Kostrov Aleksandr / 1982","М",10,75.675675675675677,269.47000000000003]
["Дорога замков","Трейл 10","Дорога замков Трейл 10",{"$f":"VLOOKUP(C1033,Гонки!$E$1:$N$23,10,FALSE)","v":12.68},"М",{"$f":"IF(E1033=\"Ж\",VLOOKUP(C1033,Гонки!$E$2:$P$23,11,FALSE),VLOOKUP(C1033,Гонки!$E$2:$P$23,12,FALSE))","v":37},"Крус Виктор",1980,"Krus Viktor","Крус Виктор / Krus Viktor / 1980","М",11,72.972972972972968,259.85000000000002]
["Дорога замков","Трейл 10","Дорога замков Трейл 10",{"$f":"VLOOKUP(C1034,Гонки!$E$1:$N$23,10,FALSE)","v":12.68},"М",{"$f":"IF(E1034=\"Ж\",VLOOKUP(C1034,Гонки!$E$2:$P$23,11,FALSE),VLOOKUP(C1034,Гонки!$E$2:$P$23,12,FALSE))","v":37},"Бегун Егор",1988,"Begun Egor","Бегун Егор / Begun Egor / 1988","М",12,70.270270270270274,250.23]
["Дорога замков","Трейл 10","Дорога замков Трейл 10",{"$f":"VLOOKUP(C1035,Гонки!$E$1:$N$23,10,FALSE)","v":12.68},"М",{"$f":"IF(E1035=\"Ж\",VLOOKUP(C1035,Гонки!$E$2:$P$23,11,FALSE),VLOOKUP(C1035,Гонки!$E$2:$P$23,12,FALSE))","v":37},"Прохоренко Дмитрий",1981,"Prohorenko Dmitrij","Прохоренко Дмитрий / Prohorenko Dmitrij / 1981","М",13,67.567567567567565,240.6]
["Дорога замков","Трейл 10","Дорога замков Трейл 10",{"$f":"VLOOKUP(C1036,Гонки!$E$1:$N$23,10,FALSE)","v":12.68},"М",{"$f":"IF(E1036=\"Ж\",VLOOKUP(C1036,Гонки!$E$2:$P$23,11,FALSE),VLOOKUP(C1036,Гонки!$E$2:$P$23,12,FALSE))","v":37},"Нестеров Андрей",1981,"Nesterov Andrej","Нестеров Андрей / Nesterov Andrej / 1981","М",14,64.86486486486487,230.98]
["Дорога замков","Трейл 10","Дорога замков Трейл 10",{"$f":"VLOOKUP(C1037,Гонки!$E$1:$N$23,10,FALSE)","v":12.68},"М",{"$f":"IF(E1037=\"Ж\",VLOOKUP(C1037,Гонки!$E$2:$P$23,11,FALSE),VLOOKUP(C1037,Гонки!$E$2:$P$23,12,FALSE))","v":37},"Дашин Михаил",1986,"Dashin Mihail","Дашин Михаил / Dashin Mihail / 1986","М",15,62.162162162162161,221.35]
["Дорога замков","Трейл 10","Дорога замков Трейл 10",{"$f":"VLOOKUP(C1038,Гонки!$E$1:$N$23,10,FALSE)","v":12.68},"М",{"$f":"IF(E1038=\"Ж\",VLOOKUP(C1038,Гонки!$E$2:$P$23,11,FALSE),VLOOKUP(C1038,Гонки!$E$2:$P$23,12,FALSE))","v":37},"Михальков Ян",null,"Mihalkov Yan","Михальков Ян / Mihalkov Yan / ","М",16,59.45945945945946,211.73]
["Дорога замков","Трейл 10","Дорога замков Трейл 10",{"$f":"VLOOKUP(C1039,Гонки!$E$1:$N$23,10,FALSE)","v":12.68},"М",{"$f":"IF(E1039=\"Ж\",VLOOKUP(C1039,Гонки!$E$2:$P$23,11,FALSE),VLOOKUP(C1039,Гонки!$E$2:$P$23,12,FALSE))","v":37},"Молочников Дмитрий",1984,"Molochnikov Dmitrij","Молочников Дмитрий / Molochnikov Dmitrij / 1984","М",17,56.756756756756758,202.11]
["Дорога замков","Трейл 10","Дорога замков Трейл 10",{"$f":"VLOOKUP(C1040,Гонки!$E$1:$N$23,10,FALSE)","v":12.68},"М",{"$f":"IF(E1040=\"Ж\",VLOOKUP(C1040,Гонки!$E$2:$P$23,11,FALSE),VLOOKUP(C1040,Гонки!$E$2:$P$23,12,FALSE))","v":37},"Tan Burak",1983,"Tan Burak","Tan Burak / Tan Burak / 1983","М",18,54.054054054054049,192.48]
["Дорога замков","Трейл 10","Дорога замков Трейл 10",{"$f":"VLOOKUP(C1041,Гонки!$E$1:$N$23,10,FALSE)","v":12.68},"М",{"$f":"IF(E1041=\"Ж\",VLOOKUP(C1041,Гонки!$E$2:$P$23,11,FALSE),VLOOKUP(C1041,Гонки!$E$2:$P$23,12,FALSE))","v":37},"Горелик Юрий",1987,"Gorelik Yurij","Горелик Юрий / Gorelik Yurij / 1987","М",19,51.351351351351347,182.86]
["Дорога замков","Трейл 10","Дорога замков Трейл 10",{"$f":"VLOOKUP(C1042,Гонки!$E$1:$N$23,10,FALSE)","v":12.68},"М",{"$f":"IF(E1042=\"Ж\",VLOOKUP(C1042,Гонки!$E$2:$P$23,11,FALSE),VLOOKUP(C1042,Гонки!$E$2:$P$23,12,FALSE))","v":37},"Шупленков Клим ",1996,"Shuplenkov Klim ","Шупленков Клим  / Shuplenkov Klim  / 1996","М",20,48.648648648648653,173.23]
["Дорога замков","Трейл 10","Дорога замков Трейл 10",{"$f":"VLOOKUP(C1043,Гонки!$E$1:$N$23,10,FALSE)","v":12.68},"М",{"$f":"IF(E1043=\"Ж\",VLOOKUP(C1043,Гонки!$E$2:$P$23,11,FALSE),VLOOKUP(C1043,Гонки!$E$2:$P$23,12,FALSE))","v":37},"Леончик Владимир ",1985,"Leonchik Vladimir ","Леончик Владимир  / Leonchik Vladimir  / 1985","М",21,45.945945945945944,163.61000000000001]
["Дорога замков","Трейл 10","Дорога замков Трейл 10",{"$f":"VLOOKUP(C1044,Гонки!$E$1:$N$23,10,FALSE)","v":12.68},"М",{"$f":"IF(E1044=\"Ж\",VLOOKUP(C1044,Гонки!$E$2:$P$23,11,FALSE),VLOOKUP(C1044,Гонки!$E$2:$P$23,12,FALSE))","v":37},"Гребенчук Максим",1989,"Grebenchuk Maksim","Гребенчук Максим / Grebenchuk Maksim / 1989",{"$f":"E1044","v":"М"},22,43.243243243243242,153.97999999999999]
["Дорога замков","Трейл 10","Дорога замков Трейл 10",{"$f":"VLOOKUP(C1045,Гонки!$E$1:$N$23,10,FALSE)","v":12.68},"М",{"$f":"IF(E1045=\"Ж\",VLOOKUP(C1045,Гонки!$E$2:$P$23,11,FALSE),VLOOKUP(C1045,Гонки!$E$2:$P$23,12,FALSE))","v":37},"Незнанов Михаил",1982,"Neznanov Mihail","Незнанов Михаил / Neznanov Mihail / 1982","М",23,40.54054054054054,144.36000000000001]
["Дорога замков","Трейл 10","Дорога замков Трейл 10",{"$f":"VLOOKUP(C1046,Гонки!$E$1:$N$23,10,FALSE)","v":12.68},"М",{"$f":"IF(E1046=\"Ж\",VLOOKUP(C1046,Гонки!$E$2:$P$23,11,FALSE),VLOOKUP(C1046,Гонки!$E$2:$P$23,12,FALSE))","v":37},"Сопот Александр",null,"Sopot Aleksandr","Сопот Александр / Sopot Aleksandr / ","М",24,37.837837837837839,134.74]
["Дорога замков","Трейл 10","Дорога замков Трейл 10",{"$f":"VLOOKUP(C1047,Гонки!$E$1:$N$23,10,FALSE)","v":12.68},"М",{"$f":"IF(E1047=\"Ж\",VLOOKUP(C1047,Гонки!$E$2:$P$23,11,FALSE),VLOOKUP(C1047,Гонки!$E$2:$P$23,12,FALSE))","v":37},"Рыжков Алексей",1992,"Ryzhkov Aleksej","Рыжков Алексей / Ryzhkov Aleksej / 1992","М",25,35.13513513513513,125.11]
["Дорога замков","Трейл 10","Дорога замков Трейл 10",{"$f":"VLOOKUP(C1048,Гонки!$E$1:$N$23,10,FALSE)","v":12.68},"М",{"$f":"IF(E1048=\"Ж\",VLOOKUP(C1048,Гонки!$E$2:$P$23,11,FALSE),VLOOKUP(C1048,Гонки!$E$2:$P$23,12,FALSE))","v":37},"Жукович Артем",1988,"Zhukovich Artem","Жукович Артем / Zhukovich Artem / 1988","М",26,32.432432432432435,115.49]
["Дорога замков","Трейл 10","Дорога замков Трейл 10",{"$f":"VLOOKUP(C1049,Гонки!$E$1:$N$23,10,FALSE)","v":12.68},"М",{"$f":"IF(E1049=\"Ж\",VLOOKUP(C1049,Гонки!$E$2:$P$23,11,FALSE),VLOOKUP(C1049,Гонки!$E$2:$P$23,12,FALSE))","v":37},"Шир Джордан",1980,"Shir Dzhordan","Шир Джордан / Shir Dzhordan / 1980","М",27,29.729729729729726,105.86]
["Дорога замков","Трейл 10","Дорога замков Трейл 10",{"$f":"VLOOKUP(C1050,Гонки!$E$1:$N$23,10,FALSE)","v":12.68},"М",{"$f":"IF(E1050=\"Ж\",VLOOKUP(C1050,Гонки!$E$2:$P$23,11,FALSE),VLOOKUP(C1050,Гонки!$E$2:$P$23,12,FALSE))","v":37},"Ольгин Василий",null,"Olgin Vasilij","Ольгин Василий / Olgin Vasilij / ","М",28,27.027027027027032,96.24]
["Дорога замков","Трейл 10","Дорога замков Трейл 10",{"$f":"VLOOKUP(C1051,Гонки!$E$1:$N$23,10,FALSE)","v":12.68},"М",{"$f":"IF(E1051=\"Ж\",VLOOKUP(C1051,Гонки!$E$2:$P$23,11,FALSE),VLOOKUP(C1051,Гонки!$E$2:$P$23,12,FALSE))","v":37},"Пехтерев Сергей",1979,"Pehterev Sergej","Пехтерев Сергей / Pehterev Sergej / 1979","М",29,24.324324324324323,86.62]
["Дорога замков","Трейл 10","Дорога замков Трейл 10",{"$f":"VLOOKUP(C1052,Гонки!$E$1:$N$23,10,FALSE)","v":12.68},"М",{"$f":"IF(E1052=\"Ж\",VLOOKUP(C1052,Гонки!$E$2:$P$23,11,FALSE),VLOOKUP(C1052,Гонки!$E$2:$P$23,12,FALSE))","v":37},"Косяков Максим",null,"Kosyakov Maksim","Косяков Максим / Kosyakov Maksim / ","М",30,21.621621621621628,76.989999999999995]
["Дорога замков","Трейл 10","Дорога замков Трейл 10",{"$f":"VLOOKUP(C1053,Гонки!$E$1:$N$23,10,FALSE)","v":12.68},"М",{"$f":"IF(E1053=\"Ж\",VLOOKUP(C1053,Гонки!$E$2:$P$23,11,FALSE),VLOOKUP(C1053,Гонки!$E$2:$P$23,12,FALSE))","v":37},"Курата Кеннет",1978,"Kurata Kennet","Курата Кеннет / Kurata Kennet / 1978","М",31,18.918918918918919,67.37]
["Дорога замков","Трейл 10","Дорога замков Трейл 10",{"$f":"VLOOKUP(C1054,Гонки!$E$1:$N$23,10,FALSE)","v":12.68},"М",{"$f":"IF(E1054=\"Ж\",VLOOKUP(C1054,Гонки!$E$2:$P$23,11,FALSE),VLOOKUP(C1054,Гонки!$E$2:$P$23,12,FALSE))","v":37},"Хорольский Александр",1985,"Horolskij Aleksandr","Хорольский Александр / Horolskij Aleksandr / 1985","М",32,16.21621621621621,57.74]
["Дорога замков","Трейл 10","Дорога замков Трейл 10",{"$f":"VLOOKUP(C1055,Гонки!$E$1:$N$23,10,FALSE)","v":12.68},"М",{"$f":"IF(E1055=\"Ж\",VLOOKUP(C1055,Гонки!$E$2:$P$23,11,FALSE),VLOOKUP(C1055,Гонки!$E$2:$P$23,12,FALSE))","v":37},"Шепетько Сергей",1987,"Shepetko Sergej","Шепетько Сергей / Shepetko Sergej / 1987","М",33,13.513513513513516,48.12]
["Дорога замков","Трейл 10","Дорога замков Трейл 10",{"$f":"VLOOKUP(C1056,Гонки!$E$1:$N$23,10,FALSE)","v":12.68},"М",{"$f":"IF(E1056=\"Ж\",VLOOKUP(C1056,Гонки!$E$2:$P$23,11,FALSE),VLOOKUP(C1056,Гонки!$E$2:$P$23,12,FALSE))","v":37},"Скуратович Андрей ",1963,"Skuratovich Andrej ","Скуратович Андрей  / Skuratovich Andrej  / 1963","М",34,10.810810810810807,38.5]
["Дорога замков","Трейл 10","Дорога замков Трейл 10",{"$f":"VLOOKUP(C1057,Гонки!$E$1:$N$23,10,FALSE)","v":12.68},"М",{"$f":"IF(E1057=\"Ж\",VLOOKUP(C1057,Гонки!$E$2:$P$23,11,FALSE),VLOOKUP(C1057,Гонки!$E$2:$P$23,12,FALSE))","v":37},"Сысков Никита",1985,"Syskov Nikita","Сысков Никита / Syskov Nikita / 1985","М",35,8.1081081081080981,28.87]
["Дорога замков","Трейл 10","Дорога замков Трейл 10",{"$f":"VLOOKUP(C1058,Гонки!$E$1:$N$23,10,FALSE)","v":12.68},"М",{"$f":"IF(E1058=\"Ж\",VLOOKUP(C1058,Гонки!$E$2:$P$23,11,FALSE),VLOOKUP(C1058,Гонки!$E$2:$P$23,12,FALSE))","v":37},"Соколов Артем",1986,"Sokolov Artem","Соколов Артем / Sokolov Artem / 1986","М",35,8.1081081081080981,28.87]
["Дорога замков","Трейл 10","Дорога замков Трейл 10",{"$f":"VLOOKUP(C1059,Гонки!$E$1:$N$23,10,FALSE)","v":12.68},"Ж",{"$f":"IF(E1059=\"Ж\",VLOOKUP(C1059,Гонки!$E$2:$P$23,11,FALSE),VLOOKUP(C1059,Гонки!$E$2:$P$23,12,FALSE))","v":36},"Гилевич Диана",1993,"Gilevich Diana","Гилевич Диана / Gilevich Diana / 1993","Ж",1,{"$f":"100-((L1059-1)/F1059)*100","v":100},{"$f":"ROUND(SQRT(D1059)*M1059,2)","v":356.09}]
["Дорога замков","Трейл 10","Дорога замков Трейл 10",{"$f":"VLOOKUP(C1060,Гонки!$E$1:$N$23,10,FALSE)","v":12.68},"Ж",{"$f":"IF(E1060=\"Ж\",VLOOKUP(C1060,Гонки!$E$2:$P$23,11,FALSE),VLOOKUP(C1060,Гонки!$E$2:$P$23,12,FALSE))","v":36},"Замахаева Мария ",1985,"Zamahaeva Mariya ","Замахаева Мария  / Zamahaeva Mariya  / 1985","Ж",2,97.222222222222229,346.2]
["Дорога замков","Трейл 10","Дорога замков Трейл 10",{"$f":"VLOOKUP(C1061,Гонки!$E$1:$N$23,10,FALSE)","v":12.68},"Ж",{"$f":"IF(E1061=\"Ж\",VLOOKUP(C1061,Гонки!$E$2:$P$23,11,FALSE),VLOOKUP(C1061,Гонки!$E$2:$P$23,12,FALSE))","v":36},"Гилевич Кристина",1994,"Gilevich Kristina","Гилевич Кристина / Gilevich Kristina / 1994","Ж",3,94.444444444444443,336.31]
["Дорога замков","Трейл 10","Дорога замков Трейл 10",{"$f":"VLOOKUP(C1062,Гонки!$E$1:$N$23,10,FALSE)","v":12.68},"Ж",{"$f":"IF(E1062=\"Ж\",VLOOKUP(C1062,Гонки!$E$2:$P$23,11,FALSE),VLOOKUP(C1062,Гонки!$E$2:$P$23,12,FALSE))","v":36},"Третьяк Екатерина",1985,"Tretyak Ekaterina","Третьяк Екатерина / Tretyak Ekaterina / 1985","Ж",4,91.666666666666671,326.42]
["Дорога замков","Трейл 10","Дорога замков Трейл 10",{"$f":"VLOOKUP(C1063,Гонки!$E$1:$N$23,10,FALSE)","v":12.68},"Ж",{"$f":"IF(E1063=\"Ж\",VLOOKUP(C1063,Гонки!$E$2:$P$23,11,FALSE),VLOOKUP(C1063,Гонки!$E$2:$P$23,12,FALSE))","v":36},"Едомская Вольга",1987,"Edomskaya Volga","Едомская Вольга / Edomskaya Volga / 1987","Ж",5,88.888888888888886,316.52]
["Дорога замков","Трейл 10","Дорога замков Трейл 10",{"$f":"VLOOKUP(C1064,Гонки!$E$1:$N$23,10,FALSE)","v":12.68},"Ж",{"$f":"IF(E1064=\"Ж\",VLOOKUP(C1064,Гонки!$E$2:$P$23,11,FALSE),VLOOKUP(C1064,Гонки!$E$2:$P$23,12,FALSE))","v":36},"Шир Алисия",1982,"Shir Alisiya","Шир Алисия / Shir Alisiya / 1982","Ж",6,86.111111111111114,306.63]
["Дорога замков","Трейл 10","Дорога замков Трейл 10",{"$f":"VLOOKUP(C1065,Гонки!$E$1:$N$23,10,FALSE)","v":12.68},"Ж",{"$f":"IF(E1065=\"Ж\",VLOOKUP(C1065,Гонки!$E$2:$P$23,11,FALSE),VLOOKUP(C1065,Гонки!$E$2:$P$23,12,FALSE))","v":36},"Александрова Дарья",1995,"Aleksandrova Darya","Александрова Дарья / Aleksandrova Darya / 1995","Ж",7,83.333333333333343,296.74]
["Дорога замков","Трейл 10","Дорога замков Трейл 10",{"$f":"VLOOKUP(C1066,Гонки!$E$1:$N$23,10,FALSE)","v":12.68},"Ж",{"$f":"IF(E1066=\"Ж\",VLOOKUP(C1066,Гонки!$E$2:$P$23,11,FALSE),VLOOKUP(C1066,Гонки!$E$2:$P$23,12,FALSE))","v":36},"Зарубина Наталья",1989,"Zarubina Natalya","Зарубина Наталья / Zarubina Natalya / 1989","Ж",8,80.555555555555557,286.85000000000002]
["Дорога замков","Трейл 10","Дорога замков Трейл 10",{"$f":"VLOOKUP(C1067,Гонки!$E$1:$N$23,10,FALSE)","v":12.68},"Ж",{"$f":"IF(E1067=\"Ж\",VLOOKUP(C1067,Гонки!$E$2:$P$23,11,FALSE),VLOOKUP(C1067,Гонки!$E$2:$P$23,12,FALSE))","v":36},"Михальчук Евгения",null,"Mihalchuk Evgeniya","Михальчук Евгения / Mihalchuk Evgeniya / ","Ж",9,77.777777777777771,276.95999999999998]
["Дорога замков","Трейл 10","Дорога замков Трейл 10",{"$f":"VLOOKUP(C1068,Гонки!$E$1:$N$23,10,FALSE)","v":12.68},"Ж",{"$f":"IF(E1068=\"Ж\",VLOOKUP(C1068,Гонки!$E$2:$P$23,11,FALSE),VLOOKUP(C1068,Гонки!$E$2:$P$23,12,FALSE))","v":36},"Казимирская Надежда ",1983,"Kazimirskaya Nadezhda ","Казимирская Надежда  / Kazimirskaya Nadezhda  / 1983","Ж",10,75,267.07]
["Дорога замков","Трейл 10","Дорога замков Трейл 10",{"$f":"VLOOKUP(C1069,Гонки!$E$1:$N$23,10,FALSE)","v":12.68},"Ж",{"$f":"IF(E1069=\"Ж\",VLOOKUP(C1069,Гонки!$E$2:$P$23,11,FALSE),VLOOKUP(C1069,Гонки!$E$2:$P$23,12,FALSE))","v":36},"Фомина Ирина",1986,"Fomina Irina","Фомина Ирина / Fomina Irina / 1986","Ж",11,72.222222222222229,257.18]
["Дорога замков","Трейл 10","Дорога замков Трейл 10",{"$f":"VLOOKUP(C1070,Гонки!$E$1:$N$23,10,FALSE)","v":12.68},"Ж",{"$f":"IF(E1070=\"Ж\",VLOOKUP(C1070,Гонки!$E$2:$P$23,11,FALSE),VLOOKUP(C1070,Гонки!$E$2:$P$23,12,FALSE))","v":36},"Тарасевич Алёна",1991,"Tarasevich Aljona","Тарасевич Алёна / Tarasevich Aljona / 1991","Ж",12,69.444444444444443,247.28]
["Дорога замков","Трейл 10","Дорога замков Трейл 10",{"$f":"VLOOKUP(C1071,Гонки!$E$1:$N$23,10,FALSE)","v":12.68},"Ж",{"$f":"IF(E1071=\"Ж\",VLOOKUP(C1071,Гонки!$E$2:$P$23,11,FALSE),VLOOKUP(C1071,Гонки!$E$2:$P$23,12,FALSE))","v":36},"Зарубина Ульяна",null,"Zarubina Ulyana","Зарубина Ульяна / Zarubina Ulyana / ","Ж",12,69.444444444444443,247.28]
["Дорога замков","Трейл 10","Дорога замков Трейл 10",{"$f":"VLOOKUP(C1072,Гонки!$E$1:$N$23,10,FALSE)","v":12.68},"Ж",{"$f":"IF(E1072=\"Ж\",VLOOKUP(C1072,Гонки!$E$2:$P$23,11,FALSE),VLOOKUP(C1072,Гонки!$E$2:$P$23,12,FALSE))","v":36},"Конопацкая Юлия",1998,"Konopatskaya Yuliya","Конопацкая Юлия / Konopatskaya Yuliya / 1998","Ж",14,63.888888888888893,227.5]
["Дорога замков","Трейл 10","Дорога замков Трейл 10",{"$f":"VLOOKUP(C1073,Гонки!$E$1:$N$23,10,FALSE)","v":12.68},"Ж",{"$f":"IF(E1073=\"Ж\",VLOOKUP(C1073,Гонки!$E$2:$P$23,11,FALSE),VLOOKUP(C1073,Гонки!$E$2:$P$23,12,FALSE))","v":36},"Попадюк Виктория ",1985,"Popadyuk Viktoriya ","Попадюк Виктория  / Popadyuk Viktoriya  / 1985","Ж",15,61.111111111111107,217.61]
["Дорога замков","Трейл 10","Дорога замков Трейл 10",{"$f":"VLOOKUP(C1074,Гонки!$E$1:$N$23,10,FALSE)","v":12.68},"Ж",{"$f":"IF(E1074=\"Ж\",VLOOKUP(C1074,Гонки!$E$2:$P$23,11,FALSE),VLOOKUP(C1074,Гонки!$E$2:$P$23,12,FALSE))","v":36},"Сенникова Светлана",1980,"Sennikova Svetlana","Сенникова Светлана / Sennikova Svetlana / 1980","Ж",16,58.333333333333329,207.72]
["Дорога замков","Трейл 10","Дорога замков Трейл 10",{"$f":"VLOOKUP(C1075,Гонки!$E$1:$N$23,10,FALSE)","v":12.68},"Ж",{"$f":"IF(E1075=\"Ж\",VLOOKUP(C1075,Гонки!$E$2:$P$23,11,FALSE),VLOOKUP(C1075,Гонки!$E$2:$P$23,12,FALSE))","v":36},"Кшановская Ирина",1977,"Kshanovskaya Irina","Кшановская Ирина / Kshanovskaya Irina / 1977","Ж",17,55.555555555555557,197.83]
["Дорога замков","Трейл 10","Дорога замков Трейл 10",{"$f":"VLOOKUP(C1076,Гонки!$E$1:$N$23,10,FALSE)","v":12.68},"Ж",{"$f":"IF(E1076=\"Ж\",VLOOKUP(C1076,Гонки!$E$2:$P$23,11,FALSE),VLOOKUP(C1076,Гонки!$E$2:$P$23,12,FALSE))","v":36},"Чигорская Татьяна ",1977,"Chigorskaya Tatyana ","Чигорская Татьяна  / Chigorskaya Tatyana  / 1977","Ж",18,52.777777777777779,187.94]
["Дорога замков","Трейл 10","Дорога замков Трейл 10",{"$f":"VLOOKUP(C1077,Гонки!$E$1:$N$23,10,FALSE)","v":12.68},"Ж",{"$f":"IF(E1077=\"Ж\",VLOOKUP(C1077,Гонки!$E$2:$P$23,11,FALSE),VLOOKUP(C1077,Гонки!$E$2:$P$23,12,FALSE))","v":36},"Пехтерева Татьяна",1987,"Pehtereva Tatyana","Пехтерева Татьяна / Pehtereva Tatyana / 1987","Ж",19,50,178.04]
["Дорога замков","Трейл 10","Дорога замков Трейл 10",{"$f":"VLOOKUP(C1078,Гонки!$E$1:$N$23,10,FALSE)","v":12.68},"Ж",{"$f":"IF(E1078=\"Ж\",VLOOKUP(C1078,Гонки!$E$2:$P$23,11,FALSE),VLOOKUP(C1078,Гонки!$E$2:$P$23,12,FALSE))","v":36},"Шевченко Алёна",null,"Shevchenko Aljona","Шевченко Алёна / Shevchenko Aljona / ","Ж",20,47.222222222222221,168.15]
["Дорога замков","Трейл 10","Дорога замков Трейл 10",{"$f":"VLOOKUP(C1079,Гонки!$E$1:$N$23,10,FALSE)","v":12.68},"Ж",{"$f":"IF(E1079=\"Ж\",VLOOKUP(C1079,Гонки!$E$2:$P$23,11,FALSE),VLOOKUP(C1079,Гонки!$E$2:$P$23,12,FALSE))","v":36},"Занеуская Ганна",1994,"Zaneuskaya Ganna","Занеуская Ганна / Zaneuskaya Ganna / 1994","Ж",21,44.444444444444443,158.26]
["Дорога замков","Трейл 10","Дорога замков Трейл 10",{"$f":"VLOOKUP(C1080,Гонки!$E$1:$N$23,10,FALSE)","v":12.68},"Ж",{"$f":"IF(E1080=\"Ж\",VLOOKUP(C1080,Гонки!$E$2:$P$23,11,FALSE),VLOOKUP(C1080,Гонки!$E$2:$P$23,12,FALSE))","v":36},"Писарик Маргарита ",1988,"Pisarik Margarita ","Писарик Маргарита  / Pisarik Margarita  / 1988","Ж",22,41.666666666666664,148.37]
["Дорога замков","Трейл 10","Дорога замков Трейл 10",{"$f":"VLOOKUP(C1081,Гонки!$E$1:$N$23,10,FALSE)","v":12.68},"Ж",{"$f":"IF(E1081=\"Ж\",VLOOKUP(C1081,Гонки!$E$2:$P$23,11,FALSE),VLOOKUP(C1081,Гонки!$E$2:$P$23,12,FALSE))","v":36},"Ильюшенок Юлия ",1987,"Ilyushenok Yuliya ","Ильюшенок Юлия  / Ilyushenok Yuliya  / 1987","Ж",22,41.666666666666664,148.37]
["Дорога замков","Трейл 10","Дорога замков Трейл 10",{"$f":"VLOOKUP(C1082,Гонки!$E$1:$N$23,10,FALSE)","v":12.68},"Ж",{"$f":"IF(E1082=\"Ж\",VLOOKUP(C1082,Гонки!$E$2:$P$23,11,FALSE),VLOOKUP(C1082,Гонки!$E$2:$P$23,12,FALSE))","v":36},"Бурак Анжелика",1994,"Burak Anzhelika","Бурак Анжелика / Burak Anzhelika / 1994","Ж",24,36.111111111111114,128.59]
["Дорога замков","Трейл 10","Дорога замков Трейл 10",{"$f":"VLOOKUP(C1083,Гонки!$E$1:$N$23,10,FALSE)","v":12.68},"Ж",{"$f":"IF(E1083=\"Ж\",VLOOKUP(C1083,Гонки!$E$2:$P$23,11,FALSE),VLOOKUP(C1083,Гонки!$E$2:$P$23,12,FALSE))","v":36},"Антонова Мария ",1980,"Antonova Mariya ","Антонова Мария  / Antonova Mariya  / 1980","Ж",25,33.333333333333343,118.7]
["Дорога замков","Трейл 10","Дорога замков Трейл 10",{"$f":"VLOOKUP(C1084,Гонки!$E$1:$N$23,10,FALSE)","v":12.68},"Ж",{"$f":"IF(E1084=\"Ж\",VLOOKUP(C1084,Гонки!$E$2:$P$23,11,FALSE),VLOOKUP(C1084,Гонки!$E$2:$P$23,12,FALSE))","v":36},"Новичкова Екатерина ",1997,"Novichkova Ekaterina ","Новичкова Екатерина  / Novichkova Ekaterina  / 1997","Ж",26,30.555555555555557,108.81]
["Дорога замков","Трейл 10","Дорога замков Трейл 10",{"$f":"VLOOKUP(C1085,Гонки!$E$1:$N$23,10,FALSE)","v":12.68},"Ж",{"$f":"IF(E1085=\"Ж\",VLOOKUP(C1085,Гонки!$E$2:$P$23,11,FALSE),VLOOKUP(C1085,Гонки!$E$2:$P$23,12,FALSE))","v":36},"Осокина Наталья",1982,"Osokina Natalya","Осокина Наталья / Osokina Natalya / 1982","Ж",27,27.777777777777786,98.91]
["Дорога замков","Трейл 10","Дорога замков Трейл 10",{"$f":"VLOOKUP(C1086,Гонки!$E$1:$N$23,10,FALSE)","v":12.68},"Ж",{"$f":"IF(E1086=\"Ж\",VLOOKUP(C1086,Гонки!$E$2:$P$23,11,FALSE),VLOOKUP(C1086,Гонки!$E$2:$P$23,12,FALSE))","v":36},"Полякова Анна",1987,"Polyakova Anna","Полякова Анна / Polyakova Anna / 1987","Ж",28,25,89.02]
["Дорога замков","Трейл 10","Дорога замков Трейл 10",{"$f":"VLOOKUP(C1087,Гонки!$E$1:$N$23,10,FALSE)","v":12.68},"Ж",{"$f":"IF(E1087=\"Ж\",VLOOKUP(C1087,Гонки!$E$2:$P$23,11,FALSE),VLOOKUP(C1087,Гонки!$E$2:$P$23,12,FALSE))","v":36},"Войтович Татьяна",1986,"Vojtovich Tatyana","Войтович Татьяна / Vojtovich Tatyana / 1986","Ж",29,22.222222222222214,79.13]
["Дорога замков","Трейл 10","Дорога замков Трейл 10",{"$f":"VLOOKUP(C1088,Гонки!$E$1:$N$23,10,FALSE)","v":12.68},"Ж",{"$f":"IF(E1088=\"Ж\",VLOOKUP(C1088,Гонки!$E$2:$P$23,11,FALSE),VLOOKUP(C1088,Гонки!$E$2:$P$23,12,FALSE))","v":36},"Силивонова Виктория",1994,"Silivonova Viktoriya","Силивонова Виктория / Silivonova Viktoriya / 1994","Ж",30,19.444444444444443,69.239999999999995]
["Дорога замков",{"$f":"$B$1023","v":"Трейл 10"},"Дорога замков Трейл 10",{"$f":"VLOOKUP(C1089,Гонки!$E$1:$N$23,10,FALSE)","v":12.68},"Ж",{"$f":"IF(E1089=\"Ж\",VLOOKUP(C1089,Гонки!$E$2:$P$23,11,FALSE),VLOOKUP(C1089,Гонки!$E$2:$P$23,12,FALSE))","v":36},"Грошева Елена ",1994,"Grosheva Elena ","Грошева Елена  / Grosheva Elena  / 1994","Ж",31,16.666666666666657,59.35]
[{"$f":"$A$1023","v":"Дорога замков"},"Трейл 10",{"$f":"CONCATENATE(A1090,\" \",B1090)","v":"Дорога замков Трейл 10"},{"$f":"VLOOKUP(C1090,Гонки!$E$1:$N$23,10,FALSE)","v":12.68},"Ж",{"$f":"IF(E1090=\"Ж\",VLOOKUP(C1090,Гонки!$E$2:$P$23,11,FALSE),VLOOKUP(C1090,Гонки!$E$2:$P$23,12,FALSE))","v":36},"Кравченко Марина",1990,{"$f":"Translit(G1090)","v":"Kravchenko Marina"},{"$f":"CONCATENATE(G1090,\" / \",I1090,\" / \",H1090)","v":"Кравченко Марина / Kravchenko Marina / 1990"},"Ж",32,13.888888888888886,49.46]
["Дорога замков","Трейл 10","Дорога замков Трейл 10",{"$f":"VLOOKUP(C1091,Гонки!$E$1:$N$23,10,FALSE)","v":12.68},"Ж",{"$f":"IF(E1091=\"Ж\",VLOOKUP(C1091,Гонки!$E$2:$P$23,11,FALSE),VLOOKUP(C1091,Гонки!$E$2:$P$23,12,FALSE))","v":36},"Пак Юлия ",1984,"Pak Yuliya ","Пак Юлия  / Pak Yuliya  / 1984","Ж",33,11.111111111111114,39.57]
["Дорога замков","Трейл 10","Дорога замков Трейл 10",{"$f":"VLOOKUP(C1092,Гонки!$E$1:$N$23,10,FALSE)","v":12.68},"Ж",{"$f":"IF(E1092=\"Ж\",VLOOKUP(C1092,Гонки!$E$2:$P$23,11,FALSE),VLOOKUP(C1092,Гонки!$E$2:$P$23,12,FALSE))","v":36},"Абаркина Елена",1983,"Abarkina Elena","Абаркина Елена / Abarkina Elena / 1983","Ж",34,8.3333333333333428,29.67]
["Дорога замков","Трейл 10","Дорога замков Трейл 10",{"$f":"VLOOKUP(C1093,Гонки!$E$1:$N$23,10,FALSE)","v":12.68},"Ж",{"$f":"IF(E1093=\"Ж\",VLOOKUP(C1093,Гонки!$E$2:$P$23,11,FALSE),VLOOKUP(C1093,Гонки!$E$2:$P$23,12,FALSE))","v":36},"Тудакова Людмила ",1981,"Tudakova Lyudmila ","Тудакова Людмила  / Tudakova Lyudmila  / 1981","Ж",35,5.5555555555555571,19.78]
["Дорога замков","Трейл 10","Дорога замков Трейл 10",{"$f":"VLOOKUP(C1094,Гонки!$E$1:$N$23,10,FALSE)","v":12.68},"Ж",{"$f":"IF(E1094=\"Ж\",VLOOKUP(C1094,Гонки!$E$2:$P$23,11,FALSE),VLOOKUP(C1094,Гонки!$E$2:$P$23,12,FALSE))","v":36},"Охотникова Екатерина ",1968,"Ohotnikova Ekaterina ","Охотникова Екатерина  / Ohotnikova Ekaterina  / 1968","Ж",36,2.7777777777777857,9.89]
["Дорога замков",{"$f":"Гонки!D21","v":"Трейл 21"},"Дорога замков Трейл 21",{"$f":"VLOOKUP(C1095,Гонки!$E$1:$N$23,10,FALSE)","v":26.12},"М",{"$f":"IF(E1095=\"Ж\",VLOOKUP(C1095,Гонки!$E$2:$P$23,11,FALSE),VLOOKUP(C1095,Гонки!$E$2:$P$23,12,FALSE))","v":56},"Ходан Александр",1988,"Hodan Aleksandr","Ходан Александр / Hodan Aleksandr / 1988","М",1,{"$f":"100-((L1095-1)/F1095)*100","v":100},{"$f":"ROUND(SQRT(D1095)*M1095,2)","v":511.08}]
["Дорога замков",{"$f":"$B$1095","v":"Трейл 21"},"Дорога замков Трейл 21",{"$f":"VLOOKUP(C1096,Гонки!$E$1:$N$23,10,FALSE)","v":26.12},"М",{"$f":"IF(E1096=\"Ж\",VLOOKUP(C1096,Гонки!$E$2:$P$23,11,FALSE),VLOOKUP(C1096,Гонки!$E$2:$P$23,12,FALSE))","v":56},"Овсиюк Богдан",1993,"Ovsiyuk Bogdan","Овсиюк Богдан / Ovsiyuk Bogdan / 1993","М",2,98.214285714285708,501.95]
["Дорога замков",{"$f":"$B$1095","v":"Трейл 21"},"Дорога замков Трейл 21",{"$f":"VLOOKUP(C1097,Гонки!$E$1:$N$23,10,FALSE)","v":26.12},"М",{"$f":"IF(E1097=\"Ж\",VLOOKUP(C1097,Гонки!$E$2:$P$23,11,FALSE),VLOOKUP(C1097,Гонки!$E$2:$P$23,12,FALSE))","v":56},"Мосийчук Максим",1984,"Mosijchuk Maksim","Мосийчук Максим / Mosijchuk Maksim / 1984","М",3,96.428571428571431,492.82]
["Дорога замков","Трейл 21","Дорога замков Трейл 21",{"$f":"VLOOKUP(C1098,Гонки!$E$1:$N$23,10,FALSE)","v":26.12},"М",{"$f":"IF(E1098=\"Ж\",VLOOKUP(C1098,Гонки!$E$2:$P$23,11,FALSE),VLOOKUP(C1098,Гонки!$E$2:$P$23,12,FALSE))","v":56},"Бузо Александр",1982,"Buzo Aleksandr","Бузо Александр / Buzo Aleksandr / 1982","М",4,94.642857142857139,483.7]
["Дорога замков","Трейл 21","Дорога замков Трейл 21",{"$f":"VLOOKUP(C1099,Гонки!$E$1:$N$23,10,FALSE)","v":26.12},"М",{"$f":"IF(E1099=\"Ж\",VLOOKUP(C1099,Гонки!$E$2:$P$23,11,FALSE),VLOOKUP(C1099,Гонки!$E$2:$P$23,12,FALSE))","v":56},"Мактавиш Джон",1987,"Maktavish Dzhon","Мактавиш Джон / Maktavish Dzhon / 1987","М",5,92.857142857142861,474.57]
["Дорога замков","Трейл 21","Дорога замков Трейл 21",{"$f":"VLOOKUP(C1100,Гонки!$E$1:$N$23,10,FALSE)","v":26.12},"М",{"$f":"IF(E1100=\"Ж\",VLOOKUP(C1100,Гонки!$E$2:$P$23,11,FALSE),VLOOKUP(C1100,Гонки!$E$2:$P$23,12,FALSE))","v":56},"Хорошавин Вячеслав",1985,"Horoshavin Vyacheslav","Хорошавин Вячеслав / Horoshavin Vyacheslav / 1985","М",6,91.071428571428569,465.45]
["Дорога замков","Трейл 21","Дорога замков Трейл 21",{"$f":"VLOOKUP(C1101,Гонки!$E$1:$N$23,10,FALSE)","v":26.12},"М",{"$f":"IF(E1101=\"Ж\",VLOOKUP(C1101,Гонки!$E$2:$P$23,11,FALSE),VLOOKUP(C1101,Гонки!$E$2:$P$23,12,FALSE))","v":56},"Володько Андрей",1986,"Volodko Andrej","Володько Андрей / Volodko Andrej / 1986","М",7,89.285714285714292,456.32]
["Дорога замков","Трейл 21","Дорога замков Трейл 21",{"$f":"VLOOKUP(C1102,Гонки!$E$1:$N$23,10,FALSE)","v":26.12},"М",{"$f":"IF(E1102=\"Ж\",VLOOKUP(C1102,Гонки!$E$2:$P$23,11,FALSE),VLOOKUP(C1102,Гонки!$E$2:$P$23,12,FALSE))","v":56},"Леденёв Андрей",1971,"Ledenjov Andrej","Леденёв Андрей / Ledenjov Andrej / 1971","М",8,87.5,447.19]
["Дорога замков","Трейл 21","Дорога замков Трейл 21",{"$f":"VLOOKUP(C1103,Гонки!$E$1:$N$23,10,FALSE)","v":26.12},"М",{"$f":"IF(E1103=\"Ж\",VLOOKUP(C1103,Гонки!$E$2:$P$23,11,FALSE),VLOOKUP(C1103,Гонки!$E$2:$P$23,12,FALSE))","v":56},"Сіпачоў Аляксей",1979,"Sіpachou Alyaksej","Сіпачоў Аляксей / Sіpachou Alyaksej / 1979","М",9,85.714285714285722,438.07]
["Дорога замков","Трейл 21","Дорога замков Трейл 21",{"$f":"VLOOKUP(C1104,Гонки!$E$1:$N$23,10,FALSE)","v":26.12},"М",{"$f":"IF(E1104=\"Ж\",VLOOKUP(C1104,Гонки!$E$2:$P$23,11,FALSE),VLOOKUP(C1104,Гонки!$E$2:$P$23,12,FALSE))","v":56},"Хмелевский Антон",1984,"Hmelevskij Anton","Хмелевский Антон / Hmelevskij Anton / 1984","М",10,83.928571428571431,428.94]
["Дорога замков","Трейл 21","Дорога замков Трейл 21",{"$f":"VLOOKUP(C1105,Гонки!$E$1:$N$23,10,FALSE)","v":26.12},"М",{"$f":"IF(E1105=\"Ж\",VLOOKUP(C1105,Гонки!$E$2:$P$23,11,FALSE),VLOOKUP(C1105,Гонки!$E$2:$P$23,12,FALSE))","v":56},"Молчан Александр",1988,"Molchan Aleksandr","Молчан Александр / Molchan Aleksandr / 1988","М",11,82.142857142857139,419.81]
["Дорога замков","Трейл 21","Дорога замков Трейл 21",{"$f":"VLOOKUP(C1106,Гонки!$E$1:$N$23,10,FALSE)","v":26.12},"М",{"$f":"IF(E1106=\"Ж\",VLOOKUP(C1106,Гонки!$E$2:$P$23,11,FALSE),VLOOKUP(C1106,Гонки!$E$2:$P$23,12,FALSE))","v":56},"Пешков Кирилл",1989,"Peshkov Kirill","Пешков Кирилл / Peshkov Kirill / 1989","М",12,80.357142857142861,410.69]
["Дорога замков","Трейл 21","Дорога замков Трейл 21",{"$f":"VLOOKUP(C1107,Гонки!$E$1:$N$23,10,FALSE)","v":26.12},"М",{"$f":"IF(E1107=\"Ж\",VLOOKUP(C1107,Гонки!$E$2:$P$23,11,FALSE),VLOOKUP(C1107,Гонки!$E$2:$P$23,12,FALSE))","v":56},"Алексеев Алексей",1980,"Alekseev Aleksej","Алексеев Алексей / Alekseev Aleksej / 1980","М",13,78.571428571428569,401.56]
["Дорога замков","Трейл 21","Дорога замков Трейл 21",{"$f":"VLOOKUP(C1108,Гонки!$E$1:$N$23,10,FALSE)","v":26.12},"М",{"$f":"IF(E1108=\"Ж\",VLOOKUP(C1108,Гонки!$E$2:$P$23,11,FALSE),VLOOKUP(C1108,Гонки!$E$2:$P$23,12,FALSE))","v":56},"Бокунович Дмитрий ",1982,"Bokunovich Dmitrij ","Бокунович Дмитрий  / Bokunovich Dmitrij  / 1982",{"$f":"E1108","v":"М"},14,76.785714285714278,392.43]
["Дорога замков","Трейл 21","Дорога замков Трейл 21",{"$f":"VLOOKUP(C1109,Гонки!$E$1:$N$23,10,FALSE)","v":26.12},"М",{"$f":"IF(E1109=\"Ж\",VLOOKUP(C1109,Гонки!$E$2:$P$23,11,FALSE),VLOOKUP(C1109,Гонки!$E$2:$P$23,12,FALSE))","v":56},"Осипенко Александр",1977,"Osipenko Aleksandr","Осипенко Александр / Osipenko Aleksandr / 1977","М",15,75,383.31]
["Дорога замков","Трейл 21","Дорога замков Трейл 21",{"$f":"VLOOKUP(C1110,Гонки!$E$1:$N$23,10,FALSE)","v":26.12},"М",{"$f":"IF(E1110=\"Ж\",VLOOKUP(C1110,Гонки!$E$2:$P$23,11,FALSE),VLOOKUP(C1110,Гонки!$E$2:$P$23,12,FALSE))","v":56},"Печёнов Георгий",1975,"Pechjonov Georgij","Печёнов Георгий / Pechjonov Georgij / 1975","М",16,73.214285714285722,374.18]
["Дорога замков","Трейл 21","Дорога замков Трейл 21",{"$f":"VLOOKUP(C1111,Гонки!$E$1:$N$23,10,FALSE)","v":26.12},"М",{"$f":"IF(E1111=\"Ж\",VLOOKUP(C1111,Гонки!$E$2:$P$23,11,FALSE),VLOOKUP(C1111,Гонки!$E$2:$P$23,12,FALSE))","v":56},"Костя Юрий",1985,"Kostya Yurij","Костя Юрий / Kostya Yurij / 1985","М",17,71.428571428571431,365.06]
["Дорога замков","Трейл 21","Дорога замков Трейл 21",{"$f":"VLOOKUP(C1112,Гонки!$E$1:$N$23,10,FALSE)","v":26.12},"М",{"$f":"IF(E1112=\"Ж\",VLOOKUP(C1112,Гонки!$E$2:$P$23,11,FALSE),VLOOKUP(C1112,Гонки!$E$2:$P$23,12,FALSE))","v":56},"Никифоров Дмитрий",1989,"Nikiforov Dmitrij","Никифоров Дмитрий / Nikiforov Dmitrij / 1989","М",18,69.642857142857139,355.93]
["Дорога замков","Трейл 21","Дорога замков Трейл 21",{"$f":"VLOOKUP(C1113,Гонки!$E$1:$N$23,10,FALSE)","v":26.12},"М",{"$f":"IF(E1113=\"Ж\",VLOOKUP(C1113,Гонки!$E$2:$P$23,11,FALSE),VLOOKUP(C1113,Гонки!$E$2:$P$23,12,FALSE))","v":56},"Пак Олег",1977,"Pak Oleg","Пак Олег / Pak Oleg / 1977","М",19,67.857142857142861,346.8]
["Дорога замков","Трейл 21","Дорога замков Трейл 21",{"$f":"VLOOKUP(C1114,Гонки!$E$1:$N$23,10,FALSE)","v":26.12},"М",{"$f":"IF(E1114=\"Ж\",VLOOKUP(C1114,Гонки!$E$2:$P$23,11,FALSE),VLOOKUP(C1114,Гонки!$E$2:$P$23,12,FALSE))","v":56},"Карпович Владимир",1983,"Karpovich Vladimir","Карпович Владимир / Karpovich Vladimir / 1983","М",20,66.071428571428569,337.68]
["Дорога замков","Трейл 21","Дорога замков Трейл 21",{"$f":"VLOOKUP(C1115,Гонки!$E$1:$N$23,10,FALSE)","v":26.12},"М",{"$f":"IF(E1115=\"Ж\",VLOOKUP(C1115,Гонки!$E$2:$P$23,11,FALSE),VLOOKUP(C1115,Гонки!$E$2:$P$23,12,FALSE))","v":56},"Давыдов Андрей",1980,"Davydov Andrej","Давыдов Андрей / Davydov Andrej / 1980","М",21,64.285714285714278,328.55]
["Дорога замков","Трейл 21","Дорога замков Трейл 21",{"$f":"VLOOKUP(C1116,Гонки!$E$1:$N$23,10,FALSE)","v":26.12},"М",{"$f":"IF(E1116=\"Ж\",VLOOKUP(C1116,Гонки!$E$2:$P$23,11,FALSE),VLOOKUP(C1116,Гонки!$E$2:$P$23,12,FALSE))","v":56},"Зятиков Евгений",1982,"Zyatikov Evgenij","Зятиков Евгений / Zyatikov Evgenij / 1982","М",22,62.5,319.42]
["Дорога замков","Трейл 21","Дорога замков Трейл 21",{"$f":"VLOOKUP(C1117,Гонки!$E$1:$N$23,10,FALSE)","v":26.12},"М",{"$f":"IF(E1117=\"Ж\",VLOOKUP(C1117,Гонки!$E$2:$P$23,11,FALSE),VLOOKUP(C1117,Гонки!$E$2:$P$23,12,FALSE))","v":56},"Якубовский Игорь",1984,"Yakubovskij Igor","Якубовский Игорь / Yakubovskij Igor / 1984","М",23,60.714285714285715,310.3]
["Дорога замков","Трейл 21","Дорога замков Трейл 21",{"$f":"VLOOKUP(C1118,Гонки!$E$1:$N$23,10,FALSE)","v":26.12},"М",{"$f":"IF(E1118=\"Ж\",VLOOKUP(C1118,Гонки!$E$2:$P$23,11,FALSE),VLOOKUP(C1118,Гонки!$E$2:$P$23,12,FALSE))","v":56},"Ласюк Юрий",1987,"Lasyuk Yurij","Ласюк Юрий / Lasyuk Yurij / 1987","М",24,58.928571428571431,301.17]
["Дорога замков","Трейл 21","Дорога замков Трейл 21",{"$f":"VLOOKUP(C1119,Гонки!$E$1:$N$23,10,FALSE)","v":26.12},"М",{"$f":"IF(E1119=\"Ж\",VLOOKUP(C1119,Гонки!$E$2:$P$23,11,FALSE),VLOOKUP(C1119,Гонки!$E$2:$P$23,12,FALSE))","v":56},"Кохан Виталий",1982,"Kohan Vitalij","Кохан Виталий / Kohan Vitalij / 1982","М",25,57.142857142857146,292.04000000000002]
["Дорога замков","Трейл 21","Дорога замков Трейл 21",{"$f":"VLOOKUP(C1120,Гонки!$E$1:$N$23,10,FALSE)","v":26.12},"М",{"$f":"IF(E1120=\"Ж\",VLOOKUP(C1120,Гонки!$E$2:$P$23,11,FALSE),VLOOKUP(C1120,Гонки!$E$2:$P$23,12,FALSE))","v":56},"Демчук Ростислав",1978,"Demchuk Rostislav","Демчук Ростислав / Demchuk Rostislav / 1978","М",26,55.357142857142854,282.92]
["Дорога замков","Трейл 21","Дорога замков Трейл 21",{"$f":"VLOOKUP(C1121,Гонки!$E$1:$N$23,10,FALSE)","v":26.12},"М",{"$f":"IF(E1121=\"Ж\",VLOOKUP(C1121,Гонки!$E$2:$P$23,11,FALSE),VLOOKUP(C1121,Гонки!$E$2:$P$23,12,FALSE))","v":56},"Казарин Дмитрий",1994,"Kazarin Dmitrij","Казарин Дмитрий / Kazarin Dmitrij / 1994","М",27,53.571428571428569,273.79000000000002]
["Дорога замков","Трейл 21","Дорога замков Трейл 21",{"$f":"VLOOKUP(C1122,Гонки!$E$1:$N$23,10,FALSE)","v":26.12},"М",{"$f":"IF(E1122=\"Ж\",VLOOKUP(C1122,Гонки!$E$2:$P$23,11,FALSE),VLOOKUP(C1122,Гонки!$E$2:$P$23,12,FALSE))","v":56},"Скуратович Герман",1990,"Skuratovich German","Скуратович Герман / Skuratovich German / 1990","М",28,51.785714285714285,264.67]
["Дорога замков","Трейл 21","Дорога замков Трейл 21",{"$f":"VLOOKUP(C1123,Гонки!$E$1:$N$23,10,FALSE)","v":26.12},"М",{"$f":"IF(E1123=\"Ж\",VLOOKUP(C1123,Гонки!$E$2:$P$23,11,FALSE),VLOOKUP(C1123,Гонки!$E$2:$P$23,12,FALSE))","v":56},"Бахтизин Павел",1980,"Bahtizin Pavel","Бахтизин Павел / Bahtizin Pavel / 1980","М",29,50,255.54]
["Дорога замков","Трейл 21","Дорога замков Трейл 21",{"$f":"VLOOKUP(C1124,Гонки!$E$1:$N$23,10,FALSE)","v":26.12},"М",{"$f":"IF(E1124=\"Ж\",VLOOKUP(C1124,Гонки!$E$2:$P$23,11,FALSE),VLOOKUP(C1124,Гонки!$E$2:$P$23,12,FALSE))","v":56},"Заречанский Юрий",1980,"Zarechanskij Yurij","Заречанский Юрий / Zarechanskij Yurij / 1980","М",30,48.214285714285708,246.41]
["Дорога замков","Трейл 21","Дорога замков Трейл 21",{"$f":"VLOOKUP(C1125,Гонки!$E$1:$N$23,10,FALSE)","v":26.12},"М",{"$f":"IF(E1125=\"Ж\",VLOOKUP(C1125,Гонки!$E$2:$P$23,11,FALSE),VLOOKUP(C1125,Гонки!$E$2:$P$23,12,FALSE))","v":56},"Сеннікаў Ілья",1984,"Sennіkau Іlya","Сеннікаў Ілья / Sennіkau Іlya / 1984","М",31,46.428571428571431,237.29]
["Дорога замков","Трейл 21","Дорога замков Трейл 21",{"$f":"VLOOKUP(C1126,Гонки!$E$1:$N$23,10,FALSE)","v":26.12},"М",{"$f":"IF(E1126=\"Ж\",VLOOKUP(C1126,Гонки!$E$2:$P$23,11,FALSE),VLOOKUP(C1126,Гонки!$E$2:$P$23,12,FALSE))","v":56},"Ларионов Андрей",1981,"Larionov Andrej","Ларионов Андрей / Larionov Andrej / 1981","М",32,44.642857142857139,228.16]
["Дорога замков","Трейл 21","Дорога замков Трейл 21",{"$f":"VLOOKUP(C1127,Гонки!$E$1:$N$23,10,FALSE)","v":26.12},"М",{"$f":"IF(E1127=\"Ж\",VLOOKUP(C1127,Гонки!$E$2:$P$23,11,FALSE),VLOOKUP(C1127,Гонки!$E$2:$P$23,12,FALSE))","v":56},"Никоненко Сергей",1984,"Nikonenko Sergej","Никоненко Сергей / Nikonenko Sergej / 1984","М",33,42.857142857142861,219.03]
["Дорога замков","Трейл 21","Дорога замков Трейл 21",{"$f":"VLOOKUP(C1128,Гонки!$E$1:$N$23,10,FALSE)","v":26.12},"М",{"$f":"IF(E1128=\"Ж\",VLOOKUP(C1128,Гонки!$E$2:$P$23,11,FALSE),VLOOKUP(C1128,Гонки!$E$2:$P$23,12,FALSE))","v":56},"Нехайчик Артур ",1995,"Nehajchik Artur ","Нехайчик Артур  / Nehajchik Artur  / 1995","М",34,41.071428571428569,209.91]
["Дорога замков","Трейл 21","Дорога замков Трейл 21",{"$f":"VLOOKUP(C1129,Гонки!$E$1:$N$23,10,FALSE)","v":26.12},"М",{"$f":"IF(E1129=\"Ж\",VLOOKUP(C1129,Гонки!$E$2:$P$23,11,FALSE),VLOOKUP(C1129,Гонки!$E$2:$P$23,12,FALSE))","v":56},"Хамицевич Михаил",1980,"Hamitsevich Mihail","Хамицевич Михаил / Hamitsevich Mihail / 1980","М",35,39.285714285714292,200.78]
["Дорога замков","Трейл 21","Дорога замков Трейл 21",{"$f":"VLOOKUP(C1130,Гонки!$E$1:$N$23,10,FALSE)","v":26.12},"М",{"$f":"IF(E1130=\"Ж\",VLOOKUP(C1130,Гонки!$E$2:$P$23,11,FALSE),VLOOKUP(C1130,Гонки!$E$2:$P$23,12,FALSE))","v":56},"Скребец Артур ",1991,"Skrebets Artur ","Скребец Артур  / Skrebets Artur  / 1991","М",36,37.5,191.65]
["Дорога замков","Трейл 21","Дорога замков Трейл 21",{"$f":"VLOOKUP(C1131,Гонки!$E$1:$N$23,10,FALSE)","v":26.12},"М",{"$f":"IF(E1131=\"Ж\",VLOOKUP(C1131,Гонки!$E$2:$P$23,11,FALSE),VLOOKUP(C1131,Гонки!$E$2:$P$23,12,FALSE))","v":56},"Ковалюк Вадим",1987,"Kovalyuk Vadim","Ковалюк Вадим / Kovalyuk Vadim / 1987","М",37,35.714285714285708,182.53]
["Дорога замков","Трейл 21","Дорога замков Трейл 21",{"$f":"VLOOKUP(C1132,Гонки!$E$1:$N$23,10,FALSE)","v":26.12},"М",{"$f":"IF(E1132=\"Ж\",VLOOKUP(C1132,Гонки!$E$2:$P$23,11,FALSE),VLOOKUP(C1132,Гонки!$E$2:$P$23,12,FALSE))","v":56},"Минков Сергей",1985,"Minkov Sergej","Минков Сергей / Minkov Sergej / 1985","М",37,35.714285714285708,182.53]
["Дорога замков","Трейл 21","Дорога замков Трейл 21",{"$f":"VLOOKUP(C1133,Гонки!$E$1:$N$23,10,FALSE)","v":26.12},"М",{"$f":"IF(E1133=\"Ж\",VLOOKUP(C1133,Гонки!$E$2:$P$23,11,FALSE),VLOOKUP(C1133,Гонки!$E$2:$P$23,12,FALSE))","v":56},"Фомин Леонид",1983,"Fomin Leonid","Фомин Леонид / Fomin Leonid / 1983","М",39,32.142857142857139,164.27]
["Дорога замков","Трейл 21","Дорога замков Трейл 21",{"$f":"VLOOKUP(C1134,Гонки!$E$1:$N$23,10,FALSE)","v":26.12},"М",{"$f":"IF(E1134=\"Ж\",VLOOKUP(C1134,Гонки!$E$2:$P$23,11,FALSE),VLOOKUP(C1134,Гонки!$E$2:$P$23,12,FALSE))","v":56},"Федоров Федор",1977,"Fedorov Fedor","Федоров Федор / Fedorov Fedor / 1977","М",40,30.357142857142861,155.15]
["Дорога замков","Трейл 21","Дорога замков Трейл 21",{"$f":"VLOOKUP(C1135,Гонки!$E$1:$N$23,10,FALSE)","v":26.12},"М",{"$f":"IF(E1135=\"Ж\",VLOOKUP(C1135,Гонки!$E$2:$P$23,11,FALSE),VLOOKUP(C1135,Гонки!$E$2:$P$23,12,FALSE))","v":56},"Васильченко Вадим",1987,"Vasilchenko Vadim","Васильченко Вадим / Vasilchenko Vadim / 1987","М",41,28.571428571428569,146.02000000000001]
["Дорога замков","Трейл 21","Дорога замков Трейл 21",{"$f":"VLOOKUP(C1136,Гонки!$E$1:$N$23,10,FALSE)","v":26.12},"М",{"$f":"IF(E1136=\"Ж\",VLOOKUP(C1136,Гонки!$E$2:$P$23,11,FALSE),VLOOKUP(C1136,Гонки!$E$2:$P$23,12,FALSE))","v":56},"Греков Игорь",1970,"Grekov Igor","Греков Игорь / Grekov Igor / 1970","М",42,26.785714285714292,136.9]
["Дорога замков","Трейл 21","Дорога замков Трейл 21",{"$f":"VLOOKUP(C1137,Гонки!$E$1:$N$23,10,FALSE)","v":26.12},"М",{"$f":"IF(E1137=\"Ж\",VLOOKUP(C1137,Гонки!$E$2:$P$23,11,FALSE),VLOOKUP(C1137,Гонки!$E$2:$P$23,12,FALSE))","v":56},"Горшков Игорь",1977,"Gorshkov Igor","Горшков Игорь / Gorshkov Igor / 1977","М",43,25,127.77]
["Дорога замков","Трейл 21","Дорога замков Трейл 21",{"$f":"VLOOKUP(C1138,Гонки!$E$1:$N$23,10,FALSE)","v":26.12},"М",{"$f":"IF(E1138=\"Ж\",VLOOKUP(C1138,Гонки!$E$2:$P$23,11,FALSE),VLOOKUP(C1138,Гонки!$E$2:$P$23,12,FALSE))","v":56},"Мышковец Василий ",1980,"Myshkovets Vasilij ","Мышковец Василий  / Myshkovets Vasilij  / 1980","М",44,23.214285714285708,118.64]
["Дорога замков","Трейл 21","Дорога замков Трейл 21",{"$f":"VLOOKUP(C1139,Гонки!$E$1:$N$23,10,FALSE)","v":26.12},"М",{"$f":"IF(E1139=\"Ж\",VLOOKUP(C1139,Гонки!$E$2:$P$23,11,FALSE),VLOOKUP(C1139,Гонки!$E$2:$P$23,12,FALSE))","v":56},"Панфилов Сергей ",1975,"Panfilov Sergej ","Панфилов Сергей  / Panfilov Sergej  / 1975","М",45,21.428571428571431,109.52]
["Дорога замков","Трейл 21","Дорога замков Трейл 21",{"$f":"VLOOKUP(C1140,Гонки!$E$1:$N$23,10,FALSE)","v":26.12},"М",{"$f":"IF(E1140=\"Ж\",VLOOKUP(C1140,Гонки!$E$2:$P$23,11,FALSE),VLOOKUP(C1140,Гонки!$E$2:$P$23,12,FALSE))","v":56},"Волков Алексей ",1990,"Volkov Aleksej ","Волков Алексей  / Volkov Aleksej  / 1990","М",46,19.642857142857139,100.39]
["Дорога замков","Трейл 21","Дорога замков Трейл 21",{"$f":"VLOOKUP(C1141,Гонки!$E$1:$N$23,10,FALSE)","v":26.12},"М",{"$f":"IF(E1141=\"Ж\",VLOOKUP(C1141,Гонки!$E$2:$P$23,11,FALSE),VLOOKUP(C1141,Гонки!$E$2:$P$23,12,FALSE))","v":56},"Прищепа Сергей",1985,"Prischepa Sergej","Прищепа Сергей / Prischepa Sergej / 1985","М",47,17.857142857142861,91.26]
["Дорога замков","Трейл 21","Дорога замков Трейл 21",{"$f":"VLOOKUP(C1142,Гонки!$E$1:$N$23,10,FALSE)","v":26.12},"М",{"$f":"IF(E1142=\"Ж\",VLOOKUP(C1142,Гонки!$E$2:$P$23,11,FALSE),VLOOKUP(C1142,Гонки!$E$2:$P$23,12,FALSE))","v":56},"Бритов Максим",1974,"Britov Maksim","Бритов Максим / Britov Maksim / 1974","М",48,16.071428571428569,82.14]
["Дорога замков","Трейл 21","Дорога замков Трейл 21",{"$f":"VLOOKUP(C1143,Гонки!$E$1:$N$23,10,FALSE)","v":26.12},"М",{"$f":"IF(E1143=\"Ж\",VLOOKUP(C1143,Гонки!$E$2:$P$23,11,FALSE),VLOOKUP(C1143,Гонки!$E$2:$P$23,12,FALSE))","v":56},"Лазаренок Глеб",1982,"Lazarenok Gleb","Лазаренок Глеб / Lazarenok Gleb / 1982","М",49,14.285714285714292,73.010000000000005]
["Дорога замков","Трейл 21","Дорога замков Трейл 21",{"$f":"VLOOKUP(C1144,Гонки!$E$1:$N$23,10,FALSE)","v":26.12},"М",{"$f":"IF(E1144=\"Ж\",VLOOKUP(C1144,Гонки!$E$2:$P$23,11,FALSE),VLOOKUP(C1144,Гонки!$E$2:$P$23,12,FALSE))","v":56},"Шуленков Роман",1990,"Shulenkov Roman","Шуленков Роман / Shulenkov Roman / 1990","М",50,12.5,63.88]
["Дорога замков","Трейл 21","Дорога замков Трейл 21",{"$f":"VLOOKUP(C1145,Гонки!$E$1:$N$23,10,FALSE)","v":26.12},"М",{"$f":"IF(E1145=\"Ж\",VLOOKUP(C1145,Гонки!$E$2:$P$23,11,FALSE),VLOOKUP(C1145,Гонки!$E$2:$P$23,12,FALSE))","v":56},"Коньшин Андрей",1988,"Konshin Andrej","Коньшин Андрей / Konshin Andrej / 1988","М",51,10.714285714285708,54.76]
["Дорога замков","Трейл 21","Дорога замков Трейл 21",{"$f":"VLOOKUP(C1146,Гонки!$E$1:$N$23,10,FALSE)","v":26.12},"М",{"$f":"IF(E1146=\"Ж\",VLOOKUP(C1146,Гонки!$E$2:$P$23,11,FALSE),VLOOKUP(C1146,Гонки!$E$2:$P$23,12,FALSE))","v":56},"Обухов Артём",1985,"Obuhov Artjom","Обухов Артём / Obuhov Artjom / 1985","М",52,8.9285714285714306,45.63]
["Дорога замков","Трейл 21","Дорога замков Трейл 21",{"$f":"VLOOKUP(C1147,Гонки!$E$1:$N$23,10,FALSE)","v":26.12},"М",{"$f":"IF(E1147=\"Ж\",VLOOKUP(C1147,Гонки!$E$2:$P$23,11,FALSE),VLOOKUP(C1147,Гонки!$E$2:$P$23,12,FALSE))","v":56},"Бубликов Александр",1986,"Bublikov Aleksandr","Бубликов Александр / Bublikov Aleksandr / 1986","М",53,7.1428571428571388,36.51]
["Дорога замков","Трейл 21","Дорога замков Трейл 21",{"$f":"VLOOKUP(C1148,Гонки!$E$1:$N$23,10,FALSE)","v":26.12},"М",{"$f":"IF(E1148=\"Ж\",VLOOKUP(C1148,Гонки!$E$2:$P$23,11,FALSE),VLOOKUP(C1148,Гонки!$E$2:$P$23,12,FALSE))","v":56},"Сяба Александр",1982,"Syaba Aleksandr","Сяба Александр / Syaba Aleksandr / 1982","М",54,5.3571428571428612,27.38]
["Дорога замков","Трейл 21","Дорога замков Трейл 21",{"$f":"VLOOKUP(C1149,Гонки!$E$1:$N$23,10,FALSE)","v":26.12},"М",{"$f":"IF(E1149=\"Ж\",VLOOKUP(C1149,Гонки!$E$2:$P$23,11,FALSE),VLOOKUP(C1149,Гонки!$E$2:$P$23,12,FALSE))","v":56},"Горбиков Кирилл ",1982,"Gorbikov Kirill ","Горбиков Кирилл  / Gorbikov Kirill  / 1982","М",55,3.5714285714285694,18.25]
["Дорога замков","Трейл 21","Дорога замков Трейл 21",{"$f":"VLOOKUP(C1150,Гонки!$E$1:$N$23,10,FALSE)","v":26.12},"М",{"$f":"IF(E1150=\"Ж\",VLOOKUP(C1150,Гонки!$E$2:$P$23,11,FALSE),VLOOKUP(C1150,Гонки!$E$2:$P$23,12,FALSE))","v":56},"Стасилович Виктор ",1993,"Stasilovich Viktor ","Стасилович Виктор  / Stasilovich Viktor  / 1993","М",56,1.7857142857142918,9.1300000000000008]
["Дорога замков","Трейл 21","Дорога замков Трейл 21",{"$f":"VLOOKUP(C1151,Гонки!$E$1:$N$23,10,FALSE)","v":26.12},"Ж",{"$f":"IF(E1151=\"Ж\",VLOOKUP(C1151,Гонки!$E$2:$P$23,11,FALSE),VLOOKUP(C1151,Гонки!$E$2:$P$23,12,FALSE))","v":15},"Суханова Надежда",1994,"Suhanova Nadezhda","Суханова Надежда / Suhanova Nadezhda / 1994","Ж",1,{"$f":"100-((L1151-1)/F1151)*100","v":100},{"$f":"ROUND(SQRT(D1151)*M1151,2)","v":511.08}]
["Дорога замков","Трейл 21","Дорога замков Трейл 21",{"$f":"VLOOKUP(C1152,Гонки!$E$1:$N$23,10,FALSE)","v":26.12},"Ж",{"$f":"IF(E1152=\"Ж\",VLOOKUP(C1152,Гонки!$E$2:$P$23,11,FALSE),VLOOKUP(C1152,Гонки!$E$2:$P$23,12,FALSE))","v":15},"Трубкина Анастасия",1989,"Trubkina Anastasiya","Трубкина Анастасия / Trubkina Anastasiya / 1989","Ж",2,93.333333333333329,477.01]
["Дорога замков","Трейл 21","Дорога замков Трейл 21",{"$f":"VLOOKUP(C1153,Гонки!$E$1:$N$23,10,FALSE)","v":26.12},"Ж",{"$f":"IF(E1153=\"Ж\",VLOOKUP(C1153,Гонки!$E$2:$P$23,11,FALSE),VLOOKUP(C1153,Гонки!$E$2:$P$23,12,FALSE))","v":15},"Веремейчик Елена",1986,"Veremejchik Elena","Веремейчик Елена / Veremejchik Elena / 1986","Ж",3,86.666666666666671,442.93]
[{"$f":"$A$1023","v":"Дорога замков"},"Трейл 21",{"$f":"CONCATENATE(A1154,\" \",B1154)","v":"Дорога замков Трейл 21"},{"$f":"VLOOKUP(C1154,Гонки!$E$1:$N$23,10,FALSE)","v":26.12},"Ж",{"$f":"IF(E1154=\"Ж\",VLOOKUP(C1154,Гонки!$E$2:$P$23,11,FALSE),VLOOKUP(C1154,Гонки!$E$2:$P$23,12,FALSE))","v":15},"Кликун Татьяна",1989,{"$f":"Translit(G1154)","v":"Klikun Tatyana"},{"$f":"CONCATENATE(G1154,\" / \",I1154,\" / \",H1154)","v":"Кликун Татьяна / Klikun Tatyana / 1989"},"Ж",4,80,408.86]
["Дорога замков","Трейл 21","Дорога замков Трейл 21",{"$f":"VLOOKUP(C1155,Гонки!$E$1:$N$23,10,FALSE)","v":26.12},"Ж",{"$f":"IF(E1155=\"Ж\",VLOOKUP(C1155,Гонки!$E$2:$P$23,11,FALSE),VLOOKUP(C1155,Гонки!$E$2:$P$23,12,FALSE))","v":15},"Новикова Галина ",1975,"Novikova Galina ","Новикова Галина  / Novikova Galina  / 1975","Ж",5,73.333333333333329,374.79]
["Дорога замков","Трейл 21","Дорога замков Трейл 21",{"$f":"VLOOKUP(C1156,Гонки!$E$1:$N$23,10,FALSE)","v":26.12},"Ж",{"$f":"IF(E1156=\"Ж\",VLOOKUP(C1156,Гонки!$E$2:$P$23,11,FALSE),VLOOKUP(C1156,Гонки!$E$2:$P$23,12,FALSE))","v":15},"Сорокина Марина ",1981,"Sorokina Marina ","Сорокина Марина  / Sorokina Marina  / 1981","Ж",6,66.666666666666671,340.72]
["Дорога замков","Трейл 21","Дорога замков Трейл 21",{"$f":"VLOOKUP(C1157,Гонки!$E$1:$N$23,10,FALSE)","v":26.12},"Ж",{"$f":"IF(E1157=\"Ж\",VLOOKUP(C1157,Гонки!$E$2:$P$23,11,FALSE),VLOOKUP(C1157,Гонки!$E$2:$P$23,12,FALSE))","v":15},"Сикорская Настя",1983,"Sikorskaya Nastya","Сикорская Настя / Sikorskaya Nastya / 1983","Ж",7,60,306.64999999999998]
["Дорога замков","Трейл 21","Дорога замков Трейл 21",{"$f":"VLOOKUP(C1158,Гонки!$E$1:$N$23,10,FALSE)","v":26.12},"Ж",{"$f":"IF(E1158=\"Ж\",VLOOKUP(C1158,Гонки!$E$2:$P$23,11,FALSE),VLOOKUP(C1158,Гонки!$E$2:$P$23,12,FALSE))","v":15},"Новик Анастасия",1985,"Novik Anastasiya","Новик Анастасия / Novik Anastasiya / 1985","Ж",8,53.333333333333336,272.57]
["Дорога замков","Трейл 21","Дорога замков Трейл 21",{"$f":"VLOOKUP(C1159,Гонки!$E$1:$N$23,10,FALSE)","v":26.12},"Ж",{"$f":"IF(E1159=\"Ж\",VLOOKUP(C1159,Гонки!$E$2:$P$23,11,FALSE),VLOOKUP(C1159,Гонки!$E$2:$P$23,12,FALSE))","v":15},"Зарецкая Оксана",1982,"Zaretskaya Oksana","Зарецкая Оксана / Zaretskaya Oksana / 1982","Ж",9,46.666666666666664,238.5]
["Дорога замков","Трейл 21","Дорога замков Трейл 21",{"$f":"VLOOKUP(C1160,Гонки!$E$1:$N$23,10,FALSE)","v":26.12},"Ж",{"$f":"IF(E1160=\"Ж\",VLOOKUP(C1160,Гонки!$E$2:$P$23,11,FALSE),VLOOKUP(C1160,Гонки!$E$2:$P$23,12,FALSE))","v":15},"Струщенко Светлана",1986,"Struschenko Svetlana","Струщенко Светлана / Struschenko Svetlana / 1986","Ж",10,40,204.43]
["Дорога замков",{"$f":"$B$1095","v":"Трейл 21"},"Дорога замков Трейл 21",{"$f":"VLOOKUP(C1161,Гонки!$E$1:$N$23,10,FALSE)","v":26.12},"Ж",{"$f":"IF(E1161=\"Ж\",VLOOKUP(C1161,Гонки!$E$2:$P$23,11,FALSE),VLOOKUP(C1161,Гонки!$E$2:$P$23,12,FALSE))","v":15},"Литвинская Людмила",1977,"Litvinskaya Lyudmila","Литвинская Людмила / Litvinskaya Lyudmila / 1977","Ж",11,33.333333333333343,170.36]
["Дорога замков","Трейл 21","Дорога замков Трейл 21",{"$f":"VLOOKUP(C1162,Гонки!$E$1:$N$23,10,FALSE)","v":26.12},"Ж",{"$f":"IF(E1162=\"Ж\",VLOOKUP(C1162,Гонки!$E$2:$P$23,11,FALSE),VLOOKUP(C1162,Гонки!$E$2:$P$23,12,FALSE))","v":15},"Белая Юлия",1988,"Belaya Yuliya","Белая Юлия / Belaya Yuliya / 1988","Ж",12,26.666666666666671,136.29]
["Дорога замков","Трейл 21","Дорога замков Трейл 21",{"$f":"VLOOKUP(C1163,Гонки!$E$1:$N$23,10,FALSE)","v":26.12},"Ж",{"$f":"IF(E1163=\"Ж\",VLOOKUP(C1163,Гонки!$E$2:$P$23,11,FALSE),VLOOKUP(C1163,Гонки!$E$2:$P$23,12,FALSE))","v":15},"Косціна Вікторыя",1992,"Kostsіna Vіktoryya","Косціна Вікторыя / Kostsіna Vіktoryya / 1992","Ж",13,20,102.22]
["Дорога замков","Трейл 21","Дорога замков Трейл 21",{"$f":"VLOOKUP(C1164,Гонки!$E$1:$N$23,10,FALSE)","v":26.12},"Ж",{"$f":"IF(E1164=\"Ж\",VLOOKUP(C1164,Гонки!$E$2:$P$23,11,FALSE),VLOOKUP(C1164,Гонки!$E$2:$P$23,12,FALSE))","v":15},"Александронец Ганна",1991,"Aleksandronets Ganna","Александронец Ганна / Aleksandronets Ganna / 1991","Ж",14,13.333333333333329,68.14]
["Дорога замков","Трейл 21","Дорога замков Трейл 21",{"$f":"VLOOKUP(C1165,Гонки!$E$1:$N$23,10,FALSE)","v":26.12},"Ж",{"$f":"IF(E1165=\"Ж\",VLOOKUP(C1165,Гонки!$E$2:$P$23,11,FALSE),VLOOKUP(C1165,Гонки!$E$2:$P$23,12,FALSE))","v":15},"Марченко Людмила",1972,"Marchenko Lyudmila","Марченко Людмила / Marchenko Lyudmila / 1972","Ж",15,6.6666666666666714,34.07]
["Дорога замков",{"$f":"Гонки!D22","v":"Трейл 42"},"Дорога замков Трейл 42",{"$f":"VLOOKUP(C1166,Гонки!$E$1:$N$23,10,FALSE)","v":46.39},"М",{"$f":"IF(E1166=\"Ж\",VLOOKUP(C1166,Гонки!$E$2:$P$23,11,FALSE),VLOOKUP(C1166,Гонки!$E$2:$P$23,12,FALSE))","v":31},"Мальков Валентин",1988,"Malkov Valentin","Мальков Валентин / Malkov Valentin / 1988","М",1,{"$f":"100-((L1166-1)/F1166)*100","v":100},{"$f":"ROUND(SQRT(D1166)*M1166,2)","v":681.1}]
["Дорога замков",{"$f":"$B$1166","v":"Трейл 42"},"Дорога замков Трейл 42",{"$f":"VLOOKUP(C1167,Гонки!$E$1:$N$23,10,FALSE)","v":46.39},"М",{"$f":"IF(E1167=\"Ж\",VLOOKUP(C1167,Гонки!$E$2:$P$23,11,FALSE),VLOOKUP(C1167,Гонки!$E$2:$P$23,12,FALSE))","v":31},"Леонов Иван",1986,"Leonov Ivan","Леонов Иван / Leonov Ivan / 1986","М",2,96.774193548387103,659.13]
["Дорога замков",{"$f":"$B$1166","v":"Трейл 42"},"Дорога замков Трейл 42",{"$f":"VLOOKUP(C1168,Гонки!$E$1:$N$23,10,FALSE)","v":46.39},"М",{"$f":"IF(E1168=\"Ж\",VLOOKUP(C1168,Гонки!$E$2:$P$23,11,FALSE),VLOOKUP(C1168,Гонки!$E$2:$P$23,12,FALSE))","v":31},"Арзамасов Илья",1987,"Arzamasov Ilya","Арзамасов Илья / Arzamasov Ilya / 1987","М",3,93.548387096774192,637.16]
["Дорога замков","Трейл 42","Дорога замков Трейл 42",{"$f":"VLOOKUP(C1169,Гонки!$E$1:$N$23,10,FALSE)","v":46.39},"М",{"$f":"IF(E1169=\"Ж\",VLOOKUP(C1169,Гонки!$E$2:$P$23,11,FALSE),VLOOKUP(C1169,Гонки!$E$2:$P$23,12,FALSE))","v":31},"Цвирко Артур",1991,"Tsvirko Artur","Цвирко Артур / Tsvirko Artur / 1991","М",4,90.322580645161295,615.19000000000005]
["Дорога замков","Трейл 42","Дорога замков Трейл 42",{"$f":"VLOOKUP(C1170,Гонки!$E$1:$N$23,10,FALSE)","v":46.39},"М",{"$f":"IF(E1170=\"Ж\",VLOOKUP(C1170,Гонки!$E$2:$P$23,11,FALSE),VLOOKUP(C1170,Гонки!$E$2:$P$23,12,FALSE))","v":31},"Нагорнюк Михаил",1984,"Nagornyuk Mihail","Нагорнюк Михаил / Nagornyuk Mihail / 1984","М",5,87.096774193548384,593.22]
["Дорога замков","Трейл 42","Дорога замков Трейл 42",{"$f":"VLOOKUP(C1171,Гонки!$E$1:$N$23,10,FALSE)","v":46.39},"М",{"$f":"IF(E1171=\"Ж\",VLOOKUP(C1171,Гонки!$E$2:$P$23,11,FALSE),VLOOKUP(C1171,Гонки!$E$2:$P$23,12,FALSE))","v":31},"Крисенков Алексей",1983,"Krisenkov Aleksej","Крисенков Алексей / Krisenkov Aleksej / 1983","М",6,83.870967741935488,571.25]
["Дорога замков","Трейл 42","Дорога замков Трейл 42",{"$f":"VLOOKUP(C1172,Гонки!$E$1:$N$23,10,FALSE)","v":46.39},"М",{"$f":"IF(E1172=\"Ж\",VLOOKUP(C1172,Гонки!$E$2:$P$23,11,FALSE),VLOOKUP(C1172,Гонки!$E$2:$P$23,12,FALSE))","v":31},"Попадюк Игорь",1982,"Popadyuk Igor","Попадюк Игорь / Popadyuk Igor / 1982",{"$f":"E1172","v":"М"},7,80.645161290322577,549.28]
["Дорога замков","Трейл 42","Дорога замков Трейл 42",{"$f":"VLOOKUP(C1173,Гонки!$E$1:$N$23,10,FALSE)","v":46.39},"М",{"$f":"IF(E1173=\"Ж\",VLOOKUP(C1173,Гонки!$E$2:$P$23,11,FALSE),VLOOKUP(C1173,Гонки!$E$2:$P$23,12,FALSE))","v":31},"Горбач Максим",1983,"Gorbach Maksim","Горбач Максим / Gorbach Maksim / 1983","М",8,77.41935483870968,527.29999999999995]
["Дорога замков","Трейл 42","Дорога замков Трейл 42",{"$f":"VLOOKUP(C1174,Гонки!$E$1:$N$23,10,FALSE)","v":46.39},"М",{"$f":"IF(E1174=\"Ж\",VLOOKUP(C1174,Гонки!$E$2:$P$23,11,FALSE),VLOOKUP(C1174,Гонки!$E$2:$P$23,12,FALSE))","v":31},"Сафроненко Андрей",1984,"Safronenko Andrej","Сафроненко Андрей / Safronenko Andrej / 1984","М",9,74.193548387096769,505.33]
["Дорога замков","Трейл 42","Дорога замков Трейл 42",{"$f":"VLOOKUP(C1175,Гонки!$E$1:$N$23,10,FALSE)","v":46.39},"М",{"$f":"IF(E1175=\"Ж\",VLOOKUP(C1175,Гонки!$E$2:$P$23,11,FALSE),VLOOKUP(C1175,Гонки!$E$2:$P$23,12,FALSE))","v":31},"Астапов Владимир",1977,"Astapov Vladimir","Астапов Владимир / Astapov Vladimir / 1977","М",10,70.967741935483872,483.36]
["Дорога замков","Трейл 42","Дорога замков Трейл 42",{"$f":"VLOOKUP(C1176,Гонки!$E$1:$N$23,10,FALSE)","v":46.39},"М",{"$f":"IF(E1176=\"Ж\",VLOOKUP(C1176,Гонки!$E$2:$P$23,11,FALSE),VLOOKUP(C1176,Гонки!$E$2:$P$23,12,FALSE))","v":31},"Барановский Алексей",1981,"Baranovskij Aleksej","Барановский Алексей / Baranovskij Aleksej / 1981","М",11,67.741935483870975,461.39]
["Дорога замков","Трейл 42","Дорога замков Трейл 42",{"$f":"VLOOKUP(C1177,Гонки!$E$1:$N$23,10,FALSE)","v":46.39},"М",{"$f":"IF(E1177=\"Ж\",VLOOKUP(C1177,Гонки!$E$2:$P$23,11,FALSE),VLOOKUP(C1177,Гонки!$E$2:$P$23,12,FALSE))","v":31},"Маковский Дмитрий",1981,"Makovskij Dmitrij","Маковский Дмитрий / Makovskij Dmitrij / 1981","М",11,67.741935483870975,461.39]
["Дорога замков","Трейл 42","Дорога замков Трейл 42",{"$f":"VLOOKUP(C1178,Гонки!$E$1:$N$23,10,FALSE)","v":46.39},"М",{"$f":"IF(E1178=\"Ж\",VLOOKUP(C1178,Гонки!$E$2:$P$23,11,FALSE),VLOOKUP(C1178,Гонки!$E$2:$P$23,12,FALSE))","v":31},"Юлов Герман ",1993,"Yulov German ","Юлов Герман  / Yulov German  / 1993","М",13,61.29032258064516,417.45]
["Дорога замков","Трейл 42","Дорога замков Трейл 42",{"$f":"VLOOKUP(C1179,Гонки!$E$1:$N$23,10,FALSE)","v":46.39},"М",{"$f":"IF(E1179=\"Ж\",VLOOKUP(C1179,Гонки!$E$2:$P$23,11,FALSE),VLOOKUP(C1179,Гонки!$E$2:$P$23,12,FALSE))","v":31},"Королёв Максим",1989,"Koroljov Maksim","Королёв Максим / Koroljov Maksim / 1989","М",14,58.064516129032256,395.48]
["Дорога замков","Трейл 42","Дорога замков Трейл 42",{"$f":"VLOOKUP(C1180,Гонки!$E$1:$N$23,10,FALSE)","v":46.39},"М",{"$f":"IF(E1180=\"Ж\",VLOOKUP(C1180,Гонки!$E$2:$P$23,11,FALSE),VLOOKUP(C1180,Гонки!$E$2:$P$23,12,FALSE))","v":31},"Дубков Алексей ",1984,"Dubkov Aleksej ","Дубков Алексей  / Dubkov Aleksej  / 1984","М",15,54.838709677419359,373.51]
["Дорога замков","Трейл 42","Дорога замков Трейл 42",{"$f":"VLOOKUP(C1181,Гонки!$E$1:$N$23,10,FALSE)","v":46.39},"М",{"$f":"IF(E1181=\"Ж\",VLOOKUP(C1181,Гонки!$E$2:$P$23,11,FALSE),VLOOKUP(C1181,Гонки!$E$2:$P$23,12,FALSE))","v":31},"Титуленко Егор",1983,"Titulenko Egor","Титуленко Егор / Titulenko Egor / 1983","М",15,54.838709677419359,373.51]
["Дорога замков","Трейл 42","Дорога замков Трейл 42",{"$f":"VLOOKUP(C1182,Гонки!$E$1:$N$23,10,FALSE)","v":46.39},"М",{"$f":"IF(E1182=\"Ж\",VLOOKUP(C1182,Гонки!$E$2:$P$23,11,FALSE),VLOOKUP(C1182,Гонки!$E$2:$P$23,12,FALSE))","v":31},"Хадорик Владимир",1986,"Hadorik Vladimir","Хадорик Владимир / Hadorik Vladimir / 1986","М",17,48.387096774193552,329.57]
["Дорога замков","Трейл 42","Дорога замков Трейл 42",{"$f":"VLOOKUP(C1183,Гонки!$E$1:$N$23,10,FALSE)","v":46.39},"М",{"$f":"IF(E1183=\"Ж\",VLOOKUP(C1183,Гонки!$E$2:$P$23,11,FALSE),VLOOKUP(C1183,Гонки!$E$2:$P$23,12,FALSE))","v":31},"Коровец Богдан",1976,"Korovets Bogdan","Коровец Богдан / Korovets Bogdan / 1976","М",18,45.161290322580648,307.58999999999997]
["Дорога замков","Трейл 42","Дорога замков Трейл 42",{"$f":"VLOOKUP(C1184,Гонки!$E$1:$N$23,10,FALSE)","v":46.39},"М",{"$f":"IF(E1184=\"Ж\",VLOOKUP(C1184,Гонки!$E$2:$P$23,11,FALSE),VLOOKUP(C1184,Гонки!$E$2:$P$23,12,FALSE))","v":31},"Смолко Николай",1987,"Smolko Nikolaj","Смолко Николай / Smolko Nikolaj / 1987","М",19,41.935483870967737,285.62]
["Дорога замков","Трейл 42","Дорога замков Трейл 42",{"$f":"VLOOKUP(C1185,Гонки!$E$1:$N$23,10,FALSE)","v":46.39},"М",{"$f":"IF(E1185=\"Ж\",VLOOKUP(C1185,Гонки!$E$2:$P$23,11,FALSE),VLOOKUP(C1185,Гонки!$E$2:$P$23,12,FALSE))","v":31},"Шклярик Олег",1970,"Shklyarik Oleg","Шклярик Олег / Shklyarik Oleg / 1970","М",20,38.70967741935484,263.64999999999998]
["Дорога замков","Трейл 42","Дорога замков Трейл 42",{"$f":"VLOOKUP(C1186,Гонки!$E$1:$N$23,10,FALSE)","v":46.39},"М",{"$f":"IF(E1186=\"Ж\",VLOOKUP(C1186,Гонки!$E$2:$P$23,11,FALSE),VLOOKUP(C1186,Гонки!$E$2:$P$23,12,FALSE))","v":31},"Рингевич Александр ",1983,"Ringevich Aleksandr ","Рингевич Александр  / Ringevich Aleksandr  / 1983","М",21,35.483870967741936,241.68]
["Дорога замков","Трейл 42","Дорога замков Трейл 42",{"$f":"VLOOKUP(C1187,Гонки!$E$1:$N$23,10,FALSE)","v":46.39},"М",{"$f":"IF(E1187=\"Ж\",VLOOKUP(C1187,Гонки!$E$2:$P$23,11,FALSE),VLOOKUP(C1187,Гонки!$E$2:$P$23,12,FALSE))","v":31},"Беганский Иван ",1984,"Beganskij Ivan ","Беганский Иван  / Beganskij Ivan  / 1984","М",22,32.258064516129039,219.71]
["Дорога замков","Трейл 42","Дорога замков Трейл 42",{"$f":"VLOOKUP(C1188,Гонки!$E$1:$N$23,10,FALSE)","v":46.39},"М",{"$f":"IF(E1188=\"Ж\",VLOOKUP(C1188,Гонки!$E$2:$P$23,11,FALSE),VLOOKUP(C1188,Гонки!$E$2:$P$23,12,FALSE))","v":31},"Шевчук Максим ",1994,"Shevchuk Maksim ","Шевчук Максим  / Shevchuk Maksim  / 1994","М",23,29.032258064516128,197.74]
["Дорога замков","Трейл 42","Дорога замков Трейл 42",{"$f":"VLOOKUP(C1189,Гонки!$E$1:$N$23,10,FALSE)","v":46.39},"М",{"$f":"IF(E1189=\"Ж\",VLOOKUP(C1189,Гонки!$E$2:$P$23,11,FALSE),VLOOKUP(C1189,Гонки!$E$2:$P$23,12,FALSE))","v":31},"Палий Андрей",1984,"Palij Andrej","Палий Андрей / Palij Andrej / 1984","М",24,25.806451612903231,175.77]
["Дорога замков","Трейл 42","Дорога замков Трейл 42",{"$f":"VLOOKUP(C1190,Гонки!$E$1:$N$23,10,FALSE)","v":46.39},"М",{"$f":"IF(E1190=\"Ж\",VLOOKUP(C1190,Гонки!$E$2:$P$23,11,FALSE),VLOOKUP(C1190,Гонки!$E$2:$P$23,12,FALSE))","v":31},"Иванов Денис",1990,"Ivanov Denis","Иванов Денис / Ivanov Denis / 1990","М",25,22.58064516129032,153.80000000000001]
["Дорога замков","Трейл 42","Дорога замков Трейл 42",{"$f":"VLOOKUP(C1191,Гонки!$E$1:$N$23,10,FALSE)","v":46.39},"М",{"$f":"IF(E1191=\"Ж\",VLOOKUP(C1191,Гонки!$E$2:$P$23,11,FALSE),VLOOKUP(C1191,Гонки!$E$2:$P$23,12,FALSE))","v":31},"Сичкарь Игорь",1975,"Sichkar Igor","Сичкарь Игорь / Sichkar Igor / 1975","М",26,19.354838709677423,131.83000000000001]
["Дорога замков","Трейл 42","Дорога замков Трейл 42",{"$f":"VLOOKUP(C1192,Гонки!$E$1:$N$23,10,FALSE)","v":46.39},"М",{"$f":"IF(E1192=\"Ж\",VLOOKUP(C1192,Гонки!$E$2:$P$23,11,FALSE),VLOOKUP(C1192,Гонки!$E$2:$P$23,12,FALSE))","v":31},"Жучков Алексей",1985,"Zhuchkov Aleksej","Жучков Алексей / Zhuchkov Aleksej / 1985","М",27,16.129032258064512,109.86]
["Дорога замков","Трейл 42","Дорога замков Трейл 42",{"$f":"VLOOKUP(C1193,Гонки!$E$1:$N$23,10,FALSE)","v":46.39},"М",{"$f":"IF(E1193=\"Ж\",VLOOKUP(C1193,Гонки!$E$2:$P$23,11,FALSE),VLOOKUP(C1193,Гонки!$E$2:$P$23,12,FALSE))","v":31},"Шукайлов Максим",1988,"Shukajlov Maksim","Шукайлов Максим / Shukajlov Maksim / 1988","М",28,12.903225806451616,87.88]
["Дорога замков","Трейл 42","Дорога замков Трейл 42",{"$f":"VLOOKUP(C1194,Гонки!$E$1:$N$23,10,FALSE)","v":46.39},"М",{"$f":"IF(E1194=\"Ж\",VLOOKUP(C1194,Гонки!$E$2:$P$23,11,FALSE),VLOOKUP(C1194,Гонки!$E$2:$P$23,12,FALSE))","v":31},"Комар Артем",1998,"Komar Artem","Комар Артем / Komar Artem / 1998","М",29,9.6774193548387188,65.91]
["Дорога замков","Трейл 42","Дорога замков Трейл 42",{"$f":"VLOOKUP(C1195,Гонки!$E$1:$N$23,10,FALSE)","v":46.39},"М",{"$f":"IF(E1195=\"Ж\",VLOOKUP(C1195,Гонки!$E$2:$P$23,11,FALSE),VLOOKUP(C1195,Гонки!$E$2:$P$23,12,FALSE))","v":31},"Зданович Андрей",1973,"Zdanovich Andrej","Зданович Андрей / Zdanovich Andrej / 1973","М",30,6.4516129032258078,43.94]
["Дорога замков","Трейл 42","Дорога замков Трейл 42",{"$f":"VLOOKUP(C1196,Гонки!$E$1:$N$23,10,FALSE)","v":46.39},"М",{"$f":"IF(E1196=\"Ж\",VLOOKUP(C1196,Гонки!$E$2:$P$23,11,FALSE),VLOOKUP(C1196,Гонки!$E$2:$P$23,12,FALSE))","v":31},"Щербина Максим",1976,"Scherbina Maksim","Щербина Максим / Scherbina Maksim / 1976","М",31,3.2258064516128968,21.97]
["Дорога замков","Трейл 42","Дорога замков Трейл 42",{"$f":"VLOOKUP(C1197,Гонки!$E$1:$N$23,10,FALSE)","v":46.39},"Ж",{"$f":"IF(E1197=\"Ж\",VLOOKUP(C1197,Гонки!$E$2:$P$23,11,FALSE),VLOOKUP(C1197,Гонки!$E$2:$P$23,12,FALSE))","v":7},"Черкас Александра",1992,"Cherkas Aleksandra","Черкас Александра / Cherkas Aleksandra / 1992","Ж",1,{"$f":"100-((L1197-1)/F1197)*100","v":100},{"$f":"ROUND(SQRT(D1197)*M1197,2)","v":681.1}]
["Дорога замков","Трейл 42","Дорога замков Трейл 42",{"$f":"VLOOKUP(C1198,Гонки!$E$1:$N$23,10,FALSE)","v":46.39},"Ж",{"$f":"IF(E1198=\"Ж\",VLOOKUP(C1198,Гонки!$E$2:$P$23,11,FALSE),VLOOKUP(C1198,Гонки!$E$2:$P$23,12,FALSE))","v":7},"Торубарова Татьяна",1983,"Torubarova Tatyana","Торубарова Татьяна / Torubarova Tatyana / 1983","Ж",2,85.714285714285722,583.79999999999995]
["Дорога замков","Трейл 42","Дорога замков Трейл 42",{"$f":"VLOOKUP(C1199,Гонки!$E$1:$N$23,10,FALSE)","v":46.39},"Ж",{"$f":"IF(E1199=\"Ж\",VLOOKUP(C1199,Гонки!$E$2:$P$23,11,FALSE),VLOOKUP(C1199,Гонки!$E$2:$P$23,12,FALSE))","v":7},"Диксон Катерина ",1993,"Dikson Katerina ","Диксон Катерина  / Dikson Katerina  / 1993","Ж",3,71.428571428571431,486.5]
["Дорога замков","Трейл 42","Дорога замков Трейл 42",{"$f":"VLOOKUP(C1200,Гонки!$E$1:$N$23,10,FALSE)","v":46.39},"Ж",{"$f":"IF(E1200=\"Ж\",VLOOKUP(C1200,Гонки!$E$2:$P$23,11,FALSE),VLOOKUP(C1200,Гонки!$E$2:$P$23,12,FALSE))","v":7},"Стойчикова Ксения",1997,"Stojchikova Kseniya","Стойчикова Ксения / Stojchikova Kseniya / 1997","Ж",4,57.142857142857146,389.2]
["Дорога замков","Трейл 42","Дорога замков Трейл 42",{"$f":"VLOOKUP(C1201,Гонки!$E$1:$N$23,10,FALSE)","v":46.39},"Ж",{"$f":"IF(E1201=\"Ж\",VLOOKUP(C1201,Гонки!$E$2:$P$23,11,FALSE),VLOOKUP(C1201,Гонки!$E$2:$P$23,12,FALSE))","v":7},"Жила Анастасия",1994,"Zhila Anastasiya","Жила Анастасия / Zhila Anastasiya / 1994","Ж",5,42.857142857142861,291.89999999999998]
["Дорога замков","Трейл 42","Дорога замков Трейл 42",{"$f":"VLOOKUP(C1202,Гонки!$E$1:$N$23,10,FALSE)","v":46.39},"Ж",{"$f":"IF(E1202=\"Ж\",VLOOKUP(C1202,Гонки!$E$2:$P$23,11,FALSE),VLOOKUP(C1202,Гонки!$E$2:$P$23,12,FALSE))","v":7},"Невмержицкая Анна",1997,"Nevmerzhitskaya Anna","Невмержицкая Анна / Nevmerzhitskaya Anna / 1997","Ж",6,28.571428571428569,194.6]
["Дорога замков",{"$f":"Гонки!D23","v":"Ультра-Трейл 100"},"Дорога замков Ультра-Трейл 100",{"$f":"VLOOKUP(C1203,Гонки!$E$1:$N$23,10,FALSE)","v":110.86},"М",{"$f":"IF(E1203=\"Ж\",VLOOKUP(C1203,Гонки!$E$2:$P$23,11,FALSE),VLOOKUP(C1203,Гонки!$E$2:$P$23,12,FALSE))","v":16},"Синица Кирилл",1981,"Sinitsa Kirill","Синица Кирилл / Sinitsa Kirill / 1981","М",1,{"$f":"100-((L1203-1)/F1203)*100","v":100},{"$f":"ROUND(SQRT(D1203)*M1203,2)","v":1052.9000000000001}]
["Дорога замков",{"$f":"$B$1203","v":"Ультра-Трейл 100"},"Дорога замков Ультра-Трейл 100",{"$f":"VLOOKUP(C1204,Гонки!$E$1:$N$23,10,FALSE)","v":110.86},"М",{"$f":"IF(E1204=\"Ж\",VLOOKUP(C1204,Гонки!$E$2:$P$23,11,FALSE),VLOOKUP(C1204,Гонки!$E$2:$P$23,12,FALSE))","v":16},"Молочко Александр",1981,"Molochko Aleksandr","Молочко Александр / Molochko Aleksandr / 1981","М",2,93.75,987.09]
["Дорога замков",{"$f":"$B$1203","v":"Ультра-Трейл 100"},"Дорога замков Ультра-Трейл 100",{"$f":"VLOOKUP(C1205,Гонки!$E$1:$N$23,10,FALSE)","v":110.86},"М",{"$f":"IF(E1205=\"Ж\",VLOOKUP(C1205,Гонки!$E$2:$P$23,11,FALSE),VLOOKUP(C1205,Гонки!$E$2:$P$23,12,FALSE))","v":16},"Осадчий Константин",1985,"Osadchij Konstantin","Осадчий Константин / Osadchij Konstantin / 1985","М",3,87.5,921.29]
["Дорога замков","Ультра-Трейл 100","Дорога замков Ультра-Трейл 100",{"$f":"VLOOKUP(C1206,Гонки!$E$1:$N$23,10,FALSE)","v":110.86},"М",{"$f":"IF(E1206=\"Ж\",VLOOKUP(C1206,Гонки!$E$2:$P$23,11,FALSE),VLOOKUP(C1206,Гонки!$E$2:$P$23,12,FALSE))","v":16},"Побединский Александр",1983,"Pobedinskij Aleksandr","Побединский Александр / Pobedinskij Aleksandr / 1983","М",4,81.25,855.48]
["Дорога замков","Ультра-Трейл 100","Дорога замков Ультра-Трейл 100",{"$f":"VLOOKUP(C1207,Гонки!$E$1:$N$23,10,FALSE)","v":110.86},"М",{"$f":"IF(E1207=\"Ж\",VLOOKUP(C1207,Гонки!$E$2:$P$23,11,FALSE),VLOOKUP(C1207,Гонки!$E$2:$P$23,12,FALSE))","v":16},"Герасимук Юрий",1992,"Gerasimuk Yurij","Герасимук Юрий / Gerasimuk Yurij / 1992","М",5,75,789.68]
["Дорога замков","Ультра-Трейл 100","Дорога замков Ультра-Трейл 100",{"$f":"VLOOKUP(C1208,Гонки!$E$1:$N$23,10,FALSE)","v":110.86},"М",{"$f":"IF(E1208=\"Ж\",VLOOKUP(C1208,Гонки!$E$2:$P$23,11,FALSE),VLOOKUP(C1208,Гонки!$E$2:$P$23,12,FALSE))","v":16},"Тюев Даниил",1977,"Tyuev Daniil","Тюев Даниил / Tyuev Daniil / 1977","М",6,68.75,723.87]
["Дорога замков","Ультра-Трейл 100","Дорога замков Ультра-Трейл 100",{"$f":"VLOOKUP(C1209,Гонки!$E$1:$N$23,10,FALSE)","v":110.86},"М",{"$f":"IF(E1209=\"Ж\",VLOOKUP(C1209,Гонки!$E$2:$P$23,11,FALSE),VLOOKUP(C1209,Гонки!$E$2:$P$23,12,FALSE))","v":16},"Федорович Николай",1959,"Fedorovich Nikolaj","Федорович Николай / Fedorovich Nikolaj / 1959","М",7,62.5,658.06]
["Дорога замков","Ультра-Трейл 100","Дорога замков Ультра-Трейл 100",{"$f":"VLOOKUP(C1210,Гонки!$E$1:$N$28,10,FALSE)","v":110.86},"Ж",{"$f":"IF(E1210=\"Ж\",VLOOKUP(C1210,Гонки!$E$2:$P$28,11,FALSE),VLOOKUP(C1210,Гонки!$E$2:$P$28,12,FALSE))","v":3},"Сулимчик Оксана",1986,"Sulimchik Oksana","Сулимчик Оксана / Sulimchik Oksana / 1986","Ж",1,100,1052.9000000000001]
[{"$f":"Гонки!C24","v":"Жук-трейл #8 Логойск"},{"$f":"Гонки!D24","v":"Трейл 5"},"Жук-трейл #8 Логойск Трейл 5",{"$f":"VLOOKUP(C1211,Гонки!$E$1:$N$28,10,FALSE)","v":7.4249999999999998},"Ж",{"$f":"IF(E1211=\"Ж\",VLOOKUP(C1211,Гонки!$E$2:$P$28,11,FALSE),VLOOKUP(C1211,Гонки!$E$2:$P$28,12,FALSE))","v":48},"Балицкая Ольга",1981,"Balitskaya Olga","Балицкая Ольга / Balitskaya Olga / 1981","Ж",1,100,272.49]
[{"$f":"$A$1211","v":"Жук-трейл #8 Логойск"},{"$f":"$B$1211","v":"Трейл 5"},"Жук-трейл #8 Логойск Трейл 5",{"$f":"VLOOKUP(C1212,Гонки!$E$1:$N$28,10,FALSE)","v":7.4249999999999998},"Ж",{"$f":"IF(E1212=\"Ж\",VLOOKUP(C1212,Гонки!$E$2:$P$28,11,FALSE),VLOOKUP(C1212,Гонки!$E$2:$P$28,12,FALSE))","v":48},"Фомина Ирина",1986,"Fomina Irina","Фомина Ирина / Fomina Irina / 1986","Ж",2,97.916666666666671,266.81]
[{"$f":"$A$1211","v":"Жук-трейл #8 Логойск"},{"$f":"$B$1211","v":"Трейл 5"},"Жук-трейл #8 Логойск Трейл 5",{"$f":"VLOOKUP(C1213,Гонки!$E$1:$N$28,10,FALSE)","v":7.4249999999999998},"Ж",{"$f":"IF(E1213=\"Ж\",VLOOKUP(C1213,Гонки!$E$2:$P$28,11,FALSE),VLOOKUP(C1213,Гонки!$E$2:$P$28,12,FALSE))","v":48},"Сковорода Инна",1995,"Skovoroda Inna","Сковорода Инна / Skovoroda Inna / 1995","Ж",3,95.833333333333329,261.13]
["Жук-трейл #8 Логойск","Трейл 5","Жук-трейл #8 Логойск Трейл 5",{"$f":"VLOOKUP(C1214,Гонки!$E$1:$N$28,10,FALSE)","v":7.4249999999999998},"Ж",{"$f":"IF(E1214=\"Ж\",VLOOKUP(C1214,Гонки!$E$2:$P$28,11,FALSE),VLOOKUP(C1214,Гонки!$E$2:$P$28,12,FALSE))","v":48},"Шахметова Наталья",1992,"Shahmetova Natalya","Шахметова Наталья / Shahmetova Natalya / 1992","Ж",4,93.75,255.46]
["Жук-трейл #8 Логойск","Трейл 5","Жук-трейл #8 Логойск Трейл 5",{"$f":"VLOOKUP(C1215,Гонки!$E$1:$N$28,10,FALSE)","v":7.4249999999999998},"Ж",{"$f":"IF(E1215=\"Ж\",VLOOKUP(C1215,Гонки!$E$2:$P$28,11,FALSE),VLOOKUP(C1215,Гонки!$E$2:$P$28,12,FALSE))","v":48},"Пилипейко Дарья",1999,"Pilipejko Darya","Пилипейко Дарья / Pilipejko Darya / 1999","Ж",5,91.666666666666671,249.78]
["Жук-трейл #8 Логойск","Трейл 5","Жук-трейл #8 Логойск Трейл 5",{"$f":"VLOOKUP(C1216,Гонки!$E$1:$N$28,10,FALSE)","v":7.4249999999999998},"Ж",{"$f":"IF(E1216=\"Ж\",VLOOKUP(C1216,Гонки!$E$2:$P$28,11,FALSE),VLOOKUP(C1216,Гонки!$E$2:$P$28,12,FALSE))","v":48},"Жданович Александра",1985,"Zhdanovich Aleksandra","Жданович Александра / Zhdanovich Aleksandra / 1985","Ж",6,89.583333333333329,244.1]
["Жук-трейл #8 Логойск","Трейл 5","Жук-трейл #8 Логойск Трейл 5",{"$f":"VLOOKUP(C1217,Гонки!$E$1:$N$28,10,FALSE)","v":7.4249999999999998},"Ж",{"$f":"IF(E1217=\"Ж\",VLOOKUP(C1217,Гонки!$E$2:$P$28,11,FALSE),VLOOKUP(C1217,Гонки!$E$2:$P$28,12,FALSE))","v":48},"Аленова Анастасия",1993,"Alenova Anastasiya","Аленова Анастасия / Alenova Anastasiya / 1993","Ж",7,87.5,238.43]
["Жук-трейл #8 Логойск","Трейл 5",{"$f":"CONCATENATE(A1218,\" \",B1218)","v":"Жук-трейл #8 Логойск Трейл 5"},{"$f":"VLOOKUP(C1218,Гонки!$E$1:$N$28,10,FALSE)","v":7.4249999999999998},"Ж",{"$f":"IF(E1218=\"Ж\",VLOOKUP(C1218,Гонки!$E$2:$P$28,11,FALSE),VLOOKUP(C1218,Гонки!$E$2:$P$28,12,FALSE))","v":48},"Зубкевич Анжелика",1992,{"$f":"Translit(G1218)","v":"Zubkevich Anzhelika"},{"$f":"CONCATENATE(G1218,\" / \",I1218,\" / \",H1218)","v":"Зубкевич Анжелика / Zubkevich Anzhelika / 1992"},"Ж",8,85.416666666666671,232.75]
["Жук-трейл #8 Логойск","Трейл 5","Жук-трейл #8 Логойск Трейл 5",{"$f":"VLOOKUP(C1219,Гонки!$E$1:$N$28,10,FALSE)","v":7.4249999999999998},"Ж",{"$f":"IF(E1219=\"Ж\",VLOOKUP(C1219,Гонки!$E$2:$P$28,11,FALSE),VLOOKUP(C1219,Гонки!$E$2:$P$28,12,FALSE))","v":48},"Конопацкая Юлия",1998,"Konopatskaya Yuliya","Конопацкая Юлия / Konopatskaya Yuliya / 1998","Ж",9,83.333333333333343,227.07]
["Жук-трейл #8 Логойск","Трейл 5","Жук-трейл #8 Логойск Трейл 5",{"$f":"VLOOKUP(C1220,Гонки!$E$1:$N$28,10,FALSE)","v":7.4249999999999998},"Ж",{"$f":"IF(E1220=\"Ж\",VLOOKUP(C1220,Гонки!$E$2:$P$28,11,FALSE),VLOOKUP(C1220,Гонки!$E$2:$P$28,12,FALSE))","v":48},"Сушко Александра",1995,"Sushko Aleksandra","Сушко Александра / Sushko Aleksandra / 1995","Ж",10,81.25,221.4]
["Жук-трейл #8 Логойск","Трейл 5","Жук-трейл #8 Логойск Трейл 5",{"$f":"VLOOKUP(C1221,Гонки!$E$1:$N$28,10,FALSE)","v":7.4249999999999998},"Ж",{"$f":"IF(E1221=\"Ж\",VLOOKUP(C1221,Гонки!$E$2:$P$28,11,FALSE),VLOOKUP(C1221,Гонки!$E$2:$P$28,12,FALSE))","v":48},"Сыченко Евгения",1992,"Sychenko Evgeniya","Сыченко Евгения / Sychenko Evgeniya / 1992","Ж",11,79.166666666666657,215.72]
["Жук-трейл #8 Логойск","Трейл 5","Жук-трейл #8 Логойск Трейл 5",{"$f":"VLOOKUP(C1222,Гонки!$E$1:$N$28,10,FALSE)","v":7.4249999999999998},"Ж",{"$f":"IF(E1222=\"Ж\",VLOOKUP(C1222,Гонки!$E$2:$P$28,11,FALSE),VLOOKUP(C1222,Гонки!$E$2:$P$28,12,FALSE))","v":48},"Тишковец Анастасия",1988,"Tishkovets Anastasiya","Тишковец Анастасия / Tishkovets Anastasiya / 1988","Ж",12,77.083333333333343,210.04]
["Жук-трейл #8 Логойск","Трейл 5","Жук-трейл #8 Логойск Трейл 5",{"$f":"VLOOKUP(C1223,Гонки!$E$1:$N$28,10,FALSE)","v":7.4249999999999998},"Ж",{"$f":"IF(E1223=\"Ж\",VLOOKUP(C1223,Гонки!$E$2:$P$28,11,FALSE),VLOOKUP(C1223,Гонки!$E$2:$P$28,12,FALSE))","v":48},"Сенникова Светлана",1980,"Sennikova Svetlana","Сенникова Светлана / Sennikova Svetlana / 1980","Ж",13,75,204.37]
["Жук-трейл #8 Логойск","Трейл 5","Жук-трейл #8 Логойск Трейл 5",{"$f":"VLOOKUP(C1224,Гонки!$E$1:$N$28,10,FALSE)","v":7.4249999999999998},"Ж",{"$f":"IF(E1224=\"Ж\",VLOOKUP(C1224,Гонки!$E$2:$P$28,11,FALSE),VLOOKUP(C1224,Гонки!$E$2:$P$28,12,FALSE))","v":48},"Позднева Мария",2001,"Pozdneva Mariya","Позднева Мария / Pozdneva Mariya / 2001","Ж",14,72.916666666666671,198.69]
["Жук-трейл #8 Логойск","Трейл 5","Жук-трейл #8 Логойск Трейл 5",{"$f":"VLOOKUP(C1225,Гонки!$E$1:$N$28,10,FALSE)","v":7.4249999999999998},"Ж",{"$f":"IF(E1225=\"Ж\",VLOOKUP(C1225,Гонки!$E$2:$P$28,11,FALSE),VLOOKUP(C1225,Гонки!$E$2:$P$28,12,FALSE))","v":48},"Сенько Вероника",1990,"Senko Veronika","Сенько Вероника / Senko Veronika / 1990","Ж",15,70.833333333333329,193.01]
["Жук-трейл #8 Логойск","Трейл 5","Жук-трейл #8 Логойск Трейл 5",{"$f":"VLOOKUP(C1226,Гонки!$E$1:$N$28,10,FALSE)","v":7.4249999999999998},"Ж",{"$f":"IF(E1226=\"Ж\",VLOOKUP(C1226,Гонки!$E$2:$P$28,11,FALSE),VLOOKUP(C1226,Гонки!$E$2:$P$28,12,FALSE))","v":48},"Хмелевская Ольга",1988,"Hmelevskaya Olga","Хмелевская Ольга / Hmelevskaya Olga / 1988","Ж",16,68.75,187.34]
["Жук-трейл #8 Логойск","Трейл 5","Жук-трейл #8 Логойск Трейл 5",{"$f":"VLOOKUP(C1227,Гонки!$E$1:$N$28,10,FALSE)","v":7.4249999999999998},"Ж",{"$f":"IF(E1227=\"Ж\",VLOOKUP(C1227,Гонки!$E$2:$P$28,11,FALSE),VLOOKUP(C1227,Гонки!$E$2:$P$28,12,FALSE))","v":48},"Остапюк Анна",2000,"Ostapyuk Anna","Остапюк Анна / Ostapyuk Anna / 2000","Ж",17,66.666666666666671,181.66]
["Жук-трейл #8 Логойск","Трейл 5","Жук-трейл #8 Логойск Трейл 5",{"$f":"VLOOKUP(C1228,Гонки!$E$1:$N$28,10,FALSE)","v":7.4249999999999998},"Ж",{"$f":"IF(E1228=\"Ж\",VLOOKUP(C1228,Гонки!$E$2:$P$28,11,FALSE),VLOOKUP(C1228,Гонки!$E$2:$P$28,12,FALSE))","v":48},"Климова Вера",1992,"Klimova Vera","Климова Вера / Klimova Vera / 1992","Ж",18,64.583333333333329,175.98]
["Жук-трейл #8 Логойск","Трейл 5","Жук-трейл #8 Логойск Трейл 5",{"$f":"VLOOKUP(C1229,Гонки!$E$1:$N$28,10,FALSE)","v":7.4249999999999998},"Ж",{"$f":"IF(E1229=\"Ж\",VLOOKUP(C1229,Гонки!$E$2:$P$28,11,FALSE),VLOOKUP(C1229,Гонки!$E$2:$P$28,12,FALSE))","v":48},"Лира Дина",1980,"Lira Dina","Лира Дина / Lira Dina / 1980","Ж",19,62.5,170.31]
["Жук-трейл #8 Логойск","Трейл 5","Жук-трейл #8 Логойск Трейл 5",{"$f":"VLOOKUP(C1230,Гонки!$E$1:$N$28,10,FALSE)","v":7.4249999999999998},"Ж",{"$f":"IF(E1230=\"Ж\",VLOOKUP(C1230,Гонки!$E$2:$P$28,11,FALSE),VLOOKUP(C1230,Гонки!$E$2:$P$28,12,FALSE))","v":48},"Борздыко Виктория",1994,"Borzdyko Viktoriya","Борздыко Виктория / Borzdyko Viktoriya / 1994","Ж",20,60.416666666666671,164.63]
["Жук-трейл #8 Логойск","Трейл 5","Жук-трейл #8 Логойск Трейл 5",{"$f":"VLOOKUP(C1231,Гонки!$E$1:$N$28,10,FALSE)","v":7.4249999999999998},"Ж",{"$f":"IF(E1231=\"Ж\",VLOOKUP(C1231,Гонки!$E$2:$P$28,11,FALSE),VLOOKUP(C1231,Гонки!$E$2:$P$28,12,FALSE))","v":48},"Паранок Полина",1984,"Paranok Polina","Паранок Полина / Paranok Polina / 1984","Ж",21,58.333333333333329,158.94999999999999]
["Жук-трейл #8 Логойск","Трейл 5","Жук-трейл #8 Логойск Трейл 5",{"$f":"VLOOKUP(C1232,Гонки!$E$1:$N$28,10,FALSE)","v":7.4249999999999998},"Ж",{"$f":"IF(E1232=\"Ж\",VLOOKUP(C1232,Гонки!$E$2:$P$28,11,FALSE),VLOOKUP(C1232,Гонки!$E$2:$P$28,12,FALSE))","v":48},"Акулова Виктория",1980,"Akulova Viktoriya","Акулова Виктория / Akulova Viktoriya / 1980","Ж",22,56.25,153.27000000000001]
["Жук-трейл #8 Логойск","Трейл 5","Жук-трейл #8 Логойск Трейл 5",{"$f":"VLOOKUP(C1233,Гонки!$E$1:$N$28,10,FALSE)","v":7.4249999999999998},"Ж",{"$f":"IF(E1233=\"Ж\",VLOOKUP(C1233,Гонки!$E$2:$P$28,11,FALSE),VLOOKUP(C1233,Гонки!$E$2:$P$28,12,FALSE))","v":48},"Скобло Елена",1984,"Skoblo Elena","Скобло Елена / Skoblo Elena / 1984","Ж",23,54.166666666666671,147.6]
["Жук-трейл #8 Логойск","Трейл 5","Жук-трейл #8 Логойск Трейл 5",{"$f":"VLOOKUP(C1234,Гонки!$E$1:$N$28,10,FALSE)","v":7.4249999999999998},"Ж",{"$f":"IF(E1234=\"Ж\",VLOOKUP(C1234,Гонки!$E$2:$P$28,11,FALSE),VLOOKUP(C1234,Гонки!$E$2:$P$28,12,FALSE))","v":48},"Романовская Ольга",1988,"Romanovskaya Olga","Романовская Ольга / Romanovskaya Olga / 1988","Ж",24,52.083333333333329,141.91999999999999]
["Жук-трейл #8 Логойск","Трейл 5","Жук-трейл #8 Логойск Трейл 5",{"$f":"VLOOKUP(C1235,Гонки!$E$1:$N$28,10,FALSE)","v":7.4249999999999998},"Ж",{"$f":"IF(E1235=\"Ж\",VLOOKUP(C1235,Гонки!$E$2:$P$28,11,FALSE),VLOOKUP(C1235,Гонки!$E$2:$P$28,12,FALSE))","v":48},"Бураковская Ульяна",1996,"Burakovskaya Ulyana","Бураковская Ульяна / Burakovskaya Ulyana / 1996","Ж",25,50,136.24]
["Жук-трейл #8 Логойск","Трейл 5","Жук-трейл #8 Логойск Трейл 5",{"$f":"VLOOKUP(C1236,Гонки!$E$1:$N$28,10,FALSE)","v":7.4249999999999998},"Ж",{"$f":"IF(E1236=\"Ж\",VLOOKUP(C1236,Гонки!$E$2:$P$28,11,FALSE),VLOOKUP(C1236,Гонки!$E$2:$P$28,12,FALSE))","v":48},"Кулеш Кристина",1984,"Kulesh Kristina","Кулеш Кристина / Kulesh Kristina / 1984",{"$f":"E1236","v":"Ж"},25,50,136.24]
["Жук-трейл #8 Логойск","Трейл 5","Жук-трейл #8 Логойск Трейл 5",{"$f":"VLOOKUP(C1237,Гонки!$E$1:$N$28,10,FALSE)","v":7.4249999999999998},"Ж",{"$f":"IF(E1237=\"Ж\",VLOOKUP(C1237,Гонки!$E$2:$P$28,11,FALSE),VLOOKUP(C1237,Гонки!$E$2:$P$28,12,FALSE))","v":48},"Моисеева Вероника",1983,"Moiseeva Veronika","Моисеева Вероника / Moiseeva Veronika / 1983","Ж",27,45.833333333333336,124.89]
["Жук-трейл #8 Логойск","Трейл 5","Жук-трейл #8 Логойск Трейл 5",{"$f":"VLOOKUP(C1238,Гонки!$E$1:$N$28,10,FALSE)","v":7.4249999999999998},"Ж",{"$f":"IF(E1238=\"Ж\",VLOOKUP(C1238,Гонки!$E$2:$P$28,11,FALSE),VLOOKUP(C1238,Гонки!$E$2:$P$28,12,FALSE))","v":48},"Михеенко Ольга",1992,"Miheenko Olga","Михеенко Ольга / Miheenko Olga / 1992","Ж",28,43.75,119.21]
["Жук-трейл #8 Логойск","Трейл 5","Жук-трейл #8 Логойск Трейл 5",{"$f":"VLOOKUP(C1239,Гонки!$E$1:$N$28,10,FALSE)","v":7.4249999999999998},"Ж",{"$f":"IF(E1239=\"Ж\",VLOOKUP(C1239,Гонки!$E$2:$P$28,11,FALSE),VLOOKUP(C1239,Гонки!$E$2:$P$28,12,FALSE))","v":48},"Ежелева Светлана",1989,"Ezheleva Svetlana","Ежелева Светлана / Ezheleva Svetlana / 1989","Ж",29,41.666666666666664,113.54]
["Жук-трейл #8 Логойск","Трейл 5","Жук-трейл #8 Логойск Трейл 5",{"$f":"VLOOKUP(C1240,Гонки!$E$1:$N$28,10,FALSE)","v":7.4249999999999998},"Ж",{"$f":"IF(E1240=\"Ж\",VLOOKUP(C1240,Гонки!$E$2:$P$28,11,FALSE),VLOOKUP(C1240,Гонки!$E$2:$P$28,12,FALSE))","v":48},"Богомаз Екатерина",1981,"Bogomaz Ekaterina","Богомаз Екатерина / Bogomaz Ekaterina / 1981","Ж",30,39.583333333333336,107.86]
["Жук-трейл #8 Логойск","Трейл 5","Жук-трейл #8 Логойск Трейл 5",{"$f":"VLOOKUP(C1241,Гонки!$E$1:$N$28,10,FALSE)","v":7.4249999999999998},"Ж",{"$f":"IF(E1241=\"Ж\",VLOOKUP(C1241,Гонки!$E$2:$P$28,11,FALSE),VLOOKUP(C1241,Гонки!$E$2:$P$28,12,FALSE))","v":48},"Здитовецкая Ирина",1980,"Zditovetskaya Irina","Здитовецкая Ирина / Zditovetskaya Irina / 1980","Ж",31,37.5,102.18]
["Жук-трейл #8 Логойск","Трейл 5","Жук-трейл #8 Логойск Трейл 5",{"$f":"VLOOKUP(C1242,Гонки!$E$1:$N$28,10,FALSE)","v":7.4249999999999998},"Ж",{"$f":"IF(E1242=\"Ж\",VLOOKUP(C1242,Гонки!$E$2:$P$28,11,FALSE),VLOOKUP(C1242,Гонки!$E$2:$P$28,12,FALSE))","v":48},"Кубышкина Татьяна",1975,"Kubyshkina Tatyana","Кубышкина Татьяна / Kubyshkina Tatyana / 1975","Ж",32,35.416666666666657,96.51]
["Жук-трейл #8 Логойск","Трейл 5","Жук-трейл #8 Логойск Трейл 5",{"$f":"VLOOKUP(C1243,Гонки!$E$1:$N$28,10,FALSE)","v":7.4249999999999998},"Ж",{"$f":"IF(E1243=\"Ж\",VLOOKUP(C1243,Гонки!$E$2:$P$28,11,FALSE),VLOOKUP(C1243,Гонки!$E$2:$P$28,12,FALSE))","v":48},"Стракович Екатерина",1991,"Strakovich Ekaterina","Стракович Екатерина / Strakovich Ekaterina / 1991","Ж",33,33.333333333333343,90.83]
["Жук-трейл #8 Логойск","Трейл 5","Жук-трейл #8 Логойск Трейл 5",{"$f":"VLOOKUP(C1244,Гонки!$E$1:$N$28,10,FALSE)","v":7.4249999999999998},"Ж",{"$f":"IF(E1244=\"Ж\",VLOOKUP(C1244,Гонки!$E$2:$P$28,11,FALSE),VLOOKUP(C1244,Гонки!$E$2:$P$28,12,FALSE))","v":48},"Гаслова Ольга",1981,"Gaslova Olga","Гаслова Ольга / Gaslova Olga / 1981","Ж",34,31.25,85.15]
["Жук-трейл #8 Логойск","Трейл 5","Жук-трейл #8 Логойск Трейл 5",{"$f":"VLOOKUP(C1245,Гонки!$E$1:$N$28,10,FALSE)","v":7.4249999999999998},"Ж",{"$f":"IF(E1245=\"Ж\",VLOOKUP(C1245,Гонки!$E$2:$P$28,11,FALSE),VLOOKUP(C1245,Гонки!$E$2:$P$28,12,FALSE))","v":48},"Кравченко Марина",1990,"Kravchenko Marina","Кравченко Марина / Kravchenko Marina / 1990","Ж",35,29.166666666666657,79.48]
["Жук-трейл #8 Логойск","Трейл 5","Жук-трейл #8 Логойск Трейл 5",{"$f":"VLOOKUP(C1246,Гонки!$E$1:$N$28,10,FALSE)","v":7.4249999999999998},"Ж",{"$f":"IF(E1246=\"Ж\",VLOOKUP(C1246,Гонки!$E$2:$P$28,11,FALSE),VLOOKUP(C1246,Гонки!$E$2:$P$28,12,FALSE))","v":48},"Чембрович Марта",1995,"Chembrovich Marta","Чембрович Марта / Chembrovich Marta / 1995","Ж",36,27.083333333333343,73.8]
["Жук-трейл #8 Логойск","Трейл 5","Жук-трейл #8 Логойск Трейл 5",{"$f":"VLOOKUP(C1247,Гонки!$E$1:$N$28,10,FALSE)","v":7.4249999999999998},"Ж",{"$f":"IF(E1247=\"Ж\",VLOOKUP(C1247,Гонки!$E$2:$P$28,11,FALSE),VLOOKUP(C1247,Гонки!$E$2:$P$28,12,FALSE))","v":48},"Резвицкая Елена",null,"Rezvitskaya Elena","Резвицкая Елена / Rezvitskaya Elena / ","Ж",37,25,68.12]
["Жук-трейл #8 Логойск","Трейл 5","Жук-трейл #8 Логойск Трейл 5",{"$f":"VLOOKUP(C1248,Гонки!$E$1:$N$28,10,FALSE)","v":7.4249999999999998},"Ж",{"$f":"IF(E1248=\"Ж\",VLOOKUP(C1248,Гонки!$E$2:$P$28,11,FALSE),VLOOKUP(C1248,Гонки!$E$2:$P$28,12,FALSE))","v":48},"Позняк Анна",2000,"Poznyak Anna","Позняк Анна / Poznyak Anna / 2000","Ж",38,22.916666666666657,62.45]
["Жук-трейл #8 Логойск","Трейл 5","Жук-трейл #8 Логойск Трейл 5",{"$f":"VLOOKUP(C1249,Гонки!$E$1:$N$28,10,FALSE)","v":7.4249999999999998},"Ж",{"$f":"IF(E1249=\"Ж\",VLOOKUP(C1249,Гонки!$E$2:$P$28,11,FALSE),VLOOKUP(C1249,Гонки!$E$2:$P$28,12,FALSE))","v":48},"Вишневская Анастасия",1995,"Vishnevskaya Anastasiya","Вишневская Анастасия / Vishnevskaya Anastasiya / 1995","Ж",39,20.833333333333343,56.77]
["Жук-трейл #8 Логойск","Трейл 5","Жук-трейл #8 Логойск Трейл 5",{"$f":"VLOOKUP(C1250,Гонки!$E$1:$N$28,10,FALSE)","v":7.4249999999999998},"Ж",{"$f":"IF(E1250=\"Ж\",VLOOKUP(C1250,Гонки!$E$2:$P$28,11,FALSE),VLOOKUP(C1250,Гонки!$E$2:$P$28,12,FALSE))","v":48},"Казак Наталья",1979,"Kazak Natalya","Казак Наталья / Kazak Natalya / 1979","Ж",40,18.75,51.09]
["Жук-трейл #8 Логойск","Трейл 5","Жук-трейл #8 Логойск Трейл 5",{"$f":"VLOOKUP(C1251,Гонки!$E$1:$N$28,10,FALSE)","v":7.4249999999999998},"Ж",{"$f":"IF(E1251=\"Ж\",VLOOKUP(C1251,Гонки!$E$2:$P$28,11,FALSE),VLOOKUP(C1251,Гонки!$E$2:$P$28,12,FALSE))","v":48},"Ладутько Наталья",1974,"Ladutko Natalya","Ладутько Наталья / Ladutko Natalya / 1974","Ж",41,16.666666666666657,45.41]
["Жук-трейл #8 Логойск","Трейл 5","Жук-трейл #8 Логойск Трейл 5",{"$f":"VLOOKUP(C1252,Гонки!$E$1:$N$28,10,FALSE)","v":7.4249999999999998},"Ж",{"$f":"IF(E1252=\"Ж\",VLOOKUP(C1252,Гонки!$E$2:$P$28,11,FALSE),VLOOKUP(C1252,Гонки!$E$2:$P$28,12,FALSE))","v":48},"Гладкая Ольга",1986,"Gladkaya Olga","Гладкая Ольга / Gladkaya Olga / 1986","Ж",42,14.583333333333343,39.74]
["Жук-трейл #8 Логойск","Трейл 5","Жук-трейл #8 Логойск Трейл 5",{"$f":"VLOOKUP(C1253,Гонки!$E$1:$N$28,10,FALSE)","v":7.4249999999999998},"Ж",{"$f":"IF(E1253=\"Ж\",VLOOKUP(C1253,Гонки!$E$2:$P$28,11,FALSE),VLOOKUP(C1253,Гонки!$E$2:$P$28,12,FALSE))","v":48},"Слеменева Евгения",1993,"Slemeneva Evgeniya","Слеменева Евгения / Slemeneva Evgeniya / 1993","Ж",43,12.5,34.06]
["Жук-трейл #8 Логойск","Трейл 5","Жук-трейл #8 Логойск Трейл 5",{"$f":"VLOOKUP(C1254,Гонки!$E$1:$N$28,10,FALSE)","v":7.4249999999999998},"Ж",{"$f":"IF(E1254=\"Ж\",VLOOKUP(C1254,Гонки!$E$2:$P$28,11,FALSE),VLOOKUP(C1254,Гонки!$E$2:$P$28,12,FALSE))","v":48},"Свиркова Татьяна",1987,"Svirkova Tatyana","Свиркова Татьяна / Svirkova Tatyana / 1987","Ж",44,10.416666666666657,28.38]
["Жук-трейл #8 Логойск","Трейл 5","Жук-трейл #8 Логойск Трейл 5",{"$f":"VLOOKUP(C1255,Гонки!$E$1:$N$28,10,FALSE)","v":7.4249999999999998},"Ж",{"$f":"IF(E1255=\"Ж\",VLOOKUP(C1255,Гонки!$E$2:$P$28,11,FALSE),VLOOKUP(C1255,Гонки!$E$2:$P$28,12,FALSE))","v":48},"Маторова Анна",1981,"Matorova Anna","Маторова Анна / Matorova Anna / 1981","Ж",45,8.3333333333333428,22.71]
["Жук-трейл #8 Логойск","Трейл 5","Жук-трейл #8 Логойск Трейл 5",{"$f":"VLOOKUP(C1256,Гонки!$E$1:$N$28,10,FALSE)","v":7.4249999999999998},"Ж",{"$f":"IF(E1256=\"Ж\",VLOOKUP(C1256,Гонки!$E$2:$P$28,11,FALSE),VLOOKUP(C1256,Гонки!$E$2:$P$28,12,FALSE))","v":48},"Петкевич Лилия",1990,"Petkevich Liliya","Петкевич Лилия / Petkevich Liliya / 1990","Ж",46,6.25,17.03]
["Жук-трейл #8 Логойск","Трейл 5","Жук-трейл #8 Логойск Трейл 5",{"$f":"VLOOKUP(C1257,Гонки!$E$1:$N$28,10,FALSE)","v":7.4249999999999998},"Ж",{"$f":"IF(E1257=\"Ж\",VLOOKUP(C1257,Гонки!$E$2:$P$28,11,FALSE),VLOOKUP(C1257,Гонки!$E$2:$P$28,12,FALSE))","v":48},"Петкевич Юлия",1968,"Petkevich Yuliya","Петкевич Юлия / Petkevich Yuliya / 1968","Ж",47,4.1666666666666572,11.35]
["Жук-трейл #8 Логойск","Трейл 5","Жук-трейл #8 Логойск Трейл 5",{"$f":"VLOOKUP(C1258,Гонки!$E$1:$N$28,10,FALSE)","v":7.4249999999999998},"Ж",{"$f":"IF(E1258=\"Ж\",VLOOKUP(C1258,Гонки!$E$2:$P$28,11,FALSE),VLOOKUP(C1258,Гонки!$E$2:$P$28,12,FALSE))","v":48},"Птицына Оксана",1976,"Ptitsyna Oksana","Птицына Оксана / Ptitsyna Oksana / 1976","Ж",48,2.0833333333333428,5.68]
["Жук-трейл #8 Логойск","Трейл 5","Жук-трейл #8 Логойск Трейл 5",{"$f":"VLOOKUP(C1259,Гонки!$E$1:$N$28,10,FALSE)","v":7.4249999999999998},"М",{"$f":"IF(E1259=\"Ж\",VLOOKUP(C1259,Гонки!$E$2:$P$28,11,FALSE),VLOOKUP(C1259,Гонки!$E$2:$P$28,12,FALSE))","v":45},"Паплёвка Иван",1990,"Papljovka Ivan","Паплёвка Иван / Papljovka Ivan / 1990","М",1,100,272.49]
["Жук-трейл #8 Логойск","Трейл 5","Жук-трейл #8 Логойск Трейл 5",{"$f":"VLOOKUP(C1260,Гонки!$E$1:$N$28,10,FALSE)","v":7.4249999999999998},"М",{"$f":"IF(E1260=\"Ж\",VLOOKUP(C1260,Гонки!$E$2:$P$28,11,FALSE),VLOOKUP(C1260,Гонки!$E$2:$P$28,12,FALSE))","v":45},"Совпель Максим",1993,"Sovpel Maksim","Совпель Максим / Sovpel Maksim / 1993","М",2,97.777777777777771,266.43]
["Жук-трейл #8 Логойск","Трейл 5","Жук-трейл #8 Логойск Трейл 5",{"$f":"VLOOKUP(C1261,Гонки!$E$1:$N$28,10,FALSE)","v":7.4249999999999998},"М",{"$f":"IF(E1261=\"Ж\",VLOOKUP(C1261,Гонки!$E$2:$P$28,11,FALSE),VLOOKUP(C1261,Гонки!$E$2:$P$28,12,FALSE))","v":45},"Беляй Владимир",1989,"Belyaj Vladimir","Беляй Владимир / Belyaj Vladimir / 1989","М",3,95.555555555555557,260.38]
["Жук-трейл #8 Логойск","Трейл 5","Жук-трейл #8 Логойск Трейл 5",{"$f":"VLOOKUP(C1262,Гонки!$E$1:$N$28,10,FALSE)","v":7.4249999999999998},"М",{"$f":"IF(E1262=\"Ж\",VLOOKUP(C1262,Гонки!$E$2:$P$28,11,FALSE),VLOOKUP(C1262,Гонки!$E$2:$P$28,12,FALSE))","v":45},"Селютин Владимир",1990,"Selyutin Vladimir","Селютин Владимир / Selyutin Vladimir / 1990","М",4,93.333333333333329,254.32]
["Жук-трейл #8 Логойск","Трейл 5","Жук-трейл #8 Логойск Трейл 5",{"$f":"VLOOKUP(C1263,Гонки!$E$1:$N$28,10,FALSE)","v":7.4249999999999998},"М",{"$f":"IF(E1263=\"Ж\",VLOOKUP(C1263,Гонки!$E$2:$P$28,11,FALSE),VLOOKUP(C1263,Гонки!$E$2:$P$28,12,FALSE))","v":45},"Брытько Роман",1995,"Brytko Roman","Брытько Роман / Brytko Roman / 1995","М",5,91.111111111111114,248.27]
["Жук-трейл #8 Логойск","Трейл 5","Жук-трейл #8 Логойск Трейл 5",{"$f":"VLOOKUP(C1264,Гонки!$E$1:$N$28,10,FALSE)","v":7.4249999999999998},"М",{"$f":"IF(E1264=\"Ж\",VLOOKUP(C1264,Гонки!$E$2:$P$28,11,FALSE),VLOOKUP(C1264,Гонки!$E$2:$P$28,12,FALSE))","v":45},"Шлеёв Денис",2001,"Shlejov Denis","Шлеёв Денис / Shlejov Denis / 2001","М",6,88.888888888888886,242.21]
["Жук-трейл #8 Логойск","Трейл 5","Жук-трейл #8 Логойск Трейл 5",{"$f":"VLOOKUP(C1265,Гонки!$E$1:$N$28,10,FALSE)","v":7.4249999999999998},"М",{"$f":"IF(E1265=\"Ж\",VLOOKUP(C1265,Гонки!$E$2:$P$28,11,FALSE),VLOOKUP(C1265,Гонки!$E$2:$P$28,12,FALSE))","v":45},"Домбровский Евгений",1987,"Dombrovskij Evgenij","Домбровский Евгений / Dombrovskij Evgenij / 1987","М",7,86.666666666666671,236.16]
["Жук-трейл #8 Логойск","Трейл 5","Жук-трейл #8 Логойск Трейл 5",{"$f":"VLOOKUP(C1266,Гонки!$E$1:$N$28,10,FALSE)","v":7.4249999999999998},"М",{"$f":"IF(E1266=\"Ж\",VLOOKUP(C1266,Гонки!$E$2:$P$28,11,FALSE),VLOOKUP(C1266,Гонки!$E$2:$P$28,12,FALSE))","v":45},"Желнов Анатолий",1993,"Zhelnov Anatolij","Желнов Анатолий / Zhelnov Anatolij / 1993","М",8,84.444444444444443,230.1]
["Жук-трейл #8 Логойск","Трейл 5","Жук-трейл #8 Логойск Трейл 5",{"$f":"VLOOKUP(C1267,Гонки!$E$1:$N$28,10,FALSE)","v":7.4249999999999998},"М",{"$f":"IF(E1267=\"Ж\",VLOOKUP(C1267,Гонки!$E$2:$P$28,11,FALSE),VLOOKUP(C1267,Гонки!$E$2:$P$28,12,FALSE))","v":45},"Кулаев Алексей",1980,"Kulaev Aleksej","Кулаев Алексей / Kulaev Aleksej / 1980","М",9,{"$f":"100-((L1267-1)/F1267)*100","v":82.222222222222229},{"$f":"ROUND(SQRT(D1267)*M1267,2)","v":224.05}]
["Жук-трейл #8 Логойск","Трейл 5","Жук-трейл #8 Логойск Трейл 5",{"$f":"VLOOKUP(C1268,Гонки!$E$1:$N$28,10,FALSE)","v":7.4249999999999998},"М",{"$f":"IF(E1268=\"Ж\",VLOOKUP(C1268,Гонки!$E$2:$P$28,11,FALSE),VLOOKUP(C1268,Гонки!$E$2:$P$28,12,FALSE))","v":45},"Врублевский Кирилл",1995,"Vrublevskij Kirill","Врублевский Кирилл / Vrublevskij Kirill / 1995","М",10,80,217.99]
["Жук-трейл #8 Логойск","Трейл 5","Жук-трейл #8 Логойск Трейл 5",{"$f":"VLOOKUP(C1269,Гонки!$E$1:$N$28,10,FALSE)","v":7.4249999999999998},"М",{"$f":"IF(E1269=\"Ж\",VLOOKUP(C1269,Гонки!$E$2:$P$28,11,FALSE),VLOOKUP(C1269,Гонки!$E$2:$P$28,12,FALSE))","v":45},"Гайдукович Максим",1988,"Gajdukovich Maksim","Гайдукович Максим / Gajdukovich Maksim / 1988","М",11,77.777777777777771,211.94]
["Жук-трейл #8 Логойск","Трейл 5","Жук-трейл #8 Логойск Трейл 5",{"$f":"VLOOKUP(C1270,Гонки!$E$1:$N$28,10,FALSE)","v":7.4249999999999998},"М",{"$f":"IF(E1270=\"Ж\",VLOOKUP(C1270,Гонки!$E$2:$P$28,11,FALSE),VLOOKUP(C1270,Гонки!$E$2:$P$28,12,FALSE))","v":45},"Горнов Антон",1992,"Gornov Anton","Горнов Антон / Gornov Anton / 1992","М",12,75.555555555555557,205.88]
["Жук-трейл #8 Логойск","Трейл 5","Жук-трейл #8 Логойск Трейл 5",{"$f":"VLOOKUP(C1271,Гонки!$E$1:$N$28,10,FALSE)","v":7.4249999999999998},"М",{"$f":"IF(E1271=\"Ж\",VLOOKUP(C1271,Гонки!$E$2:$P$28,11,FALSE),VLOOKUP(C1271,Гонки!$E$2:$P$28,12,FALSE))","v":45},"Мышковец Василий ",1980,"Myshkovets Vasilij ","Мышковец Василий  / Myshkovets Vasilij  / 1980","М",13,73.333333333333329,199.82]
["Жук-трейл #8 Логойск","Трейл 5","Жук-трейл #8 Логойск Трейл 5",{"$f":"VLOOKUP(C1272,Гонки!$E$1:$N$28,10,FALSE)","v":7.4249999999999998},"М",{"$f":"IF(E1272=\"Ж\",VLOOKUP(C1272,Гонки!$E$2:$P$28,11,FALSE),VLOOKUP(C1272,Гонки!$E$2:$P$28,12,FALSE))","v":45},"Туцкий Юрий",1992,"Tutskij Yurij","Туцкий Юрий / Tutskij Yurij / 1992","М",14,71.111111111111114,193.77]
["Жук-трейл #8 Логойск","Трейл 5","Жук-трейл #8 Логойск Трейл 5",{"$f":"VLOOKUP(C1273,Гонки!$E$1:$N$28,10,FALSE)","v":7.4249999999999998},"М",{"$f":"IF(E1273=\"Ж\",VLOOKUP(C1273,Гонки!$E$2:$P$28,11,FALSE),VLOOKUP(C1273,Гонки!$E$2:$P$28,12,FALSE))","v":45},"Глатанков Пётр",1978,"Glatankov Pjotr","Глатанков Пётр / Glatankov Pjotr / 1978","М",15,68.888888888888886,187.71]
["Жук-трейл #8 Логойск","Трейл 5","Жук-трейл #8 Логойск Трейл 5",{"$f":"VLOOKUP(C1274,Гонки!$E$1:$N$28,10,FALSE)","v":7.4249999999999998},"М",{"$f":"IF(E1274=\"Ж\",VLOOKUP(C1274,Гонки!$E$2:$P$28,11,FALSE),VLOOKUP(C1274,Гонки!$E$2:$P$28,12,FALSE))","v":45},"Переходько Виктор",1969,"Perehodko Viktor","Переходько Виктор / Perehodko Viktor / 1969","М",16,66.666666666666671,181.66]
["Жук-трейл #8 Логойск","Трейл 5","Жук-трейл #8 Логойск Трейл 5",{"$f":"VLOOKUP(C1275,Гонки!$E$1:$N$28,10,FALSE)","v":7.4249999999999998},"М",{"$f":"IF(E1275=\"Ж\",VLOOKUP(C1275,Гонки!$E$2:$P$28,11,FALSE),VLOOKUP(C1275,Гонки!$E$2:$P$28,12,FALSE))","v":45},"Шиман Руслан",1993,"Shiman Ruslan","Шиман Руслан / Shiman Ruslan / 1993","М",17,64.444444444444443,175.6]
["Жук-трейл #8 Логойск","Трейл 5","Жук-трейл #8 Логойск Трейл 5",{"$f":"VLOOKUP(C1276,Гонки!$E$1:$N$28,10,FALSE)","v":7.4249999999999998},"М",{"$f":"IF(E1276=\"Ж\",VLOOKUP(C1276,Гонки!$E$2:$P$28,11,FALSE),VLOOKUP(C1276,Гонки!$E$2:$P$28,12,FALSE))","v":45},"Новиков Максим",1988,"Novikov Maksim","Новиков Максим / Novikov Maksim / 1988","М",18,62.222222222222221,169.55]
[{"$f":"$A$1211","v":"Жук-трейл #8 Логойск"},{"$f":"$B$1211","v":"Трейл 5"},"Жук-трейл #8 Логойск Трейл 5",{"$f":"VLOOKUP(C1277,Гонки!$E$1:$N$28,10,FALSE)","v":7.4249999999999998},"М",{"$f":"IF(E1277=\"Ж\",VLOOKUP(C1277,Гонки!$E$2:$P$28,11,FALSE),VLOOKUP(C1277,Гонки!$E$2:$P$28,12,FALSE))","v":45},"Варивода Сергей",1964,"Varivoda Sergej","Варивода Сергей / Varivoda Sergej / 1964","М",19,60,163.49]
["Жук-трейл #8 Логойск","Трейл 5","Жук-трейл #8 Логойск Трейл 5",{"$f":"VLOOKUP(C1278,Гонки!$E$1:$N$28,10,FALSE)","v":7.4249999999999998},"М",{"$f":"IF(E1278=\"Ж\",VLOOKUP(C1278,Гонки!$E$2:$P$28,11,FALSE),VLOOKUP(C1278,Гонки!$E$2:$P$28,12,FALSE))","v":45},"Ждамиров Эдуард",1987,"Zhdamirov Eduard","Ждамиров Эдуард / Zhdamirov Eduard / 1987","М",20,57.777777777777779,157.44]
["Жук-трейл #8 Логойск","Трейл 5","Жук-трейл #8 Логойск Трейл 5",{"$f":"VLOOKUP(C1279,Гонки!$E$1:$N$28,10,FALSE)","v":7.4249999999999998},"М",{"$f":"IF(E1279=\"Ж\",VLOOKUP(C1279,Гонки!$E$2:$P$28,11,FALSE),VLOOKUP(C1279,Гонки!$E$2:$P$28,12,FALSE))","v":45},"Миронов Юрий",1982,"Mironov Yurij","Миронов Юрий / Mironov Yurij / 1982","М",21,55.555555555555557,151.38]
["Жук-трейл #8 Логойск","Трейл 5","Жук-трейл #8 Логойск Трейл 5",{"$f":"VLOOKUP(C1280,Гонки!$E$1:$N$28,10,FALSE)","v":7.4249999999999998},"М",{"$f":"IF(E1280=\"Ж\",VLOOKUP(C1280,Гонки!$E$2:$P$28,11,FALSE),VLOOKUP(C1280,Гонки!$E$2:$P$28,12,FALSE))","v":45},"Щербо Виктор",1961,"Scherbo Viktor","Щербо Виктор / Scherbo Viktor / 1961","М",22,53.333333333333336,145.33000000000001]
["Жук-трейл #8 Логойск","Трейл 5","Жук-трейл #8 Логойск Трейл 5",{"$f":"VLOOKUP(C1281,Гонки!$E$1:$N$28,10,FALSE)","v":7.4249999999999998},"М",{"$f":"IF(E1281=\"Ж\",VLOOKUP(C1281,Гонки!$E$2:$P$28,11,FALSE),VLOOKUP(C1281,Гонки!$E$2:$P$28,12,FALSE))","v":45},"Дашин Михаил",1986,"Dashin Mihail","Дашин Михаил / Dashin Mihail / 1986","М",23,51.111111111111114,139.27000000000001]
["Жук-трейл #8 Логойск","Трейл 5",{"$f":"CONCATENATE(A1282,\" \",B1282)","v":"Жук-трейл #8 Логойск Трейл 5"},{"$f":"VLOOKUP(C1282,Гонки!$E$1:$N$28,10,FALSE)","v":7.4249999999999998},"М",{"$f":"IF(E1282=\"Ж\",VLOOKUP(C1282,Гонки!$E$2:$P$28,11,FALSE),VLOOKUP(C1282,Гонки!$E$2:$P$28,12,FALSE))","v":45},"Миканович Антон",1990,{"$f":"Translit(G1282)","v":"Mikanovich Anton"},{"$f":"CONCATENATE(G1282,\" / \",I1282,\" / \",H1282)","v":"Миканович Антон / Mikanovich Anton / 1990"},"М",24,48.888888888888893,133.22]
["Жук-трейл #8 Логойск","Трейл 5","Жук-трейл #8 Логойск Трейл 5",{"$f":"VLOOKUP(C1283,Гонки!$E$1:$N$28,10,FALSE)","v":7.4249999999999998},"М",{"$f":"IF(E1283=\"Ж\",VLOOKUP(C1283,Гонки!$E$2:$P$28,11,FALSE),VLOOKUP(C1283,Гонки!$E$2:$P$28,12,FALSE))","v":45},"Крыворот Руслан",1991,"Kryvorot Ruslan","Крыворот Руслан / Kryvorot Ruslan / 1991","М",25,46.666666666666664,127.16]
["Жук-трейл #8 Логойск","Трейл 5","Жук-трейл #8 Логойск Трейл 5",{"$f":"VLOOKUP(C1284,Гонки!$E$1:$N$28,10,FALSE)","v":7.4249999999999998},"М",{"$f":"IF(E1284=\"Ж\",VLOOKUP(C1284,Гонки!$E$2:$P$28,11,FALSE),VLOOKUP(C1284,Гонки!$E$2:$P$28,12,FALSE))","v":45},"Малофей Глеб",1995,"Malofej Gleb","Малофей Глеб / Malofej Gleb / 1995","М",26,44.444444444444443,121.11]
["Жук-трейл #8 Логойск","Трейл 5","Жук-трейл #8 Логойск Трейл 5",{"$f":"VLOOKUP(C1285,Гонки!$E$1:$N$28,10,FALSE)","v":7.4249999999999998},"М",{"$f":"IF(E1285=\"Ж\",VLOOKUP(C1285,Гонки!$E$2:$P$28,11,FALSE),VLOOKUP(C1285,Гонки!$E$2:$P$28,12,FALSE))","v":45},"Каханович Илья",1982,"Kahanovich Ilya","Каханович Илья / Kahanovich Ilya / 1982","М",27,42.222222222222229,115.05]
["Жук-трейл #8 Логойск","Трейл 5","Жук-трейл #8 Логойск Трейл 5",{"$f":"VLOOKUP(C1286,Гонки!$E$1:$N$28,10,FALSE)","v":7.4249999999999998},"М",{"$f":"IF(E1286=\"Ж\",VLOOKUP(C1286,Гонки!$E$2:$P$28,11,FALSE),VLOOKUP(C1286,Гонки!$E$2:$P$28,12,FALSE))","v":45},"Табала Андрей",1992,"Tabala Andrej","Табала Андрей / Tabala Andrej / 1992","М",28,40,109]
["Жук-трейл #8 Логойск","Трейл 5","Жук-трейл #8 Логойск Трейл 5",{"$f":"VLOOKUP(C1287,Гонки!$E$1:$N$28,10,FALSE)","v":7.4249999999999998},"М",{"$f":"IF(E1287=\"Ж\",VLOOKUP(C1287,Гонки!$E$2:$P$28,11,FALSE),VLOOKUP(C1287,Гонки!$E$2:$P$28,12,FALSE))","v":45},"Глебко Сергей",1985,"Glebko Sergej","Глебко Сергей / Glebko Sergej / 1985","М",29,37.777777777777779,102.94]
["Жук-трейл #8 Логойск","Трейл 5","Жук-трейл #8 Логойск Трейл 5",{"$f":"VLOOKUP(C1288,Гонки!$E$1:$N$28,10,FALSE)","v":7.4249999999999998},"М",{"$f":"IF(E1288=\"Ж\",VLOOKUP(C1288,Гонки!$E$2:$P$28,11,FALSE),VLOOKUP(C1288,Гонки!$E$2:$P$28,12,FALSE))","v":45},"Данілаў Віктар",1987,"Danіlau Vіktar","Данілаў Віктар / Danіlau Vіktar / 1987","М",30,35.555555555555557,96.88]
["Жук-трейл #8 Логойск","Трейл 5","Жук-трейл #8 Логойск Трейл 5",{"$f":"VLOOKUP(C1289,Гонки!$E$1:$N$28,10,FALSE)","v":7.4249999999999998},"М",{"$f":"IF(E1289=\"Ж\",VLOOKUP(C1289,Гонки!$E$2:$P$28,11,FALSE),VLOOKUP(C1289,Гонки!$E$2:$P$28,12,FALSE))","v":45},"Стоненис Игорь",1996,"Stonenis Igor","Стоненис Игорь / Stonenis Igor / 1996","М",31,33.333333333333343,90.83]
["Жук-трейл #8 Логойск","Трейл 5","Жук-трейл #8 Логойск Трейл 5",{"$f":"VLOOKUP(C1290,Гонки!$E$1:$N$28,10,FALSE)","v":7.4249999999999998},"М",{"$f":"IF(E1290=\"Ж\",VLOOKUP(C1290,Гонки!$E$2:$P$28,11,FALSE),VLOOKUP(C1290,Гонки!$E$2:$P$28,12,FALSE))","v":45},"Клюшин Олег",1972,"Klyushin Oleg","Клюшин Олег / Klyushin Oleg / 1972","М",32,31.111111111111114,84.77]
["Жук-трейл #8 Логойск","Трейл 5","Жук-трейл #8 Логойск Трейл 5",{"$f":"VLOOKUP(C1291,Гонки!$E$1:$N$28,10,FALSE)","v":7.4249999999999998},"М",{"$f":"IF(E1291=\"Ж\",VLOOKUP(C1291,Гонки!$E$2:$P$28,11,FALSE),VLOOKUP(C1291,Гонки!$E$2:$P$28,12,FALSE))","v":45},"Стош Роман",2000,"Stosh Roman","Стош Роман / Stosh Roman / 2000","М",33,28.888888888888886,78.72]
["Жук-трейл #8 Логойск","Трейл 5","Жук-трейл #8 Логойск Трейл 5",{"$f":"VLOOKUP(C1292,Гонки!$E$1:$N$28,10,FALSE)","v":7.4249999999999998},"М",{"$f":"IF(E1292=\"Ж\",VLOOKUP(C1292,Гонки!$E$2:$P$28,11,FALSE),VLOOKUP(C1292,Гонки!$E$2:$P$28,12,FALSE))","v":45},"Кривошей Леонид",1980,"Krivoshej Leonid","Кривошей Леонид / Krivoshej Leonid / 1980","М",34,26.666666666666671,72.66]
["Жук-трейл #8 Логойск","Трейл 5","Жук-трейл #8 Логойск Трейл 5",{"$f":"VLOOKUP(C1293,Гонки!$E$1:$N$28,10,FALSE)","v":7.4249999999999998},"М",{"$f":"IF(E1293=\"Ж\",VLOOKUP(C1293,Гонки!$E$2:$P$28,11,FALSE),VLOOKUP(C1293,Гонки!$E$2:$P$28,12,FALSE))","v":45},"Тебинский Александр",1987,"Tebinskij Aleksandr","Тебинский Александр / Tebinskij Aleksandr / 1987","М",35,24.444444444444443,66.61]
["Жук-трейл #8 Логойск","Трейл 5","Жук-трейл #8 Логойск Трейл 5",{"$f":"VLOOKUP(C1294,Гонки!$E$1:$N$28,10,FALSE)","v":7.4249999999999998},"М",{"$f":"IF(E1294=\"Ж\",VLOOKUP(C1294,Гонки!$E$2:$P$28,11,FALSE),VLOOKUP(C1294,Гонки!$E$2:$P$28,12,FALSE))","v":45},"Ждамиров Виталий",1983,"Zhdamirov Vitalij","Ждамиров Виталий / Zhdamirov Vitalij / 1983","М",36,22.222222222222214,60.55]
["Жук-трейл #8 Логойск","Трейл 5","Жук-трейл #8 Логойск Трейл 5",{"$f":"VLOOKUP(C1295,Гонки!$E$1:$N$28,10,FALSE)","v":7.4249999999999998},"М",{"$f":"IF(E1295=\"Ж\",VLOOKUP(C1295,Гонки!$E$2:$P$28,11,FALSE),VLOOKUP(C1295,Гонки!$E$2:$P$28,12,FALSE))","v":45},"Матейчик Юрий",1983,"Matejchik Yurij","Матейчик Юрий / Matejchik Yurij / 1983","М",37,20,54.5]
["Жук-трейл #8 Логойск","Трейл 5","Жук-трейл #8 Логойск Трейл 5",{"$f":"VLOOKUP(C1296,Гонки!$E$1:$N$28,10,FALSE)","v":7.4249999999999998},"М",{"$f":"IF(E1296=\"Ж\",VLOOKUP(C1296,Гонки!$E$2:$P$28,11,FALSE),VLOOKUP(C1296,Гонки!$E$2:$P$28,12,FALSE))","v":45},"Адаменко Виталий",1985,"Adamenko Vitalij","Адаменко Виталий / Adamenko Vitalij / 1985","М",38,17.777777777777786,48.44]
["Жук-трейл #8 Логойск","Трейл 5","Жук-трейл #8 Логойск Трейл 5",{"$f":"VLOOKUP(C1297,Гонки!$E$1:$N$28,10,FALSE)","v":7.4249999999999998},"М",{"$f":"IF(E1297=\"Ж\",VLOOKUP(C1297,Гонки!$E$2:$P$28,11,FALSE),VLOOKUP(C1297,Гонки!$E$2:$P$28,12,FALSE))","v":45},"Адамов Юрий",1976,"Adamov Yurij","Адамов Юрий / Adamov Yurij / 1976","М",39,15.555555555555557,42.39]
["Жук-трейл #8 Логойск","Трейл 5","Жук-трейл #8 Логойск Трейл 5",{"$f":"VLOOKUP(C1298,Гонки!$E$1:$N$28,10,FALSE)","v":7.4249999999999998},"М",{"$f":"IF(E1298=\"Ж\",VLOOKUP(C1298,Гонки!$E$2:$P$28,11,FALSE),VLOOKUP(C1298,Гонки!$E$2:$P$28,12,FALSE))","v":45},"Фурсевич Павел",1983,"Fursevich Pavel","Фурсевич Павел / Fursevich Pavel / 1983","М",40,13.333333333333329,36.33]
["Жук-трейл #8 Логойск","Трейл 5","Жук-трейл #8 Логойск Трейл 5",{"$f":"VLOOKUP(C1299,Гонки!$E$1:$N$28,10,FALSE)","v":7.4249999999999998},"М",{"$f":"IF(E1299=\"Ж\",VLOOKUP(C1299,Гонки!$E$2:$P$28,11,FALSE),VLOOKUP(C1299,Гонки!$E$2:$P$28,12,FALSE))","v":45},"Бубликов Александр",1986,"Bublikov Aleksandr","Бубликов Александр / Bublikov Aleksandr / 1986","М",41,11.111111111111114,30.28]
["Жук-трейл #8 Логойск","Трейл 5","Жук-трейл #8 Логойск Трейл 5",{"$f":"VLOOKUP(C1300,Гонки!$E$1:$N$28,10,FALSE)","v":7.4249999999999998},"М",{"$f":"IF(E1300=\"Ж\",VLOOKUP(C1300,Гонки!$E$2:$P$28,11,FALSE),VLOOKUP(C1300,Гонки!$E$2:$P$28,12,FALSE))","v":45},"Шаметько Роман",1991,"Shametko Roman","Шаметько Роман / Shametko Roman / 1991",{"$f":"E1300","v":"М"},42,8.8888888888888857,24.22]
["Жук-трейл #8 Логойск","Трейл 5","Жук-трейл #8 Логойск Трейл 5",{"$f":"VLOOKUP(C1301,Гонки!$E$1:$N$28,10,FALSE)","v":7.4249999999999998},"М",{"$f":"IF(E1301=\"Ж\",VLOOKUP(C1301,Гонки!$E$2:$P$28,11,FALSE),VLOOKUP(C1301,Гонки!$E$2:$P$28,12,FALSE))","v":45},"Манкевич Алексей",1972,"Mankevich Aleksej","Манкевич Алексей / Mankevich Aleksej / 1972","М",43,6.6666666666666714,18.170000000000002]
["Жук-трейл #8 Логойск","Трейл 5","Жук-трейл #8 Логойск Трейл 5",{"$f":"VLOOKUP(C1302,Гонки!$E$1:$N$28,10,FALSE)","v":7.4249999999999998},"М",{"$f":"IF(E1302=\"Ж\",VLOOKUP(C1302,Гонки!$E$2:$P$28,11,FALSE),VLOOKUP(C1302,Гонки!$E$2:$P$28,12,FALSE))","v":45},"Свирков Сергей",1987,"Svirkov Sergej","Свирков Сергей / Svirkov Sergej / 1987","М",44,4.4444444444444429,12.11]
["Жук-трейл #8 Логойск","Трейл 5","Жук-трейл #8 Логойск Трейл 5",{"$f":"VLOOKUP(C1303,Гонки!$E$1:$N$28,10,FALSE)","v":7.4249999999999998},"М",{"$f":"IF(E1303=\"Ж\",VLOOKUP(C1303,Гонки!$E$2:$P$28,11,FALSE),VLOOKUP(C1303,Гонки!$E$2:$P$28,12,FALSE))","v":45},"Лукин Павел",1978,"Lukin Pavel","Лукин Павел / Lukin Pavel / 1978","М",45,2.2222222222222285,6.06]
["Жук-трейл #8 Логойск",{"$f":"Гонки!D25","v":"Трейл 10"},"Жук-трейл #8 Логойск Трейл 10",{"$f":"VLOOKUP(C1304,Гонки!$E$1:$N$28,10,FALSE)","v":15.360000000000001},"Ж",{"$f":"IF(E1304=\"Ж\",VLOOKUP(C1304,Гонки!$E$2:$P$28,11,FALSE),VLOOKUP(C1304,Гонки!$E$2:$P$28,12,FALSE))","v":42},"Пехтерева Татьяна",1987,"Pehtereva Tatyana","Пехтерева Татьяна / Pehtereva Tatyana / 1987","Ж",1,{"$f":"100-((L1304-1)/F1304)*100","v":100},{"$f":"ROUND(SQRT(D1304)*M1304,2)","v":391.92}]
["Жук-трейл #8 Логойск",{"$f":"$B$1304","v":"Трейл 10"},"Жук-трейл #8 Логойск Трейл 10",{"$f":"VLOOKUP(C1305,Гонки!$E$1:$N$28,10,FALSE)","v":15.360000000000001},"Ж",{"$f":"IF(E1305=\"Ж\",VLOOKUP(C1305,Гонки!$E$2:$P$28,11,FALSE),VLOOKUP(C1305,Гонки!$E$2:$P$28,12,FALSE))","v":42},"Тиханович Елена",1989,"Tihanovich Elena","Тиханович Елена / Tihanovich Elena / 1989","Ж",2,{"$f":"100-((L1305-1)/F1305)*100","v":97.61904761904762},382.59]
["Жук-трейл #8 Логойск",{"$f":"$B$1304","v":"Трейл 10"},"Жук-трейл #8 Логойск Трейл 10",{"$f":"VLOOKUP(C1306,Гонки!$E$1:$N$28,10,FALSE)","v":15.360000000000001},"Ж",{"$f":"IF(E1306=\"Ж\",VLOOKUP(C1306,Гонки!$E$2:$P$28,11,FALSE),VLOOKUP(C1306,Гонки!$E$2:$P$28,12,FALSE))","v":42},"Куцун Надежда",1982,"Kutsun Nadezhda","Куцун Надежда / Kutsun Nadezhda / 1982","Ж",3,95.238095238095241,373.26]
["Жук-трейл #8 Логойск","Трейл 10","Жук-трейл #8 Логойск Трейл 10",{"$f":"VLOOKUP(C1307,Гонки!$E$1:$N$28,10,FALSE)","v":15.360000000000001},"Ж",{"$f":"IF(E1307=\"Ж\",VLOOKUP(C1307,Гонки!$E$2:$P$28,11,FALSE),VLOOKUP(C1307,Гонки!$E$2:$P$28,12,FALSE))","v":42},"Моисеева Елена",1990,"Moiseeva Elena","Моисеева Елена / Moiseeva Elena / 1990","Ж",4,92.857142857142861,363.92]
["Жук-трейл #8 Логойск","Трейл 10","Жук-трейл #8 Логойск Трейл 10",{"$f":"VLOOKUP(C1308,Гонки!$E$1:$N$28,10,FALSE)","v":15.360000000000001},"Ж",{"$f":"IF(E1308=\"Ж\",VLOOKUP(C1308,Гонки!$E$2:$P$28,11,FALSE),VLOOKUP(C1308,Гонки!$E$2:$P$28,12,FALSE))","v":42},"Емельянова Анна",1995,"Emelyanova Anna","Емельянова Анна / Emelyanova Anna / 1995","Ж",5,90.476190476190482,354.59]
["Жук-трейл #8 Логойск","Трейл 10","Жук-трейл #8 Логойск Трейл 10",{"$f":"VLOOKUP(C1309,Гонки!$E$1:$N$28,10,FALSE)","v":15.360000000000001},"Ж",{"$f":"IF(E1309=\"Ж\",VLOOKUP(C1309,Гонки!$E$2:$P$28,11,FALSE),VLOOKUP(C1309,Гонки!$E$2:$P$28,12,FALSE))","v":42},"Левонюк Анна",1986,"Levonyuk Anna","Левонюк Анна / Levonyuk Anna / 1986","Ж",6,88.095238095238102,345.26]
["Жук-трейл #8 Логойск","Трейл 10","Жук-трейл #8 Логойск Трейл 10",{"$f":"VLOOKUP(C1310,Гонки!$E$1:$N$28,10,FALSE)","v":15.360000000000001},"Ж",{"$f":"IF(E1310=\"Ж\",VLOOKUP(C1310,Гонки!$E$2:$P$28,11,FALSE),VLOOKUP(C1310,Гонки!$E$2:$P$28,12,FALSE))","v":42},"Едомская Вольга",1987,"Edomskaya Volga","Едомская Вольга / Edomskaya Volga / 1987","Ж",7,85.714285714285722,335.93]
["Жук-трейл #8 Логойск","Трейл 10","Жук-трейл #8 Логойск Трейл 10",{"$f":"VLOOKUP(C1311,Гонки!$E$1:$N$28,10,FALSE)","v":15.360000000000001},"Ж",{"$f":"IF(E1311=\"Ж\",VLOOKUP(C1311,Гонки!$E$2:$P$28,11,FALSE),VLOOKUP(C1311,Гонки!$E$2:$P$28,12,FALSE))","v":42},"Кизик Валерия",1990,"Kizik Valeriya","Кизик Валерия / Kizik Valeriya / 1990","Ж",8,83.333333333333343,326.60000000000002]
["Жук-трейл #8 Логойск","Трейл 10","Жук-трейл #8 Логойск Трейл 10",{"$f":"VLOOKUP(C1312,Гонки!$E$1:$N$28,10,FALSE)","v":15.360000000000001},"Ж",{"$f":"IF(E1312=\"Ж\",VLOOKUP(C1312,Гонки!$E$2:$P$28,11,FALSE),VLOOKUP(C1312,Гонки!$E$2:$P$28,12,FALSE))","v":42},"Лаврецкая Елена",1986,"Lavretskaya Elena","Лаврецкая Елена / Lavretskaya Elena / 1986","Ж",9,80.952380952380949,317.27]
["Жук-трейл #8 Логойск","Трейл 10","Жук-трейл #8 Логойск Трейл 10",{"$f":"VLOOKUP(C1313,Гонки!$E$1:$N$28,10,FALSE)","v":15.360000000000001},"Ж",{"$f":"IF(E1313=\"Ж\",VLOOKUP(C1313,Гонки!$E$2:$P$28,11,FALSE),VLOOKUP(C1313,Гонки!$E$2:$P$28,12,FALSE))","v":42},"Коротких Елена",1984,"Korotkih Elena","Коротких Елена / Korotkih Elena / 1984","Ж",10,78.571428571428569,307.94]
["Жук-трейл #8 Логойск","Трейл 10","Жук-трейл #8 Логойск Трейл 10",{"$f":"VLOOKUP(C1314,Гонки!$E$1:$N$28,10,FALSE)","v":15.360000000000001},"Ж",{"$f":"IF(E1314=\"Ж\",VLOOKUP(C1314,Гонки!$E$2:$P$28,11,FALSE),VLOOKUP(C1314,Гонки!$E$2:$P$28,12,FALSE))","v":42},"Денисик Светлана",1998,"Denisik Svetlana","Денисик Светлана / Denisik Svetlana / 1998","Ж",11,76.19047619047619,298.60000000000002]
["Жук-трейл #8 Логойск","Трейл 10","Жук-трейл #8 Логойск Трейл 10",{"$f":"VLOOKUP(C1315,Гонки!$E$1:$N$28,10,FALSE)","v":15.360000000000001},"Ж",{"$f":"IF(E1315=\"Ж\",VLOOKUP(C1315,Гонки!$E$2:$P$28,11,FALSE),VLOOKUP(C1315,Гонки!$E$2:$P$28,12,FALSE))","v":42},"Малькевич Елена",1984,"Malkevich Elena","Малькевич Елена / Malkevich Elena / 1984","Ж",12,73.80952380952381,289.27]
["Жук-трейл #8 Логойск","Трейл 10","Жук-трейл #8 Логойск Трейл 10",{"$f":"VLOOKUP(C1316,Гонки!$E$1:$N$28,10,FALSE)","v":15.360000000000001},"Ж",{"$f":"IF(E1316=\"Ж\",VLOOKUP(C1316,Гонки!$E$2:$P$28,11,FALSE),VLOOKUP(C1316,Гонки!$E$2:$P$28,12,FALSE))","v":42},"Кшановская Ирина",1977,"Kshanovskaya Irina","Кшановская Ирина / Kshanovskaya Irina / 1977","Ж",13,71.428571428571431,279.94]
["Жук-трейл #8 Логойск","Трейл 10","Жук-трейл #8 Логойск Трейл 10",{"$f":"VLOOKUP(C1317,Гонки!$E$1:$N$28,10,FALSE)","v":15.360000000000001},"Ж",{"$f":"IF(E1317=\"Ж\",VLOOKUP(C1317,Гонки!$E$2:$P$28,11,FALSE),VLOOKUP(C1317,Гонки!$E$2:$P$28,12,FALSE))","v":42},"Хлопцева Инга",1982,"Hloptseva Inga","Хлопцева Инга / Hloptseva Inga / 1982","Ж",14,69.047619047619051,270.61]
["Жук-трейл #8 Логойск","Трейл 10","Жук-трейл #8 Логойск Трейл 10",{"$f":"VLOOKUP(C1318,Гонки!$E$1:$N$28,10,FALSE)","v":15.360000000000001},"Ж",{"$f":"IF(E1318=\"Ж\",VLOOKUP(C1318,Гонки!$E$2:$P$28,11,FALSE),VLOOKUP(C1318,Гонки!$E$2:$P$28,12,FALSE))","v":42},"Третьяк Екатерина",1985,"Tretyak Ekaterina","Третьяк Екатерина / Tretyak Ekaterina / 1985","Ж",15,66.666666666666671,261.27999999999997]
["Жук-трейл #8 Логойск","Трейл 10","Жук-трейл #8 Логойск Трейл 10",{"$f":"VLOOKUP(C1319,Гонки!$E$1:$N$28,10,FALSE)","v":15.360000000000001},"Ж",{"$f":"IF(E1319=\"Ж\",VLOOKUP(C1319,Гонки!$E$2:$P$28,11,FALSE),VLOOKUP(C1319,Гонки!$E$2:$P$28,12,FALSE))","v":42},"Дедкова Ирина",1981,"Dedkova Irina","Дедкова Ирина / Dedkova Irina / 1981","Ж",16,64.285714285714278,251.95]
["Жук-трейл #8 Логойск","Трейл 10","Жук-трейл #8 Логойск Трейл 10",{"$f":"VLOOKUP(C1320,Гонки!$E$1:$N$28,10,FALSE)","v":15.360000000000001},"Ж",{"$f":"IF(E1320=\"Ж\",VLOOKUP(C1320,Гонки!$E$2:$P$28,11,FALSE),VLOOKUP(C1320,Гонки!$E$2:$P$28,12,FALSE))","v":42},"Алесиюк Татьяна",1987,"Alesiyuk Tatyana","Алесиюк Татьяна / Alesiyuk Tatyana / 1987","Ж",17,61.904761904761905,242.62]
["Жук-трейл #8 Логойск","Трейл 10","Жук-трейл #8 Логойск Трейл 10",{"$f":"VLOOKUP(C1321,Гонки!$E$1:$N$28,10,FALSE)","v":15.360000000000001},"Ж",{"$f":"IF(E1321=\"Ж\",VLOOKUP(C1321,Гонки!$E$2:$P$28,11,FALSE),VLOOKUP(C1321,Гонки!$E$2:$P$28,12,FALSE))","v":42},"Таранко Марта",1990,"Taranko Marta","Таранко Марта / Taranko Marta / 1990","Ж",18,59.523809523809526,233.28]
["Жук-трейл #8 Логойск","Трейл 10","Жук-трейл #8 Логойск Трейл 10",{"$f":"VLOOKUP(C1322,Гонки!$E$1:$N$28,10,FALSE)","v":15.360000000000001},"Ж",{"$f":"IF(E1322=\"Ж\",VLOOKUP(C1322,Гонки!$E$2:$P$28,11,FALSE),VLOOKUP(C1322,Гонки!$E$2:$P$28,12,FALSE))","v":42},"Шаповалова Ирина",1993,"Shapovalova Irina","Шаповалова Ирина / Shapovalova Irina / 1993","Ж",19,57.142857142857146,223.95]
["Жук-трейл #8 Логойск","Трейл 10","Жук-трейл #8 Логойск Трейл 10",{"$f":"VLOOKUP(C1323,Гонки!$E$1:$N$28,10,FALSE)","v":15.360000000000001},"Ж",{"$f":"IF(E1323=\"Ж\",VLOOKUP(C1323,Гонки!$E$2:$P$28,11,FALSE),VLOOKUP(C1323,Гонки!$E$2:$P$28,12,FALSE))","v":42},"Жукова Марина",1985,"Zhukova Marina","Жукова Марина / Zhukova Marina / 1985","Ж",20,54.761904761904759,214.62]
["Жук-трейл #8 Логойск","Трейл 10","Жук-трейл #8 Логойск Трейл 10",{"$f":"VLOOKUP(C1324,Гонки!$E$1:$N$28,10,FALSE)","v":15.360000000000001},"Ж",{"$f":"IF(E1324=\"Ж\",VLOOKUP(C1324,Гонки!$E$2:$P$28,11,FALSE),VLOOKUP(C1324,Гонки!$E$2:$P$28,12,FALSE))","v":42},"Чигорская Татьяна",1977,"Chigorskaya Tatyana","Чигорская Татьяна / Chigorskaya Tatyana / 1977","Ж",21,52.380952380952387,205.29]
["Жук-трейл #8 Логойск","Трейл 10","Жук-трейл #8 Логойск Трейл 10",{"$f":"VLOOKUP(C1325,Гонки!$E$1:$N$28,10,FALSE)","v":15.360000000000001},"Ж",{"$f":"IF(E1325=\"Ж\",VLOOKUP(C1325,Гонки!$E$2:$P$28,11,FALSE),VLOOKUP(C1325,Гонки!$E$2:$P$28,12,FALSE))","v":42},"Жегуло Ольга",1983,"Zhegulo Olga","Жегуло Ольга / Zhegulo Olga / 1983","Ж",22,50,195.96]
["Жук-трейл #8 Логойск","Трейл 10","Жук-трейл #8 Логойск Трейл 10",{"$f":"VLOOKUP(C1326,Гонки!$E$1:$N$28,10,FALSE)","v":15.360000000000001},"Ж",{"$f":"IF(E1326=\"Ж\",VLOOKUP(C1326,Гонки!$E$2:$P$28,11,FALSE),VLOOKUP(C1326,Гонки!$E$2:$P$28,12,FALSE))","v":42},"Павловская Светлана",1984,"Pavlovskaya Svetlana","Павловская Светлана / Pavlovskaya Svetlana / 1984","Ж",23,47.619047619047613,186.63]
["Жук-трейл #8 Логойск","Трейл 10","Жук-трейл #8 Логойск Трейл 10",{"$f":"VLOOKUP(C1327,Гонки!$E$1:$N$28,10,FALSE)","v":15.360000000000001},"Ж",{"$f":"IF(E1327=\"Ж\",VLOOKUP(C1327,Гонки!$E$2:$P$28,11,FALSE),VLOOKUP(C1327,Гонки!$E$2:$P$28,12,FALSE))","v":42},"Струщенко Светлана",1986,"Struschenko Svetlana","Струщенко Светлана / Struschenko Svetlana / 1986","Ж",24,45.238095238095234,177.3]
["Жук-трейл #8 Логойск","Трейл 10","Жук-трейл #8 Логойск Трейл 10",{"$f":"VLOOKUP(C1328,Гонки!$E$1:$N$28,10,FALSE)","v":15.360000000000001},"Ж",{"$f":"IF(E1328=\"Ж\",VLOOKUP(C1328,Гонки!$E$2:$P$28,11,FALSE),VLOOKUP(C1328,Гонки!$E$2:$P$28,12,FALSE))","v":42},"Русакова Татьяна",1979,"Rusakova Tatyana","Русакова Татьяна / Rusakova Tatyana / 1979","Ж",25,42.857142857142861,167.97]
["Жук-трейл #8 Логойск","Трейл 10","Жук-трейл #8 Логойск Трейл 10",{"$f":"VLOOKUP(C1329,Гонки!$E$1:$N$28,10,FALSE)","v":15.360000000000001},"Ж",{"$f":"IF(E1329=\"Ж\",VLOOKUP(C1329,Гонки!$E$2:$P$28,11,FALSE),VLOOKUP(C1329,Гонки!$E$2:$P$28,12,FALSE))","v":42},"Григорьева Светлана",1984,"Grigoreva Svetlana","Григорьева Светлана / Grigoreva Svetlana / 1984","Ж",26,40.476190476190474,158.63]
["Жук-трейл #8 Логойск","Трейл 10","Жук-трейл #8 Логойск Трейл 10",{"$f":"VLOOKUP(C1330,Гонки!$E$1:$N$28,10,FALSE)","v":15.360000000000001},"Ж",{"$f":"IF(E1330=\"Ж\",VLOOKUP(C1330,Гонки!$E$2:$P$28,11,FALSE),VLOOKUP(C1330,Гонки!$E$2:$P$28,12,FALSE))","v":42},"Ванькова Светлана",1984,"Vankova Svetlana","Ванькова Светлана / Vankova Svetlana / 1984","Ж",27,38.095238095238095,149.30000000000001]
["Жук-трейл #8 Логойск","Трейл 10","Жук-трейл #8 Логойск Трейл 10",{"$f":"VLOOKUP(C1331,Гонки!$E$1:$N$28,10,FALSE)","v":15.360000000000001},"Ж",{"$f":"IF(E1331=\"Ж\",VLOOKUP(C1331,Гонки!$E$2:$P$28,11,FALSE),VLOOKUP(C1331,Гонки!$E$2:$P$28,12,FALSE))","v":42},"Косціна Вікторыя",1992,"Kostsіna Vіktoryya","Косціна Вікторыя / Kostsіna Vіktoryya / 1992","Ж",28,35.714285714285708,139.97]
["Жук-трейл #8 Логойск","Трейл 10","Жук-трейл #8 Логойск Трейл 10",{"$f":"VLOOKUP(C1332,Гонки!$E$1:$N$28,10,FALSE)","v":15.360000000000001},"Ж",{"$f":"IF(E1332=\"Ж\",VLOOKUP(C1332,Гонки!$E$2:$P$28,11,FALSE),VLOOKUP(C1332,Гонки!$E$2:$P$28,12,FALSE))","v":42},"Жигало Ольга",1993,"Zhigalo Olga","Жигало Ольга / Zhigalo Olga / 1993","Ж",29,33.333333333333343,130.63999999999999]
["Жук-трейл #8 Логойск","Трейл 10","Жук-трейл #8 Логойск Трейл 10",{"$f":"VLOOKUP(C1333,Гонки!$E$1:$N$28,10,FALSE)","v":15.360000000000001},"Ж",{"$f":"IF(E1333=\"Ж\",VLOOKUP(C1333,Гонки!$E$2:$P$28,11,FALSE),VLOOKUP(C1333,Гонки!$E$2:$P$28,12,FALSE))","v":42},"Курышка Марына",1991,"Kuryshka Maryna","Курышка Марына / Kuryshka Maryna / 1991","Ж",30,30.952380952380949,121.31]
["Жук-трейл #8 Логойск","Трейл 10","Жук-трейл #8 Логойск Трейл 10",{"$f":"VLOOKUP(C1334,Гонки!$E$1:$N$28,10,FALSE)","v":15.360000000000001},"Ж",{"$f":"IF(E1334=\"Ж\",VLOOKUP(C1334,Гонки!$E$2:$P$28,11,FALSE),VLOOKUP(C1334,Гонки!$E$2:$P$28,12,FALSE))","v":42},"Горевцова Евгения",1989,"Gorevtsova Evgeniya","Горевцова Евгения / Gorevtsova Evgeniya / 1989","Ж",31,28.571428571428569,111.98]
["Жук-трейл #8 Логойск","Трейл 10","Жук-трейл #8 Логойск Трейл 10",{"$f":"VLOOKUP(C1335,Гонки!$E$1:$N$28,10,FALSE)","v":15.360000000000001},"Ж",{"$f":"IF(E1335=\"Ж\",VLOOKUP(C1335,Гонки!$E$2:$P$28,11,FALSE),VLOOKUP(C1335,Гонки!$E$2:$P$28,12,FALSE))","v":42},"Кукобникова Вита",1993,"Kukobnikova Vita","Кукобникова Вита / Kukobnikova Vita / 1993","Ж",32,26.19047619047619,102.65]
["Жук-трейл #8 Логойск","Трейл 10","Жук-трейл #8 Логойск Трейл 10",{"$f":"VLOOKUP(C1336,Гонки!$E$1:$N$28,10,FALSE)","v":15.360000000000001},"Ж",{"$f":"IF(E1336=\"Ж\",VLOOKUP(C1336,Гонки!$E$2:$P$28,11,FALSE),VLOOKUP(C1336,Гонки!$E$2:$P$28,12,FALSE))","v":42},"Туровец Ольга",1979,"Turovets Olga","Туровец Ольга / Turovets Olga / 1979","Ж",33,23.80952380952381,93.31]
["Жук-трейл #8 Логойск","Трейл 10","Жук-трейл #8 Логойск Трейл 10",{"$f":"VLOOKUP(C1337,Гонки!$E$1:$N$28,10,FALSE)","v":15.360000000000001},"Ж",{"$f":"IF(E1337=\"Ж\",VLOOKUP(C1337,Гонки!$E$2:$P$28,11,FALSE),VLOOKUP(C1337,Гонки!$E$2:$P$28,12,FALSE))","v":42},"Войтович Татьяна",1986,"Vojtovich Tatyana","Войтович Татьяна / Vojtovich Tatyana / 1986","Ж",34,21.428571428571431,83.98]
["Жук-трейл #8 Логойск","Трейл 10","Жук-трейл #8 Логойск Трейл 10",{"$f":"VLOOKUP(C1338,Гонки!$E$1:$N$28,10,FALSE)","v":15.360000000000001},"Ж",{"$f":"IF(E1338=\"Ж\",VLOOKUP(C1338,Гонки!$E$2:$P$28,11,FALSE),VLOOKUP(C1338,Гонки!$E$2:$P$28,12,FALSE))","v":42},"Лысенко Ольга",1989,"Lysenko Olga","Лысенко Ольга / Lysenko Olga / 1989","Ж",35,19.047619047619051,74.650000000000006]
["Жук-трейл #8 Логойск","Трейл 10","Жук-трейл #8 Логойск Трейл 10",{"$f":"VLOOKUP(C1339,Гонки!$E$1:$N$28,10,FALSE)","v":15.360000000000001},"Ж",{"$f":"IF(E1339=\"Ж\",VLOOKUP(C1339,Гонки!$E$2:$P$28,11,FALSE),VLOOKUP(C1339,Гонки!$E$2:$P$28,12,FALSE))","v":42},"Храмченко Татьяна",1982,"Hramchenko Tatyana","Храмченко Татьяна / Hramchenko Tatyana / 1982","Ж",36,16.666666666666657,65.319999999999993]
["Жук-трейл #8 Логойск","Трейл 10","Жук-трейл #8 Логойск Трейл 10",{"$f":"VLOOKUP(C1340,Гонки!$E$1:$N$28,10,FALSE)","v":15.360000000000001},"Ж",{"$f":"IF(E1340=\"Ж\",VLOOKUP(C1340,Гонки!$E$2:$P$28,11,FALSE),VLOOKUP(C1340,Гонки!$E$2:$P$28,12,FALSE))","v":42},"Гриб Екатерина",1981,"Grib Ekaterina","Гриб Екатерина / Grib Ekaterina / 1981","Ж",37,14.285714285714292,55.99]
[{"$f":"$A$1211","v":"Жук-трейл #8 Логойск"},"Трейл 10","Жук-трейл #8 Логойск Трейл 10",{"$f":"VLOOKUP(C1341,Гонки!$E$1:$N$28,10,FALSE)","v":15.360000000000001},"Ж",{"$f":"IF(E1341=\"Ж\",VLOOKUP(C1341,Гонки!$E$2:$P$28,11,FALSE),VLOOKUP(C1341,Гонки!$E$2:$P$28,12,FALSE))","v":42},"Лобанова Елена",1984,"Lobanova Elena","Лобанова Елена / Lobanova Elena / 1984","Ж",38,11.904761904761912,46.66]
["Жук-трейл #8 Логойск","Трейл 10","Жук-трейл #8 Логойск Трейл 10",{"$f":"VLOOKUP(C1342,Гонки!$E$1:$N$28,10,FALSE)","v":15.360000000000001},"Ж",{"$f":"IF(E1342=\"Ж\",VLOOKUP(C1342,Гонки!$E$2:$P$28,11,FALSE),VLOOKUP(C1342,Гонки!$E$2:$P$28,12,FALSE))","v":42},"Агеева Катерина",1986,"Ageeva Katerina","Агеева Катерина / Ageeva Katerina / 1986","Ж",39,9.5238095238095184,37.33]
["Жук-трейл #8 Логойск","Трейл 10","Жук-трейл #8 Логойск Трейл 10",{"$f":"VLOOKUP(C1343,Гонки!$E$1:$N$28,10,FALSE)","v":15.360000000000001},"Ж",{"$f":"IF(E1343=\"Ж\",VLOOKUP(C1343,Гонки!$E$2:$P$28,11,FALSE),VLOOKUP(C1343,Гонки!$E$2:$P$28,12,FALSE))","v":42},"Якименко Римма",1975,"Yakimenko Rimma","Якименко Римма / Yakimenko Rimma / 1975","Ж",40,7.1428571428571388,27.99]
["Жук-трейл #8 Логойск","Трейл 10","Жук-трейл #8 Логойск Трейл 10",{"$f":"VLOOKUP(C1344,Гонки!$E$1:$N$28,10,FALSE)","v":15.360000000000001},"Ж",{"$f":"IF(E1344=\"Ж\",VLOOKUP(C1344,Гонки!$E$2:$P$28,11,FALSE),VLOOKUP(C1344,Гонки!$E$2:$P$28,12,FALSE))","v":42},"Грачева Анастасия",1995,"Gracheva Anastasiya","Грачева Анастасия / Gracheva Anastasiya / 1995","Ж",41,4.7619047619047734,18.66]
["Жук-трейл #8 Логойск","Трейл 10","Жук-трейл #8 Логойск Трейл 10",{"$f":"VLOOKUP(C1345,Гонки!$E$1:$N$28,10,FALSE)","v":15.360000000000001},"Ж",{"$f":"IF(E1345=\"Ж\",VLOOKUP(C1345,Гонки!$E$2:$P$28,11,FALSE),VLOOKUP(C1345,Гонки!$E$2:$P$28,12,FALSE))","v":42},"Робова Марина",1960,"Robova Marina","Робова Марина / Robova Marina / 1960","Ж",42,2.3809523809523796,9.33]
["Жук-трейл #8 Логойск","Трейл 10",{"$f":"CONCATENATE(A1346,\" \",B1346)","v":"Жук-трейл #8 Логойск Трейл 10"},{"$f":"VLOOKUP(C1346,Гонки!$E$1:$N$28,10,FALSE)","v":15.360000000000001},"М",{"$f":"IF(E1346=\"Ж\",VLOOKUP(C1346,Гонки!$E$2:$P$28,11,FALSE),VLOOKUP(C1346,Гонки!$E$2:$P$28,12,FALSE))","v":154},"Жилан Павел",1990,"Zhilan Pavel","Жилан Павел / Zhilan Pavel / 1990","М",1,{"$f":"100-((L1346-1)/F1346)*100","v":100},{"$f":"ROUND(SQRT(D1346)*M1346,2)","v":391.92}]
["Жук-трейл #8 Логойск","Трейл 10","Жук-трейл #8 Логойск Трейл 10",{"$f":"VLOOKUP(C1347,Гонки!$E$1:$N$28,10,FALSE)","v":15.360000000000001},"М",{"$f":"IF(E1347=\"Ж\",VLOOKUP(C1347,Гонки!$E$2:$P$28,11,FALSE),VLOOKUP(C1347,Гонки!$E$2:$P$28,12,FALSE))","v":154},"Вайдо Андрей",1995,{"$f":"Translit(G1347)","v":"Vajdo Andrej"},{"$f":"CONCATENATE(G1347,\" / \",I1347,\" / \",H1347)","v":"Вайдо Андрей / Vajdo Andrej / 1995"},"М",2,99.350649350649348,389.37]
["Жук-трейл #8 Логойск","Трейл 10","Жук-трейл #8 Логойск Трейл 10",{"$f":"VLOOKUP(C1348,Гонки!$E$1:$N$28,10,FALSE)","v":15.360000000000001},"М",{"$f":"IF(E1348=\"Ж\",VLOOKUP(C1348,Гонки!$E$2:$P$28,11,FALSE),VLOOKUP(C1348,Гонки!$E$2:$P$28,12,FALSE))","v":154},"Гребенчук Максим",1989,"Grebenchuk Maksim","Гребенчук Максим / Grebenchuk Maksim / 1989","М",3,98.701298701298697,386.83]
["Жук-трейл #8 Логойск","Трейл 10","Жук-трейл #8 Логойск Трейл 10",{"$f":"VLOOKUP(C1349,Гонки!$E$1:$N$28,10,FALSE)","v":15.360000000000001},"М",{"$f":"IF(E1349=\"Ж\",VLOOKUP(C1349,Гонки!$E$2:$P$28,11,FALSE),VLOOKUP(C1349,Гонки!$E$2:$P$28,12,FALSE))","v":154},"Тривашкевич Евгений",1996,"Trivashkevich Evgenij","Тривашкевич Евгений / Trivashkevich Evgenij / 1996","М",4,98.051948051948045,384.28]
["Жук-трейл #8 Логойск","Трейл 10","Жук-трейл #8 Логойск Трейл 10",{"$f":"VLOOKUP(C1350,Гонки!$E$1:$N$28,10,FALSE)","v":15.360000000000001},"М",{"$f":"IF(E1350=\"Ж\",VLOOKUP(C1350,Гонки!$E$2:$P$28,11,FALSE),VLOOKUP(C1350,Гонки!$E$2:$P$28,12,FALSE))","v":154},"Хатуницкий Евгений",1886,"Hatunitskij Evgenij","Хатуницкий Евгений / Hatunitskij Evgenij / 1886","М",5,97.402597402597408,381.74]
["Жук-трейл #8 Логойск","Трейл 10","Жук-трейл #8 Логойск Трейл 10",{"$f":"VLOOKUP(C1351,Гонки!$E$1:$N$28,10,FALSE)","v":15.360000000000001},"М",{"$f":"IF(E1351=\"Ж\",VLOOKUP(C1351,Гонки!$E$2:$P$28,11,FALSE),VLOOKUP(C1351,Гонки!$E$2:$P$28,12,FALSE))","v":154},"Полторан Валерий",1988,"Poltoran Valerij","Полторан Валерий / Poltoran Valerij / 1988","М",6,96.753246753246756,379.19]
["Жук-трейл #8 Логойск","Трейл 10","Жук-трейл #8 Логойск Трейл 10",{"$f":"VLOOKUP(C1352,Гонки!$E$1:$N$28,10,FALSE)","v":15.360000000000001},"М",{"$f":"IF(E1352=\"Ж\",VLOOKUP(C1352,Гонки!$E$2:$P$28,11,FALSE),VLOOKUP(C1352,Гонки!$E$2:$P$28,12,FALSE))","v":154},"Мосийчук Максим",1984,"Mosijchuk Maksim","Мосийчук Максим / Mosijchuk Maksim / 1984","М",7,96.103896103896105,376.65]
["Жук-трейл #8 Логойск","Трейл 10","Жук-трейл #8 Логойск Трейл 10",{"$f":"VLOOKUP(C1353,Гонки!$E$1:$N$28,10,FALSE)","v":15.360000000000001},"М",{"$f":"IF(E1353=\"Ж\",VLOOKUP(C1353,Гонки!$E$2:$P$28,11,FALSE),VLOOKUP(C1353,Гонки!$E$2:$P$28,12,FALSE))","v":154},"Свечников Антон",1991,"Svechnikov Anton","Свечников Антон / Svechnikov Anton / 1991","М",8,95.454545454545453,374.1]
["Жук-трейл #8 Логойск","Трейл 10","Жук-трейл #8 Логойск Трейл 10",{"$f":"VLOOKUP(C1354,Гонки!$E$1:$N$28,10,FALSE)","v":15.360000000000001},"М",{"$f":"IF(E1354=\"Ж\",VLOOKUP(C1354,Гонки!$E$2:$P$28,11,FALSE),VLOOKUP(C1354,Гонки!$E$2:$P$28,12,FALSE))","v":154},"Сидоревич Александр",1985,"Sidorevich Aleksandr","Сидоревич Александр / Sidorevich Aleksandr / 1985","М",9,94.805194805194802,371.56]
["Жук-трейл #8 Логойск","Трейл 10","Жук-трейл #8 Логойск Трейл 10",{"$f":"VLOOKUP(C1355,Гонки!$E$1:$N$28,10,FALSE)","v":15.360000000000001},"М",{"$f":"IF(E1355=\"Ж\",VLOOKUP(C1355,Гонки!$E$2:$P$28,11,FALSE),VLOOKUP(C1355,Гонки!$E$2:$P$28,12,FALSE))","v":154},"Никонов Максим",1979,"Nikonov Maksim","Никонов Максим / Nikonov Maksim / 1979","М",10,94.15584415584415,369.01]
["Жук-трейл #8 Логойск","Трейл 10","Жук-трейл #8 Логойск Трейл 10",{"$f":"VLOOKUP(C1356,Гонки!$E$1:$N$28,10,FALSE)","v":15.360000000000001},"М",{"$f":"IF(E1356=\"Ж\",VLOOKUP(C1356,Гонки!$E$2:$P$28,11,FALSE),VLOOKUP(C1356,Гонки!$E$2:$P$28,12,FALSE))","v":154},"Крисенков Алексей",1983,"Krisenkov Aleksej","Крисенков Алексей / Krisenkov Aleksej / 1983","М",11,93.506493506493513,366.47]
["Жук-трейл #8 Логойск","Трейл 10","Жук-трейл #8 Логойск Трейл 10",{"$f":"VLOOKUP(C1357,Гонки!$E$1:$N$28,10,FALSE)","v":15.360000000000001},"М",{"$f":"IF(E1357=\"Ж\",VLOOKUP(C1357,Гонки!$E$2:$P$28,11,FALSE),VLOOKUP(C1357,Гонки!$E$2:$P$28,12,FALSE))","v":154},"Сечко Евгений",1980,"Sechko Evgenij","Сечко Евгений / Sechko Evgenij / 1980","М",12,92.857142857142861,363.92]
["Жук-трейл #8 Логойск","Трейл 10","Жук-трейл #8 Логойск Трейл 10",{"$f":"VLOOKUP(C1358,Гонки!$E$1:$N$28,10,FALSE)","v":15.360000000000001},"М",{"$f":"IF(E1358=\"Ж\",VLOOKUP(C1358,Гонки!$E$2:$P$28,11,FALSE),VLOOKUP(C1358,Гонки!$E$2:$P$28,12,FALSE))","v":154},"Бузо Александр",1982,"Buzo Aleksandr","Бузо Александр / Buzo Aleksandr / 1982","М",13,92.20779220779221,361.38]
["Жук-трейл #8 Логойск","Трейл 10","Жук-трейл #8 Логойск Трейл 10",{"$f":"VLOOKUP(C1359,Гонки!$E$1:$N$28,10,FALSE)","v":15.360000000000001},"М",{"$f":"IF(E1359=\"Ж\",VLOOKUP(C1359,Гонки!$E$2:$P$28,11,FALSE),VLOOKUP(C1359,Гонки!$E$2:$P$28,12,FALSE))","v":154},"Мартынов Дмитрий",1984,"Martynov Dmitrij","Мартынов Дмитрий / Martynov Dmitrij / 1984","М",14,91.558441558441558,358.83]
["Жук-трейл #8 Логойск","Трейл 10","Жук-трейл #8 Логойск Трейл 10",{"$f":"VLOOKUP(C1360,Гонки!$E$1:$N$28,10,FALSE)","v":15.360000000000001},"М",{"$f":"IF(E1360=\"Ж\",VLOOKUP(C1360,Гонки!$E$2:$P$28,11,FALSE),VLOOKUP(C1360,Гонки!$E$2:$P$28,12,FALSE))","v":154},"Тарасик Владимир",1977,"Tarasik Vladimir","Тарасик Владимир / Tarasik Vladimir / 1977","М",15,90.909090909090907,356.29]
["Жук-трейл #8 Логойск","Трейл 10","Жук-трейл #8 Логойск Трейл 10",{"$f":"VLOOKUP(C1361,Гонки!$E$1:$N$28,10,FALSE)","v":15.360000000000001},"М",{"$f":"IF(E1361=\"Ж\",VLOOKUP(C1361,Гонки!$E$2:$P$28,11,FALSE),VLOOKUP(C1361,Гонки!$E$2:$P$28,12,FALSE))","v":154},"Ольшевский Александр",1984,"Olshevskij Aleksandr","Ольшевский Александр / Olshevskij Aleksandr / 1984","М",16,90.259740259740255,353.74]
["Жук-трейл #8 Логойск","Трейл 10","Жук-трейл #8 Логойск Трейл 10",{"$f":"VLOOKUP(C1362,Гонки!$E$1:$N$28,10,FALSE)","v":15.360000000000001},"М",{"$f":"IF(E1362=\"Ж\",VLOOKUP(C1362,Гонки!$E$2:$P$28,11,FALSE),VLOOKUP(C1362,Гонки!$E$2:$P$28,12,FALSE))","v":154},"Танковид Евгений",1985,"Tankovid Evgenij","Танковид Евгений / Tankovid Evgenij / 1985","М",17,89.610389610389603,351.2]
["Жук-трейл #8 Логойск","Трейл 10","Жук-трейл #8 Логойск Трейл 10",{"$f":"VLOOKUP(C1363,Гонки!$E$1:$N$28,10,FALSE)","v":15.360000000000001},"М",{"$f":"IF(E1363=\"Ж\",VLOOKUP(C1363,Гонки!$E$2:$P$28,11,FALSE),VLOOKUP(C1363,Гонки!$E$2:$P$28,12,FALSE))","v":154},"Почиковский Павел",1985,"Pochikovskij Pavel","Почиковский Павел / Pochikovskij Pavel / 1985","М",18,88.961038961038966,348.65]
["Жук-трейл #8 Логойск","Трейл 10","Жук-трейл #8 Логойск Трейл 10",{"$f":"VLOOKUP(C1364,Гонки!$E$1:$N$28,10,FALSE)","v":15.360000000000001},"М",{"$f":"IF(E1364=\"Ж\",VLOOKUP(C1364,Гонки!$E$2:$P$28,11,FALSE),VLOOKUP(C1364,Гонки!$E$2:$P$28,12,FALSE))","v":154},"Лозюк Алексей",1976,"Lozyuk Aleksej","Лозюк Алексей / Lozyuk Aleksej / 1976",{"$f":"E1364","v":"М"},19,88.311688311688314,346.11]
["Жук-трейл #8 Логойск","Трейл 10","Жук-трейл #8 Логойск Трейл 10",{"$f":"VLOOKUP(C1365,Гонки!$E$1:$N$28,10,FALSE)","v":15.360000000000001},"М",{"$f":"IF(E1365=\"Ж\",VLOOKUP(C1365,Гонки!$E$2:$P$28,11,FALSE),VLOOKUP(C1365,Гонки!$E$2:$P$28,12,FALSE))","v":154},"Герасимук Дмитрий",1993,"Gerasimuk Dmitrij","Герасимук Дмитрий / Gerasimuk Dmitrij / 1993","М",20,87.662337662337663,343.56]
["Жук-трейл #8 Логойск","Трейл 10","Жук-трейл #8 Логойск Трейл 10",{"$f":"VLOOKUP(C1366,Гонки!$E$1:$N$28,10,FALSE)","v":15.360000000000001},"М",{"$f":"IF(E1366=\"Ж\",VLOOKUP(C1366,Гонки!$E$2:$P$28,11,FALSE),VLOOKUP(C1366,Гонки!$E$2:$P$28,12,FALSE))","v":154},"Нечаев Владимир",1995,"Nechaev Vladimir","Нечаев Владимир / Nechaev Vladimir / 1995","М",21,87.012987012987011,341.02]
["Жук-трейл #8 Логойск","Трейл 10","Жук-трейл #8 Логойск Трейл 10",{"$f":"VLOOKUP(C1367,Гонки!$E$1:$N$28,10,FALSE)","v":15.360000000000001},"М",{"$f":"IF(E1367=\"Ж\",VLOOKUP(C1367,Гонки!$E$2:$P$28,11,FALSE),VLOOKUP(C1367,Гонки!$E$2:$P$28,12,FALSE))","v":154},"Юкевич Александр",1983,"Yukevich Aleksandr","Юкевич Александр / Yukevich Aleksandr / 1983","М",22,86.36363636363636,338.47]
["Жук-трейл #8 Логойск","Трейл 10","Жук-трейл #8 Логойск Трейл 10",{"$f":"VLOOKUP(C1368,Гонки!$E$1:$N$28,10,FALSE)","v":15.360000000000001},"М",{"$f":"IF(E1368=\"Ж\",VLOOKUP(C1368,Гонки!$E$2:$P$28,11,FALSE),VLOOKUP(C1368,Гонки!$E$2:$P$28,12,FALSE))","v":154},"Симогостицкий Александр",1987,"Simogostitskij Aleksandr","Симогостицкий Александр / Simogostitskij Aleksandr / 1987","М",23,85.714285714285722,335.93]
["Жук-трейл #8 Логойск","Трейл 10","Жук-трейл #8 Логойск Трейл 10",{"$f":"VLOOKUP(C1369,Гонки!$E$1:$N$28,10,FALSE)","v":15.360000000000001},"М",{"$f":"IF(E1369=\"Ж\",VLOOKUP(C1369,Гонки!$E$2:$P$28,11,FALSE),VLOOKUP(C1369,Гонки!$E$2:$P$28,12,FALSE))","v":154},"Руссинов Сергей",1989,"Russinov Sergej","Руссинов Сергей / Russinov Sergej / 1989","М",24,85.064935064935071,333.39]
["Жук-трейл #8 Логойск",{"$f":"$B$1304","v":"Трейл 10"},"Жук-трейл #8 Логойск Трейл 10",{"$f":"VLOOKUP(C1370,Гонки!$E$1:$N$28,10,FALSE)","v":15.360000000000001},"М",{"$f":"IF(E1370=\"Ж\",VLOOKUP(C1370,Гонки!$E$2:$P$28,11,FALSE),VLOOKUP(C1370,Гонки!$E$2:$P$28,12,FALSE))","v":154},"Макарский Сергей",1987,"Makarskij Sergej","Макарский Сергей / Makarskij Sergej / 1987","М",25,84.415584415584419,330.84]
["Жук-трейл #8 Логойск","Трейл 10","Жук-трейл #8 Логойск Трейл 10",{"$f":"VLOOKUP(C1371,Гонки!$E$1:$N$28,10,FALSE)","v":15.360000000000001},"М",{"$f":"IF(E1371=\"Ж\",VLOOKUP(C1371,Гонки!$E$2:$P$28,11,FALSE),VLOOKUP(C1371,Гонки!$E$2:$P$28,12,FALSE))","v":154},"Остапюк Андрей",1990,"Ostapyuk Andrej","Остапюк Андрей / Ostapyuk Andrej / 1990","М",26,83.766233766233768,328.3]
["Жук-трейл #8 Логойск","Трейл 10","Жук-трейл #8 Логойск Трейл 10",{"$f":"VLOOKUP(C1372,Гонки!$E$1:$N$28,10,FALSE)","v":15.360000000000001},"М",{"$f":"IF(E1372=\"Ж\",VLOOKUP(C1372,Гонки!$E$2:$P$28,11,FALSE),VLOOKUP(C1372,Гонки!$E$2:$P$28,12,FALSE))","v":154},"Матвийчук Вадим",1976,"Matvijchuk Vadim","Матвийчук Вадим / Matvijchuk Vadim / 1976","М",27,83.116883116883116,325.75]
["Жук-трейл #8 Логойск","Трейл 10","Жук-трейл #8 Логойск Трейл 10",{"$f":"VLOOKUP(C1373,Гонки!$E$1:$N$28,10,FALSE)","v":15.360000000000001},"М",{"$f":"IF(E1373=\"Ж\",VLOOKUP(C1373,Гонки!$E$2:$P$28,11,FALSE),VLOOKUP(C1373,Гонки!$E$2:$P$28,12,FALSE))","v":154},"Студенков Александр",1984,"Studenkov Aleksandr","Студенков Александр / Studenkov Aleksandr / 1984","М",28,82.467532467532465,323.20999999999998]
["Жук-трейл #8 Логойск","Трейл 10","Жук-трейл #8 Логойск Трейл 10",{"$f":"VLOOKUP(C1374,Гонки!$E$1:$N$28,10,FALSE)","v":15.360000000000001},"М",{"$f":"IF(E1374=\"Ж\",VLOOKUP(C1374,Гонки!$E$2:$P$28,11,FALSE),VLOOKUP(C1374,Гонки!$E$2:$P$28,12,FALSE))","v":154},"Ярмончик Игорь",1985,"Yarmonchik Igor","Ярмончик Игорь / Yarmonchik Igor / 1985","М",29,81.818181818181813,320.66000000000003]
["Жук-трейл #8 Логойск","Трейл 10","Жук-трейл #8 Логойск Трейл 10",{"$f":"VLOOKUP(C1375,Гонки!$E$1:$N$28,10,FALSE)","v":15.360000000000001},"М",{"$f":"IF(E1375=\"Ж\",VLOOKUP(C1375,Гонки!$E$2:$P$28,11,FALSE),VLOOKUP(C1375,Гонки!$E$2:$P$28,12,FALSE))","v":154},"Карпович Владимир",1983,"Karpovich Vladimir","Карпович Владимир / Karpovich Vladimir / 1983","М",30,81.168831168831161,318.12]
["Жук-трейл #8 Логойск","Трейл 10","Жук-трейл #8 Логойск Трейл 10",{"$f":"VLOOKUP(C1376,Гонки!$E$1:$N$28,10,FALSE)","v":15.360000000000001},"М",{"$f":"IF(E1376=\"Ж\",VLOOKUP(C1376,Гонки!$E$2:$P$28,11,FALSE),VLOOKUP(C1376,Гонки!$E$2:$P$28,12,FALSE))","v":154},"Зеленко Дмитрий",1987,"Zelenko Dmitrij","Зеленко Дмитрий / Zelenko Dmitrij / 1987","М",31,80.51948051948051,315.57]
["Жук-трейл #8 Логойск","Трейл 10","Жук-трейл #8 Логойск Трейл 10",{"$f":"VLOOKUP(C1377,Гонки!$E$1:$N$28,10,FALSE)","v":15.360000000000001},"М",{"$f":"IF(E1377=\"Ж\",VLOOKUP(C1377,Гонки!$E$2:$P$28,11,FALSE),VLOOKUP(C1377,Гонки!$E$2:$P$28,12,FALSE))","v":154},"Сикорский Сергей",1982,"Sikorskij Sergej","Сикорский Сергей / Sikorskij Sergej / 1982","М",32,79.870129870129873,313.02999999999997]
["Жук-трейл #8 Логойск","Трейл 10","Жук-трейл #8 Логойск Трейл 10",{"$f":"VLOOKUP(C1378,Гонки!$E$1:$N$28,10,FALSE)","v":15.360000000000001},"М",{"$f":"IF(E1378=\"Ж\",VLOOKUP(C1378,Гонки!$E$2:$P$28,11,FALSE),VLOOKUP(C1378,Гонки!$E$2:$P$28,12,FALSE))","v":154},"Кимстач Валерий",1984,"Kimstach Valerij","Кимстач Валерий / Kimstach Valerij / 1984","М",33,79.220779220779221,310.48]
["Жук-трейл #8 Логойск","Трейл 10","Жук-трейл #8 Логойск Трейл 10",{"$f":"VLOOKUP(C1379,Гонки!$E$1:$N$28,10,FALSE)","v":15.360000000000001},"М",{"$f":"IF(E1379=\"Ж\",VLOOKUP(C1379,Гонки!$E$2:$P$28,11,FALSE),VLOOKUP(C1379,Гонки!$E$2:$P$28,12,FALSE))","v":154},"Акулич Владимир",1986,"Akulich Vladimir","Акулич Владимир / Akulich Vladimir / 1986","М",34,78.571428571428569,307.94]
["Жук-трейл #8 Логойск","Трейл 10","Жук-трейл #8 Логойск Трейл 10",{"$f":"VLOOKUP(C1380,Гонки!$E$1:$N$28,10,FALSE)","v":15.360000000000001},"М",{"$f":"IF(E1380=\"Ж\",VLOOKUP(C1380,Гонки!$E$2:$P$28,11,FALSE),VLOOKUP(C1380,Гонки!$E$2:$P$28,12,FALSE))","v":154},"Иванюта Дмитрий",1982,"Ivanyuta Dmitrij","Иванюта Дмитрий / Ivanyuta Dmitrij / 1982","М",35,77.922077922077918,305.39]
["Жук-трейл #8 Логойск","Трейл 10","Жук-трейл #8 Логойск Трейл 10",{"$f":"VLOOKUP(C1381,Гонки!$E$1:$N$28,10,FALSE)","v":15.360000000000001},"М",{"$f":"IF(E1381=\"Ж\",VLOOKUP(C1381,Гонки!$E$2:$P$28,11,FALSE),VLOOKUP(C1381,Гонки!$E$2:$P$28,12,FALSE))","v":154},"Костров Александр",1982,"Kostrov Aleksandr","Костров Александр / Kostrov Aleksandr / 1982","М",36,77.27272727272728,302.85000000000002]
["Жук-трейл #8 Логойск","Трейл 10","Жук-трейл #8 Логойск Трейл 10",{"$f":"VLOOKUP(C1382,Гонки!$E$1:$N$28,10,FALSE)","v":15.360000000000001},"М",{"$f":"IF(E1382=\"Ж\",VLOOKUP(C1382,Гонки!$E$2:$P$28,11,FALSE),VLOOKUP(C1382,Гонки!$E$2:$P$28,12,FALSE))","v":154},"Верещако Павел",1988,"Vereschako Pavel","Верещако Павел / Vereschako Pavel / 1988","М",37,76.623376623376629,300.3]
["Жук-трейл #8 Логойск","Трейл 10","Жук-трейл #8 Логойск Трейл 10",{"$f":"VLOOKUP(C1383,Гонки!$E$1:$N$28,10,FALSE)","v":15.360000000000001},"М",{"$f":"IF(E1383=\"Ж\",VLOOKUP(C1383,Гонки!$E$2:$P$28,11,FALSE),VLOOKUP(C1383,Гонки!$E$2:$P$28,12,FALSE))","v":154},"Шабалов Вячеслав",1982,"Shabalov Vyacheslav","Шабалов Вячеслав / Shabalov Vyacheslav / 1982","М",38,75.974025974025977,297.76]
["Жук-трейл #8 Логойск","Трейл 10","Жук-трейл #8 Логойск Трейл 10",{"$f":"VLOOKUP(C1384,Гонки!$E$1:$N$28,10,FALSE)","v":15.360000000000001},"М",{"$f":"IF(E1384=\"Ж\",VLOOKUP(C1384,Гонки!$E$2:$P$28,11,FALSE),VLOOKUP(C1384,Гонки!$E$2:$P$28,12,FALSE))","v":154},"Керножицкий Андрей",1981,"Kernozhitskij Andrej","Керножицкий Андрей / Kernozhitskij Andrej / 1981","М",39,75.324675324675326,295.20999999999998]
["Жук-трейл #8 Логойск","Трейл 10","Жук-трейл #8 Логойск Трейл 10",{"$f":"VLOOKUP(C1385,Гонки!$E$1:$N$28,10,FALSE)","v":15.360000000000001},"М",{"$f":"IF(E1385=\"Ж\",VLOOKUP(C1385,Гонки!$E$2:$P$28,11,FALSE),VLOOKUP(C1385,Гонки!$E$2:$P$28,12,FALSE))","v":154},"Чернявский Евгений",1988,"Chernyavskij Evgenij","Чернявский Евгений / Chernyavskij Evgenij / 1988","М",40,74.675324675324674,292.67]
["Жук-трейл #8 Логойск","Трейл 10","Жук-трейл #8 Логойск Трейл 10",{"$f":"VLOOKUP(C1386,Гонки!$E$1:$N$28,10,FALSE)","v":15.360000000000001},"М",{"$f":"IF(E1386=\"Ж\",VLOOKUP(C1386,Гонки!$E$2:$P$28,11,FALSE),VLOOKUP(C1386,Гонки!$E$2:$P$28,12,FALSE))","v":154},"Дундуков Андрей",1985,"Dundukov Andrej","Дундуков Андрей / Dundukov Andrej / 1985","М",41,74.025974025974023,290.12]
["Жук-трейл #8 Логойск","Трейл 10","Жук-трейл #8 Логойск Трейл 10",{"$f":"VLOOKUP(C1387,Гонки!$E$1:$N$28,10,FALSE)","v":15.360000000000001},"М",{"$f":"IF(E1387=\"Ж\",VLOOKUP(C1387,Гонки!$E$2:$P$28,11,FALSE),VLOOKUP(C1387,Гонки!$E$2:$P$28,12,FALSE))","v":154},"Астапеня Андрей",1985,"Astapenya Andrej","Астапеня Андрей / Astapenya Andrej / 1985","М",42,73.376623376623371,287.58]
["Жук-трейл #8 Логойск","Трейл 10","Жук-трейл #8 Логойск Трейл 10",{"$f":"VLOOKUP(C1388,Гонки!$E$1:$N$28,10,FALSE)","v":15.360000000000001},"М",{"$f":"IF(E1388=\"Ж\",VLOOKUP(C1388,Гонки!$E$2:$P$28,11,FALSE),VLOOKUP(C1388,Гонки!$E$2:$P$28,12,FALSE))","v":154},"Казарин Дмитрий",1994,"Kazarin Dmitrij","Казарин Дмитрий / Kazarin Dmitrij / 1994","М",43,72.727272727272734,285.02999999999997]
["Жук-трейл #8 Логойск","Трейл 10","Жук-трейл #8 Логойск Трейл 10",{"$f":"VLOOKUP(C1389,Гонки!$E$1:$N$28,10,FALSE)","v":15.360000000000001},"М",{"$f":"IF(E1389=\"Ж\",VLOOKUP(C1389,Гонки!$E$2:$P$28,11,FALSE),VLOOKUP(C1389,Гонки!$E$2:$P$28,12,FALSE))","v":154},"Бегун Егор",1988,"Begun Egor","Бегун Егор / Begun Egor / 1988","М",44,72.077922077922082,282.49]
["Жук-трейл #8 Логойск","Трейл 10","Жук-трейл #8 Логойск Трейл 10",{"$f":"VLOOKUP(C1390,Гонки!$E$1:$N$28,10,FALSE)","v":15.360000000000001},"М",{"$f":"IF(E1390=\"Ж\",VLOOKUP(C1390,Гонки!$E$2:$P$28,11,FALSE),VLOOKUP(C1390,Гонки!$E$2:$P$28,12,FALSE))","v":154},"Иванов Денис",1990,"Ivanov Denis","Иванов Денис / Ivanov Denis / 1990","М",45,71.428571428571431,279.94]
["Жук-трейл #8 Логойск","Трейл 10","Жук-трейл #8 Логойск Трейл 10",{"$f":"VLOOKUP(C1391,Гонки!$E$1:$N$28,10,FALSE)","v":15.360000000000001},"М",{"$f":"IF(E1391=\"Ж\",VLOOKUP(C1391,Гонки!$E$2:$P$28,11,FALSE),VLOOKUP(C1391,Гонки!$E$2:$P$28,12,FALSE))","v":154},"Жевняк Андрей",1986,"Zhevnyak Andrej","Жевняк Андрей / Zhevnyak Andrej / 1986","М",46,70.779220779220779,277.39999999999998]
["Жук-трейл #8 Логойск","Трейл 10","Жук-трейл #8 Логойск Трейл 10",{"$f":"VLOOKUP(C1392,Гонки!$E$1:$N$28,10,FALSE)","v":15.360000000000001},"М",{"$f":"IF(E1392=\"Ж\",VLOOKUP(C1392,Гонки!$E$2:$P$28,11,FALSE),VLOOKUP(C1392,Гонки!$E$2:$P$28,12,FALSE))","v":154},"Яроцкий Евгений",1987,"Yarotskij Evgenij","Яроцкий Евгений / Yarotskij Evgenij / 1987","М",47,70.129870129870127,274.85000000000002]
["Жук-трейл #8 Логойск","Трейл 10","Жук-трейл #8 Логойск Трейл 10",{"$f":"VLOOKUP(C1393,Гонки!$E$1:$N$28,10,FALSE)","v":15.360000000000001},"М",{"$f":"IF(E1393=\"Ж\",VLOOKUP(C1393,Гонки!$E$2:$P$28,11,FALSE),VLOOKUP(C1393,Гонки!$E$2:$P$28,12,FALSE))","v":154},"Челышев Сергей",1967,"Chelyshev Sergej","Челышев Сергей / Chelyshev Sergej / 1967","М",48,69.48051948051949,272.31]
["Жук-трейл #8 Логойск","Трейл 10","Жук-трейл #8 Логойск Трейл 10",{"$f":"VLOOKUP(C1394,Гонки!$E$1:$N$28,10,FALSE)","v":15.360000000000001},"М",{"$f":"IF(E1394=\"Ж\",VLOOKUP(C1394,Гонки!$E$2:$P$28,11,FALSE),VLOOKUP(C1394,Гонки!$E$2:$P$28,12,FALSE))","v":154},"Мартынчук Ян",1987,"Martynchuk Yan","Мартынчук Ян / Martynchuk Yan / 1987","М",49,68.831168831168839,269.76]
["Жук-трейл #8 Логойск","Трейл 10","Жук-трейл #8 Логойск Трейл 10",{"$f":"VLOOKUP(C1395,Гонки!$E$1:$N$28,10,FALSE)","v":15.360000000000001},"М",{"$f":"IF(E1395=\"Ж\",VLOOKUP(C1395,Гонки!$E$2:$P$28,11,FALSE),VLOOKUP(C1395,Гонки!$E$2:$P$28,12,FALSE))","v":154},"Горелик Юрий",1987,"Gorelik Yurij","Горелик Юрий / Gorelik Yurij / 1987","М",50,68.181818181818187,267.22000000000003]
["Жук-трейл #8 Логойск","Трейл 10","Жук-трейл #8 Логойск Трейл 10",{"$f":"VLOOKUP(C1396,Гонки!$E$1:$N$28,10,FALSE)","v":15.360000000000001},"М",{"$f":"IF(E1396=\"Ж\",VLOOKUP(C1396,Гонки!$E$2:$P$28,11,FALSE),VLOOKUP(C1396,Гонки!$E$2:$P$28,12,FALSE))","v":154},"Тумащик Александр",1972,"Tumaschik Aleksandr","Тумащик Александр / Tumaschik Aleksandr / 1972","М",51,67.532467532467535,264.67]
["Жук-трейл #8 Логойск","Трейл 10","Жук-трейл #8 Логойск Трейл 10",{"$f":"VLOOKUP(C1397,Гонки!$E$1:$N$28,10,FALSE)","v":15.360000000000001},"М",{"$f":"IF(E1397=\"Ж\",VLOOKUP(C1397,Гонки!$E$2:$P$28,11,FALSE),VLOOKUP(C1397,Гонки!$E$2:$P$28,12,FALSE))","v":154},"Дадалев Алексей",1995,"Dadalev Aleksej","Дадалев Алексей / Dadalev Aleksej / 1995","М",52,66.883116883116884,262.13]
["Жук-трейл #8 Логойск","Трейл 10","Жук-трейл #8 Логойск Трейл 10",{"$f":"VLOOKUP(C1398,Гонки!$E$1:$N$28,10,FALSE)","v":15.360000000000001},"М",{"$f":"IF(E1398=\"Ж\",VLOOKUP(C1398,Гонки!$E$2:$P$28,11,FALSE),VLOOKUP(C1398,Гонки!$E$2:$P$28,12,FALSE))","v":154},"Алексеев Алексей",1980,"Alekseev Aleksej","Алексеев Алексей / Alekseev Aleksej / 1980","М",53,66.233766233766232,259.58]
["Жук-трейл #8 Логойск","Трейл 10","Жук-трейл #8 Логойск Трейл 10",{"$f":"VLOOKUP(C1399,Гонки!$E$1:$N$28,10,FALSE)","v":15.360000000000001},"М",{"$f":"IF(E1399=\"Ж\",VLOOKUP(C1399,Гонки!$E$2:$P$28,11,FALSE),VLOOKUP(C1399,Гонки!$E$2:$P$28,12,FALSE))","v":154},"Буто Дмитрий",1988,"Buto Dmitrij","Буто Дмитрий / Buto Dmitrij / 1988","М",54,65.584415584415581,257.04000000000002]
["Жук-трейл #8 Логойск","Трейл 10","Жук-трейл #8 Логойск Трейл 10",{"$f":"VLOOKUP(C1400,Гонки!$E$1:$N$28,10,FALSE)","v":15.360000000000001},"М",{"$f":"IF(E1400=\"Ж\",VLOOKUP(C1400,Гонки!$E$2:$P$28,11,FALSE),VLOOKUP(C1400,Гонки!$E$2:$P$28,12,FALSE))","v":154},"Герман Кирилл",1999,"German Kirill","Герман Кирилл / German Kirill / 1999","М",55,64.935064935064929,254.49]
["Жук-трейл #8 Логойск","Трейл 10","Жук-трейл #8 Логойск Трейл 10",{"$f":"VLOOKUP(C1401,Гонки!$E$1:$N$28,10,FALSE)","v":15.360000000000001},"М",{"$f":"IF(E1401=\"Ж\",VLOOKUP(C1401,Гонки!$E$2:$P$28,11,FALSE),VLOOKUP(C1401,Гонки!$E$2:$P$28,12,FALSE))","v":154},"Пыжик Антон",1991,"Pyzhik Anton","Пыжик Антон / Pyzhik Anton / 1991","М",56,64.285714285714278,251.95]
["Жук-трейл #8 Логойск","Трейл 10","Жук-трейл #8 Логойск Трейл 10",{"$f":"VLOOKUP(C1402,Гонки!$E$1:$N$28,10,FALSE)","v":15.360000000000001},"М",{"$f":"IF(E1402=\"Ж\",VLOOKUP(C1402,Гонки!$E$2:$P$28,11,FALSE),VLOOKUP(C1402,Гонки!$E$2:$P$28,12,FALSE))","v":154},"Капытов Александр",1978,"Kapytov Aleksandr","Капытов Александр / Kapytov Aleksandr / 1978","М",57,63.636363636363633,249.4]
["Жук-трейл #8 Логойск","Трейл 10","Жук-трейл #8 Логойск Трейл 10",{"$f":"VLOOKUP(C1403,Гонки!$E$1:$N$28,10,FALSE)","v":15.360000000000001},"М",{"$f":"IF(E1403=\"Ж\",VLOOKUP(C1403,Гонки!$E$2:$P$28,11,FALSE),VLOOKUP(C1403,Гонки!$E$2:$P$28,12,FALSE))","v":154},"Королёв Максим",1989,"Koroljov Maksim","Королёв Максим / Koroljov Maksim / 1989","М",58,62.987012987012989,246.86]
["Жук-трейл #8 Логойск","Трейл 10","Жук-трейл #8 Логойск Трейл 10",{"$f":"VLOOKUP(C1404,Гонки!$E$1:$N$28,10,FALSE)","v":15.360000000000001},"М",{"$f":"IF(E1404=\"Ж\",VLOOKUP(C1404,Гонки!$E$2:$P$28,11,FALSE),VLOOKUP(C1404,Гонки!$E$2:$P$28,12,FALSE))","v":154},"Алексейчик Павел",1994,"Aleksejchik Pavel","Алексейчик Павел / Aleksejchik Pavel / 1994","М",59,62.337662337662337,244.31]
[{"$f":"$A$1211","v":"Жук-трейл #8 Логойск"},"Трейл 10","Жук-трейл #8 Логойск Трейл 10",{"$f":"VLOOKUP(C1405,Гонки!$E$1:$N$28,10,FALSE)","v":15.360000000000001},"М",{"$f":"IF(E1405=\"Ж\",VLOOKUP(C1405,Гонки!$E$2:$P$28,11,FALSE),VLOOKUP(C1405,Гонки!$E$2:$P$28,12,FALSE))","v":154},"Кульбацкий Владислав",1989,"Kulbatskij Vladislav","Кульбацкий Владислав / Kulbatskij Vladislav / 1989","М",60,61.688311688311686,241.77]
["Жук-трейл #8 Логойск","Трейл 10","Жук-трейл #8 Логойск Трейл 10",{"$f":"VLOOKUP(C1406,Гонки!$E$1:$N$28,10,FALSE)","v":15.360000000000001},"М",{"$f":"IF(E1406=\"Ж\",VLOOKUP(C1406,Гонки!$E$2:$P$28,11,FALSE),VLOOKUP(C1406,Гонки!$E$2:$P$28,12,FALSE))","v":154},"Тылиндус Александр",1984,"Tylindus Aleksandr","Тылиндус Александр / Tylindus Aleksandr / 1984","М",61,61.038961038961034,239.22]
["Жук-трейл #8 Логойск","Трейл 10","Жук-трейл #8 Логойск Трейл 10",{"$f":"VLOOKUP(C1407,Гонки!$E$1:$N$28,10,FALSE)","v":15.360000000000001},"М",{"$f":"IF(E1407=\"Ж\",VLOOKUP(C1407,Гонки!$E$2:$P$28,11,FALSE),VLOOKUP(C1407,Гонки!$E$2:$P$28,12,FALSE))","v":154},"Зданович Андрей",1973,"Zdanovich Andrej","Зданович Андрей / Zdanovich Andrej / 1973","М",62,60.38961038961039,236.68]
["Жук-трейл #8 Логойск","Трейл 10","Жук-трейл #8 Логойск Трейл 10",{"$f":"VLOOKUP(C1408,Гонки!$E$1:$N$28,10,FALSE)","v":15.360000000000001},"М",{"$f":"IF(E1408=\"Ж\",VLOOKUP(C1408,Гонки!$E$2:$P$28,11,FALSE),VLOOKUP(C1408,Гонки!$E$2:$P$28,12,FALSE))","v":154},"Ларионов Андрей",1981,"Larionov Andrej","Ларионов Андрей / Larionov Andrej / 1981","М",62,60.38961038961039,236.68]
["Жук-трейл #8 Логойск","Трейл 10","Жук-трейл #8 Логойск Трейл 10",{"$f":"VLOOKUP(C1409,Гонки!$E$1:$N$28,10,FALSE)","v":15.360000000000001},"М",{"$f":"IF(E1409=\"Ж\",VLOOKUP(C1409,Гонки!$E$2:$P$28,11,FALSE),VLOOKUP(C1409,Гонки!$E$2:$P$28,12,FALSE))","v":154},"Калинка Руслан",1978,"Kalinka Ruslan","Калинка Руслан / Kalinka Ruslan / 1978","М",64,59.090909090909086,231.59]
["Жук-трейл #8 Логойск","Трейл 10",{"$f":"CONCATENATE(A1410,\" \",B1410)","v":"Жук-трейл #8 Логойск Трейл 10"},{"$f":"VLOOKUP(C1410,Гонки!$E$1:$N$28,10,FALSE)","v":15.360000000000001},"М",{"$f":"IF(E1410=\"Ж\",VLOOKUP(C1410,Гонки!$E$2:$P$28,11,FALSE),VLOOKUP(C1410,Гонки!$E$2:$P$28,12,FALSE))","v":154},"Дышлевич Сергей",1982,"Dyshlevich Sergej","Дышлевич Сергей / Dyshlevich Sergej / 1982","М",65,{"$f":"100-((L1410-1)/F1410)*100","v":58.441558441558442},{"$f":"ROUND(SQRT(D1410)*M1410,2)","v":229.04}]
["Жук-трейл #8 Логойск","Трейл 10","Жук-трейл #8 Логойск Трейл 10",{"$f":"VLOOKUP(C1411,Гонки!$E$1:$N$28,10,FALSE)","v":15.360000000000001},"М",{"$f":"IF(E1411=\"Ж\",VLOOKUP(C1411,Гонки!$E$2:$P$28,11,FALSE),VLOOKUP(C1411,Гонки!$E$2:$P$28,12,FALSE))","v":154},"Пигулевский Денис",1990,{"$f":"Translit(G1411)","v":"Pigulevskij Denis"},{"$f":"CONCATENATE(G1411,\" / \",I1411,\" / \",H1411)","v":"Пигулевский Денис / Pigulevskij Denis / 1990"},"М",66,57.792207792207797,226.5]
["Жук-трейл #8 Логойск","Трейл 10","Жук-трейл #8 Логойск Трейл 10",{"$f":"VLOOKUP(C1412,Гонки!$E$1:$N$28,10,FALSE)","v":15.360000000000001},"М",{"$f":"IF(E1412=\"Ж\",VLOOKUP(C1412,Гонки!$E$2:$P$28,11,FALSE),VLOOKUP(C1412,Гонки!$E$2:$P$28,12,FALSE))","v":154},"user 4931 dan",1989,"user 4931 dan","user 4931 dan / user 4931 dan / 1989","М",67,57.142857142857146,223.95]
["Жук-трейл #8 Логойск","Трейл 10","Жук-трейл #8 Логойск Трейл 10",{"$f":"VLOOKUP(C1413,Гонки!$E$1:$N$28,10,FALSE)","v":15.360000000000001},"М",{"$f":"IF(E1413=\"Ж\",VLOOKUP(C1413,Гонки!$E$2:$P$28,11,FALSE),VLOOKUP(C1413,Гонки!$E$2:$P$28,12,FALSE))","v":154},"Декевич Сергей",1989,"Dekevich Sergej","Декевич Сергей / Dekevich Sergej / 1989","М",68,56.493506493506494,221.41]
["Жук-трейл #8 Логойск","Трейл 10","Жук-трейл #8 Логойск Трейл 10",{"$f":"VLOOKUP(C1414,Гонки!$E$1:$N$28,10,FALSE)","v":15.360000000000001},"М",{"$f":"IF(E1414=\"Ж\",VLOOKUP(C1414,Гонки!$E$2:$P$28,11,FALSE),VLOOKUP(C1414,Гонки!$E$2:$P$28,12,FALSE))","v":154},"Явтушенко Вадим",1981,"Yavtushenko Vadim","Явтушенко Вадим / Yavtushenko Vadim / 1981","М",69,55.844155844155843,218.86]
["Жук-трейл #8 Логойск","Трейл 10","Жук-трейл #8 Логойск Трейл 10",{"$f":"VLOOKUP(C1415,Гонки!$E$1:$N$28,10,FALSE)","v":15.360000000000001},"М",{"$f":"IF(E1415=\"Ж\",VLOOKUP(C1415,Гонки!$E$2:$P$28,11,FALSE),VLOOKUP(C1415,Гонки!$E$2:$P$28,12,FALSE))","v":154},"Хромов Вадим",1994,"Hromov Vadim","Хромов Вадим / Hromov Vadim / 1994","М",70,55.194805194805198,216.32]
["Жук-трейл #8 Логойск","Трейл 10","Жук-трейл #8 Логойск Трейл 10",{"$f":"VLOOKUP(C1416,Гонки!$E$1:$N$28,10,FALSE)","v":15.360000000000001},"М",{"$f":"IF(E1416=\"Ж\",VLOOKUP(C1416,Гонки!$E$2:$P$28,11,FALSE),VLOOKUP(C1416,Гонки!$E$2:$P$28,12,FALSE))","v":154},"Tan Burak",1983,"Tan Burak","Tan Burak / Tan Burak / 1983","М",71,54.545454545454547,213.77]
["Жук-трейл #8 Логойск","Трейл 10","Жук-трейл #8 Логойск Трейл 10",{"$f":"VLOOKUP(C1417,Гонки!$E$1:$N$28,10,FALSE)","v":15.360000000000001},"М",{"$f":"IF(E1417=\"Ж\",VLOOKUP(C1417,Гонки!$E$2:$P$28,11,FALSE),VLOOKUP(C1417,Гонки!$E$2:$P$28,12,FALSE))","v":154},"Вайтешонок Сергей",1981,"Vajteshonok Sergej","Вайтешонок Сергей / Vajteshonok Sergej / 1981","М",72,53.896103896103895,211.23]
["Жук-трейл #8 Логойск","Трейл 10","Жук-трейл #8 Логойск Трейл 10",{"$f":"VLOOKUP(C1418,Гонки!$E$1:$N$28,10,FALSE)","v":15.360000000000001},"М",{"$f":"IF(E1418=\"Ж\",VLOOKUP(C1418,Гонки!$E$2:$P$28,11,FALSE),VLOOKUP(C1418,Гонки!$E$2:$P$28,12,FALSE))","v":154},"Млынарчик Николай",1998,"Mlynarchik Nikolaj","Млынарчик Николай / Mlynarchik Nikolaj / 1998","М",73,53.246753246753251,208.68]
["Жук-трейл #8 Логойск","Трейл 10","Жук-трейл #8 Логойск Трейл 10",{"$f":"VLOOKUP(C1419,Гонки!$E$1:$N$28,10,FALSE)","v":15.360000000000001},"М",{"$f":"IF(E1419=\"Ж\",VLOOKUP(C1419,Гонки!$E$2:$P$28,11,FALSE),VLOOKUP(C1419,Гонки!$E$2:$P$28,12,FALSE))","v":154},"Прохоренко Дмитрий",1981,"Prohorenko Dmitrij","Прохоренко Дмитрий / Prohorenko Dmitrij / 1981","М",74,52.597402597402599,206.14]
["Жук-трейл #8 Логойск","Трейл 10","Жук-трейл #8 Логойск Трейл 10",{"$f":"VLOOKUP(C1420,Гонки!$E$1:$N$28,10,FALSE)","v":15.360000000000001},"М",{"$f":"IF(E1420=\"Ж\",VLOOKUP(C1420,Гонки!$E$2:$P$28,11,FALSE),VLOOKUP(C1420,Гонки!$E$2:$P$28,12,FALSE))","v":154},"Липский Андрей",1985,"Lipskij Andrej","Липский Андрей / Lipskij Andrej / 1985","М",75,51.948051948051948,203.59]
["Жук-трейл #8 Логойск","Трейл 10","Жук-трейл #8 Логойск Трейл 10",{"$f":"VLOOKUP(C1421,Гонки!$E$1:$N$28,10,FALSE)","v":15.360000000000001},"М",{"$f":"IF(E1421=\"Ж\",VLOOKUP(C1421,Гонки!$E$2:$P$28,11,FALSE),VLOOKUP(C1421,Гонки!$E$2:$P$28,12,FALSE))","v":154},"Нехайчик Артур",1995,"Nehajchik Artur","Нехайчик Артур / Nehajchik Artur / 1995","М",76,51.298701298701296,201.05]
["Жук-трейл #8 Логойск","Трейл 10","Жук-трейл #8 Логойск Трейл 10",{"$f":"VLOOKUP(C1422,Гонки!$E$1:$N$28,10,FALSE)","v":15.360000000000001},"М",{"$f":"IF(E1422=\"Ж\",VLOOKUP(C1422,Гонки!$E$2:$P$28,11,FALSE),VLOOKUP(C1422,Гонки!$E$2:$P$28,12,FALSE))","v":154},"Сеннікаў Ілья",1984,"Sennіkau Іlya","Сеннікаў Ілья / Sennіkau Іlya / 1984","М",77,50.649350649350652,198.5]
["Жук-трейл #8 Логойск","Трейл 10","Жук-трейл #8 Логойск Трейл 10",{"$f":"VLOOKUP(C1423,Гонки!$E$1:$N$28,10,FALSE)","v":15.360000000000001},"М",{"$f":"IF(E1423=\"Ж\",VLOOKUP(C1423,Гонки!$E$2:$P$28,11,FALSE),VLOOKUP(C1423,Гонки!$E$2:$P$28,12,FALSE))","v":154},"Теребенин Владислав",2001,"Terebenin Vladislav","Теребенин Владислав / Terebenin Vladislav / 2001","М",78,50,195.96]
["Жук-трейл #8 Логойск","Трейл 10","Жук-трейл #8 Логойск Трейл 10",{"$f":"VLOOKUP(C1424,Гонки!$E$1:$N$28,10,FALSE)","v":15.360000000000001},"М",{"$f":"IF(E1424=\"Ж\",VLOOKUP(C1424,Гонки!$E$2:$P$28,11,FALSE),VLOOKUP(C1424,Гонки!$E$2:$P$28,12,FALSE))","v":154},"Вирский Константин",1977,"Virskij Konstantin","Вирский Константин / Virskij Konstantin / 1977","М",79,49.350649350649356,193.41]
["Жук-трейл #8 Логойск","Трейл 10","Жук-трейл #8 Логойск Трейл 10",{"$f":"VLOOKUP(C1425,Гонки!$E$1:$N$28,10,FALSE)","v":15.360000000000001},"М",{"$f":"IF(E1425=\"Ж\",VLOOKUP(C1425,Гонки!$E$2:$P$28,11,FALSE),VLOOKUP(C1425,Гонки!$E$2:$P$28,12,FALSE))","v":154},"Хмелевский Юрий",1974,"Hmelevskij Yurij","Хмелевский Юрий / Hmelevskij Yurij / 1974","М",80,48.701298701298704,190.87]
["Жук-трейл #8 Логойск","Трейл 10","Жук-трейл #8 Логойск Трейл 10",{"$f":"VLOOKUP(C1426,Гонки!$E$1:$N$28,10,FALSE)","v":15.360000000000001},"М",{"$f":"IF(E1426=\"Ж\",VLOOKUP(C1426,Гонки!$E$2:$P$28,11,FALSE),VLOOKUP(C1426,Гонки!$E$2:$P$28,12,FALSE))","v":154},"Рудницкий Сергей",1979,"Rudnitskij Sergej","Рудницкий Сергей / Rudnitskij Sergej / 1979","М",81,48.05194805194806,188.32]
["Жук-трейл #8 Логойск","Трейл 10","Жук-трейл #8 Логойск Трейл 10",{"$f":"VLOOKUP(C1427,Гонки!$E$1:$N$28,10,FALSE)","v":15.360000000000001},"М",{"$f":"IF(E1427=\"Ж\",VLOOKUP(C1427,Гонки!$E$2:$P$28,11,FALSE),VLOOKUP(C1427,Гонки!$E$2:$P$28,12,FALSE))","v":154},"Коляев Антон",1980,"Kolyaev Anton","Коляев Антон / Kolyaev Anton / 1980","М",82,47.402597402597401,185.78]
["Жук-трейл #8 Логойск","Трейл 10","Жук-трейл #8 Логойск Трейл 10",{"$f":"VLOOKUP(C1428,Гонки!$E$1:$N$28,10,FALSE)","v":15.360000000000001},"М",{"$f":"IF(E1428=\"Ж\",VLOOKUP(C1428,Гонки!$E$2:$P$28,11,FALSE),VLOOKUP(C1428,Гонки!$E$2:$P$28,12,FALSE))","v":154},"Никитюк Алексей",1985,"Nikityuk Aleksej","Никитюк Алексей / Nikityuk Aleksej / 1985",{"$f":"E1428","v":"М"},83,46.753246753246756,183.23]
["Жук-трейл #8 Логойск","Трейл 10","Жук-трейл #8 Логойск Трейл 10",{"$f":"VLOOKUP(C1429,Гонки!$E$1:$N$28,10,FALSE)","v":15.360000000000001},"М",{"$f":"IF(E1429=\"Ж\",VLOOKUP(C1429,Гонки!$E$2:$P$28,11,FALSE),VLOOKUP(C1429,Гонки!$E$2:$P$28,12,FALSE))","v":154},"Мигас Александр",1984,"Migas Aleksandr","Мигас Александр / Migas Aleksandr / 1984","М",84,46.103896103896105,180.69]
["Жук-трейл #8 Логойск","Трейл 10","Жук-трейл #8 Логойск Трейл 10",{"$f":"VLOOKUP(C1430,Гонки!$E$1:$N$28,10,FALSE)","v":15.360000000000001},"М",{"$f":"IF(E1430=\"Ж\",VLOOKUP(C1430,Гонки!$E$2:$P$28,11,FALSE),VLOOKUP(C1430,Гонки!$E$2:$P$28,12,FALSE))","v":154},"Белов Александр",1991,"Belov Aleksandr","Белов Александр / Belov Aleksandr / 1991","М",85,45.45454545454546,178.14]
["Жук-трейл #8 Логойск","Трейл 10","Жук-трейл #8 Логойск Трейл 10",{"$f":"VLOOKUP(C1431,Гонки!$E$1:$N$28,10,FALSE)","v":15.360000000000001},"М",{"$f":"IF(E1431=\"Ж\",VLOOKUP(C1431,Гонки!$E$2:$P$28,11,FALSE),VLOOKUP(C1431,Гонки!$E$2:$P$28,12,FALSE))","v":154},"Похолкин Александр",1988,"Poholkin Aleksandr","Похолкин Александр / Poholkin Aleksandr / 1988","М",86,44.805194805194802,175.6]
["Жук-трейл #8 Логойск","Трейл 10","Жук-трейл #8 Логойск Трейл 10",{"$f":"VLOOKUP(C1432,Гонки!$E$1:$N$28,10,FALSE)","v":15.360000000000001},"М",{"$f":"IF(E1432=\"Ж\",VLOOKUP(C1432,Гонки!$E$2:$P$28,11,FALSE),VLOOKUP(C1432,Гонки!$E$2:$P$28,12,FALSE))","v":154},"Новик Олег",1987,"Novik Oleg","Новик Олег / Novik Oleg / 1987","М",87,44.155844155844157,173.05]
["Жук-трейл #8 Логойск","Трейл 10","Жук-трейл #8 Логойск Трейл 10",{"$f":"VLOOKUP(C1433,Гонки!$E$1:$N$28,10,FALSE)","v":15.360000000000001},"М",{"$f":"IF(E1433=\"Ж\",VLOOKUP(C1433,Гонки!$E$2:$P$28,11,FALSE),VLOOKUP(C1433,Гонки!$E$2:$P$28,12,FALSE))","v":154},"Свиридов Максим",1989,"Sviridov Maksim","Свиридов Максим / Sviridov Maksim / 1989","М",88,43.506493506493506,170.51]
["Жук-трейл #8 Логойск",{"$f":"$B$1304","v":"Трейл 10"},"Жук-трейл #8 Логойск Трейл 10",{"$f":"VLOOKUP(C1434,Гонки!$E$1:$N$28,10,FALSE)","v":15.360000000000001},"М",{"$f":"IF(E1434=\"Ж\",VLOOKUP(C1434,Гонки!$E$2:$P$28,11,FALSE),VLOOKUP(C1434,Гонки!$E$2:$P$28,12,FALSE))","v":154},"Суворов Александр",1983,"Suvorov Aleksandr","Суворов Александр / Suvorov Aleksandr / 1983","М",89,42.857142857142861,167.97]
["Жук-трейл #8 Логойск","Трейл 10","Жук-трейл #8 Логойск Трейл 10",{"$f":"VLOOKUP(C1435,Гонки!$E$1:$N$28,10,FALSE)","v":15.360000000000001},"М",{"$f":"IF(E1435=\"Ж\",VLOOKUP(C1435,Гонки!$E$2:$P$28,11,FALSE),VLOOKUP(C1435,Гонки!$E$2:$P$28,12,FALSE))","v":154},"Сербаев Виталий",1979,"Serbaev Vitalij","Сербаев Виталий / Serbaev Vitalij / 1979","М",90,42.207792207792203,165.42]
["Жук-трейл #8 Логойск","Трейл 10","Жук-трейл #8 Логойск Трейл 10",{"$f":"VLOOKUP(C1436,Гонки!$E$1:$N$28,10,FALSE)","v":15.360000000000001},"М",{"$f":"IF(E1436=\"Ж\",VLOOKUP(C1436,Гонки!$E$2:$P$28,11,FALSE),VLOOKUP(C1436,Гонки!$E$2:$P$28,12,FALSE))","v":154},"Заречанский Юрий",1980,"Zarechanskij Yurij","Заречанский Юрий / Zarechanskij Yurij / 1980","М",91,41.558441558441558,162.88]
["Жук-трейл #8 Логойск","Трейл 10","Жук-трейл #8 Логойск Трейл 10",{"$f":"VLOOKUP(C1437,Гонки!$E$1:$N$28,10,FALSE)","v":15.360000000000001},"М",{"$f":"IF(E1437=\"Ж\",VLOOKUP(C1437,Гонки!$E$2:$P$28,11,FALSE),VLOOKUP(C1437,Гонки!$E$2:$P$28,12,FALSE))","v":154},"Лапухин Андрей",1989,"Lapuhin Andrej","Лапухин Андрей / Lapuhin Andrej / 1989","М",91,41.558441558441558,162.88]
["Жук-трейл #8 Логойск","Трейл 10","Жук-трейл #8 Логойск Трейл 10",{"$f":"VLOOKUP(C1438,Гонки!$E$1:$N$28,10,FALSE)","v":15.360000000000001},"М",{"$f":"IF(E1438=\"Ж\",VLOOKUP(C1438,Гонки!$E$2:$P$28,11,FALSE),VLOOKUP(C1438,Гонки!$E$2:$P$28,12,FALSE))","v":154},"Стельмах Юрий",1982,"Stelmah Yurij","Стельмах Юрий / Stelmah Yurij / 1982","М",93,40.259740259740262,157.79]
["Жук-трейл #8 Логойск","Трейл 10","Жук-трейл #8 Логойск Трейл 10",{"$f":"VLOOKUP(C1439,Гонки!$E$1:$N$28,10,FALSE)","v":15.360000000000001},"М",{"$f":"IF(E1439=\"Ж\",VLOOKUP(C1439,Гонки!$E$2:$P$28,11,FALSE),VLOOKUP(C1439,Гонки!$E$2:$P$28,12,FALSE))","v":154},"Миранович Павел",1986,"Miranovich Pavel","Миранович Павел / Miranovich Pavel / 1986","М",94,39.610389610389603,155.24]
["Жук-трейл #8 Логойск","Трейл 10","Жук-трейл #8 Логойск Трейл 10",{"$f":"VLOOKUP(C1440,Гонки!$E$1:$N$28,10,FALSE)","v":15.360000000000001},"М",{"$f":"IF(E1440=\"Ж\",VLOOKUP(C1440,Гонки!$E$2:$P$28,11,FALSE),VLOOKUP(C1440,Гонки!$E$2:$P$28,12,FALSE))","v":154},"Даник Даниил",1982,"Danik Daniil","Даник Даниил / Danik Daniil / 1982","М",95,38.961038961038966,152.69999999999999]
["Жук-трейл #8 Логойск","Трейл 10","Жук-трейл #8 Логойск Трейл 10",{"$f":"VLOOKUP(C1441,Гонки!$E$1:$N$28,10,FALSE)","v":15.360000000000001},"М",{"$f":"IF(E1441=\"Ж\",VLOOKUP(C1441,Гонки!$E$2:$P$28,11,FALSE),VLOOKUP(C1441,Гонки!$E$2:$P$28,12,FALSE))","v":154},"Бушковский Максим",1989,"Bushkovskij Maksim","Бушковский Максим / Bushkovskij Maksim / 1989","М",96,38.311688311688307,150.15]
["Жук-трейл #8 Логойск","Трейл 10","Жук-трейл #8 Логойск Трейл 10",{"$f":"VLOOKUP(C1442,Гонки!$E$1:$N$28,10,FALSE)","v":15.360000000000001},"М",{"$f":"IF(E1442=\"Ж\",VLOOKUP(C1442,Гонки!$E$2:$P$28,11,FALSE),VLOOKUP(C1442,Гонки!$E$2:$P$28,12,FALSE))","v":154},"Зайцев Александр",1986,"Zajtsev Aleksandr","Зайцев Александр / Zajtsev Aleksandr / 1986","М",97,37.662337662337663,147.61000000000001]
["Жук-трейл #8 Логойск","Трейл 10","Жук-трейл #8 Логойск Трейл 10",{"$f":"VLOOKUP(C1443,Гонки!$E$1:$N$28,10,FALSE)","v":15.360000000000001},"М",{"$f":"IF(E1443=\"Ж\",VLOOKUP(C1443,Гонки!$E$2:$P$28,11,FALSE),VLOOKUP(C1443,Гонки!$E$2:$P$28,12,FALSE))","v":154},"Молочников Дмитрий",1984,"Molochnikov Dmitrij","Молочников Дмитрий / Molochnikov Dmitrij / 1984","М",98,37.012987012987011,145.06]
["Жук-трейл #8 Логойск","Трейл 10","Жук-трейл #8 Логойск Трейл 10",{"$f":"VLOOKUP(C1444,Гонки!$E$1:$N$28,10,FALSE)","v":15.360000000000001},"М",{"$f":"IF(E1444=\"Ж\",VLOOKUP(C1444,Гонки!$E$2:$P$28,11,FALSE),VLOOKUP(C1444,Гонки!$E$2:$P$28,12,FALSE))","v":154},"Лобач Павел",1989,"Lobach Pavel","Лобач Павел / Lobach Pavel / 1989","М",99,36.363636363636367,142.52000000000001]
["Жук-трейл #8 Логойск","Трейл 10","Жук-трейл #8 Логойск Трейл 10",{"$f":"VLOOKUP(C1445,Гонки!$E$1:$N$28,10,FALSE)","v":15.360000000000001},"М",{"$f":"IF(E1445=\"Ж\",VLOOKUP(C1445,Гонки!$E$2:$P$28,11,FALSE),VLOOKUP(C1445,Гонки!$E$2:$P$28,12,FALSE))","v":154},"Незнанов Михаил",1982,"Neznanov Mihail","Незнанов Михаил / Neznanov Mihail / 1982","М",100,35.714285714285708,139.97]
["Жук-трейл #8 Логойск","Трейл 10","Жук-трейл #8 Логойск Трейл 10",{"$f":"VLOOKUP(C1446,Гонки!$E$1:$N$28,10,FALSE)","v":15.360000000000001},"М",{"$f":"IF(E1446=\"Ж\",VLOOKUP(C1446,Гонки!$E$2:$P$28,11,FALSE),VLOOKUP(C1446,Гонки!$E$2:$P$28,12,FALSE))","v":154},"Лопатик Юрий",1984,"Lopatik Yurij","Лопатик Юрий / Lopatik Yurij / 1984","М",101,35.064935064935071,137.43]
["Жук-трейл #8 Логойск","Трейл 10","Жук-трейл #8 Логойск Трейл 10",{"$f":"VLOOKUP(C1447,Гонки!$E$1:$N$28,10,FALSE)","v":15.360000000000001},"М",{"$f":"IF(E1447=\"Ж\",VLOOKUP(C1447,Гонки!$E$2:$P$28,11,FALSE),VLOOKUP(C1447,Гонки!$E$2:$P$28,12,FALSE))","v":154},"Хамицевич Андрей",1983,"Hamitsevich Andrej","Хамицевич Андрей / Hamitsevich Andrej / 1983","М",102,34.415584415584405,134.88]
["Жук-трейл #8 Логойск","Трейл 10","Жук-трейл #8 Логойск Трейл 10",{"$f":"VLOOKUP(C1448,Гонки!$E$1:$N$28,10,FALSE)","v":15.360000000000001},"М",{"$f":"IF(E1448=\"Ж\",VLOOKUP(C1448,Гонки!$E$2:$P$28,11,FALSE),VLOOKUP(C1448,Гонки!$E$2:$P$28,12,FALSE))","v":154},"Мельник Станислав",1991,"Melnik Stanislav","Мельник Станислав / Melnik Stanislav / 1991","М",103,33.766233766233768,132.34]
["Жук-трейл #8 Логойск","Трейл 10","Жук-трейл #8 Логойск Трейл 10",{"$f":"VLOOKUP(C1449,Гонки!$E$1:$N$28,10,FALSE)","v":15.360000000000001},"М",{"$f":"IF(E1449=\"Ж\",VLOOKUP(C1449,Гонки!$E$2:$P$28,11,FALSE),VLOOKUP(C1449,Гонки!$E$2:$P$28,12,FALSE))","v":154},"Шатерник Евгений",1980,"Shaternik Evgenij","Шатерник Евгений / Shaternik Evgenij / 1980","М",104,33.116883116883116,129.79]
["Жук-трейл #8 Логойск","Трейл 10","Жук-трейл #8 Логойск Трейл 10",{"$f":"VLOOKUP(C1450,Гонки!$E$1:$N$28,10,FALSE)","v":15.360000000000001},"М",{"$f":"IF(E1450=\"Ж\",VLOOKUP(C1450,Гонки!$E$2:$P$28,11,FALSE),VLOOKUP(C1450,Гонки!$E$2:$P$28,12,FALSE))","v":154},"Болотов Илья",1988,"Bolotov Ilya","Болотов Илья / Bolotov Ilya / 1988","М",105,32.467532467532465,127.25]
["Жук-трейл #8 Логойск","Трейл 10","Жук-трейл #8 Логойск Трейл 10",{"$f":"VLOOKUP(C1451,Гонки!$E$1:$N$28,10,FALSE)","v":15.360000000000001},"М",{"$f":"IF(E1451=\"Ж\",VLOOKUP(C1451,Гонки!$E$2:$P$28,11,FALSE),VLOOKUP(C1451,Гонки!$E$2:$P$28,12,FALSE))","v":154},"Маклаков Максим",1987,"Maklakov Maksim","Маклаков Максим / Maklakov Maksim / 1987","М",106,31.818181818181827,124.7]
["Жук-трейл #8 Логойск","Трейл 10","Жук-трейл #8 Логойск Трейл 10",{"$f":"VLOOKUP(C1452,Гонки!$E$1:$N$28,10,FALSE)","v":15.360000000000001},"М",{"$f":"IF(E1452=\"Ж\",VLOOKUP(C1452,Гонки!$E$2:$P$28,11,FALSE),VLOOKUP(C1452,Гонки!$E$2:$P$28,12,FALSE))","v":154},"Шашков Егор",1983,"Shashkov Egor","Шашков Егор / Shashkov Egor / 1983","М",107,31.168831168831161,122.16]
["Жук-трейл #8 Логойск","Трейл 10","Жук-трейл #8 Логойск Трейл 10",{"$f":"VLOOKUP(C1453,Гонки!$E$1:$N$28,10,FALSE)","v":15.360000000000001},"М",{"$f":"IF(E1453=\"Ж\",VLOOKUP(C1453,Гонки!$E$2:$P$28,11,FALSE),VLOOKUP(C1453,Гонки!$E$2:$P$28,12,FALSE))","v":154},"Суровцев Максим",1993,"Surovtsev Maksim","Суровцев Максим / Surovtsev Maksim / 1993","М",108,30.519480519480524,119.61]
["Жук-трейл #8 Логойск","Трейл 10","Жук-трейл #8 Логойск Трейл 10",{"$f":"VLOOKUP(C1454,Гонки!$E$1:$N$28,10,FALSE)","v":15.360000000000001},"М",{"$f":"IF(E1454=\"Ж\",VLOOKUP(C1454,Гонки!$E$2:$P$28,11,FALSE),VLOOKUP(C1454,Гонки!$E$2:$P$28,12,FALSE))","v":154},"Рускевич Максим",1990,"Ruskevich Maksim","Рускевич Максим / Ruskevich Maksim / 1990","М",109,29.870129870129873,117.07]
["Жук-трейл #8 Логойск","Трейл 10","Жук-трейл #8 Логойск Трейл 10",{"$f":"VLOOKUP(C1455,Гонки!$E$1:$N$28,10,FALSE)","v":15.360000000000001},"М",{"$f":"IF(E1455=\"Ж\",VLOOKUP(C1455,Гонки!$E$2:$P$28,11,FALSE),VLOOKUP(C1455,Гонки!$E$2:$P$28,12,FALSE))","v":154},"Артихович Александр",1972,"Artihovich Aleksandr","Артихович Александр / Artihovich Aleksandr / 1972","М",110,29.220779220779221,114.52]
["Жук-трейл #8 Логойск","Трейл 10","Жук-трейл #8 Логойск Трейл 10",{"$f":"VLOOKUP(C1456,Гонки!$E$1:$N$28,10,FALSE)","v":15.360000000000001},"М",{"$f":"IF(E1456=\"Ж\",VLOOKUP(C1456,Гонки!$E$2:$P$28,11,FALSE),VLOOKUP(C1456,Гонки!$E$2:$P$28,12,FALSE))","v":154},"Шуминский Александр",1984,"Shuminskij Aleksandr","Шуминский Александр / Shuminskij Aleksandr / 1984","М",111,28.571428571428569,111.98]
["Жук-трейл #8 Логойск","Трейл 10","Жук-трейл #8 Логойск Трейл 10",{"$f":"VLOOKUP(C1457,Гонки!$E$1:$N$28,10,FALSE)","v":15.360000000000001},"М",{"$f":"IF(E1457=\"Ж\",VLOOKUP(C1457,Гонки!$E$2:$P$28,11,FALSE),VLOOKUP(C1457,Гонки!$E$2:$P$28,12,FALSE))","v":154},"Радиончик Александр",1971,"Radionchik Aleksandr","Радиончик Александр / Radionchik Aleksandr / 1971","М",112,27.922077922077932,109.43]
["Жук-трейл #8 Логойск","Трейл 10","Жук-трейл #8 Логойск Трейл 10",{"$f":"VLOOKUP(C1458,Гонки!$E$1:$N$28,10,FALSE)","v":15.360000000000001},"М",{"$f":"IF(E1458=\"Ж\",VLOOKUP(C1458,Гонки!$E$2:$P$28,11,FALSE),VLOOKUP(C1458,Гонки!$E$2:$P$28,12,FALSE))","v":154},"Галец Константин",1988,"Galets Konstantin","Галец Константин / Galets Konstantin / 1988","М",113,27.272727272727266,106.89]
["Жук-трейл #8 Логойск","Трейл 10","Жук-трейл #8 Логойск Трейл 10",{"$f":"VLOOKUP(C1459,Гонки!$E$1:$N$28,10,FALSE)","v":15.360000000000001},"М",{"$f":"IF(E1459=\"Ж\",VLOOKUP(C1459,Гонки!$E$2:$P$28,11,FALSE),VLOOKUP(C1459,Гонки!$E$2:$P$28,12,FALSE))","v":154},"Жукович Артем",1988,"Zhukovich Artem","Жукович Артем / Zhukovich Artem / 1988","М",114,26.623376623376629,104.34]
["Жук-трейл #8 Логойск","Трейл 10","Жук-трейл #8 Логойск Трейл 10",{"$f":"VLOOKUP(C1460,Гонки!$E$1:$N$28,10,FALSE)","v":15.360000000000001},"М",{"$f":"IF(E1460=\"Ж\",VLOOKUP(C1460,Гонки!$E$2:$P$28,11,FALSE),VLOOKUP(C1460,Гонки!$E$2:$P$28,12,FALSE))","v":154},"Флерчук Евгений",1992,"Flerchuk Evgenij","Флерчук Евгений / Flerchuk Evgenij / 1992","М",115,25.974025974025977,101.8]
["Жук-трейл #8 Логойск","Трейл 10","Жук-трейл #8 Логойск Трейл 10",{"$f":"VLOOKUP(C1461,Гонки!$E$1:$N$28,10,FALSE)","v":15.360000000000001},"М",{"$f":"IF(E1461=\"Ж\",VLOOKUP(C1461,Гонки!$E$2:$P$28,11,FALSE),VLOOKUP(C1461,Гонки!$E$2:$P$28,12,FALSE))","v":154},"Адамович Денис",1986,"Adamovich Denis","Адамович Денис / Adamovich Denis / 1986","М",116,25.324675324675326,99.25]
["Жук-трейл #8 Логойск","Трейл 10","Жук-трейл #8 Логойск Трейл 10",{"$f":"VLOOKUP(C1462,Гонки!$E$1:$N$28,10,FALSE)","v":15.360000000000001},"М",{"$f":"IF(E1462=\"Ж\",VLOOKUP(C1462,Гонки!$E$2:$P$28,11,FALSE),VLOOKUP(C1462,Гонки!$E$2:$P$28,12,FALSE))","v":154},"Майхерский Андрей",1995,"Majherskij Andrej","Майхерский Андрей / Majherskij Andrej / 1995","М",117,24.675324675324674,96.71]
["Жук-трейл #8 Логойск","Трейл 10","Жук-трейл #8 Логойск Трейл 10",{"$f":"VLOOKUP(C1463,Гонки!$E$1:$N$28,10,FALSE)","v":15.360000000000001},"М",{"$f":"IF(E1463=\"Ж\",VLOOKUP(C1463,Гонки!$E$2:$P$28,11,FALSE),VLOOKUP(C1463,Гонки!$E$2:$P$28,12,FALSE))","v":154},"Андрюшенко Андрей",1980,"Andryushenko Andrej","Андрюшенко Андрей / Andryushenko Andrej / 1980","М",118,24.025974025974023,94.16]
["Жук-трейл #8 Логойск","Трейл 10","Жук-трейл #8 Логойск Трейл 10",{"$f":"VLOOKUP(C1464,Гонки!$E$1:$N$28,10,FALSE)","v":15.360000000000001},"М",{"$f":"IF(E1464=\"Ж\",VLOOKUP(C1464,Гонки!$E$2:$P$28,11,FALSE),VLOOKUP(C1464,Гонки!$E$2:$P$28,12,FALSE))","v":154},"Куликовский Ян",1992,"Kulikovskij Yan","Куликовский Ян / Kulikovskij Yan / 1992","М",119,23.376623376623371,91.62]
["Жук-трейл #8 Логойск","Трейл 10","Жук-трейл #8 Логойск Трейл 10",{"$f":"VLOOKUP(C1465,Гонки!$E$1:$N$28,10,FALSE)","v":15.360000000000001},"М",{"$f":"IF(E1465=\"Ж\",VLOOKUP(C1465,Гонки!$E$2:$P$28,11,FALSE),VLOOKUP(C1465,Гонки!$E$2:$P$28,12,FALSE))","v":154},"Журавлёв Илья",1987,"Zhuravljov Ilya","Журавлёв Илья / Zhuravljov Ilya / 1987","М",120,22.727272727272734,89.07]
["Жук-трейл #8 Логойск","Трейл 10","Жук-трейл #8 Логойск Трейл 10",{"$f":"VLOOKUP(C1466,Гонки!$E$1:$N$28,10,FALSE)","v":15.360000000000001},"М",{"$f":"IF(E1466=\"Ж\",VLOOKUP(C1466,Гонки!$E$2:$P$28,11,FALSE),VLOOKUP(C1466,Гонки!$E$2:$P$28,12,FALSE))","v":154},"Жамойдзін Яўген",1985,"Zhamojdzіn Yaugen","Жамойдзін Яўген / Zhamojdzіn Yaugen / 1985","М",121,22.077922077922068,86.53]
["Жук-трейл #8 Логойск","Трейл 10","Жук-трейл #8 Логойск Трейл 10",{"$f":"VLOOKUP(C1467,Гонки!$E$1:$N$28,10,FALSE)","v":15.360000000000001},"М",{"$f":"IF(E1467=\"Ж\",VLOOKUP(C1467,Гонки!$E$2:$P$28,11,FALSE),VLOOKUP(C1467,Гонки!$E$2:$P$28,12,FALSE))","v":154},"Авсянский Федор",1988,"Avsyanskij Fedor","Авсянский Федор / Avsyanskij Fedor / 1988","М",122,21.428571428571431,83.98]
["Жук-трейл #8 Логойск","Трейл 10","Жук-трейл #8 Логойск Трейл 10",{"$f":"VLOOKUP(C1468,Гонки!$E$1:$N$28,10,FALSE)","v":15.360000000000001},"М",{"$f":"IF(E1468=\"Ж\",VLOOKUP(C1468,Гонки!$E$2:$P$28,11,FALSE),VLOOKUP(C1468,Гонки!$E$2:$P$28,12,FALSE))","v":154},"Тарлецкий Валерий",1982,"Tarletskij Valerij","Тарлецкий Валерий / Tarletskij Valerij / 1982","М",123,20.779220779220779,81.44]
[{"$f":"$A$1211","v":"Жук-трейл #8 Логойск"},"Трейл 10","Жук-трейл #8 Логойск Трейл 10",{"$f":"VLOOKUP(C1469,Гонки!$E$1:$N$28,10,FALSE)","v":15.360000000000001},"М",{"$f":"IF(E1469=\"Ж\",VLOOKUP(C1469,Гонки!$E$2:$P$28,11,FALSE),VLOOKUP(C1469,Гонки!$E$2:$P$28,12,FALSE))","v":154},"Пехтерев Сергей",1979,"Pehterev Sergej","Пехтерев Сергей / Pehterev Sergej / 1979","М",124,20.129870129870127,78.89]
["Жук-трейл #8 Логойск","Трейл 10","Жук-трейл #8 Логойск Трейл 10",{"$f":"VLOOKUP(C1470,Гонки!$E$1:$N$28,10,FALSE)","v":15.360000000000001},"М",{"$f":"IF(E1470=\"Ж\",VLOOKUP(C1470,Гонки!$E$2:$P$28,11,FALSE),VLOOKUP(C1470,Гонки!$E$2:$P$28,12,FALSE))","v":154},"Дедуль Дмитрий",1994,"Dedul Dmitrij","Дедуль Дмитрий / Dedul Dmitrij / 1994","М",125,19.480519480519476,76.349999999999994]
["Жук-трейл #8 Логойск","Трейл 10","Жук-трейл #8 Логойск Трейл 10",{"$f":"VLOOKUP(C1471,Гонки!$E$1:$N$28,10,FALSE)","v":15.360000000000001},"М",{"$f":"IF(E1471=\"Ж\",VLOOKUP(C1471,Гонки!$E$2:$P$28,11,FALSE),VLOOKUP(C1471,Гонки!$E$2:$P$28,12,FALSE))","v":154},"Лазаренок Глеб",1982,"Lazarenok Gleb","Лазаренок Глеб / Lazarenok Gleb / 1982","М",126,18.831168831168839,73.8]
["Жук-трейл #8 Логойск","Трейл 10","Жук-трейл #8 Логойск Трейл 10",{"$f":"VLOOKUP(C1472,Гонки!$E$1:$N$28,10,FALSE)","v":15.360000000000001},"М",{"$f":"IF(E1472=\"Ж\",VLOOKUP(C1472,Гонки!$E$2:$P$28,11,FALSE),VLOOKUP(C1472,Гонки!$E$2:$P$28,12,FALSE))","v":154},"Симонов Вадим",1985,"Simonov Vadim","Симонов Вадим / Simonov Vadim / 1985","М",127,18.181818181818173,71.260000000000005]
["Жук-трейл #8 Логойск","Трейл 10","Жук-трейл #8 Логойск Трейл 10",{"$f":"VLOOKUP(C1473,Гонки!$E$1:$N$28,10,FALSE)","v":15.360000000000001},"М",{"$f":"IF(E1473=\"Ж\",VLOOKUP(C1473,Гонки!$E$2:$P$28,11,FALSE),VLOOKUP(C1473,Гонки!$E$2:$P$28,12,FALSE))","v":154},"Шаров Александр",1983,"Sharov Aleksandr","Шаров Александр / Sharov Aleksandr / 1983","М",128,17.532467532467535,68.709999999999994]
["Жук-трейл #8 Логойск","Трейл 10",{"$f":"CONCATENATE(A1474,\" \",B1474)","v":"Жук-трейл #8 Логойск Трейл 10"},{"$f":"VLOOKUP(C1474,Гонки!$E$1:$N$28,10,FALSE)","v":15.360000000000001},"М",{"$f":"IF(E1474=\"Ж\",VLOOKUP(C1474,Гонки!$E$2:$P$28,11,FALSE),VLOOKUP(C1474,Гонки!$E$2:$P$28,12,FALSE))","v":154},"Хандогин Николай",1955,"Handogin Nikolaj","Хандогин Николай / Handogin Nikolaj / 1955","М",129,{"$f":"100-((L1474-1)/F1474)*100","v":16.883116883116884},{"$f":"ROUND(SQRT(D1474)*M1474,2)","v":66.17}]
["Жук-трейл #8 Логойск","Трейл 10","Жук-трейл #8 Логойск Трейл 10",{"$f":"VLOOKUP(C1475,Гонки!$E$1:$N$28,10,FALSE)","v":15.360000000000001},"М",{"$f":"IF(E1475=\"Ж\",VLOOKUP(C1475,Гонки!$E$2:$P$28,11,FALSE),VLOOKUP(C1475,Гонки!$E$2:$P$28,12,FALSE))","v":154},"Пилецкий Максим",1991,{"$f":"Translit(G1475)","v":"Piletskij Maksim"},{"$f":"CONCATENATE(G1475,\" / \",I1475,\" / \",H1475)","v":"Пилецкий Максим / Piletskij Maksim / 1991"},"М",130,16.233766233766232,63.62]
["Жук-трейл #8 Логойск","Трейл 10","Жук-трейл #8 Логойск Трейл 10",{"$f":"VLOOKUP(C1476,Гонки!$E$1:$N$28,10,FALSE)","v":15.360000000000001},"М",{"$f":"IF(E1476=\"Ж\",VLOOKUP(C1476,Гонки!$E$2:$P$28,11,FALSE),VLOOKUP(C1476,Гонки!$E$2:$P$28,12,FALSE))","v":154},"Троцкий Игнат",2002,"Trotskij Ignat","Троцкий Игнат / Trotskij Ignat / 2002","М",131,15.584415584415595,61.08]
["Жук-трейл #8 Логойск","Трейл 10","Жук-трейл #8 Логойск Трейл 10",{"$f":"VLOOKUP(C1477,Гонки!$E$1:$N$28,10,FALSE)","v":15.360000000000001},"М",{"$f":"IF(E1477=\"Ж\",VLOOKUP(C1477,Гонки!$E$2:$P$28,11,FALSE),VLOOKUP(C1477,Гонки!$E$2:$P$28,12,FALSE))","v":154},"Хорольский Александр",1985,"Horolskij Aleksandr","Хорольский Александр / Horolskij Aleksandr / 1985","М",132,14.935064935064929,58.53]
["Жук-трейл #8 Логойск","Трейл 10","Жук-трейл #8 Логойск Трейл 10",{"$f":"VLOOKUP(C1478,Гонки!$E$1:$N$28,10,FALSE)","v":15.360000000000001},"М",{"$f":"IF(E1478=\"Ж\",VLOOKUP(C1478,Гонки!$E$2:$P$28,11,FALSE),VLOOKUP(C1478,Гонки!$E$2:$P$28,12,FALSE))","v":154},"Корень Дмитрий",1975,"Koren Dmitrij","Корень Дмитрий / Koren Dmitrij / 1975","М",133,14.285714285714292,55.99]
["Жук-трейл #8 Логойск","Трейл 10","Жук-трейл #8 Логойск Трейл 10",{"$f":"VLOOKUP(C1479,Гонки!$E$1:$N$28,10,FALSE)","v":15.360000000000001},"М",{"$f":"IF(E1479=\"Ж\",VLOOKUP(C1479,Гонки!$E$2:$P$28,11,FALSE),VLOOKUP(C1479,Гонки!$E$2:$P$28,12,FALSE))","v":154},"Соколов Артем",1986,"Sokolov Artem","Соколов Артем / Sokolov Artem / 1986","М",134,13.63636363636364,53.44]
["Жук-трейл #8 Логойск","Трейл 10","Жук-трейл #8 Логойск Трейл 10",{"$f":"VLOOKUP(C1480,Гонки!$E$1:$N$28,10,FALSE)","v":15.360000000000001},"М",{"$f":"IF(E1480=\"Ж\",VLOOKUP(C1480,Гонки!$E$2:$P$28,11,FALSE),VLOOKUP(C1480,Гонки!$E$2:$P$28,12,FALSE))","v":154},"Коляда Максим",1978,"Kolyada Maksim","Коляда Максим / Kolyada Maksim / 1978","М",135,12.987012987012989,50.9]
["Жук-трейл #8 Логойск","Трейл 10","Жук-трейл #8 Логойск Трейл 10",{"$f":"VLOOKUP(C1481,Гонки!$E$1:$N$28,10,FALSE)","v":15.360000000000001},"М",{"$f":"IF(E1481=\"Ж\",VLOOKUP(C1481,Гонки!$E$2:$P$28,11,FALSE),VLOOKUP(C1481,Гонки!$E$2:$P$28,12,FALSE))","v":154},"Шапотковский Алексей",1982,"Shapotkovskij Aleksej","Шапотковский Алексей / Shapotkovskij Aleksej / 1982","М",136,12.337662337662337,48.35]
["Жук-трейл #8 Логойск","Трейл 10","Жук-трейл #8 Логойск Трейл 10",{"$f":"VLOOKUP(C1482,Гонки!$E$1:$N$28,10,FALSE)","v":15.360000000000001},"М",{"$f":"IF(E1482=\"Ж\",VLOOKUP(C1482,Гонки!$E$2:$P$28,11,FALSE),VLOOKUP(C1482,Гонки!$E$2:$P$28,12,FALSE))","v":154},"Воробьев Дмитрий",1988,"Vorobev Dmitrij","Воробьев Дмитрий / Vorobev Dmitrij / 1988","М",137,11.688311688311686,45.81]
["Жук-трейл #8 Логойск","Трейл 10","Жук-трейл #8 Логойск Трейл 10",{"$f":"VLOOKUP(C1483,Гонки!$E$1:$N$28,10,FALSE)","v":15.360000000000001},"М",{"$f":"IF(E1483=\"Ж\",VLOOKUP(C1483,Гонки!$E$2:$P$28,11,FALSE),VLOOKUP(C1483,Гонки!$E$2:$P$28,12,FALSE))","v":154},"Попков Виталий",1981,"Popkov Vitalij","Попков Виталий / Popkov Vitalij / 1981","М",138,11.038961038961034,43.26]
["Жук-трейл #8 Логойск","Трейл 10","Жук-трейл #8 Логойск Трейл 10",{"$f":"VLOOKUP(C1484,Гонки!$E$1:$N$28,10,FALSE)","v":15.360000000000001},"М",{"$f":"IF(E1484=\"Ж\",VLOOKUP(C1484,Гонки!$E$2:$P$28,11,FALSE),VLOOKUP(C1484,Гонки!$E$2:$P$28,12,FALSE))","v":154},"Старикевич Максим",1995,"Starikevich Maksim","Старикевич Максим / Starikevich Maksim / 1995","М",139,10.389610389610397,40.72]
["Жук-трейл #8 Логойск","Трейл 10","Жук-трейл #8 Логойск Трейл 10",{"$f":"VLOOKUP(C1485,Гонки!$E$1:$N$28,10,FALSE)","v":15.360000000000001},"М",{"$f":"IF(E1485=\"Ж\",VLOOKUP(C1485,Гонки!$E$2:$P$28,11,FALSE),VLOOKUP(C1485,Гонки!$E$2:$P$28,12,FALSE))","v":154},"Шахненко Павел",1976,"Shahnenko Pavel","Шахненко Павел / Shahnenko Pavel / 1976","М",140,9.7402597402597451,38.17]
["Жук-трейл #8 Логойск","Трейл 10","Жук-трейл #8 Логойск Трейл 10",{"$f":"VLOOKUP(C1486,Гонки!$E$1:$N$28,10,FALSE)","v":15.360000000000001},"М",{"$f":"IF(E1486=\"Ж\",VLOOKUP(C1486,Гонки!$E$2:$P$28,11,FALSE),VLOOKUP(C1486,Гонки!$E$2:$P$28,12,FALSE))","v":154},"Млынарчик Сергей",1990,"Mlynarchik Sergej","Млынарчик Сергей / Mlynarchik Sergej / 1990","М",141,9.0909090909090935,35.630000000000003]
["Жук-трейл #8 Логойск","Трейл 10","Жук-трейл #8 Логойск Трейл 10",{"$f":"VLOOKUP(C1487,Гонки!$E$1:$N$28,10,FALSE)","v":15.360000000000001},"М",{"$f":"IF(E1487=\"Ж\",VLOOKUP(C1487,Гонки!$E$2:$P$28,11,FALSE),VLOOKUP(C1487,Гонки!$E$2:$P$28,12,FALSE))","v":154},"Старастенко Виктор",1994,"Starastenko Viktor","Старастенко Виктор / Starastenko Viktor / 1994","М",142,8.4415584415584419,33.08]
["Жук-трейл #8 Логойск","Трейл 10","Жук-трейл #8 Логойск Трейл 10",{"$f":"VLOOKUP(C1488,Гонки!$E$1:$N$28,10,FALSE)","v":15.360000000000001},"М",{"$f":"IF(E1488=\"Ж\",VLOOKUP(C1488,Гонки!$E$2:$P$28,11,FALSE),VLOOKUP(C1488,Гонки!$E$2:$P$28,12,FALSE))","v":154},"Пашкевич Павел",1984,"Pashkevich Pavel","Пашкевич Павел / Pashkevich Pavel / 1984","М",143,7.7922077922077904,30.54]
["Жук-трейл #8 Логойск","Трейл 10","Жук-трейл #8 Логойск Трейл 10",{"$f":"VLOOKUP(C1489,Гонки!$E$1:$N$28,10,FALSE)","v":15.360000000000001},"М",{"$f":"IF(E1489=\"Ж\",VLOOKUP(C1489,Гонки!$E$2:$P$28,11,FALSE),VLOOKUP(C1489,Гонки!$E$2:$P$28,12,FALSE))","v":154},"Ворончук Алексей",1987,"Voronchuk Aleksej","Ворончук Алексей / Voronchuk Aleksej / 1987","М",144,7.1428571428571388,27.99]
["Жук-трейл #8 Логойск","Трейл 10","Жук-трейл #8 Логойск Трейл 10",{"$f":"VLOOKUP(C1490,Гонки!$E$1:$N$28,10,FALSE)","v":15.360000000000001},"М",{"$f":"IF(E1490=\"Ж\",VLOOKUP(C1490,Гонки!$E$2:$P$28,11,FALSE),VLOOKUP(C1490,Гонки!$E$2:$P$28,12,FALSE))","v":154},"Фузейников Алексей",1984,"Fuzejnikov Aleksej","Фузейников Алексей / Fuzejnikov Aleksej / 1984","М",145,6.4935064935065014,25.45]
["Жук-трейл #8 Логойск","Трейл 10","Жук-трейл #8 Логойск Трейл 10",{"$f":"VLOOKUP(C1491,Гонки!$E$1:$N$28,10,FALSE)","v":15.360000000000001},"М",{"$f":"IF(E1491=\"Ж\",VLOOKUP(C1491,Гонки!$E$2:$P$28,11,FALSE),VLOOKUP(C1491,Гонки!$E$2:$P$28,12,FALSE))","v":154},"Макась Алексей",1986,"Makas Aleksej","Макась Алексей / Makas Aleksej / 1986","М",146,5.8441558441558357,22.9]
["Жук-трейл #8 Логойск","Трейл 10","Жук-трейл #8 Логойск Трейл 10",{"$f":"VLOOKUP(C1492,Гонки!$E$1:$N$28,10,FALSE)","v":15.360000000000001},"М",{"$f":"IF(E1492=\"Ж\",VLOOKUP(C1492,Гонки!$E$2:$P$28,11,FALSE),VLOOKUP(C1492,Гонки!$E$2:$P$28,12,FALSE))","v":154},"Лукин Василий",1951,"Lukin Vasilij","Лукин Василий / Lukin Vasilij / 1951",{"$f":"E1492","v":"М"},147,5.1948051948051983,20.36]
["Жук-трейл #8 Логойск","Трейл 10","Жук-трейл #8 Логойск Трейл 10",{"$f":"VLOOKUP(C1493,Гонки!$E$1:$N$28,10,FALSE)","v":15.360000000000001},"М",{"$f":"IF(E1493=\"Ж\",VLOOKUP(C1493,Гонки!$E$2:$P$28,11,FALSE),VLOOKUP(C1493,Гонки!$E$2:$P$28,12,FALSE))","v":154},"Петров Андрей",1970,"Petrov Andrej","Петров Андрей / Petrov Andrej / 1970","М",148,4.5454545454545467,17.809999999999999]
["Жук-трейл #8 Логойск","Трейл 10","Жук-трейл #8 Логойск Трейл 10",{"$f":"VLOOKUP(C1494,Гонки!$E$1:$N$28,10,FALSE)","v":15.360000000000001},"М",{"$f":"IF(E1494=\"Ж\",VLOOKUP(C1494,Гонки!$E$2:$P$28,11,FALSE),VLOOKUP(C1494,Гонки!$E$2:$P$28,12,FALSE))","v":154},"Герасевич Максим",null,"Gerasevich Maksim","Герасевич Максим / Gerasevich Maksim / ","М",149,3.8961038961038952,15.27]
["Жук-трейл #8 Логойск","Трейл 10","Жук-трейл #8 Логойск Трейл 10",{"$f":"VLOOKUP(C1495,Гонки!$E$1:$N$28,10,FALSE)","v":15.360000000000001},"М",{"$f":"IF(E1495=\"Ж\",VLOOKUP(C1495,Гонки!$E$2:$P$28,11,FALSE),VLOOKUP(C1495,Гонки!$E$2:$P$28,12,FALSE))","v":154},"Устинович Игорь",1970,"Ustinovich Igor","Устинович Игорь / Ustinovich Igor / 1970","М",150,3.2467532467532436,12.72]
["Жук-трейл #8 Логойск","Трейл 10","Жук-трейл #8 Логойск Трейл 10",{"$f":"VLOOKUP(C1496,Гонки!$E$1:$N$28,10,FALSE)","v":15.360000000000001},"М",{"$f":"IF(E1496=\"Ж\",VLOOKUP(C1496,Гонки!$E$2:$P$28,11,FALSE),VLOOKUP(C1496,Гонки!$E$2:$P$28,12,FALSE))","v":154},"Летунович Егор",1984,"Letunovich Egor","Летунович Егор / Letunovich Egor / 1984","М",151,2.5974025974025921,10.18]
["Жук-трейл #8 Логойск","Трейл 10","Жук-трейл #8 Логойск Трейл 10",{"$f":"VLOOKUP(C1497,Гонки!$E$1:$N$28,10,FALSE)","v":15.360000000000001},"М",{"$f":"IF(E1497=\"Ж\",VLOOKUP(C1497,Гонки!$E$2:$P$28,11,FALSE),VLOOKUP(C1497,Гонки!$E$2:$P$28,12,FALSE))","v":154},"Кузьмич Дмитрий",1975,"Kuzmich Dmitrij","Кузьмич Дмитрий / Kuzmich Dmitrij / 1975","М",152,1.9480519480519405,7.63]
["Жук-трейл #8 Логойск",{"$f":"$B$1304","v":"Трейл 10"},"Жук-трейл #8 Логойск Трейл 10",{"$f":"VLOOKUP(C1498,Гонки!$E$1:$N$28,10,FALSE)","v":15.360000000000001},"М",{"$f":"IF(E1498=\"Ж\",VLOOKUP(C1498,Гонки!$E$2:$P$28,11,FALSE),VLOOKUP(C1498,Гонки!$E$2:$P$28,12,FALSE))","v":154},"Якимченко Анатолий",1967,"Yakimchenko Anatolij","Якимченко Анатолий / Yakimchenko Anatolij / 1967","М",153,1.2987012987013031,5.09]
["Жук-трейл #8 Логойск","Трейл 10","Жук-трейл #8 Логойск Трейл 10",{"$f":"VLOOKUP(C1499,Гонки!$E$1:$N$28,10,FALSE)","v":15.360000000000001},"М",{"$f":"IF(E1499=\"Ж\",VLOOKUP(C1499,Гонки!$E$2:$P$28,11,FALSE),VLOOKUP(C1499,Гонки!$E$2:$P$28,12,FALSE))","v":154},"Гришко Руслан",1974,"Grishko Ruslan","Гришко Руслан / Grishko Ruslan / 1974","М",154,0.64935064935063735,2.54]
["Жук-трейл #8 Логойск",{"$f":"Гонки!D26","v":"Трейл 21"},"Жук-трейл #8 Логойск Трейл 21",{"$f":"VLOOKUP(C1500,Гонки!$E$1:$N$28,10,FALSE)","v":30.720000000000002},"Ж",{"$f":"IF(E1500=\"Ж\",VLOOKUP(C1500,Гонки!$E$2:$P$28,11,FALSE),VLOOKUP(C1500,Гонки!$E$2:$P$28,12,FALSE))","v":20},"Черкас Александра",1992,"Cherkas Aleksandra","Черкас Александра / Cherkas Aleksandra / 1992","Ж",1,{"$f":"100-((L1500-1)/F1500)*100","v":100},{"$f":"ROUND(SQRT(D1500)*M1500,2)","v":554.26}]
["Жук-трейл #8 Логойск",{"$f":"$B$1500","v":"Трейл 21"},"Жук-трейл #8 Логойск Трейл 21",{"$f":"VLOOKUP(C1501,Гонки!$E$1:$N$28,10,FALSE)","v":30.720000000000002},"Ж",{"$f":"IF(E1501=\"Ж\",VLOOKUP(C1501,Гонки!$E$2:$P$28,11,FALSE),VLOOKUP(C1501,Гонки!$E$2:$P$28,12,FALSE))","v":20},"Суханова Надежда",1994,"Suhanova Nadezhda","Суханова Надежда / Suhanova Nadezhda / 1994","Ж",2,95,526.54]
["Жук-трейл #8 Логойск",{"$f":"$B$1500","v":"Трейл 21"},"Жук-трейл #8 Логойск Трейл 21",{"$f":"VLOOKUP(C1502,Гонки!$E$1:$N$28,10,FALSE)","v":30.720000000000002},"Ж",{"$f":"IF(E1502=\"Ж\",VLOOKUP(C1502,Гонки!$E$2:$P$28,11,FALSE),VLOOKUP(C1502,Гонки!$E$2:$P$28,12,FALSE))","v":20},"Трубкина Анастасия",1989,"Trubkina Anastasiya","Трубкина Анастасия / Trubkina Anastasiya / 1989","Ж",3,90,498.83]
["Жук-трейл #8 Логойск","Трейл 21","Жук-трейл #8 Логойск Трейл 21",{"$f":"VLOOKUP(C1503,Гонки!$E$1:$N$28,10,FALSE)","v":30.720000000000002},"Ж",{"$f":"IF(E1503=\"Ж\",VLOOKUP(C1503,Гонки!$E$2:$P$28,11,FALSE),VLOOKUP(C1503,Гонки!$E$2:$P$28,12,FALSE))","v":20},"Казакевич Ирина",1969,"Kazakevich Irina","Казакевич Ирина / Kazakevich Irina / 1969","Ж",4,85,471.12]
["Жук-трейл #8 Логойск","Трейл 21","Жук-трейл #8 Логойск Трейл 21",{"$f":"VLOOKUP(C1504,Гонки!$E$1:$N$28,10,FALSE)","v":30.720000000000002},"Ж",{"$f":"IF(E1504=\"Ж\",VLOOKUP(C1504,Гонки!$E$2:$P$28,11,FALSE),VLOOKUP(C1504,Гонки!$E$2:$P$28,12,FALSE))","v":20},"Зюзина Алёна",1978,"Zyuzina Aljona","Зюзина Алёна / Zyuzina Aljona / 1978","Ж",5,80,443.41]
["Жук-трейл #8 Логойск","Трейл 21","Жук-трейл #8 Логойск Трейл 21",{"$f":"VLOOKUP(C1505,Гонки!$E$1:$N$28,10,FALSE)","v":30.720000000000002},"Ж",{"$f":"IF(E1505=\"Ж\",VLOOKUP(C1505,Гонки!$E$2:$P$28,11,FALSE),VLOOKUP(C1505,Гонки!$E$2:$P$28,12,FALSE))","v":20},"Новик Анастасия",1985,"Novik Anastasiya","Новик Анастасия / Novik Anastasiya / 1985","Ж",6,75,415.69]
["Жук-трейл #8 Логойск","Трейл 21","Жук-трейл #8 Логойск Трейл 21",{"$f":"VLOOKUP(C1506,Гонки!$E$1:$N$28,10,FALSE)","v":30.720000000000002},"Ж",{"$f":"IF(E1506=\"Ж\",VLOOKUP(C1506,Гонки!$E$2:$P$28,11,FALSE),VLOOKUP(C1506,Гонки!$E$2:$P$28,12,FALSE))","v":20},"Шибаева Светлана",1995,"Shibaeva Svetlana","Шибаева Светлана / Shibaeva Svetlana / 1995","Ж",7,70,387.98]
["Жук-трейл #8 Логойск","Трейл 21","Жук-трейл #8 Логойск Трейл 21",{"$f":"VLOOKUP(C1507,Гонки!$E$1:$N$28,10,FALSE)","v":30.720000000000002},"Ж",{"$f":"IF(E1507=\"Ж\",VLOOKUP(C1507,Гонки!$E$2:$P$28,11,FALSE),VLOOKUP(C1507,Гонки!$E$2:$P$28,12,FALSE))","v":20},"Стойчикова Ксения",1997,"Stojchikova Kseniya","Стойчикова Ксения / Stojchikova Kseniya / 1997","Ж",8,65,360.27]
["Жук-трейл #8 Логойск","Трейл 21","Жук-трейл #8 Логойск Трейл 21",{"$f":"VLOOKUP(C1508,Гонки!$E$1:$N$28,10,FALSE)","v":30.720000000000002},"Ж",{"$f":"IF(E1508=\"Ж\",VLOOKUP(C1508,Гонки!$E$2:$P$28,11,FALSE),VLOOKUP(C1508,Гонки!$E$2:$P$28,12,FALSE))","v":20},"Шнитко Светлана",1981,"Shnitko Svetlana","Шнитко Светлана / Shnitko Svetlana / 1981","Ж",9,60,332.55]
["Жук-трейл #8 Логойск","Трейл 21","Жук-трейл #8 Логойск Трейл 21",{"$f":"VLOOKUP(C1509,Гонки!$E$1:$N$28,10,FALSE)","v":30.720000000000002},"Ж",{"$f":"IF(E1509=\"Ж\",VLOOKUP(C1509,Гонки!$E$2:$P$28,11,FALSE),VLOOKUP(C1509,Гонки!$E$2:$P$28,12,FALSE))","v":20},"Никеенко Вита",1984,"Nikeenko Vita","Никеенко Вита / Nikeenko Vita / 1984","Ж",10,55,304.83999999999997]
["Жук-трейл #8 Логойск","Трейл 21","Жук-трейл #8 Логойск Трейл 21",{"$f":"VLOOKUP(C1510,Гонки!$E$1:$N$28,10,FALSE)","v":30.720000000000002},"Ж",{"$f":"IF(E1510=\"Ж\",VLOOKUP(C1510,Гонки!$E$2:$P$28,11,FALSE),VLOOKUP(C1510,Гонки!$E$2:$P$28,12,FALSE))","v":20},"Кликун Татьяна",1989,"Klikun Tatyana","Кликун Татьяна / Klikun Tatyana / 1989","Ж",11,50,277.13]
["Жук-трейл #8 Логойск","Трейл 21","Жук-трейл #8 Логойск Трейл 21",{"$f":"VLOOKUP(C1511,Гонки!$E$1:$N$28,10,FALSE)","v":30.720000000000002},"Ж",{"$f":"IF(E1511=\"Ж\",VLOOKUP(C1511,Гонки!$E$2:$P$28,11,FALSE),VLOOKUP(C1511,Гонки!$E$2:$P$28,12,FALSE))","v":20},"Пухаева Светлана",1980,"Puhaeva Svetlana","Пухаева Светлана / Puhaeva Svetlana / 1980","Ж",12,44.999999999999993,249.42]
["Жук-трейл #8 Логойск","Трейл 21","Жук-трейл #8 Логойск Трейл 21",{"$f":"VLOOKUP(C1512,Гонки!$E$1:$N$28,10,FALSE)","v":30.720000000000002},"Ж",{"$f":"IF(E1512=\"Ж\",VLOOKUP(C1512,Гонки!$E$2:$P$28,11,FALSE),VLOOKUP(C1512,Гонки!$E$2:$P$28,12,FALSE))","v":20},"Липницкая Виктория",1987,"Lipnitskaya Viktoriya","Липницкая Виктория / Lipnitskaya Viktoriya / 1987","Ж",13,40,221.7]
["Жук-трейл #8 Логойск","Трейл 21","Жук-трейл #8 Логойск Трейл 21",{"$f":"VLOOKUP(C1513,Гонки!$E$1:$N$28,10,FALSE)","v":30.720000000000002},"Ж",{"$f":"IF(E1513=\"Ж\",VLOOKUP(C1513,Гонки!$E$2:$P$28,11,FALSE),VLOOKUP(C1513,Гонки!$E$2:$P$28,12,FALSE))","v":20},"Воротникова Татьяна",1989,"Vorotnikova Tatyana","Воротникова Татьяна / Vorotnikova Tatyana / 1989","Ж",14,35,193.99]
["Жук-трейл #8 Логойск","Трейл 21","Жук-трейл #8 Логойск Трейл 21",{"$f":"VLOOKUP(C1514,Гонки!$E$1:$N$28,10,FALSE)","v":30.720000000000002},"Ж",{"$f":"IF(E1514=\"Ж\",VLOOKUP(C1514,Гонки!$E$2:$P$28,11,FALSE),VLOOKUP(C1514,Гонки!$E$2:$P$28,12,FALSE))","v":20},"Василевич Валентина",1998,"Vasilevich Valentina","Василевич Валентина / Vasilevich Valentina / 1998","Ж",15,30,166.28]
["Жук-трейл #8 Логойск","Трейл 21","Жук-трейл #8 Логойск Трейл 21",{"$f":"VLOOKUP(C1515,Гонки!$E$1:$N$28,10,FALSE)","v":30.720000000000002},"Ж",{"$f":"IF(E1515=\"Ж\",VLOOKUP(C1515,Гонки!$E$2:$P$28,11,FALSE),VLOOKUP(C1515,Гонки!$E$2:$P$28,12,FALSE))","v":20},"Невмержицкая Анна",1997,"Nevmerzhitskaya Anna","Невмержицкая Анна / Nevmerzhitskaya Anna / 1997","Ж",16,25,138.56]
["Жук-трейл #8 Логойск","Трейл 21","Жук-трейл #8 Логойск Трейл 21",{"$f":"VLOOKUP(C1516,Гонки!$E$1:$N$28,10,FALSE)","v":30.720000000000002},"М",{"$f":"IF(E1516=\"Ж\",VLOOKUP(C1516,Гонки!$E$2:$P$28,11,FALSE),VLOOKUP(C1516,Гонки!$E$2:$P$28,12,FALSE))","v":84},"Ходан Александр",1988,"Hodan Aleksandr","Ходан Александр / Hodan Aleksandr / 1988","М",1,{"$f":"100-((L1516-1)/F1516)*100","v":100},{"$f":"ROUND(SQRT(D1516)*M1516,2)","v":554.26}]
["Жук-трейл #8 Логойск","Трейл 21","Жук-трейл #8 Логойск Трейл 21",{"$f":"VLOOKUP(C1517,Гонки!$E$1:$N$28,10,FALSE)","v":30.720000000000002},"М",{"$f":"IF(E1517=\"Ж\",VLOOKUP(C1517,Гонки!$E$2:$P$28,11,FALSE),VLOOKUP(C1517,Гонки!$E$2:$P$28,12,FALSE))","v":84},"Чеберяк Сергей",1987,"Cheberyak Sergej","Чеберяк Сергей / Cheberyak Sergej / 1987","М",2,98.80952380952381,547.66]
["Жук-трейл #8 Логойск","Трейл 21","Жук-трейл #8 Логойск Трейл 21",{"$f":"VLOOKUP(C1518,Гонки!$E$1:$N$28,10,FALSE)","v":30.720000000000002},"М",{"$f":"IF(E1518=\"Ж\",VLOOKUP(C1518,Гонки!$E$2:$P$28,11,FALSE),VLOOKUP(C1518,Гонки!$E$2:$P$28,12,FALSE))","v":84},"Кучук Андрей",1994,"Kuchuk Andrej","Кучук Андрей / Kuchuk Andrej / 1994","М",3,97.61904761904762,541.05999999999995]
["Жук-трейл #8 Логойск","Трейл 21","Жук-трейл #8 Логойск Трейл 21",{"$f":"VLOOKUP(C1519,Гонки!$E$1:$N$28,10,FALSE)","v":30.720000000000002},"М",{"$f":"IF(E1519=\"Ж\",VLOOKUP(C1519,Гонки!$E$2:$P$28,11,FALSE),VLOOKUP(C1519,Гонки!$E$2:$P$28,12,FALSE))","v":84},"Попов Александр",1986,"Popov Aleksandr","Попов Александр / Popov Aleksandr / 1986","М",4,96.428571428571431,534.46]
["Жук-трейл #8 Логойск","Трейл 21","Жук-трейл #8 Логойск Трейл 21",{"$f":"VLOOKUP(C1520,Гонки!$E$1:$N$28,10,FALSE)","v":30.720000000000002},"М",{"$f":"IF(E1520=\"Ж\",VLOOKUP(C1520,Гонки!$E$2:$P$28,11,FALSE),VLOOKUP(C1520,Гонки!$E$2:$P$28,12,FALSE))","v":84},"Ласюк Юрий",1987,"Lasyuk Yurij","Ласюк Юрий / Lasyuk Yurij / 1987","М",5,95.238095238095241,527.86]
["Жук-трейл #8 Логойск","Трейл 21","Жук-трейл #8 Логойск Трейл 21",{"$f":"VLOOKUP(C1521,Гонки!$E$1:$N$28,10,FALSE)","v":30.720000000000002},"М",{"$f":"IF(E1521=\"Ж\",VLOOKUP(C1521,Гонки!$E$2:$P$28,11,FALSE),VLOOKUP(C1521,Гонки!$E$2:$P$28,12,FALSE))","v":84},"Вагин Андрей",1989,"Vagin Andrej","Вагин Андрей / Vagin Andrej / 1989","М",6,94.047619047619051,521.26]
["Жук-трейл #8 Логойск","Трейл 21","Жук-трейл #8 Логойск Трейл 21",{"$f":"VLOOKUP(C1522,Гонки!$E$1:$N$28,10,FALSE)","v":30.720000000000002},"М",{"$f":"IF(E1522=\"Ж\",VLOOKUP(C1522,Гонки!$E$2:$P$28,11,FALSE),VLOOKUP(C1522,Гонки!$E$2:$P$28,12,FALSE))","v":84},"Заверач Денис",1985,"Zaverach Denis","Заверач Денис / Zaverach Denis / 1985","М",7,92.857142857142861,514.66999999999996]
["Жук-трейл #8 Логойск","Трейл 21","Жук-трейл #8 Логойск Трейл 21",{"$f":"VLOOKUP(C1523,Гонки!$E$1:$N$28,10,FALSE)","v":30.720000000000002},"М",{"$f":"IF(E1523=\"Ж\",VLOOKUP(C1523,Гонки!$E$2:$P$28,11,FALSE),VLOOKUP(C1523,Гонки!$E$2:$P$28,12,FALSE))","v":84},"McTavish John",1987,"McTavish John","McTavish John / McTavish John / 1987","М",8,91.666666666666671,508.07]
["Жук-трейл #8 Логойск","Трейл 21","Жук-трейл #8 Логойск Трейл 21",{"$f":"VLOOKUP(C1524,Гонки!$E$1:$N$28,10,FALSE)","v":30.720000000000002},"М",{"$f":"IF(E1524=\"Ж\",VLOOKUP(C1524,Гонки!$E$2:$P$28,11,FALSE),VLOOKUP(C1524,Гонки!$E$2:$P$28,12,FALSE))","v":84},"Дальниченко Юрий",1985,"Dalnichenko Yurij","Дальниченко Юрий / Dalnichenko Yurij / 1985","М",9,90.476190476190482,501.47]
["Жук-трейл #8 Логойск","Трейл 21","Жук-трейл #8 Логойск Трейл 21",{"$f":"VLOOKUP(C1525,Гонки!$E$1:$N$28,10,FALSE)","v":30.720000000000002},"М",{"$f":"IF(E1525=\"Ж\",VLOOKUP(C1525,Гонки!$E$2:$P$28,11,FALSE),VLOOKUP(C1525,Гонки!$E$2:$P$28,12,FALSE))","v":84},"Кушель Максим",1998,"Kushel Maksim","Кушель Максим / Kushel Maksim / 1998","М",10,89.285714285714292,494.87]
["Жук-трейл #8 Логойск","Трейл 21","Жук-трейл #8 Логойск Трейл 21",{"$f":"VLOOKUP(C1526,Гонки!$E$1:$N$28,10,FALSE)","v":30.720000000000002},"М",{"$f":"IF(E1526=\"Ж\",VLOOKUP(C1526,Гонки!$E$2:$P$28,11,FALSE),VLOOKUP(C1526,Гонки!$E$2:$P$28,12,FALSE))","v":84},"Романцевич Илья",1990,"Romantsevich Ilya","Романцевич Илья / Romantsevich Ilya / 1990","М",11,88.095238095238102,488.27]
["Жук-трейл #8 Логойск","Трейл 21","Жук-трейл #8 Логойск Трейл 21",{"$f":"VLOOKUP(C1527,Гонки!$E$1:$N$28,10,FALSE)","v":30.720000000000002},"М",{"$f":"IF(E1527=\"Ж\",VLOOKUP(C1527,Гонки!$E$2:$P$28,11,FALSE),VLOOKUP(C1527,Гонки!$E$2:$P$28,12,FALSE))","v":84},"Шалайко Дмитрий",1993,"Shalajko Dmitrij","Шалайко Дмитрий / Shalajko Dmitrij / 1993","М",12,86.904761904761898,481.68]
["Жук-трейл #8 Логойск","Трейл 21","Жук-трейл #8 Логойск Трейл 21",{"$f":"VLOOKUP(C1528,Гонки!$E$1:$N$28,10,FALSE)","v":30.720000000000002},"М",{"$f":"IF(E1528=\"Ж\",VLOOKUP(C1528,Гонки!$E$2:$P$28,11,FALSE),VLOOKUP(C1528,Гонки!$E$2:$P$28,12,FALSE))","v":84},"Зарицкий Сергей",1975,"Zaritskij Sergej","Зарицкий Сергей / Zaritskij Sergej / 1975","М",13,85.714285714285722,475.08]
["Жук-трейл #8 Логойск","Трейл 21","Жук-трейл #8 Логойск Трейл 21",{"$f":"VLOOKUP(C1529,Гонки!$E$1:$N$28,10,FALSE)","v":30.720000000000002},"М",{"$f":"IF(E1529=\"Ж\",VLOOKUP(C1529,Гонки!$E$2:$P$28,11,FALSE),VLOOKUP(C1529,Гонки!$E$2:$P$28,12,FALSE))","v":84},"Лукьяненко Александр",1984,"Lukyanenko Aleksandr","Лукьяненко Александр / Lukyanenko Aleksandr / 1984","М",14,84.523809523809518,468.48]
["Жук-трейл #8 Логойск","Трейл 21","Жук-трейл #8 Логойск Трейл 21",{"$f":"VLOOKUP(C1530,Гонки!$E$1:$N$28,10,FALSE)","v":30.720000000000002},"М",{"$f":"IF(E1530=\"Ж\",VLOOKUP(C1530,Гонки!$E$2:$P$28,11,FALSE),VLOOKUP(C1530,Гонки!$E$2:$P$28,12,FALSE))","v":84},"Слободько Дмитрий",1984,"Slobodko Dmitrij","Слободько Дмитрий / Slobodko Dmitrij / 1984","М",15,83.333333333333343,461.88]
["Жук-трейл #8 Логойск","Трейл 21","Жук-трейл #8 Логойск Трейл 21",{"$f":"VLOOKUP(C1531,Гонки!$E$1:$N$28,10,FALSE)","v":30.720000000000002},"М",{"$f":"IF(E1531=\"Ж\",VLOOKUP(C1531,Гонки!$E$2:$P$28,11,FALSE),VLOOKUP(C1531,Гонки!$E$2:$P$28,12,FALSE))","v":84},"Богомаз Владимир",1982,"Bogomaz Vladimir","Богомаз Владимир / Bogomaz Vladimir / 1982","М",16,82.142857142857139,455.28]
["Жук-трейл #8 Логойск","Трейл 21","Жук-трейл #8 Логойск Трейл 21",{"$f":"VLOOKUP(C1532,Гонки!$E$1:$N$28,10,FALSE)","v":30.720000000000002},"М",{"$f":"IF(E1532=\"Ж\",VLOOKUP(C1532,Гонки!$E$2:$P$28,11,FALSE),VLOOKUP(C1532,Гонки!$E$2:$P$28,12,FALSE))","v":84},"Чиж Сергей",1993,"Chizh Sergej","Чиж Сергей / Chizh Sergej / 1993","М",17,80.952380952380949,448.68]
[{"$f":"$A$1211","v":"Жук-трейл #8 Логойск"},"Трейл 21","Жук-трейл #8 Логойск Трейл 21",{"$f":"VLOOKUP(C1533,Гонки!$E$1:$N$28,10,FALSE)","v":30.720000000000002},"М",{"$f":"IF(E1533=\"Ж\",VLOOKUP(C1533,Гонки!$E$2:$P$28,11,FALSE),VLOOKUP(C1533,Гонки!$E$2:$P$28,12,FALSE))","v":84},"Крыленко Дмитрий",1975,"Krylenko Dmitrij","Крыленко Дмитрий / Krylenko Dmitrij / 1975","М",18,79.761904761904759,442.09]
["Жук-трейл #8 Логойск","Трейл 21","Жук-трейл #8 Логойск Трейл 21",{"$f":"VLOOKUP(C1534,Гонки!$E$1:$N$28,10,FALSE)","v":30.720000000000002},"М",{"$f":"IF(E1534=\"Ж\",VLOOKUP(C1534,Гонки!$E$2:$P$28,11,FALSE),VLOOKUP(C1534,Гонки!$E$2:$P$28,12,FALSE))","v":84},"Сакович Андрей",1990,"Sakovich Andrej","Сакович Андрей / Sakovich Andrej / 1990","М",19,78.571428571428569,435.49]
["Жук-трейл #8 Логойск","Трейл 21","Жук-трейл #8 Логойск Трейл 21",{"$f":"VLOOKUP(C1535,Гонки!$E$1:$N$28,10,FALSE)","v":30.720000000000002},"М",{"$f":"IF(E1535=\"Ж\",VLOOKUP(C1535,Гонки!$E$2:$P$28,11,FALSE),VLOOKUP(C1535,Гонки!$E$2:$P$28,12,FALSE))","v":84},"Калацей Роман",1997,"Kalatsej Roman","Калацей Роман / Kalatsej Roman / 1997","М",20,77.38095238095238,428.89]
["Жук-трейл #8 Логойск","Трейл 21","Жук-трейл #8 Логойск Трейл 21",{"$f":"VLOOKUP(C1536,Гонки!$E$1:$N$28,10,FALSE)","v":30.720000000000002},"М",{"$f":"IF(E1536=\"Ж\",VLOOKUP(C1536,Гонки!$E$2:$P$28,11,FALSE),VLOOKUP(C1536,Гонки!$E$2:$P$28,12,FALSE))","v":84},"Павленко Юрий",1983,"Pavlenko Yurij","Павленко Юрий / Pavlenko Yurij / 1983","М",21,76.19047619047619,422.29]
["Жук-трейл #8 Логойск","Трейл 21","Жук-трейл #8 Логойск Трейл 21",{"$f":"VLOOKUP(C1537,Гонки!$E$1:$N$28,10,FALSE)","v":30.720000000000002},"М",{"$f":"IF(E1537=\"Ж\",VLOOKUP(C1537,Гонки!$E$2:$P$28,11,FALSE),VLOOKUP(C1537,Гонки!$E$2:$P$28,12,FALSE))","v":84},"Маковский Дмитрий",1981,"Makovskij Dmitrij","Маковский Дмитрий / Makovskij Dmitrij / 1981","М",22,75,415.69]
["Жук-трейл #8 Логойск","Трейл 21",{"$f":"CONCATENATE(A1538,\" \",B1538)","v":"Жук-трейл #8 Логойск Трейл 21"},{"$f":"VLOOKUP(C1538,Гонки!$E$1:$N$28,10,FALSE)","v":30.720000000000002},"М",{"$f":"IF(E1538=\"Ж\",VLOOKUP(C1538,Гонки!$E$2:$P$28,11,FALSE),VLOOKUP(C1538,Гонки!$E$2:$P$28,12,FALSE))","v":84},"Подосетников Андрей",1976,"Podosetnikov Andrej","Подосетников Андрей / Podosetnikov Andrej / 1976","М",23,73.80952380952381,409.09]
["Жук-трейл #8 Логойск","Трейл 21","Жук-трейл #8 Логойск Трейл 21",{"$f":"VLOOKUP(C1539,Гонки!$E$1:$N$28,10,FALSE)","v":30.720000000000002},"М",{"$f":"IF(E1539=\"Ж\",VLOOKUP(C1539,Гонки!$E$2:$P$28,11,FALSE),VLOOKUP(C1539,Гонки!$E$2:$P$28,12,FALSE))","v":84},"Жучин Алексей",1983,{"$f":"Translit(G1539)","v":"Zhuchin Aleksej"},{"$f":"CONCATENATE(G1539,\" / \",I1539,\" / \",H1539)","v":"Жучин Алексей / Zhuchin Aleksej / 1983"},"М",24,72.61904761904762,402.5]
["Жук-трейл #8 Логойск","Трейл 21","Жук-трейл #8 Логойск Трейл 21",{"$f":"VLOOKUP(C1540,Гонки!$E$1:$N$28,10,FALSE)","v":30.720000000000002},"М",{"$f":"IF(E1540=\"Ж\",VLOOKUP(C1540,Гонки!$E$2:$P$28,11,FALSE),VLOOKUP(C1540,Гонки!$E$2:$P$28,12,FALSE))","v":84},"Кравченко Александр",1981,"Kravchenko Aleksandr","Кравченко Александр / Kravchenko Aleksandr / 1981","М",25,71.428571428571431,395.9]
["Жук-трейл #8 Логойск","Трейл 21","Жук-трейл #8 Логойск Трейл 21",{"$f":"VLOOKUP(C1541,Гонки!$E$1:$N$28,10,FALSE)","v":30.720000000000002},"М",{"$f":"IF(E1541=\"Ж\",VLOOKUP(C1541,Гонки!$E$2:$P$28,11,FALSE),VLOOKUP(C1541,Гонки!$E$2:$P$28,12,FALSE))","v":84},"Скуратович Антон",1985,"Skuratovich Anton","Скуратович Антон / Skuratovich Anton / 1985","М",26,70.238095238095241,389.3]
["Жук-трейл #8 Логойск","Трейл 21","Жук-трейл #8 Логойск Трейл 21",{"$f":"VLOOKUP(C1542,Гонки!$E$1:$N$28,10,FALSE)","v":30.720000000000002},"М",{"$f":"IF(E1542=\"Ж\",VLOOKUP(C1542,Гонки!$E$2:$P$28,11,FALSE),VLOOKUP(C1542,Гонки!$E$2:$P$28,12,FALSE))","v":84},"Сафроненко Андрей",1984,"Safronenko Andrej","Сафроненко Андрей / Safronenko Andrej / 1984","М",27,69.047619047619051,382.7]
["Жук-трейл #8 Логойск","Трейл 21","Жук-трейл #8 Логойск Трейл 21",{"$f":"VLOOKUP(C1543,Гонки!$E$1:$N$28,10,FALSE)","v":30.720000000000002},"М",{"$f":"IF(E1543=\"Ж\",VLOOKUP(C1543,Гонки!$E$2:$P$28,11,FALSE),VLOOKUP(C1543,Гонки!$E$2:$P$28,12,FALSE))","v":84},"Заяц Александр",1978,"Zayats Aleksandr","Заяц Александр / Zayats Aleksandr / 1978","М",28,67.857142857142861,376.1]
["Жук-трейл #8 Логойск","Трейл 21","Жук-трейл #8 Логойск Трейл 21",{"$f":"VLOOKUP(C1544,Гонки!$E$1:$N$28,10,FALSE)","v":30.720000000000002},"М",{"$f":"IF(E1544=\"Ж\",VLOOKUP(C1544,Гонки!$E$2:$P$28,11,FALSE),VLOOKUP(C1544,Гонки!$E$2:$P$28,12,FALSE))","v":84},"Недень Виталий",1974,"Neden Vitalij","Недень Виталий / Neden Vitalij / 1974","М",29,66.666666666666671,369.5]
["Жук-трейл #8 Логойск","Трейл 21","Жук-трейл #8 Логойск Трейл 21",{"$f":"VLOOKUP(C1545,Гонки!$E$1:$N$28,10,FALSE)","v":30.720000000000002},"М",{"$f":"IF(E1545=\"Ж\",VLOOKUP(C1545,Гонки!$E$2:$P$28,11,FALSE),VLOOKUP(C1545,Гонки!$E$2:$P$28,12,FALSE))","v":84},"Герасимук Юрий",1992,"Gerasimuk Yurij","Герасимук Юрий / Gerasimuk Yurij / 1992","М",30,65.476190476190482,362.91]
["Жук-трейл #8 Логойск","Трейл 21","Жук-трейл #8 Логойск Трейл 21",{"$f":"VLOOKUP(C1546,Гонки!$E$1:$N$28,10,FALSE)","v":30.720000000000002},"М",{"$f":"IF(E1546=\"Ж\",VLOOKUP(C1546,Гонки!$E$2:$P$28,11,FALSE),VLOOKUP(C1546,Гонки!$E$2:$P$28,12,FALSE))","v":84},"Мурашкин Виктор",1989,"Murashkin Viktor","Мурашкин Виктор / Murashkin Viktor / 1989","М",31,64.285714285714278,356.31]
["Жук-трейл #8 Логойск","Трейл 21","Жук-трейл #8 Логойск Трейл 21",{"$f":"VLOOKUP(C1547,Гонки!$E$1:$N$28,10,FALSE)","v":30.720000000000002},"М",{"$f":"IF(E1547=\"Ж\",VLOOKUP(C1547,Гонки!$E$2:$P$28,11,FALSE),VLOOKUP(C1547,Гонки!$E$2:$P$28,12,FALSE))","v":84},"Остаповец Евгений",1990,"Ostapovets Evgenij","Остаповец Евгений / Ostapovets Evgenij / 1990","М",32,63.095238095238095,349.71]
["Жук-трейл #8 Логойск","Трейл 21","Жук-трейл #8 Логойск Трейл 21",{"$f":"VLOOKUP(C1548,Гонки!$E$1:$N$28,10,FALSE)","v":30.720000000000002},"М",{"$f":"IF(E1548=\"Ж\",VLOOKUP(C1548,Гонки!$E$2:$P$28,11,FALSE),VLOOKUP(C1548,Гонки!$E$2:$P$28,12,FALSE))","v":84},"Тарасенко Павел",1983,"Tarasenko Pavel","Тарасенко Павел / Tarasenko Pavel / 1983","М",33,61.904761904761905,343.11]
["Жук-трейл #8 Логойск","Трейл 21","Жук-трейл #8 Логойск Трейл 21",{"$f":"VLOOKUP(C1549,Гонки!$E$1:$N$28,10,FALSE)","v":30.720000000000002},"М",{"$f":"IF(E1549=\"Ж\",VLOOKUP(C1549,Гонки!$E$2:$P$28,11,FALSE),VLOOKUP(C1549,Гонки!$E$2:$P$28,12,FALSE))","v":84},"Сорока Эдуард",1991,"Soroka Eduard","Сорока Эдуард / Soroka Eduard / 1991","М",34,60.714285714285715,336.51]
["Жук-трейл #8 Логойск","Трейл 21","Жук-трейл #8 Логойск Трейл 21",{"$f":"VLOOKUP(C1550,Гонки!$E$1:$N$28,10,FALSE)","v":30.720000000000002},"М",{"$f":"IF(E1550=\"Ж\",VLOOKUP(C1550,Гонки!$E$2:$P$28,11,FALSE),VLOOKUP(C1550,Гонки!$E$2:$P$28,12,FALSE))","v":84},"Молчан Александр",1988,"Molchan Aleksandr","Молчан Александр / Molchan Aleksandr / 1988","М",35,59.523809523809526,329.91]
["Жук-трейл #8 Логойск","Трейл 21","Жук-трейл #8 Логойск Трейл 21",{"$f":"VLOOKUP(C1551,Гонки!$E$1:$N$28,10,FALSE)","v":30.720000000000002},"М",{"$f":"IF(E1551=\"Ж\",VLOOKUP(C1551,Гонки!$E$2:$P$28,11,FALSE),VLOOKUP(C1551,Гонки!$E$2:$P$28,12,FALSE))","v":84},"Дуван Дмитрий",1985,"Duvan Dmitrij","Дуван Дмитрий / Duvan Dmitrij / 1985","М",36,58.333333333333329,323.32]
["Жук-трейл #8 Логойск","Трейл 21","Жук-трейл #8 Логойск Трейл 21",{"$f":"VLOOKUP(C1552,Гонки!$E$1:$N$28,10,FALSE)","v":30.720000000000002},"М",{"$f":"IF(E1552=\"Ж\",VLOOKUP(C1552,Гонки!$E$2:$P$28,11,FALSE),VLOOKUP(C1552,Гонки!$E$2:$P$28,12,FALSE))","v":84},"Гончаров Игорь",1981,"Goncharov Igor","Гончаров Игорь / Goncharov Igor / 1981","М",37,57.142857142857146,316.72000000000003]
["Жук-трейл #8 Логойск","Трейл 21","Жук-трейл #8 Логойск Трейл 21",{"$f":"VLOOKUP(C1553,Гонки!$E$1:$N$28,10,FALSE)","v":30.720000000000002},"М",{"$f":"IF(E1553=\"Ж\",VLOOKUP(C1553,Гонки!$E$2:$P$28,11,FALSE),VLOOKUP(C1553,Гонки!$E$2:$P$28,12,FALSE))","v":84},"Ремизевич Роман",1982,"Remizevich Roman","Ремизевич Роман / Remizevich Roman / 1982","М",38,55.952380952380956,310.12]
["Жук-трейл #8 Логойск","Трейл 21","Жук-трейл #8 Логойск Трейл 21",{"$f":"VLOOKUP(C1554,Гонки!$E$1:$N$28,10,FALSE)","v":30.720000000000002},"М",{"$f":"IF(E1554=\"Ж\",VLOOKUP(C1554,Гонки!$E$2:$P$28,11,FALSE),VLOOKUP(C1554,Гонки!$E$2:$P$28,12,FALSE))","v":84},"Агеев Константин",1995,"Ageev Konstantin","Агеев Константин / Ageev Konstantin / 1995","М",39,54.761904761904759,303.52]
["Жук-трейл #8 Логойск","Трейл 21","Жук-трейл #8 Логойск Трейл 21",{"$f":"VLOOKUP(C1555,Гонки!$E$1:$N$28,10,FALSE)","v":30.720000000000002},"М",{"$f":"IF(E1555=\"Ж\",VLOOKUP(C1555,Гонки!$E$2:$P$28,11,FALSE),VLOOKUP(C1555,Гонки!$E$2:$P$28,12,FALSE))","v":84},"Пенько Фёдор",1987,"Penko Fjodor","Пенько Фёдор / Penko Fjodor / 1987","М",40,53.571428571428569,296.92]
["Жук-трейл #8 Логойск","Трейл 21","Жук-трейл #8 Логойск Трейл 21",{"$f":"VLOOKUP(C1556,Гонки!$E$1:$N$28,10,FALSE)","v":30.720000000000002},"М",{"$f":"IF(E1556=\"Ж\",VLOOKUP(C1556,Гонки!$E$2:$P$28,11,FALSE),VLOOKUP(C1556,Гонки!$E$2:$P$28,12,FALSE))","v":84},"Федоренко Александр",1990,"Fedorenko Aleksandr","Федоренко Александр / Fedorenko Aleksandr / 1990",{"$f":"E1556","v":"М"},41,52.380952380952387,290.32]
["Жук-трейл #8 Логойск","Трейл 21","Жук-трейл #8 Логойск Трейл 21",{"$f":"VLOOKUP(C1557,Гонки!$E$1:$N$28,10,FALSE)","v":30.720000000000002},"М",{"$f":"IF(E1557=\"Ж\",VLOOKUP(C1557,Гонки!$E$2:$P$28,11,FALSE),VLOOKUP(C1557,Гонки!$E$2:$P$28,12,FALSE))","v":84},"Шепетько Сергей",1987,"Shepetko Sergej","Шепетько Сергей / Shepetko Sergej / 1987","М",42,51.19047619047619,283.73]
["Жук-трейл #8 Логойск","Трейл 21","Жук-трейл #8 Логойск Трейл 21",{"$f":"VLOOKUP(C1558,Гонки!$E$1:$N$28,10,FALSE)","v":30.720000000000002},"М",{"$f":"IF(E1558=\"Ж\",VLOOKUP(C1558,Гонки!$E$2:$P$28,11,FALSE),VLOOKUP(C1558,Гонки!$E$2:$P$28,12,FALSE))","v":84},"Юлов Герман",1993,"Yulov German","Юлов Герман / Yulov German / 1993","М",43,50,277.13]
["Жук-трейл #8 Логойск","Трейл 21","Жук-трейл #8 Логойск Трейл 21",{"$f":"VLOOKUP(C1559,Гонки!$E$1:$N$28,10,FALSE)","v":30.720000000000002},"М",{"$f":"IF(E1559=\"Ж\",VLOOKUP(C1559,Гонки!$E$2:$P$28,11,FALSE),VLOOKUP(C1559,Гонки!$E$2:$P$28,12,FALSE))","v":84},"Адасик Вячеслав",1975,"Adasik Vyacheslav","Адасик Вячеслав / Adasik Vyacheslav / 1975","М",44,48.80952380952381,270.52999999999997]
["Жук-трейл #8 Логойск","Трейл 21","Жук-трейл #8 Логойск Трейл 21",{"$f":"VLOOKUP(C1560,Гонки!$E$1:$N$28,10,FALSE)","v":30.720000000000002},"М",{"$f":"IF(E1560=\"Ж\",VLOOKUP(C1560,Гонки!$E$2:$P$28,11,FALSE),VLOOKUP(C1560,Гонки!$E$2:$P$28,12,FALSE))","v":84},"Пак Олег",1977,"Pak Oleg","Пак Олег / Pak Oleg / 1977","М",45,47.619047619047613,263.93]
["Жук-трейл #8 Логойск","Трейл 21","Жук-трейл #8 Логойск Трейл 21",{"$f":"VLOOKUP(C1561,Гонки!$E$1:$N$28,10,FALSE)","v":30.720000000000002},"М",{"$f":"IF(E1561=\"Ж\",VLOOKUP(C1561,Гонки!$E$2:$P$28,11,FALSE),VLOOKUP(C1561,Гонки!$E$2:$P$28,12,FALSE))","v":84},"Володько Андрей",1986,"Volodko Andrej","Володько Андрей / Volodko Andrej / 1986","М",46,46.428571428571431,257.33]
["Жук-трейл #8 Логойск","Трейл 21","Жук-трейл #8 Логойск Трейл 21",{"$f":"VLOOKUP(C1562,Гонки!$E$1:$N$28,10,FALSE)","v":30.720000000000002},"М",{"$f":"IF(E1562=\"Ж\",VLOOKUP(C1562,Гонки!$E$2:$P$28,11,FALSE),VLOOKUP(C1562,Гонки!$E$2:$P$28,12,FALSE))","v":84},"Коляда Юрий",1980,"Kolyada Yurij","Коляда Юрий / Kolyada Yurij / 1980","М",47,45.238095238095234,250.73]
["Жук-трейл #8 Логойск","Трейл 21","Жук-трейл #8 Логойск Трейл 21",{"$f":"VLOOKUP(C1563,Гонки!$E$1:$N$28,10,FALSE)","v":30.720000000000002},"М",{"$f":"IF(E1563=\"Ж\",VLOOKUP(C1563,Гонки!$E$2:$P$28,11,FALSE),VLOOKUP(C1563,Гонки!$E$2:$P$28,12,FALSE))","v":84},"Соц Василий",1966,"Sots Vasilij","Соц Василий / Sots Vasilij / 1966","М",48,44.047619047619044,244.14]
["Жук-трейл #8 Логойск","Трейл 21","Жук-трейл #8 Логойск Трейл 21",{"$f":"VLOOKUP(C1564,Гонки!$E$1:$N$28,10,FALSE)","v":30.720000000000002},"М",{"$f":"IF(E1564=\"Ж\",VLOOKUP(C1564,Гонки!$E$2:$P$28,11,FALSE),VLOOKUP(C1564,Гонки!$E$2:$P$28,12,FALSE))","v":84},"Сіпачоў Аляксей",1979,"Sіpachou Alyaksej","Сіпачоў Аляксей / Sіpachou Alyaksej / 1979","М",49,42.857142857142861,237.54]
["Жук-трейл #8 Логойск","Трейл 21","Жук-трейл #8 Логойск Трейл 21",{"$f":"VLOOKUP(C1565,Гонки!$E$1:$N$28,10,FALSE)","v":30.720000000000002},"М",{"$f":"IF(E1565=\"Ж\",VLOOKUP(C1565,Гонки!$E$2:$P$28,11,FALSE),VLOOKUP(C1565,Гонки!$E$2:$P$28,12,FALSE))","v":84},"Подайко Владимир",1994,"Podajko Vladimir","Подайко Владимир / Podajko Vladimir / 1994","М",50,41.666666666666664,230.94]
["Жук-трейл #8 Логойск",{"$f":"$B$1500","v":"Трейл 21"},"Жук-трейл #8 Логойск Трейл 21",{"$f":"VLOOKUP(C1566,Гонки!$E$1:$N$28,10,FALSE)","v":30.720000000000002},"М",{"$f":"IF(E1566=\"Ж\",VLOOKUP(C1566,Гонки!$E$2:$P$28,11,FALSE),VLOOKUP(C1566,Гонки!$E$2:$P$28,12,FALSE))","v":84},"Дегтярев Сергей",1983,"Degtyarev Sergej","Дегтярев Сергей / Degtyarev Sergej / 1983","М",51,40.476190476190474,224.34]
["Жук-трейл #8 Логойск","Трейл 21","Жук-трейл #8 Логойск Трейл 21",{"$f":"VLOOKUP(C1567,Гонки!$E$1:$N$28,10,FALSE)","v":30.720000000000002},"М",{"$f":"IF(E1567=\"Ж\",VLOOKUP(C1567,Гонки!$E$2:$P$28,11,FALSE),VLOOKUP(C1567,Гонки!$E$2:$P$28,12,FALSE))","v":84},"Палий Андрей",1984,"Palij Andrej","Палий Андрей / Palij Andrej / 1984","М",52,39.285714285714292,217.74]
["Жук-трейл #8 Логойск","Трейл 21","Жук-трейл #8 Логойск Трейл 21",{"$f":"VLOOKUP(C1568,Гонки!$E$1:$N$28,10,FALSE)","v":30.720000000000002},"М",{"$f":"IF(E1568=\"Ж\",VLOOKUP(C1568,Гонки!$E$2:$P$28,11,FALSE),VLOOKUP(C1568,Гонки!$E$2:$P$28,12,FALSE))","v":84},"Елесин Иван",1992,"Elesin Ivan","Елесин Иван / Elesin Ivan / 1992","М",53,38.095238095238095,211.15]
["Жук-трейл #8 Логойск","Трейл 21","Жук-трейл #8 Логойск Трейл 21",{"$f":"VLOOKUP(C1569,Гонки!$E$1:$N$28,10,FALSE)","v":30.720000000000002},"М",{"$f":"IF(E1569=\"Ж\",VLOOKUP(C1569,Гонки!$E$2:$P$28,11,FALSE),VLOOKUP(C1569,Гонки!$E$2:$P$28,12,FALSE))","v":84},"Войтехович Максим",1990,"Vojtehovich Maksim","Войтехович Максим / Vojtehovich Maksim / 1990","М",54,36.904761904761905,204.55]
["Жук-трейл #8 Логойск","Трейл 21","Жук-трейл #8 Логойск Трейл 21",{"$f":"VLOOKUP(C1570,Гонки!$E$1:$N$28,10,FALSE)","v":30.720000000000002},"М",{"$f":"IF(E1570=\"Ж\",VLOOKUP(C1570,Гонки!$E$2:$P$28,11,FALSE),VLOOKUP(C1570,Гонки!$E$2:$P$28,12,FALSE))","v":84},"Зятиков Евгений",1982,"Zyatikov Evgenij","Зятиков Евгений / Zyatikov Evgenij / 1982","М",55,35.714285714285708,197.95]
["Жук-трейл #8 Логойск","Трейл 21","Жук-трейл #8 Логойск Трейл 21",{"$f":"VLOOKUP(C1571,Гонки!$E$1:$N$28,10,FALSE)","v":30.720000000000002},"М",{"$f":"IF(E1571=\"Ж\",VLOOKUP(C1571,Гонки!$E$2:$P$28,11,FALSE),VLOOKUP(C1571,Гонки!$E$2:$P$28,12,FALSE))","v":84},"Селиванов Максим",1981,"Selivanov Maksim","Селиванов Максим / Selivanov Maksim / 1981","М",56,34.523809523809518,191.35]
["Жук-трейл #8 Логойск","Трейл 21","Жук-трейл #8 Логойск Трейл 21",{"$f":"VLOOKUP(C1572,Гонки!$E$1:$N$28,10,FALSE)","v":30.720000000000002},"М",{"$f":"IF(E1572=\"Ж\",VLOOKUP(C1572,Гонки!$E$2:$P$28,11,FALSE),VLOOKUP(C1572,Гонки!$E$2:$P$28,12,FALSE))","v":84},"Маркевич Денис",1981,"Markevich Denis","Маркевич Денис / Markevich Denis / 1981","М",57,33.333333333333343,184.75]
["Жук-трейл #8 Логойск","Трейл 21","Жук-трейл #8 Логойск Трейл 21",{"$f":"VLOOKUP(C1573,Гонки!$E$1:$N$28,10,FALSE)","v":30.720000000000002},"М",{"$f":"IF(E1573=\"Ж\",VLOOKUP(C1573,Гонки!$E$2:$P$28,11,FALSE),VLOOKUP(C1573,Гонки!$E$2:$P$28,12,FALSE))","v":84},"Каволюнас Андрюс",1984,"Kavolyunas Andryus","Каволюнас Андрюс / Kavolyunas Andryus / 1984","М",58,32.142857142857139,178.15]
["Жук-трейл #8 Логойск","Трейл 21","Жук-трейл #8 Логойск Трейл 21",{"$f":"VLOOKUP(C1574,Гонки!$E$1:$N$28,10,FALSE)","v":30.720000000000002},"М",{"$f":"IF(E1574=\"Ж\",VLOOKUP(C1574,Гонки!$E$2:$P$28,11,FALSE),VLOOKUP(C1574,Гонки!$E$2:$P$28,12,FALSE))","v":84},"Зенченко Александр",1992,"Zenchenko Aleksandr","Зенченко Александр / Zenchenko Aleksandr / 1992","М",59,30.952380952380949,171.56]
["Жук-трейл #8 Логойск","Трейл 21","Жук-трейл #8 Логойск Трейл 21",{"$f":"VLOOKUP(C1575,Гонки!$E$1:$N$28,10,FALSE)","v":30.720000000000002},"М",{"$f":"IF(E1575=\"Ж\",VLOOKUP(C1575,Гонки!$E$2:$P$28,11,FALSE),VLOOKUP(C1575,Гонки!$E$2:$P$28,12,FALSE))","v":84},"Бурый Евгений",1984,"Buryj Evgenij","Бурый Евгений / Buryj Evgenij / 1984","М",60,29.761904761904773,164.96]
["Жук-трейл #8 Логойск","Трейл 21","Жук-трейл #8 Логойск Трейл 21",{"$f":"VLOOKUP(C1576,Гонки!$E$1:$N$28,10,FALSE)","v":30.720000000000002},"М",{"$f":"IF(E1576=\"Ж\",VLOOKUP(C1576,Гонки!$E$2:$P$28,11,FALSE),VLOOKUP(C1576,Гонки!$E$2:$P$28,12,FALSE))","v":84},"Лисовский Виктор",1964,"Lisovskij Viktor","Лисовский Виктор / Lisovskij Viktor / 1964","М",61,28.571428571428569,158.36000000000001]
["Жук-трейл #8 Логойск","Трейл 21","Жук-трейл #8 Логойск Трейл 21",{"$f":"VLOOKUP(C1577,Гонки!$E$1:$N$28,10,FALSE)","v":30.720000000000002},"М",{"$f":"IF(E1577=\"Ж\",VLOOKUP(C1577,Гонки!$E$2:$P$28,11,FALSE),VLOOKUP(C1577,Гонки!$E$2:$P$28,12,FALSE))","v":84},"Щур Илья",1991,"Schur Ilya","Щур Илья / Schur Ilya / 1991","М",62,27.38095238095238,151.76]
["Жук-трейл #8 Логойск","Трейл 21","Жук-трейл #8 Логойск Трейл 21",{"$f":"VLOOKUP(C1578,Гонки!$E$1:$N$28,10,FALSE)","v":30.720000000000002},"М",{"$f":"IF(E1578=\"Ж\",VLOOKUP(C1578,Гонки!$E$2:$P$28,11,FALSE),VLOOKUP(C1578,Гонки!$E$2:$P$28,12,FALSE))","v":84},"Федоров Федор",1977,"Fedorov Fedor","Федоров Федор / Fedorov Fedor / 1977","М",63,26.19047619047619,145.16]
["Жук-трейл #8 Логойск","Трейл 21","Жук-трейл #8 Логойск Трейл 21",{"$f":"VLOOKUP(C1579,Гонки!$E$1:$N$28,10,FALSE)","v":30.720000000000002},"М",{"$f":"IF(E1579=\"Ж\",VLOOKUP(C1579,Гонки!$E$2:$P$28,11,FALSE),VLOOKUP(C1579,Гонки!$E$2:$P$28,12,FALSE))","v":84},"Горшков Игорь",1977,"Gorshkov Igor","Горшков Игорь / Gorshkov Igor / 1977","М",64,25,138.56]
["Жук-трейл #8 Логойск","Трейл 21","Жук-трейл #8 Логойск Трейл 21",{"$f":"VLOOKUP(C1580,Гонки!$E$1:$N$28,10,FALSE)","v":30.720000000000002},"М",{"$f":"IF(E1580=\"Ж\",VLOOKUP(C1580,Гонки!$E$2:$P$28,11,FALSE),VLOOKUP(C1580,Гонки!$E$2:$P$28,12,FALSE))","v":84},"Жидович Вадим",1984,"Zhidovich Vadim","Жидович Вадим / Zhidovich Vadim / 1984","М",65,{"$f":"100-((L1580-1)/F1580)*100","v":23.80952380952381},{"$f":"ROUND(SQRT(D1580)*M1580,2)","v":131.97}]
["Жук-трейл #8 Логойск","Трейл 21","Жук-трейл #8 Логойск Трейл 21",{"$f":"VLOOKUP(C1581,Гонки!$E$1:$N$28,10,FALSE)","v":30.720000000000002},"М",{"$f":"IF(E1581=\"Ж\",VLOOKUP(C1581,Гонки!$E$2:$P$28,11,FALSE),VLOOKUP(C1581,Гонки!$E$2:$P$28,12,FALSE))","v":84},"Хамицевич Михаил",1980,"Hamitsevich Mihail","Хамицевич Михаил / Hamitsevich Mihail / 1980","М",66,22.61904761904762,125.37]
["Жук-трейл #8 Логойск","Трейл 21","Жук-трейл #8 Логойск Трейл 21",{"$f":"VLOOKUP(C1582,Гонки!$E$1:$N$28,10,FALSE)","v":30.720000000000002},"М",{"$f":"IF(E1582=\"Ж\",VLOOKUP(C1582,Гонки!$E$2:$P$28,11,FALSE),VLOOKUP(C1582,Гонки!$E$2:$P$28,12,FALSE))","v":84},"Нечай Алексей",1980,"Nechaj Aleksej","Нечай Алексей / Nechaj Aleksej / 1980","М",67,21.428571428571431,118.77]
["Жук-трейл #8 Логойск","Трейл 21","Жук-трейл #8 Логойск Трейл 21",{"$f":"VLOOKUP(C1583,Гонки!$E$1:$N$28,10,FALSE)","v":30.720000000000002},"М",{"$f":"IF(E1583=\"Ж\",VLOOKUP(C1583,Гонки!$E$2:$P$28,11,FALSE),VLOOKUP(C1583,Гонки!$E$2:$P$28,12,FALSE))","v":84},"Сливинский Вадим",1984,"Slivinskij Vadim","Сливинский Вадим / Slivinskij Vadim / 1984","М",68,20.238095238095227,112.17]
["Жук-трейл #8 Логойск","Трейл 21","Жук-трейл #8 Логойск Трейл 21",{"$f":"VLOOKUP(C1584,Гонки!$E$1:$N$28,10,FALSE)","v":30.720000000000002},"М",{"$f":"IF(E1584=\"Ж\",VLOOKUP(C1584,Гонки!$E$2:$P$28,11,FALSE),VLOOKUP(C1584,Гонки!$E$2:$P$28,12,FALSE))","v":84},"Демчук Ростислав",1978,"Demchuk Rostislav","Демчук Ростислав / Demchuk Rostislav / 1978","М",69,19.047619047619051,105.57]
["Жук-трейл #8 Логойск","Трейл 21","Жук-трейл #8 Логойск Трейл 21",{"$f":"VLOOKUP(C1585,Гонки!$E$1:$N$28,10,FALSE)","v":30.720000000000002},"М",{"$f":"IF(E1585=\"Ж\",VLOOKUP(C1585,Гонки!$E$2:$P$28,11,FALSE),VLOOKUP(C1585,Гонки!$E$2:$P$28,12,FALSE))","v":84},"Волков Алексей",1990,"Volkov Aleksej","Волков Алексей / Volkov Aleksej / 1990","М",70,17.857142857142861,98.97]
["Жук-трейл #8 Логойск","Трейл 21","Жук-трейл #8 Логойск Трейл 21",{"$f":"VLOOKUP(C1586,Гонки!$E$1:$N$28,10,FALSE)","v":30.720000000000002},"М",{"$f":"IF(E1586=\"Ж\",VLOOKUP(C1586,Гонки!$E$2:$P$28,11,FALSE),VLOOKUP(C1586,Гонки!$E$2:$P$28,12,FALSE))","v":84},"Марчук Михаил",1996,"Marchuk Mihail","Марчук Михаил / Marchuk Mihail / 1996","М",71,16.666666666666657,92.38]
["Жук-трейл #8 Логойск","Трейл 21","Жук-трейл #8 Логойск Трейл 21",{"$f":"VLOOKUP(C1587,Гонки!$E$1:$N$28,10,FALSE)","v":30.720000000000002},"М",{"$f":"IF(E1587=\"Ж\",VLOOKUP(C1587,Гонки!$E$2:$P$28,11,FALSE),VLOOKUP(C1587,Гонки!$E$2:$P$28,12,FALSE))","v":84},"Минков Сергей",1985,"Minkov Sergej","Минков Сергей / Minkov Sergej / 1985","М",72,15.476190476190482,85.78]
["Жук-трейл #8 Логойск","Трейл 21","Жук-трейл #8 Логойск Трейл 21",{"$f":"VLOOKUP(C1588,Гонки!$E$1:$N$28,10,FALSE)","v":30.720000000000002},"М",{"$f":"IF(E1588=\"Ж\",VLOOKUP(C1588,Гонки!$E$2:$P$28,11,FALSE),VLOOKUP(C1588,Гонки!$E$2:$P$28,12,FALSE))","v":84},"Ковалюк Вадим",1978,"Kovalyuk Vadim","Ковалюк Вадим / Kovalyuk Vadim / 1978","М",73,14.285714285714292,79.180000000000007]
["Жук-трейл #8 Логойск","Трейл 21","Жук-трейл #8 Логойск Трейл 21",{"$f":"VLOOKUP(C1589,Гонки!$E$1:$N$28,10,FALSE)","v":30.720000000000002},"М",{"$f":"IF(E1589=\"Ж\",VLOOKUP(C1589,Гонки!$E$2:$P$28,11,FALSE),VLOOKUP(C1589,Гонки!$E$2:$P$28,12,FALSE))","v":84},"Зуй Алексей",1980,"Zuj Aleksej","Зуй Алексей / Zuj Aleksej / 1980","М",74,13.095238095238088,72.58]
["Жук-трейл #8 Логойск","Трейл 21","Жук-трейл #8 Логойск Трейл 21",{"$f":"VLOOKUP(C1590,Гонки!$E$1:$N$28,10,FALSE)","v":30.720000000000002},"М",{"$f":"IF(E1590=\"Ж\",VLOOKUP(C1590,Гонки!$E$2:$P$28,11,FALSE),VLOOKUP(C1590,Гонки!$E$2:$P$28,12,FALSE))","v":84},"Кузьменок Денис",1979,"Kuzmenok Denis","Кузьменок Денис / Kuzmenok Denis / 1979","М",75,11.904761904761912,65.98]
["Жук-трейл #8 Логойск","Трейл 21","Жук-трейл #8 Логойск Трейл 21",{"$f":"VLOOKUP(C1591,Гонки!$E$1:$N$28,10,FALSE)","v":30.720000000000002},"М",{"$f":"IF(E1591=\"Ж\",VLOOKUP(C1591,Гонки!$E$2:$P$28,11,FALSE),VLOOKUP(C1591,Гонки!$E$2:$P$28,12,FALSE))","v":84},"Михнович Владимир",1969,"Mihnovich Vladimir","Михнович Владимир / Mihnovich Vladimir / 1969","М",76,10.714285714285708,59.38]
["Жук-трейл #8 Логойск","Трейл 21","Жук-трейл #8 Логойск Трейл 21",{"$f":"VLOOKUP(C1592,Гонки!$E$1:$N$28,10,FALSE)","v":30.720000000000002},"М",{"$f":"IF(E1592=\"Ж\",VLOOKUP(C1592,Гонки!$E$2:$P$28,11,FALSE),VLOOKUP(C1592,Гонки!$E$2:$P$28,12,FALSE))","v":84},"Зеньков Александр",1993,"Zenkov Aleksandr","Зеньков Александр / Zenkov Aleksandr / 1993","М",77,9.5238095238095184,52.79]
["Жук-трейл #8 Логойск","Трейл 21","Жук-трейл #8 Логойск Трейл 21",{"$f":"VLOOKUP(C1593,Гонки!$E$1:$N$28,10,FALSE)","v":30.720000000000002},"М",{"$f":"IF(E1593=\"Ж\",VLOOKUP(C1593,Гонки!$E$2:$P$28,11,FALSE),VLOOKUP(C1593,Гонки!$E$2:$P$28,12,FALSE))","v":84},"Гурский Олег",1988,"Gurskij Oleg","Гурский Олег / Gurskij Oleg / 1988","М",78,8.3333333333333428,46.19]
["Жук-трейл #8 Логойск","Трейл 21","Жук-трейл #8 Логойск Трейл 21",{"$f":"VLOOKUP(C1594,Гонки!$E$1:$N$28,10,FALSE)","v":30.720000000000002},"М",{"$f":"IF(E1594=\"Ж\",VLOOKUP(C1594,Гонки!$E$2:$P$28,11,FALSE),VLOOKUP(C1594,Гонки!$E$2:$P$28,12,FALSE))","v":84},"Мороз Чеслав",1959,"Moroz Cheslav","Мороз Чеслав / Moroz Cheslav / 1959","М",79,7.1428571428571388,39.590000000000003]
["Жук-трейл #8 Логойск","Трейл 21","Жук-трейл #8 Логойск Трейл 21",{"$f":"VLOOKUP(C1595,Гонки!$E$1:$N$28,10,FALSE)","v":30.720000000000002},"М",{"$f":"IF(E1595=\"Ж\",VLOOKUP(C1595,Гонки!$E$2:$P$28,11,FALSE),VLOOKUP(C1595,Гонки!$E$2:$P$28,12,FALSE))","v":84},"Михно Борис",1982,"Mihno Boris","Михно Борис / Mihno Boris / 1982","М",80,5.952380952380949,32.99]
["Жук-трейл #8 Логойск","Трейл 21","Жук-трейл #8 Логойск Трейл 21",{"$f":"VLOOKUP(C1596,Гонки!$E$1:$N$28,10,FALSE)","v":30.720000000000002},"М",{"$f":"IF(E1596=\"Ж\",VLOOKUP(C1596,Гонки!$E$2:$P$28,11,FALSE),VLOOKUP(C1596,Гонки!$E$2:$P$28,12,FALSE))","v":84},"Фастовец Евгений",1979,"Fastovets Evgenij","Фастовец Евгений / Fastovets Evgenij / 1979","М",81,4.7619047619047734,26.39]
["Жук-трейл #8 Логойск",{"$f":"Гонки!D27","v":"Трейл 42"},"Жук-трейл #8 Логойск Трейл 42",{"$f":"VLOOKUP(C1597,Гонки!$E$1:$N$28,10,FALSE)","v":57.440000000000005},"Ж",{"$f":"IF(E1597=\"Ж\",VLOOKUP(C1597,Гонки!$E$2:$P$28,11,FALSE),VLOOKUP(C1597,Гонки!$E$2:$P$28,12,FALSE))","v":6},"Скирук Юлия",1988,"Skiruk Yuliya","Скирук Юлия / Skiruk Yuliya / 1988","Ж",1,{"$f":"100-((L1597-1)/F1597)*100","v":100},{"$f":"ROUND(SQRT(D1597)*M1597,2)","v":757.89}]
[{"$f":"$A$1211","v":"Жук-трейл #8 Логойск"},{"$f":"$B$1597","v":"Трейл 42"},"Жук-трейл #8 Логойск Трейл 42",{"$f":"VLOOKUP(C1598,Гонки!$E$1:$N$28,10,FALSE)","v":57.440000000000005},"Ж",{"$f":"IF(E1598=\"Ж\",VLOOKUP(C1598,Гонки!$E$2:$P$28,11,FALSE),VLOOKUP(C1598,Гонки!$E$2:$P$28,12,FALSE))","v":6},"Торубарова Татьяна",1983,"Torubarova Tatyana","Торубарова Татьяна / Torubarova Tatyana / 1983","Ж",2,83.333333333333343,{"$f":"ROUND(SQRT(D1598)*M1598,2)","v":631.58000000000004}]
["Жук-трейл #8 Логойск",{"$f":"$B$1597","v":"Трейл 42"},"Жук-трейл #8 Логойск Трейл 42",{"$f":"VLOOKUP(C1599,Гонки!$E$1:$N$28,10,FALSE)","v":57.440000000000005},"Ж",{"$f":"IF(E1599=\"Ж\",VLOOKUP(C1599,Гонки!$E$2:$P$28,11,FALSE),VLOOKUP(C1599,Гонки!$E$2:$P$28,12,FALSE))","v":6},"Шкурко Людмила",1988,"Shkurko Lyudmila","Шкурко Людмила / Shkurko Lyudmila / 1988","Ж",3,66.666666666666671,505.26]
["Жук-трейл #8 Логойск","Трейл 42","Жук-трейл #8 Логойск Трейл 42",{"$f":"VLOOKUP(C1600,Гонки!$E$1:$N$28,10,FALSE)","v":57.440000000000005},"М",{"$f":"IF(E1600=\"Ж\",VLOOKUP(C1600,Гонки!$E$2:$P$28,11,FALSE),VLOOKUP(C1600,Гонки!$E$2:$P$28,12,FALSE))","v":22},"Мальков Валентин",1988,"Malkov Valentin","Мальков Валентин / Malkov Valentin / 1988","М",1,{"$f":"100-((L1600-1)/F1600)*100","v":100},{"$f":"ROUND(SQRT(D1600)*M1600,2)","v":757.89}]
["Жук-трейл #8 Логойск","Трейл 42","Жук-трейл #8 Логойск Трейл 42",{"$f":"VLOOKUP(C1601,Гонки!$E$1:$N$28,10,FALSE)","v":57.440000000000005},"М",{"$f":"IF(E1601=\"Ж\",VLOOKUP(C1601,Гонки!$E$2:$P$28,11,FALSE),VLOOKUP(C1601,Гонки!$E$2:$P$28,12,FALSE))","v":22},"Леонов Иван",1986,"Leonov Ivan","Леонов Иван / Leonov Ivan / 1986","М",2,95.454545454545453,723.44]
["Жук-трейл #8 Логойск","Трейл 42",{"$f":"CONCATENATE(A1602,\" \",B1602)","v":"Жук-трейл #8 Логойск Трейл 42"},{"$f":"VLOOKUP(C1602,Гонки!$E$1:$N$28,10,FALSE)","v":57.440000000000005},"М",{"$f":"IF(E1602=\"Ж\",VLOOKUP(C1602,Гонки!$E$2:$P$28,11,FALSE),VLOOKUP(C1602,Гонки!$E$2:$P$28,12,FALSE))","v":22},"Смолко Николай",1987,"Smolko Nikolaj","Смолко Николай / Smolko Nikolaj / 1987","М",3,90.909090909090907,688.99]
["Жук-трейл #8 Логойск","Трейл 42","Жук-трейл #8 Логойск Трейл 42",{"$f":"VLOOKUP(C1603,Гонки!$E$1:$N$28,10,FALSE)","v":57.440000000000005},"М",{"$f":"IF(E1603=\"Ж\",VLOOKUP(C1603,Гонки!$E$2:$P$28,11,FALSE),VLOOKUP(C1603,Гонки!$E$2:$P$28,12,FALSE))","v":22},"Синица Кирилл",1981,{"$f":"Translit(G1603)","v":"Sinitsa Kirill"},{"$f":"CONCATENATE(G1603,\" / \",I1603,\" / \",H1603)","v":"Синица Кирилл / Sinitsa Kirill / 1981"},"М",4,86.36363636363636,654.54]
["Жук-трейл #8 Логойск","Трейл 42","Жук-трейл #8 Логойск Трейл 42",{"$f":"VLOOKUP(C1604,Гонки!$E$1:$N$28,10,FALSE)","v":57.440000000000005},"М",{"$f":"IF(E1604=\"Ж\",VLOOKUP(C1604,Гонки!$E$2:$P$28,11,FALSE),VLOOKUP(C1604,Гонки!$E$2:$P$28,12,FALSE))","v":22},"Молочко Александр",1981,"Molochko Aleksandr","Молочко Александр / Molochko Aleksandr / 1981","М",5,81.818181818181813,620.09]
["Жук-трейл #8 Логойск","Трейл 42","Жук-трейл #8 Логойск Трейл 42",{"$f":"VLOOKUP(C1605,Гонки!$E$1:$N$28,10,FALSE)","v":57.440000000000005},"М",{"$f":"IF(E1605=\"Ж\",VLOOKUP(C1605,Гонки!$E$2:$P$28,11,FALSE),VLOOKUP(C1605,Гонки!$E$2:$P$28,12,FALSE))","v":22},"Шванц Алексей",1991,"Shvants Aleksej","Шванц Алексей / Shvants Aleksej / 1991","М",6,77.27272727272728,585.64]
["Жук-трейл #8 Логойск","Трейл 42","Жук-трейл #8 Логойск Трейл 42",{"$f":"VLOOKUP(C1606,Гонки!$E$1:$N$28,10,FALSE)","v":57.440000000000005},"М",{"$f":"IF(E1606=\"Ж\",VLOOKUP(C1606,Гонки!$E$2:$P$28,11,FALSE),VLOOKUP(C1606,Гонки!$E$2:$P$28,12,FALSE))","v":22},"Хорошавин Вячеслав",1985,"Horoshavin Vyacheslav","Хорошавин Вячеслав / Horoshavin Vyacheslav / 1985","М",7,72.727272727272734,551.19000000000005]
["Жук-трейл #8 Логойск","Трейл 42","Жук-трейл #8 Логойск Трейл 42",{"$f":"VLOOKUP(C1607,Гонки!$E$1:$N$28,10,FALSE)","v":57.440000000000005},"М",{"$f":"IF(E1607=\"Ж\",VLOOKUP(C1607,Гонки!$E$2:$P$28,11,FALSE),VLOOKUP(C1607,Гонки!$E$2:$P$28,12,FALSE))","v":22},"Попов Юрий",1969,"Popov Yurij","Попов Юрий / Popov Yurij / 1969","М",8,68.181818181818187,516.74]
["Жук-трейл #8 Логойск","Трейл 42","Жук-трейл #8 Логойск Трейл 42",{"$f":"VLOOKUP(C1608,Гонки!$E$1:$N$28,10,FALSE)","v":57.440000000000005},"М",{"$f":"IF(E1608=\"Ж\",VLOOKUP(C1608,Гонки!$E$2:$P$28,11,FALSE),VLOOKUP(C1608,Гонки!$E$2:$P$28,12,FALSE))","v":22},"Середа Александр",1986,"Sereda Aleksandr","Середа Александр / Sereda Aleksandr / 1986","М",9,63.636363636363633,482.29]
["Жук-трейл #8 Логойск","Трейл 42","Жук-трейл #8 Логойск Трейл 42",{"$f":"VLOOKUP(C1609,Гонки!$E$1:$N$28,10,FALSE)","v":57.440000000000005},"М",{"$f":"IF(E1609=\"Ж\",VLOOKUP(C1609,Гонки!$E$2:$P$28,11,FALSE),VLOOKUP(C1609,Гонки!$E$2:$P$28,12,FALSE))","v":22},"Остапов Владимир",1977,"Ostapov Vladimir","Остапов Владимир / Ostapov Vladimir / 1977","М",10,59.090909090909086,447.85]
["Жук-трейл #8 Логойск","Трейл 42","Жук-трейл #8 Логойск Трейл 42",{"$f":"VLOOKUP(C1610,Гонки!$E$1:$N$28,10,FALSE)","v":57.440000000000005},"М",{"$f":"IF(E1610=\"Ж\",VLOOKUP(C1610,Гонки!$E$2:$P$28,11,FALSE),VLOOKUP(C1610,Гонки!$E$2:$P$28,12,FALSE))","v":22},"Лавник Игорь",1983,"Lavnik Igor","Лавник Игорь / Lavnik Igor / 1983","М",11,54.545454545454547,413.4]
["Жук-трейл #8 Логойск","Трейл 42","Жук-трейл #8 Логойск Трейл 42",{"$f":"VLOOKUP(C1611,Гонки!$E$1:$N$28,10,FALSE)","v":57.440000000000005},"М",{"$f":"IF(E1611=\"Ж\",VLOOKUP(C1611,Гонки!$E$2:$P$28,11,FALSE),VLOOKUP(C1611,Гонки!$E$2:$P$28,12,FALSE))","v":22},"Тюев Даниил",1977,"Tyuev Daniil","Тюев Даниил / Tyuev Daniil / 1977","М",12,50,378.95]
["Жук-трейл #8 Логойск",{"$f":"Гонки!D28","v":"Ночной 10"},"Жук-трейл #8 Логойск Ночной 10",{"$f":"VLOOKUP(C1612,Гонки!$E$1:$N$28,10,FALSE)","v":15.360000000000001},"Ж",{"$f":"IF(E1612=\"Ж\",VLOOKUP(C1612,Гонки!$E$2:$P$28,11,FALSE),VLOOKUP(C1612,Гонки!$E$2:$P$28,12,FALSE))","v":5},"Гилевич Кристина",1994,"Gilevich Kristina","Гилевич Кристина / Gilevich Kristina / 1994","Ж",1,{"$f":"100-((L1612-1)/F1612)*100","v":100},{"$f":"ROUND(SQRT(D1612)*M1612,2)","v":391.92}]
["Жук-трейл #8 Логойск",{"$f":"$B$1612","v":"Ночной 10"},"Жук-трейл #8 Логойск Ночной 10",{"$f":"VLOOKUP(C1613,Гонки!$E$1:$N$28,10,FALSE)","v":15.360000000000001},"Ж",{"$f":"IF(E1613=\"Ж\",VLOOKUP(C1613,Гонки!$E$2:$P$28,11,FALSE),VLOOKUP(C1613,Гонки!$E$2:$P$28,12,FALSE))","v":5},"Марозик Юлия",1993,"Marozik Yuliya","Марозик Юлия / Marozik Yuliya / 1993","Ж",2,80,313.52999999999997]
["Жук-трейл #8 Логойск",{"$f":"$B$1612","v":"Ночной 10"},"Жук-трейл #8 Логойск Ночной 10",{"$f":"VLOOKUP(C1614,Гонки!$E$1:$N$28,10,FALSE)","v":15.360000000000001},"Ж",{"$f":"IF(E1614=\"Ж\",VLOOKUP(C1614,Гонки!$E$2:$P$28,11,FALSE),VLOOKUP(C1614,Гонки!$E$2:$P$28,12,FALSE))","v":5},"Королёва Виктория",1977,"Koroljova Viktoriya","Королёва Виктория / Koroljova Viktoriya / 1977","Ж",3,60,235.15]
["Жук-трейл #8 Логойск","Ночной 10","Жук-трейл #8 Логойск Ночной 10",{"$f":"VLOOKUP(C1615,Гонки!$E$1:$N$28,10,FALSE)","v":15.360000000000001},"Ж",{"$f":"IF(E1615=\"Ж\",VLOOKUP(C1615,Гонки!$E$2:$P$28,11,FALSE),VLOOKUP(C1615,Гонки!$E$2:$P$28,12,FALSE))","v":5},"Кукса Юлия",1978,"Kuksa Yuliya","Кукса Юлия / Kuksa Yuliya / 1978","Ж",4,40,156.77000000000001]
["Жук-трейл #8 Логойск","Ночной 10","Жук-трейл #8 Логойск Ночной 10",{"$f":"VLOOKUP(C1616,Гонки!$E$1:$N$28,10,FALSE)","v":15.360000000000001},"Ж",{"$f":"IF(E1616=\"Ж\",VLOOKUP(C1616,Гонки!$E$2:$P$28,11,FALSE),VLOOKUP(C1616,Гонки!$E$2:$P$28,12,FALSE))","v":5},"Стракович Екатерина",1991,"Strakovich Ekaterina","Стракович Екатерина / Strakovich Ekaterina / 1991","Ж",5,20,78.38]
["Жук-трейл #8 Логойск","Ночной 10","Жук-трейл #8 Логойск Ночной 10",{"$f":"VLOOKUP(C1617,Гонки!$E$1:$N$28,10,FALSE)","v":15.360000000000001},"М",{"$f":"IF(E1617=\"Ж\",VLOOKUP(C1617,Гонки!$E$2:$P$28,11,FALSE),VLOOKUP(C1617,Гонки!$E$2:$P$28,12,FALSE))","v":30},"Совпель Максим",1993,"Sovpel Maksim","Совпель Максим / Sovpel Maksim / 1993","М",1,{"$f":"100-((L1617-1)/F1617)*100","v":100},{"$f":"ROUND(SQRT(D1617)*M1617,2)","v":391.92}]
["Жук-трейл #8 Логойск","Ночной 10","Жук-трейл #8 Логойск Ночной 10",{"$f":"VLOOKUP(C1618,Гонки!$E$1:$N$28,10,FALSE)","v":15.360000000000001},"М",{"$f":"IF(E1618=\"Ж\",VLOOKUP(C1618,Гонки!$E$2:$P$28,11,FALSE),VLOOKUP(C1618,Гонки!$E$2:$P$28,12,FALSE))","v":30},"Березовский Андрей",1973,"Berezovskij Andrej","Березовский Андрей / Berezovskij Andrej / 1973","М",2,96.666666666666671,378.85]
["Жук-трейл #8 Логойск","Ночной 10","Жук-трейл #8 Логойск Ночной 10",{"$f":"VLOOKUP(C1619,Гонки!$E$1:$N$28,10,FALSE)","v":15.360000000000001},"М",{"$f":"IF(E1619=\"Ж\",VLOOKUP(C1619,Гонки!$E$2:$P$28,11,FALSE),VLOOKUP(C1619,Гонки!$E$2:$P$28,12,FALSE))","v":30},"Селютин Владимир",1990,"Selyutin Vladimir","Селютин Владимир / Selyutin Vladimir / 1990","М",3,93.333333333333329,365.79]
["Жук-трейл #8 Логойск","Ночной 10","Жук-трейл #8 Логойск Ночной 10",{"$f":"VLOOKUP(C1620,Гонки!$E$1:$N$28,10,FALSE)","v":15.360000000000001},"М",{"$f":"IF(E1620=\"Ж\",VLOOKUP(C1620,Гонки!$E$2:$P$28,11,FALSE),VLOOKUP(C1620,Гонки!$E$2:$P$28,12,FALSE))","v":30},"Брытько Роман",1995,"Brytko Roman","Брытько Роман / Brytko Roman / 1995",{"$f":"E1620","v":"М"},4,90,352.73]
["Жук-трейл #8 Логойск","Ночной 10","Жук-трейл #8 Логойск Ночной 10",{"$f":"VLOOKUP(C1621,Гонки!$E$1:$N$28,10,FALSE)","v":15.360000000000001},"М",{"$f":"IF(E1621=\"Ж\",VLOOKUP(C1621,Гонки!$E$2:$P$28,11,FALSE),VLOOKUP(C1621,Гонки!$E$2:$P$28,12,FALSE))","v":30},"Чабор Максим",1991,"Chabor Maksim","Чабор Максим / Chabor Maksim / 1991","М",5,86.666666666666671,339.66]
["Жук-трейл #8 Логойск","Ночной 10","Жук-трейл #8 Логойск Ночной 10",{"$f":"VLOOKUP(C1622,Гонки!$E$1:$N$28,10,FALSE)","v":15.360000000000001},"М",{"$f":"IF(E1622=\"Ж\",VLOOKUP(C1622,Гонки!$E$2:$P$28,11,FALSE),VLOOKUP(C1622,Гонки!$E$2:$P$28,12,FALSE))","v":30},"Лойко Сергей",1985,"Lojko Sergej","Лойко Сергей / Lojko Sergej / 1985","М",6,83.333333333333343,326.60000000000002]
["Жук-трейл #8 Логойск","Ночной 10","Жук-трейл #8 Логойск Ночной 10",{"$f":"VLOOKUP(C1623,Гонки!$E$1:$N$28,10,FALSE)","v":15.360000000000001},"М",{"$f":"IF(E1623=\"Ж\",VLOOKUP(C1623,Гонки!$E$2:$P$28,11,FALSE),VLOOKUP(C1623,Гонки!$E$2:$P$28,12,FALSE))","v":30},"Ключеня Виталий",1982,"Klyuchenya Vitalij","Ключеня Виталий / Klyuchenya Vitalij / 1982","М",7,80,313.52999999999997]
["Жук-трейл #8 Логойск","Ночной 10","Жук-трейл #8 Логойск Ночной 10",{"$f":"VLOOKUP(C1624,Гонки!$E$1:$N$28,10,FALSE)","v":15.360000000000001},"М",{"$f":"IF(E1624=\"Ж\",VLOOKUP(C1624,Гонки!$E$2:$P$28,11,FALSE),VLOOKUP(C1624,Гонки!$E$2:$P$28,12,FALSE))","v":30},"Вадим Лукин",1993,"Vadim Lukin","Вадим Лукин / Vadim Lukin / 1993","М",8,76.666666666666671,300.47000000000003]
["Жук-трейл #8 Логойск","Ночной 10","Жук-трейл #8 Логойск Ночной 10",{"$f":"VLOOKUP(C1625,Гонки!$E$1:$N$28,10,FALSE)","v":15.360000000000001},"М",{"$f":"IF(E1625=\"Ж\",VLOOKUP(C1625,Гонки!$E$2:$P$28,11,FALSE),VLOOKUP(C1625,Гонки!$E$2:$P$28,12,FALSE))","v":30},"Саскевич Алексей",1992,"Saskevich Aleksej","Саскевич Алексей / Saskevich Aleksej / 1992","М",9,73.333333333333329,287.41000000000003]
["Жук-трейл #8 Логойск","Ночной 10","Жук-трейл #8 Логойск Ночной 10",{"$f":"VLOOKUP(C1626,Гонки!$E$1:$N$28,10,FALSE)","v":15.360000000000001},"М",{"$f":"IF(E1626=\"Ж\",VLOOKUP(C1626,Гонки!$E$2:$P$28,11,FALSE),VLOOKUP(C1626,Гонки!$E$2:$P$28,12,FALSE))","v":30},"Скадорва Алексей",1994,"Skadorva Aleksej","Скадорва Алексей / Skadorva Aleksej / 1994","М",10,70,274.33999999999997]
["Жук-трейл #8 Логойск","Ночной 10","Жук-трейл #8 Логойск Ночной 10",{"$f":"VLOOKUP(C1627,Гонки!$E$1:$N$28,10,FALSE)","v":15.360000000000001},"М",{"$f":"IF(E1627=\"Ж\",VLOOKUP(C1627,Гонки!$E$2:$P$28,11,FALSE),VLOOKUP(C1627,Гонки!$E$2:$P$28,12,FALSE))","v":30},"Бобровский Максим",1991,"Bobrovskij Maksim","Бобровский Максим / Bobrovskij Maksim / 1991","М",11,66.666666666666671,261.27999999999997]
["Жук-трейл #8 Логойск","Ночной 10","Жук-трейл #8 Логойск Ночной 10",{"$f":"VLOOKUP(C1628,Гонки!$E$1:$N$28,10,FALSE)","v":15.360000000000001},"М",{"$f":"IF(E1628=\"Ж\",VLOOKUP(C1628,Гонки!$E$2:$P$28,11,FALSE),VLOOKUP(C1628,Гонки!$E$2:$P$28,12,FALSE))","v":30},"Осипук Дмитрий",1980,"Osipuk Dmitrij","Осипук Дмитрий / Osipuk Dmitrij / 1980","М",12,63.333333333333336,248.21]
["Жук-трейл #8 Логойск","Ночной 10","Жук-трейл #8 Логойск Ночной 10",{"$f":"VLOOKUP(C1629,Гонки!$E$1:$N$28,10,FALSE)","v":15.360000000000001},"М",{"$f":"IF(E1629=\"Ж\",VLOOKUP(C1629,Гонки!$E$2:$P$28,11,FALSE),VLOOKUP(C1629,Гонки!$E$2:$P$28,12,FALSE))","v":30},"Харитонов Илья",1973,"Haritonov Ilya","Харитонов Илья / Haritonov Ilya / 1973","М",13,60,235.15]
["Жук-трейл #8 Логойск","Ночной 10","Жук-трейл #8 Логойск Ночной 10",{"$f":"VLOOKUP(C1630,Гонки!$E$1:$N$28,10,FALSE)","v":15.360000000000001},"М",{"$f":"IF(E1630=\"Ж\",VLOOKUP(C1630,Гонки!$E$2:$P$28,11,FALSE),VLOOKUP(C1630,Гонки!$E$2:$P$28,12,FALSE))","v":30},"Синица Кирилл",1981,"Sinitsa Kirill","Синица Кирилл / Sinitsa Kirill / 1981","М",13,60,235.15]
["Жук-трейл #8 Логойск","Ночной 10","Жук-трейл #8 Логойск Ночной 10",{"$f":"VLOOKUP(C1631,Гонки!$E$1:$N$28,10,FALSE)","v":15.360000000000001},"М",{"$f":"IF(E1631=\"Ж\",VLOOKUP(C1631,Гонки!$E$2:$P$28,11,FALSE),VLOOKUP(C1631,Гонки!$E$2:$P$28,12,FALSE))","v":30},"Фалинский Кирилл",1983,"Falinskij Kirill","Фалинский Кирилл / Falinskij Kirill / 1983","М",15,53.333333333333336,209.02]
["Жук-трейл #8 Логойск","Ночной 10","Жук-трейл #8 Логойск Ночной 10",{"$f":"VLOOKUP(C1632,Гонки!$E$1:$N$28,10,FALSE)","v":15.360000000000001},"М",{"$f":"IF(E1632=\"Ж\",VLOOKUP(C1632,Гонки!$E$2:$P$28,11,FALSE),VLOOKUP(C1632,Гонки!$E$2:$P$28,12,FALSE))","v":30},"Казарин Дмитрий",1994,"Kazarin Dmitrij","Казарин Дмитрий / Kazarin Dmitrij / 1994","М",16,50,195.96]
["Жук-трейл #8 Логойск","Ночной 10","Жук-трейл #8 Логойск Ночной 10",{"$f":"VLOOKUP(C1633,Гонки!$E$1:$N$28,10,FALSE)","v":15.360000000000001},"М",{"$f":"IF(E1633=\"Ж\",VLOOKUP(C1633,Гонки!$E$2:$P$28,11,FALSE),VLOOKUP(C1633,Гонки!$E$2:$P$28,12,FALSE))","v":30},"Татарицкий Виталий",1971,"Tataritskij Vitalij","Татарицкий Виталий / Tataritskij Vitalij / 1971","М",17,46.666666666666664,182.9]
["Жук-трейл #8 Логойск","Ночной 10","Жук-трейл #8 Логойск Ночной 10",{"$f":"VLOOKUP(C1634,Гонки!$E$1:$N$28,10,FALSE)","v":15.360000000000001},"М",{"$f":"IF(E1634=\"Ж\",VLOOKUP(C1634,Гонки!$E$2:$P$28,11,FALSE),VLOOKUP(C1634,Гонки!$E$2:$P$28,12,FALSE))","v":30},"Бегун Егор",1988,"Begun Egor","Бегун Егор / Begun Egor / 1988","М",18,43.333333333333336,169.83]
["Жук-трейл #8 Логойск","Ночной 10","Жук-трейл #8 Логойск Ночной 10",{"$f":"VLOOKUP(C1635,Гонки!$E$1:$N$28,10,FALSE)","v":15.360000000000001},"М",{"$f":"IF(E1635=\"Ж\",VLOOKUP(C1635,Гонки!$E$2:$P$28,11,FALSE),VLOOKUP(C1635,Гонки!$E$2:$P$28,12,FALSE))","v":30},"Круглик Алексей",1987,"Kruglik Aleksej","Круглик Алексей / Kruglik Aleksej / 1987","М",19,40,156.77000000000001]
["Жук-трейл #8 Логойск","Ночной 10","Жук-трейл #8 Логойск Ночной 10",{"$f":"VLOOKUP(C1636,Гонки!$E$1:$N$28,10,FALSE)","v":15.360000000000001},"М",{"$f":"IF(E1636=\"Ж\",VLOOKUP(C1636,Гонки!$E$2:$P$28,11,FALSE),VLOOKUP(C1636,Гонки!$E$2:$P$28,12,FALSE))","v":30},"Шевченко Анатолий",1981,"Shevchenko Anatolij","Шевченко Анатолий / Shevchenko Anatolij / 1981","М",20,36.666666666666671,143.69999999999999]
["Жук-трейл #8 Логойск","Ночной 10","Жук-трейл #8 Логойск Ночной 10",{"$f":"VLOOKUP(C1637,Гонки!$E$1:$N$28,10,FALSE)","v":15.360000000000001},"М",{"$f":"IF(E1637=\"Ж\",VLOOKUP(C1637,Гонки!$E$2:$P$28,11,FALSE),VLOOKUP(C1637,Гонки!$E$2:$P$28,12,FALSE))","v":30},"Колабышев Антон",1986,"Kolabyshev Anton","Колабышев Антон / Kolabyshev Anton / 1986","М",21,33.333333333333343,130.63999999999999]
["Жук-трейл #8 Логойск","Ночной 10","Жук-трейл #8 Логойск Ночной 10",{"$f":"VLOOKUP(C1638,Гонки!$E$1:$N$28,10,FALSE)","v":15.360000000000001},"М",{"$f":"IF(E1638=\"Ж\",VLOOKUP(C1638,Гонки!$E$2:$P$28,11,FALSE),VLOOKUP(C1638,Гонки!$E$2:$P$28,12,FALSE))","v":30},"Молочко Александр",1981,"Molochko Aleksandr","Молочко Александр / Molochko Aleksandr / 1981","М",22,30,117.58]
["Жук-трейл #8 Логойск","Ночной 10","Жук-трейл #8 Логойск Ночной 10",{"$f":"VLOOKUP(C1639,Гонки!$E$1:$N$28,10,FALSE)","v":15.360000000000001},"М",{"$f":"IF(E1639=\"Ж\",VLOOKUP(C1639,Гонки!$E$2:$P$28,11,FALSE),VLOOKUP(C1639,Гонки!$E$2:$P$28,12,FALSE))","v":30},"Палий Андрей",1984,"Palij Andrej","Палий Андрей / Palij Andrej / 1984","М",23,26.666666666666671,104.51]
["Жук-трейл #8 Логойск","Ночной 10","Жук-трейл #8 Логойск Ночной 10",{"$f":"VLOOKUP(C1640,Гонки!$E$1:$N$28,10,FALSE)","v":15.360000000000001},"М",{"$f":"IF(E1640=\"Ж\",VLOOKUP(C1640,Гонки!$E$2:$P$28,11,FALSE),VLOOKUP(C1640,Гонки!$E$2:$P$28,12,FALSE))","v":30},"Артихович Александр",1972,"Artihovich Aleksandr","Артихович Александр / Artihovich Aleksandr / 1972","М",24,23.333333333333329,91.45]
["Жук-трейл #8 Логойск","Ночной 10","Жук-трейл #8 Логойск Ночной 10",{"$f":"VLOOKUP(C1641,Гонки!$E$1:$N$28,10,FALSE)","v":15.360000000000001},"М",{"$f":"IF(E1641=\"Ж\",VLOOKUP(C1641,Гонки!$E$2:$P$28,11,FALSE),VLOOKUP(C1641,Гонки!$E$2:$P$28,12,FALSE))","v":30},"Жидович Вадим",1984,"Zhidovich Vadim","Жидович Вадим / Zhidovich Vadim / 1984","М",25,20,78.38]
["Жук-трейл #8 Логойск","Ночной 10","Жук-трейл #8 Логойск Ночной 10",{"$f":"VLOOKUP(C1642,Гонки!$E$1:$N$28,10,FALSE)","v":15.360000000000001},"М",{"$f":"IF(E1642=\"Ж\",VLOOKUP(C1642,Гонки!$E$2:$P$28,11,FALSE),VLOOKUP(C1642,Гонки!$E$2:$P$28,12,FALSE))","v":30},"Бубликов Александр",1986,"Bublikov Aleksandr","Бубликов Александр / Bublikov Aleksandr / 1986","М",26,16.666666666666657,65.319999999999993]
["Жук-трейл #8 Логойск","Ночной 10","Жук-трейл #8 Логойск Ночной 10",{"$f":"VLOOKUP(C1643,Гонки!$E$1:$N$28,10,FALSE)","v":15.360000000000001},"М",{"$f":"IF(E1643=\"Ж\",VLOOKUP(C1643,Гонки!$E$2:$P$28,11,FALSE),VLOOKUP(C1643,Гонки!$E$2:$P$28,12,FALSE))","v":30},"Голомзик Дмитрий",1972,"Golomzik Dmitrij","Голомзик Дмитрий / Golomzik Dmitrij / 1972","М",27,13.333333333333329,52.26]
["Жук-трейл #8 Логойск","Ночной 10","Жук-трейл #8 Логойск Ночной 10",{"$f":"VLOOKUP(C1644,Гонки!$E$1:$N$28,10,FALSE)","v":15.360000000000001},"М",{"$f":"IF(E1644=\"Ж\",VLOOKUP(C1644,Гонки!$E$2:$P$28,11,FALSE),VLOOKUP(C1644,Гонки!$E$2:$P$28,12,FALSE))","v":30},"Черкас Сергей",1985,"Cherkas Sergej","Черкас Сергей / Cherkas Sergej / 1985","М",28,10,39.19]
["Жук-трейл #8 Логойск","Ночной 10","Жук-трейл #8 Логойск Ночной 10",{"$f":"VLOOKUP(C1645,Гонки!$E$1:$N$28,10,FALSE)","v":15.360000000000001},"М",{"$f":"IF(E1645=\"Ж\",VLOOKUP(C1645,Гонки!$E$2:$P$28,11,FALSE),VLOOKUP(C1645,Гонки!$E$2:$P$28,12,FALSE))","v":30},"Кузьмич Дмитрий",1975,"Kuzmich Dmitrij","Кузьмич Дмитрий / Kuzmich Dmitrij / 1975","М",29,6.6666666666666714,26.13]

{"sheet":"Личн рез-ты алфавит","index":3,"n_rows":1016,"n_cols":29,"rows_kept":1016,"cut":false,"hidden":false,"merged":[]}
[]
[]
["Сумма по полю личный рез-т соревнований","Названия столбцов"]
["Названия строк","\"Налибоки 2018\" Трейл 100","\"Налибоки 2018\" Трейл 21","\"Налибоки 2018\" Трейл 42","Дорога замков Трейл 10","Дорога замков Трейл 21","Дорога замков Трейл 42","Дорога замков Ультра-Трейл 100","Жук-трейл # 4 Минское Море  Трейл 16","Жук-трейл # 4 Минское Море  Трейл 25","Жук-трейл # 4 Минское Море  Трейл 8","Жук-трейл # 5 Крево Трейл 10","Жук-трейл # 5 Крево Трейл 21","Жук-трейл # 5 Крево Трейл 45","Жук-трейл # 5 Крево Трейл 70","Жук-трейл #6 Купалье Трейл 10","Жук-трейл #6 Купалье Трейл 21","Жук-трейл #6 Купалье Трейл 5","Жук-трейл #7 Раубичи Трейл 10","Жук-трейл #7 Раубичи Трейл 21","Жук-трейл #7 Раубичи Трейл 5","Жук-трейл #8 Логойск Ночной 10","Жук-трейл #8 Логойск Трейл 10","Жук-трейл #8 Логойск Трейл 21","Жук-трейл #8 Логойск Трейл 42","Жук-трейл #8 Логойск Трейл 5","Зима минус 100 Трейл 100","Зима минус 100 Трейл 50","Общий итог"]
["Ben Bilel / Ben Bilel / 1981",null,null,null,null,null,null,null,null,null,null,null,null,71.430000000000007,null,null,null,null,null,null,null,null,null,null,null,null,null,null,71.430000000000007]
["McTavish John / McTavish John / 1987",null,null,null,null,null,null,null,null,null,null,null,null,null,null,null,null,null,null,303.51,null,null,null,508.07,null,null,null,null,811.57999999999993]
["Tan Burak / Tan Burak / 1983",null,null,null,192.48,null,null,null,null,null,null,null,null,null,null,null,null,null,null,null,null,null,213.77,null,null,null,null,null,406.25]
["user 4931 dan / user 4931 dan / 1989",null,null,null,null,null,null,null,null,null,null,null,null,null,null,null,null,null,null,null,null,null,223.95,null,null,null,null,null,223.95]
["Абаркина Елена / Abarkina Elena / 1983",null,null,null,29.67,null,null,null,null,null,null,null,null,null,null,null,null,110.65,null,null,null,null,null,null,null,null,null,null,140.32]
["Авсянский Федор / Avsyanskij Fedor / 1988",null,null,null,null,null,null,null,null,null,null,null,null,null,null,null,null,null,null,null,null,null,83.98,null,null,null,null,null,83.98]
["Агаев Руслан / Agaev Ruslan / 1995",null,null,null,null,null,null,null,null,null,null,null,null,null,null,137.66999999999999,null,null,null,null,null,null,null,null,null,null,null,null,137.66999999999999]
["Агеев Константин / Ageev Konstantin / 1995",null,null,null,null,null,null,null,null,null,null,null,null,null,null,null,null,null,null,null,null,null,null,303.52,null,null,null,null,303.52]
["Агеева Катерина / Ageeva Katerina / 1986",null,null,null,null,null,null,null,null,null,null,null,null,null,null,null,null,null,null,null,null,null,37.33,null,null,null,null,null,37.33]
["Адаменко Виталий / Adamenko Vitalij / 1985",null,null,null,null,null,null,null,null,null,null,26.61,null,null,null,null,null,null,null,null,18.86,null,null,null,null,48.44,null,null,93.91]
["Адамов Юрий / Adamov Yurij / 1976",null,null,null,null,null,null,null,null,null,null,null,null,null,null,null,null,null,null,null,null,null,null,null,null,42.39,null,null,42.39]
["Адамович Денис / Adamovich Denis / 1986",null,null,null,null,null,null,null,null,null,null,null,null,null,null,null,null,null,null,null,null,null,99.25,null,null,null,null,null,99.25]
["Адамович Ирина / Adamovich Irina / 1973",null,425.25,null,null,null,null,null,null,null,null,null,null,null,null,null,null,null,null,283.27999999999997,null,null,null,null,null,null,null,null,708.53]
["Адасик Вячеслав / Adasik Vyacheslav / 1975",null,null,null,null,null,null,null,null,null,null,null,null,null,null,null,null,null,null,null,null,null,null,270.52999999999997,null,null,null,null,270.52999999999997]
["Акулич Владимир / Akulich Vladimir / 1986",null,null,null,279.10000000000002,null,null,null,null,null,null,null,null,null,null,null,null,null,null,null,null,null,307.94,null,null,null,null,null,587.04]
["Акулова Виктория / Akulova Viktoriya / 1980",null,null,null,null,null,null,null,null,null,null,null,null,null,null,null,null,null,null,null,null,null,null,null,null,153.27000000000001,null,null,153.27000000000001]
["Александрова Дарья / Aleksandrova Darya / 1995",null,null,null,296.74,null,null,null,null,null,null,null,null,null,null,null,null,null,null,null,null,null,null,null,null,null,null,null,296.74]
["Александронец Ганна / Aleksandronets Ganna / 1991",null,null,null,null,68.14,null,null,null,null,null,null,null,null,null,null,null,null,null,null,null,null,null,null,null,null,null,null,68.14]
["Алексеев Алексей / Alekseev Aleksej / 1980",null,null,null,null,401.56,null,null,null,331.78,null,null,null,500,null,null,225.4,null,null,null,null,null,259.58,null,null,null,null,null,1718.32]
["Алексейчик Павел / Aleksejchik Pavel / 1994",null,null,null,null,null,null,null,null,null,null,null,null,null,null,null,null,null,null,null,null,null,244.31,null,null,null,null,null,244.31]
["Аленова Анастасия / Alenova Anastasiya / 1993",null,null,null,null,null,null,null,null,null,null,null,null,null,null,null,null,null,null,null,null,null,null,null,null,238.43,null,null,238.43]
["Алесиюк Татьяна / Alesiyuk Tatyana / 1987",null,null,null,null,null,null,null,null,null,null,null,null,null,null,null,null,null,null,null,null,null,242.62,null,null,null,null,null,242.62]
["Ананич Александр / Ananich Aleksandr / 1979",null,null,null,null,null,null,null,null,null,null,null,null,null,null,null,null,null,null,null,null,null,null,null,null,null,null,108.37,108.37]
["Анацко Леонид / Anatsko Leonid / 1961",null,null,null,null,null,null,null,null,null,null,null,null,null,298.16000000000003,null,14.39,null,null,null,null,null,null,null,null,null,null,null,312.55]
["Андрюшенко Андрей / Andryushenko Andrej / 1980",null,null,null,null,null,null,null,null,null,null,null,null,null,null,null,null,null,null,null,null,null,94.16,null,null,null,null,null,94.16]
["Андуро Сергей / Anduro Sergej / 1986",null,null,null,null,null,null,null,null,null,null,null,307.23,null,null,null,null,null,null,null,null,null,null,null,null,null,null,null,307.23]
["Аноничев Александр / Anonichev Aleksandr / 1982",null,null,null,null,null,null,null,null,null,null,null,null,null,null,null,369.28,null,null,null,null,null,null,null,null,null,null,null,369.28]
["Антонова Мария  / Antonova Mariya  / 1980",null,null,null,118.7,null,null,null,null,null,null,null,null,null,null,null,null,null,null,null,null,null,null,null,null,null,null,null,118.7]
["Арабиенко Татьяна / Arabienko Tatyana / 1986",null,null,609,null,null,null,null,null,null,null,null,null,null,null,null,null,null,null,null,null,null,null,null,null,null,null,null,609]
["Аржаников Евгений / Arzhanikov Evgenij / 1976",null,263.79000000000002,null,null,null,null,null,85.78,null,null,null,153.61000000000001,null,null,null,null,null,null,null,null,null,null,null,null,null,null,null,503.18000000000006]
["Арзамасов Илья / Arzamasov Ilya / 1987",null,null,null,null,null,637.16,null,null,null,null,null,null,null,null,null,null,null,null,null,null,null,null,null,null,null,null,null,637.16]
["Арловская Кристина / Arlovskaya Kristina / 1989",null,null,null,null,null,null,null,null,null,null,null,230.42,null,null,null,null,null,null,null,null,null,null,null,null,null,null,263.17,493.59000000000003]
["Артихович Александр / Artihovich Aleksandr / 1972",null,null,null,null,null,null,null,null,null,null,null,null,null,null,71.39,null,null,null,null,null,91.45,114.52,null,null,null,null,null,277.36]
["Асаевич Роман / Asaevich Roman / 1964",null,null,351.08,null,null,null,null,null,null,null,null,null,null,null,null,null,null,null,null,null,null,null,null,null,null,null,null,351.08]
["Астапеня Андрей / Astapenya Andrej / 1985",null,null,null,null,null,null,null,null,null,null,null,null,null,null,null,null,null,null,null,null,null,287.58,null,null,null,null,null,287.58]
["Астапов Владимир / Astapov Vladimir / 1977",375.97,null,null,null,null,483.36,null,null,null,null,null,null,null,null,null,null,null,null,null,null,null,null,null,null,null,null,null,859.33]
["Афанасьев Иван / Afanasev Ivan / 1979",null,null,null,null,null,null,null,null,null,null,null,null,null,null,305.94,null,null,null,null,null,null,null,null,null,null,null,null,305.94]
["Бабицкий Кирилл / Babitskij Kirill / 1998",null,null,null,null,null,null,null,null,null,null,null,null,null,null,null,null,null,null,null,null,null,null,null,null,null,null,628.52,628.52]
["Бабич Виталий / Babich Vitalij / 1981",null,345.66,null,null,null,null,null,null,null,null,null,null,null,null,null,null,null,null,null,null,null,null,null,null,null,null,null,345.66]
["Бажанский Виталий / Bazhanskij Vitalij / 1982",null,null,null,null,null,null,null,null,null,null,null,null,null,null,null,182.24,null,null,null,null,null,null,null,null,null,null,null,182.24]
["Балашов Никита / Balashov Nikita / 1983",null,409.34,null,null,null,null,null,null,null,null,null,null,null,null,null,null,null,272.73,null,null,null,null,null,null,null,null,null,682.06999999999994]
["Балицкая Ольга / Balitskaya Olga / 1981",null,null,null,null,null,null,null,null,null,null,null,null,null,null,null,null,null,null,null,null,null,null,null,null,272.49,null,null,272.49]
["Барановский Александр / Baranovskij Aleksandr / 1984",null,null,null,null,null,null,null,null,null,null,null,null,null,null,null,null,null,300,null,null,null,null,null,null,null,null,null,300]
["Барановский Алексей / Baranovskij Aleksej / 1981",null,null,null,null,null,461.39,null,null,null,null,null,null,null,null,null,158.26,null,null,null,null,null,null,null,null,null,null,null,619.65]
["Баронов Роман / Baronov Roman / 1993",null,null,null,null,null,null,null,null,null,null,306.02999999999997,null,null,null,224.36,null,null,null,null,null,null,null,null,null,null,null,null,530.39]
["Барсумян Артур / Barsumyan Artur / 1992",null,null,null,null,null,null,null,null,null,189.05,null,null,null,null,null,null,null,null,null,null,null,null,null,null,null,null,null,189.05]
["Бахтизин Павел / Bahtizin Pavel / 1980",null,null,null,null,255.54,null,null,null,null,null,null,null,null,null,null,null,null,null,null,null,null,null,null,null,null,null,null,255.54]
["Бачища Николай / Bachischa Nikolaj / 1988",null,null,null,null,null,null,null,null,null,null,null,null,null,null,null,null,null,null,null,null,null,null,null,null,null,null,238.4,238.4]
["Беганский Иван  / Beganskij Ivan  / 1984",null,null,null,null,null,219.71,null,null,null,null,null,null,null,null,null,null,null,null,null,null,null,null,null,null,null,null,null,219.71]
["Бегун Егор / Begun Egor / 1988",null,null,null,250.23,null,null,null,null,null,null,232.85,null,null,null,null,null,null,null,null,null,169.83,282.49,null,null,null,null,null,935.4]
["Белая Юлия / Belaya Yuliya / 1988",null,null,664.36,null,136.29,null,null,null,375.87,null,null,null,null,null,null,274.05,null,null,null,null,null,null,null,null,null,null,null,1450.57]
["Белинская Галина / Belinskaya Galina / 1980",null,null,null,null,null,null,null,null,null,null,null,null,null,null,null,null,null,null,null,null,null,null,null,null,null,null,684.25,684.25]
["Белицкий Денис / Belitskij Denis / 1990",null,90.96,null,null,null,null,null,null,null,null,null,null,null,null,null,43.16,null,null,null,null,null,null,null,null,null,null,null,134.12]
["Белов Александр / Belov Aleksandr / 1991",null,null,null,null,null,null,null,null,null,null,null,null,null,null,null,null,null,null,null,null,null,178.14,null,null,null,null,null,178.14]
["Белоусов Александр / Belousov Aleksandr / 1981",null,null,null,null,null,null,null,null,null,null,null,null,null,null,132.57,null,null,null,null,null,null,null,null,null,null,null,null,132.57]
["Белоцкая Елена / Belotskaya Elena / 1987",null,null,null,null,null,null,null,null,null,116.01,null,null,null,null,null,null,null,null,null,null,null,null,null,null,null,null,null,116.01]
["Беляй Владимир / Belyaj Vladimir / 1989",null,null,null,null,null,null,null,null,null,null,null,null,null,null,null,null,null,null,null,null,null,null,null,null,260.38,null,null,260.38]
["Бердников Дмитрий / Berdnikov Dmitrij / ",null,null,null,null,null,null,null,null,null,null,null,null,null,null,66.290000000000006,null,null,null,null,null,null,null,null,null,null,null,null,66.290000000000006]
["Березин Артём / Berezin Artjom / 1986",null,null,null,null,null,null,null,null,null,null,null,null,null,null,null,148.66999999999999,null,null,182.11,null,null,null,null,null,null,null,null,330.78]
["Березовский Андрей / Berezovskij Andrej / 1973",null,null,null,null,null,null,null,null,465.77,null,null,null,null,null,null,297.33999999999997,null,null,376.36,null,378.85,null,null,null,null,null,693.54,2211.8599999999997]
["Бизюк Игорь / Bizyuk Igor / 1956",null,null,157.99,null,null,null,null,null,null,null,null,null,null,null,null,null,null,null,null,null,null,null,null,null,null,null,null,157.99]
["Бобровский Максим / Bobrovskij Maksim / 1991",null,null,null,null,null,null,null,null,null,null,null,null,null,null,null,null,null,null,null,null,261.27999999999997,null,null,null,null,null,null,261.27999999999997]
["Богачев Борис / Bogachev Boris / 1991",null,null,null,null,null,null,null,null,null,null,null,null,null,null,null,null,null,null,437.06,null,null,null,null,null,null,null,null,437.06]
["Богдевич Анатолий / Bogdevich Anatolij / 1999",null,null,null,null,null,null,null,null,null,null,null,null,null,null,234.55,null,null,null,null,null,null,null,null,null,null,null,null,234.55]
["Богомаз Владимир / Bogomaz Vladimir / 1982",null,null,null,null,null,null,null,null,null,null,null,null,null,null,null,null,null,null,null,null,null,null,455.28,null,null,null,null,455.28]
["Богомаз Екатерина / Bogomaz Ekaterina / 1981",null,null,null,null,null,null,null,null,null,null,null,null,null,null,null,null,null,null,null,null,null,null,null,null,107.86,null,null,107.86]
["Бойко Евгений / Bojko Evgenij / 1985",null,null,null,null,null,null,null,null,null,null,null,null,null,null,null,null,165.79,null,null,null,null,null,null,null,null,null,null,165.79]
["Бокунович Дмитрий  / Bokunovich Dmitrij  / 1982",null,null,null,null,392.43,null,null,null,null,null,null,null,null,null,null,null,null,null,null,null,null,null,null,null,null,null,null,392.43]
["Бокша Сергей / Boksha Sergej / 1988",null,null,null,null,null,null,null,null,319.02,null,null,null,null,null,null,null,null,null,133.55000000000001,null,null,null,null,null,null,null,null,452.57]
["Болотов Илья / Bolotov Ilya / 1988",null,null,null,null,null,null,null,null,null,null,null,null,null,null,null,null,null,null,null,null,null,127.25,null,null,null,null,null,127.25]
["Бондарь Юлия / Bondar Yuliya / 1993",null,275.16000000000003,null,null,null,null,null,null,null,null,null,null,null,null,null,null,null,null,null,null,null,null,null,null,null,null,null,275.16000000000003]
["Борздыко Виктория / Borzdyko Viktoriya / 1994",null,null,null,null,null,null,null,null,null,null,null,null,null,null,null,null,null,null,null,null,null,null,null,null,164.63,null,null,164.63]
["Борисевич Александр / Borisevich Aleksandr / 1989",null,218.31,null,null,null,null,null,null,null,null,null,null,null,null,null,124.69,null,null,null,null,null,null,null,null,null,null,null,343]
["Борисевич Анастасия / Borisevich Anastasiya / 1985",null,137.58000000000001,null,null,null,null,null,null,null,null,null,null,714.28,null,null,null,null,63.16,null,null,null,null,null,null,null,null,null,915.02]
["Борисевич Леонид / Borisevich Leonid / 1969",null,null,null,null,null,null,null,null,401.97,null,null,null,null,null,null,292.55,null,null,null,null,null,null,null,null,null,896.09,null,1590.6100000000001]
["Бортник Александр / Bortnik Aleksandr / 1994",null,null,null,null,null,null,null,null,null,null,139.71,null,null,null,null,null,null,null,null,null,null,null,null,null,null,null,null,139.71]
["Бортняк Екатерина / Bortnyak Ekaterina / 1994",null,null,null,null,null,null,null,null,null,null,null,null,null,null,null,null,null,null,null,13.8,null,null,null,null,null,null,null,13.8]
["Брагин Иван / Bragin Ivan / 1986",null,null,null,null,null,null,null,null,null,null,null,null,714.28,null,null,null,null,null,null,null,null,null,null,null,null,null,null,714.28]
["Бритов Максим / Britov Maksim / 1974",null,null,null,null,82.14,null,null,null,null,null,null,null,null,null,null,null,null,null,null,null,null,null,null,null,null,null,null,82.14]
["Брытько Роман / Brytko Roman / 1995",null,null,null,null,null,null,null,null,185.03,null,292.72000000000003,null,null,null,285.55,null,null,null,null,254.56,352.73,null,null,null,248.27,null,null,1618.86]
["Бубликов Александр / Bublikov Aleksandr / 1986",null,null,null,null,36.51,null,null,null,null,null,null,null,null,null,null,null,null,null,null,null,65.319999999999993,null,null,null,30.28,null,null,132.10999999999999]
["Будник Владимир / Budnik Vladimir / 1987",null,172.83,null,null,null,null,null,null,null,null,null,null,null,null,null,null,null,null,null,null,null,null,null,null,null,null,null,172.83]
["Будрик Юлия / Budrik Yuliya / 1995",null,null,null,null,null,null,null,null,null,null,null,null,null,null,239.79,null,null,null,null,null,null,null,null,null,null,null,null,239.79]
["Будыхина Татьяна / Budyhina Tatyana / 1985",null,37.520000000000003,null,null,null,null,null,null,null,null,null,null,null,null,null,null,null,null,null,null,null,null,null,null,null,null,null,37.520000000000003]
["Бузо Александр / Buzo Aleksandr / 1982",null,null,null,null,483.7,null,null,403.18,null,null,null,449.87,null,null,null,235,null,309.08999999999997,null,null,null,361.38,null,null,null,null,null,2242.2199999999998]
["Булеева Наталья / Buleeva Natalya / 1969",null,null,null,null,null,null,null,226.85,null,null,null,null,null,null,null,null,null,null,null,null,null,null,null,null,null,null,null,226.85]
["Бунос Анатолий / Bunos Anatolij / 1956",null,null,null,null,null,null,null,308.82,null,null,null,null,null,null,null,null,null,null,null,null,null,null,null,null,null,null,null,308.82]
["Бурак Анжелика / Burak Anzhelika / 1994",null,null,null,128.59,null,null,null,null,null,null,null,null,null,null,null,null,144.69999999999999,null,null,null,null,null,null,null,null,null,null,273.28999999999996]
["Бураковская Ульяна / Burakovskaya Ulyana / 1996",null,null,null,null,null,null,null,null,null,null,null,null,null,null,null,null,null,null,null,null,null,null,null,null,136.24,null,null,136.24]
["Бурый Евгений / Buryj Evgenij / 1984",null,null,null,null,null,null,null,null,null,null,null,null,null,null,null,null,null,null,null,null,null,null,164.96,null,null,null,null,164.96]
["Буто Дмитрий / Buto Dmitrij / 1988",null,null,null,null,null,null,null,null,null,null,null,null,null,null,null,null,null,null,null,null,null,257.04000000000002,null,null,null,null,null,257.04000000000002]
["Бутурля Александр / Buturlya Aleksandr / 1981",null,null,null,null,null,null,null,null,null,null,null,null,null,null,null,null,113.98,null,null,null,null,null,null,null,null,null,null,113.98]
["Буховецкий Андрей / Buhovetskij Andrej / 1987",null,300.18,null,null,null,null,null,null,null,null,null,null,null,null,null,null,null,null,null,null,null,null,null,null,null,null,null,300.18]
["Бушковский Максим / Bushkovskij Maksim / 1989",null,null,null,null,null,null,null,null,null,null,null,null,null,null,null,95.92,null,null,null,null,null,150.15,null,null,null,null,null,246.07]
["Быков Владимир / Bykov Vladimir / 1977",null,null,null,null,null,null,null,null,null,null,null,null,null,null,null,null,null,null,null,null,null,null,null,null,null,null,346.77,346.77]
["Бычинский Владислав / Bychinskij Vladislav / 1992",null,null,null,null,null,null,null,null,null,null,206.24,null,null,null,null,null,null,null,null,null,null,null,null,null,null,null,null,206.24]
["Бычков Александр / Bychkov Aleksandr / 1990",null,81.87,null,null,null,null,null,null,null,null,null,null,null,null,null,null,null,null,null,null,null,null,null,null,null,null,null,81.87]
["Вагин Андрей / Vagin Andrej / 1989",null,null,719.72,null,null,null,null,null,491.3,null,null,460.84,null,null,null,null,null,null,null,null,null,null,521.26,null,null,null,null,2193.12]
["Вадим Лукин / Vadim Lukin / 1993",null,null,null,null,null,null,null,null,null,null,null,null,null,null,null,null,null,null,null,null,300.47000000000003,null,null,null,null,null,null,300.47000000000003]
["Вайдо Андрей / Vajdo Andrej / 1995",null,null,null,null,null,null,null,null,null,null,null,null,null,null,null,null,null,null,null,null,null,389.37,null,null,null,null,null,389.37]
["Вайтешонок Сергей / Vajteshonok Sergej / 1981",null,null,null,null,null,null,null,null,null,120.3,null,null,null,null,null,null,null,null,null,null,null,211.23,null,null,null,null,null,331.53]
["Ванькова Светлана / Vankova Svetlana / 1984",null,null,null,null,null,null,null,null,null,null,null,null,null,null,null,null,null,null,null,null,null,149.30000000000001,null,null,null,null,null,149.30000000000001]
["Варава Андрей / Varava Andrej / 1994",null,null,null,null,null,null,null,null,null,null,null,null,null,null,null,null,null,172.73,null,null,null,null,null,null,null,null,null,172.73]
["Варданян Кристина / Vardanyan Kristina / 1981",null,350.21,null,null,null,null,null,null,null,null,null,null,null,null,null,null,null,null,null,null,null,null,null,null,null,null,null,350.21]
["Варивода Сергей / Varivoda Sergej / 1964",null,null,null,null,null,null,null,null,null,null,null,null,null,null,null,null,null,null,null,null,null,null,null,null,163.49,null,null,163.49]
["Василевич Валентина / Vasilevich Valentina / 1998",null,null,null,null,null,null,null,null,187.93,null,null,null,null,null,null,27.4,null,null,null,null,null,null,166.28,null,null,null,null,381.61]
["Васильченко Вадим / Vasilchenko Vadim / 1987",null,null,null,null,146.02000000000001,null,null,null,null,null,null,null,null,null,null,null,null,63.64,null,null,null,null,null,null,null,null,null,209.66000000000003]
["Вдовиченко Ирина / Vdovichenko Irina / 1989",null,null,null,null,null,null,null,97.22,null,null,null,98.75,null,null,null,null,null,null,null,null,null,null,null,null,null,null,null,195.97]
["Величко Павел / Velichko Pavel / 1982",520.58000000000004,null,null,null,null,null,null,null,null,null,null,null,null,null,null,258.97000000000003,null,null,null,null,null,null,null,null,null,null,null,779.55000000000007]
["Веремейчик Елена / Veremejchik Elena / 1986",null,null,null,null,442.93,null,null,null,null,null,null,null,null,null,248.06,null,null,null,226.62,null,null,null,null,null,null,null,null,917.61]
["Веремейчик Юрий / Veremejchik Yurij / 1979",null,null,null,null,null,null,null,null,293.5,null,null,274.31,null,null,null,null,null,null,null,null,null,null,null,null,null,null,null,567.80999999999995]
["Веремич Юрий / Veremich Yurij / 1979",null,null,null,null,null,null,null,null,null,null,null,null,null,null,null,null,null,263.64,null,null,null,null,null,null,null,null,null,263.64]
["Верещако Павел / Vereschako Pavel / 1988",null,null,null,null,null,null,null,283.08,null,null,null,null,null,null,null,null,null,null,null,null,null,300.3,null,null,null,null,null,583.38]
["Ветохин Иван / Vetohin Ivan / 1987",null,null,null,null,null,null,null,null,null,null,null,null,null,null,null,null,41.45,null,null,null,null,null,null,null,null,null,null,41.45]
["Ветохина София / Vetohina Sofiya / 2010",null,null,null,null,null,null,null,null,null,null,null,null,null,null,null,null,34.049999999999997,null,null,null,null,null,null,null,null,null,null,34.049999999999997]
["Винтергрин Андрей / Vintergrin Andrej / 1981",null,236.51,null,null,null,null,null,null,null,null,null,null,null,null,null,null,null,null,null,null,null,null,null,null,null,null,null,236.51]
["Вирский Константин / Virskij Konstantin / 1977",null,null,null,null,null,null,null,null,null,null,199.59,null,null,null,null,null,null,null,null,null,null,193.41,null,null,null,null,null,393]
["Вирт Олег / Virt Oleg / 1980",null,63.67,null,null,null,null,null,null,null,null,null,null,null,null,null,null,null,null,null,null,null,null,null,null,null,null,null,63.67]
["Вишневская Анастасия / Vishnevskaya Anastasiya / 1995",null,null,null,null,null,null,null,null,null,null,null,null,null,null,null,null,null,null,null,null,null,null,null,null,56.77,null,null,56.77]
["Войтехович Максим / Vojtehovich Maksim / 1990",null,null,null,null,null,null,null,null,null,null,null,null,null,null,null,null,null,null,null,null,null,null,204.55,null,null,null,null,204.55]
["Войтович Татьяна / Vojtovich Tatyana / 1986",null,null,null,79.13,null,null,null,null,null,null,143.29,null,null,null,null,null,null,126.32,null,null,null,83.98,null,null,null,null,null,432.72]
["Волков Алексей  / Volkov Aleksej  / 1990",null,null,null,null,100.39,null,null,null,null,null,null,null,null,null,null,null,null,null,null,null,null,null,null,null,null,null,null,100.39]
["Волков Алексей / Volkov Aleksej / 1990",null,null,null,null,null,null,null,null,null,null,null,null,null,null,null,null,null,null,null,null,null,null,98.97,null,null,null,null,98.97]
["Волков Николай / Volkov Nikolaj / 1989",null,null,null,null,null,null,null,428.91,null,null,null,null,null,null,null,null,null,null,352.08,null,null,null,null,null,null,null,null,780.99]
["Володько Андрей / Volodko Andrej / 1986",null,null,526.63,null,456.32,null,null,null,null,206.24,null,296.26,null,null,null,230.2,null,null,null,null,null,null,257.33,null,null,null,null,1972.98]
["Володько Владимир / Volodko Vladimir / 2001",null,null,null,null,null,null,null,null,null,null,null,null,null,null,null,null,186.52,null,null,null,null,null,null,null,null,null,null,186.52]
["Волостных Сергей / Volostnyh Sergej / 1989",null,null,210.65,null,null,null,null,null,null,null,null,null,null,null,null,null,null,null,null,null,null,null,null,null,null,null,null,210.65]
["Воробьев Дмитрий / Vorobev Dmitrij / 1988",null,null,null,null,null,null,null,null,null,null,null,null,null,null,null,null,null,null,null,null,null,45.81,null,null,null,null,null,45.81]
["Воробьёв Дмитрий / Vorobjov Dmitrij / 1988",null,null,null,null,null,null,null,null,null,null,153.02000000000001,null,null,null,null,null,176.16,null,null,null,null,null,null,null,null,null,null,329.18]
["Ворончук Алексей / Voronchuk Aleksej / 1987",null,null,null,null,null,null,null,null,null,null,null,null,null,null,null,null,null,null,null,null,null,27.99,null,null,null,null,null,27.99]
["Воротникова Татьяна / Vorotnikova Tatyana / 1989",null,null,null,null,null,null,null,null,null,null,null,null,null,null,null,null,null,null,null,null,null,null,193.99,null,null,null,null,193.99]
["Врублевский Кирилл / Vrublevskij Kirill / 1995",null,null,null,null,null,null,null,null,null,null,null,null,null,null,null,null,null,null,null,null,null,null,null,null,217.99,null,null,217.99]
["Выборный Александр / Vybornyj Aleksandr / 1985",null,null,null,null,null,null,null,null,null,null,null,351.12,null,null,null,306.93,null,null,null,null,null,null,null,null,null,null,null,658.05]
["Выробов Дмитрий / Vyrobov Dmitrij / 1988",null,null,null,null,null,null,null,null,null,34.369999999999997,null,null,null,null,null,null,null,null,null,null,null,null,null,null,null,null,null,34.369999999999997]
["Гайдуков Александр / Gajdukov Aleksandr / 1989",null,null,null,null,null,null,null,null,null,null,299.38,null,null,null,null,null,null,null,null,235.7,null,null,null,null,null,null,null,535.07999999999993]
["Гайдукович Максим / Gajdukovich Maksim / 1988",null,null,null,null,null,null,null,null,null,null,null,null,null,null,null,null,null,null,null,null,null,null,null,null,211.94,null,null,211.94]
["Галец Константин / Galets Konstantin / 1988",null,null,null,null,null,null,null,null,null,null,null,null,null,null,null,null,null,null,null,94.28,null,106.89,null,null,null,null,null,201.17000000000002]
["Галка Дмитрий / Galka Dmitrij / 1988",null,281.99,null,null,null,null,null,null,null,null,null,null,null,null,null,null,null,null,null,null,null,null,null,null,null,null,null,281.99]
["Гамидов Нариман / Gamidov Nariman / 1972",null,null,null,null,null,null,null,null,null,null,179.63,null,null,null,null,null,null,null,null,null,null,null,null,null,null,null,null,179.63]
["Гамидов Тимур / Gamidov Timur / 1996",null,null,null,null,null,null,null,null,null,null,345.95,null,null,null,null,null,null,null,null,null,null,null,null,null,null,null,null,345.95]
["Гандзюк Всеволод / Gandzyuk Vsevolod / ",null,null,null,null,null,null,null,null,null,null,null,null,null,null,null,null,null,72.73,null,null,null,null,null,null,null,null,null,72.73]
["Гарбар Екатерина / Garbar Ekaterina / 1989",null,null,null,null,null,null,null,null,null,null,null,null,null,null,140.57,null,null,null,null,null,null,null,null,null,null,null,null,140.57]
["Гарбуз Алла / Garbuz Alla / 1969",null,null,null,null,null,null,null,null,null,null,28.66,null,null,null,null,null,25.54,null,null,41.39,null,null,null,null,null,null,null,95.59]
["Гаслова Ольга / Gaslova Olga / 1981",null,null,null,null,null,null,null,null,null,null,null,null,null,null,null,null,null,null,null,null,null,null,null,null,85.15,null,null,85.15]
["Генсировский Павел / Gensirovskij Pavel / 1979",1041.1500000000001,null,null,null,null,null,null,null,null,null,null,null,null,null,null,null,null,null,null,null,null,null,null,null,null,null,null,1041.1500000000001]
["Геранин Дмитрий / Geranin Dmitrij / ",null,null,null,null,null,null,null,null,null,null,null,null,null,null,null,null,207.24,null,null,null,null,null,null,null,null,null,null,207.24]
["Герасевич Максим / Gerasevich Maksim / ",null,null,null,null,null,null,null,94.36,null,null,null,null,null,null,null,null,103.62,null,null,null,null,15.27,null,null,null,null,null,213.25000000000003]
["Герасимук Дмитрий / Gerasimuk Dmitrij / 1993",null,null,null,null,null,null,null,null,null,null,null,null,null,null,null,null,null,null,null,245.13,null,343.56,null,null,null,null,null,588.69000000000005]
["Герасимук Юрий / Gerasimuk Yurij / 1992",null,309.27999999999997,null,null,null,null,789.68,null,null,null,null,142.63999999999999,null,null,null,null,null,null,null,null,null,null,362.91,null,null,null,null,1604.51]
["Герман Кирилл / German Kirill / 1999",null,null,null,null,null,null,null,null,null,null,null,null,null,null,null,null,null,null,null,null,null,254.49,null,null,null,null,null,254.49]
["Гецман Мила / Getsman Mila / 1988",null,null,null,null,null,null,null,null,null,null,null,null,null,null,null,null,null,null,null,241.45,null,null,null,null,null,null,null,241.45]
["Гидлевский Дмитрий / Gidlevskij Dmitrij / 1986",null,null,null,null,null,null,null,null,null,309.35000000000002,359.25,null,null,null,null,null,null,null,null,null,null,null,null,null,null,null,null,668.6]
["Гилевич Диана / Gilevich Diana / 1993",null,null,null,356.09,null,null,null,null,516.82000000000005,null,null,null,null,null,305.94,null,null,null,null,null,null,null,null,null,null,null,null,1178.8500000000001]
["Гилевич Кристина / Gilevich Kristina / 1994",null,null,null,336.31,null,null,null,null,469.83,null,null,null,null,null,null,null,null,null,null,null,391.92,null,null,null,null,null,null,1198.06]
["Гладкая Ольга / Gladkaya Olga / 1986",null,null,null,null,null,null,null,null,null,null,null,null,null,null,null,null,null,null,null,null,null,null,null,null,39.74,null,null,39.74]
["Гладкова Анна / Gladkova Anna / 1985",null,null,null,null,null,null,null,null,null,103.12,null,null,null,null,null,null,51.07,null,null,null,null,null,null,null,null,null,null,154.19]
["Гладковский Владислав / Gladkovskij Vladislav / 1990",null,354.76,null,null,null,null,null,null,null,null,null,null,null,null,null,null,null,null,null,null,null,null,null,null,null,null,null,354.76]
["Глатанков Пётр / Glatankov Pjotr / 1978",null,null,null,null,null,null,null,null,null,null,null,null,null,null,null,null,null,null,null,null,null,null,null,null,187.71,null,null,187.71]
["Глебко Сергей / Glebko Sergej / 1985",null,null,null,null,null,null,null,null,null,null,null,null,null,null,null,null,null,null,null,null,null,null,null,null,102.94,null,null,102.94]
["Глушаков Сергей / Glushakov Sergej / 1958",null,null,null,null,null,null,null,null,210.56,null,null,null,null,null,null,null,null,null,null,null,null,null,null,null,null,null,null,210.56]
["Глушков Александр / Glushkov Aleksandr / 1980",780.86,null,null,null,null,null,null,null,null,null,null,null,null,417.43,null,191.83,null,null,null,null,null,null,null,null,null,null,null,1390.12]
["Голомзик Дмитрий / Golomzik Dmitrij / 1972",null,null,null,null,null,null,null,null,null,null,null,null,null,null,null,null,null,null,null,null,52.26,null,null,null,null,null,null,52.26]
["Голубева Елена / Golubeva Elena / 1987",null,null,null,null,null,null,null,null,328.88,null,null,null,null,null,null,164.43,null,null,null,null,null,null,null,null,null,null,null,493.31]
["Гомон Сергей / Gomon Sergej / 1990",202.45,null,null,null,null,null,null,null,null,null,null,null,null,null,null,null,null,null,null,null,null,null,null,null,null,null,null,202.45]
["Гончарик Наталья / Goncharik Natalya / 1991",null,null,null,null,null,null,null,null,null,null,71.650000000000006,null,null,null,null,null,null,null,null,null,null,null,null,null,null,null,null,71.650000000000006]
["Гончаров Игорь / Goncharov Igor / 1981",null,null,null,null,null,null,null,null,null,null,null,null,null,null,null,null,null,null,null,null,null,null,316.72000000000003,null,null,null,null,316.72000000000003]
["Гончаров Николай / Goncharov Nikolaj / 1984",null,null,null,null,null,null,null,null,null,null,null,null,null,null,null,null,null,null,null,179.13,null,null,null,null,null,null,null,179.13]
["Горбач Максим / Gorbach Maksim / 1983",null,null,null,null,null,527.29999999999995,null,null,null,null,null,null,null,null,null,null,null,null,null,null,null,null,null,null,null,null,null,527.29999999999995]
["Горбиков Кирилл  / Gorbikov Kirill  / 1982",null,null,null,null,18.25,null,null,null,null,null,null,null,null,null,null,null,null,null,null,null,null,null,null,null,null,null,null,18.25]
["Горевцова Евгения / Gorevtsova Evgeniya / 1989",null,null,null,null,null,null,null,null,null,null,null,null,null,null,null,null,null,168.42,null,null,null,111.98,null,null,null,null,null,280.39999999999998]
["Горелик Юрий / Gorelik Yurij / 1987",null,null,null,182.86,null,null,null,null,null,null,null,null,null,null,null,null,null,null,null,null,null,267.22000000000003,null,null,null,null,null,450.08000000000004]
["Горнов Антон / Gornov Anton / 1992",null,null,null,null,null,null,null,null,null,null,null,null,null,null,null,null,null,null,null,null,null,null,null,null,205.88,null,null,205.88]
["Городко Игорь / Gorodko Igor / 1970",null,72.77,null,null,null,null,null,null,null,null,null,null,null,null,null,null,null,null,null,null,null,null,null,null,null,null,null,72.77]
["Горшков Игорь / Gorshkov Igor / 1977",null,null,null,null,127.77,null,null,102.94,null,null,null,null,null,null,null,null,null,null,null,null,null,null,138.56,null,null,null,null,369.27]
["Гославская Анастасия / Goslavskaya Anastasiya / 1991",null,null,null,null,null,null,null,null,null,null,null,null,null,null,null,null,null,null,null,137.97,null,null,null,null,null,null,null,137.97]
["Грабовец Павел / Grabovets Pavel / 1981",954.39,null,null,null,null,null,null,null,null,null,null,null,null,null,null,null,null,null,null,null,null,null,null,null,null,null,null,954.39]
["Гракович Ольга / Grakovich Olga / 1994",null,null,null,null,null,null,null,null,null,null,null,null,null,null,90.96,null,null,null,null,null,null,null,null,null,null,null,null,90.96]
["Грачева Анастасия / Gracheva Anastasiya / 1995",null,null,null,null,null,null,null,null,null,null,null,null,null,null,null,null,null,null,null,null,null,18.66,null,null,null,null,null,18.66]
["Гребенчук Максим / Grebenchuk Maksim / 1989",null,null,null,153.97999999999999,null,null,null,null,null,null,null,null,null,null,null,null,null,null,null,null,null,386.83,null,null,null,null,null,540.80999999999995]
["Грейд Юлия / Grejd Yuliya / 1986",null,null,null,null,null,null,null,194.44,null,null,null,164.59,null,null,null,null,null,null,null,null,null,null,null,null,null,null,null,359.03]
["Грек Илья / Grek Ilya / 1992",null,null,null,288.72000000000003,null,null,null,null,null,null,null,230.42,null,null,null,null,null,null,null,null,null,null,null,null,null,null,455.14,974.28]
["Греков Игорь / Grekov Igor / 1970",null,null,263.31,null,136.9,null,null,null,null,null,null,null,null,null,null,null,null,null,null,null,null,null,null,null,null,null,null,400.21000000000004]
["Гречишкин Алексей / Grechishkin Aleksej / 1983",null,null,null,null,null,null,null,null,null,null,null,null,null,null,20.399999999999999,null,null,null,null,null,null,null,null,null,null,null,null,20.399999999999999]
["Гриб Екатерина / Grib Ekaterina / 1981",null,null,null,null,null,null,null,null,null,219.13,243.6,null,null,null,null,null,null,null,null,null,null,55.99,null,null,null,null,null,518.72]
["Григорович Руслан / Grigorovich Ruslan / 1987",null,null,null,null,null,null,null,null,null,232.02,null,null,null,null,null,null,null,null,null,null,null,null,null,null,null,null,null,232.02]
["Григорьев Никита / Grigorev Nikita / 1990",null,null,null,null,null,null,null,null,null,null,null,null,null,null,null,null,null,null,509.9,null,null,null,null,null,null,null,null,509.9]
["Григорьева Светлана / Grigoreva Svetlana / 1984",null,null,null,null,null,null,null,275.45999999999998,null,null,null,null,null,null,157.1,null,null,null,null,null,null,158.63,null,null,null,null,null,591.18999999999994]
["Гринько Анастасия / Grinko Anastasiya / 1993",null,null,null,null,null,null,null,178.24,null,null,257.93,null,null,null,null,null,null,null,null,null,null,null,null,null,null,null,null,436.17]
["Грицевич Виталий / Gritsevich Vitalij / 1987",null,null,null,null,null,null,null,null,null,null,146.36000000000001,null,null,null,null,null,null,null,null,null,null,null,null,null,null,null,null,146.36000000000001]
["Грицук Татьяна / Gritsuk Tatyana / 1973",null,null,276.82,null,null,null,null,null,null,null,null,null,null,null,null,null,null,null,null,null,null,null,null,null,null,null,null,276.82]
["Гришко Руслан / Grishko Ruslan / 1974",null,null,null,null,null,null,null,null,null,null,null,null,null,null,null,null,null,null,null,null,null,2.54,null,null,null,null,null,2.54]
["Грошева Елена  / Grosheva Elena  / 1994",null,null,null,59.35,null,null,null,null,null,null,null,null,null,null,null,null,null,null,null,null,null,null,null,null,null,null,null,59.35]
["Грушевская Виктория / Grushevskaya Viktoriya / 1992",null,null,null,null,null,null,null,null,null,null,null,null,null,null,null,null,null,null,null,151.77000000000001,null,null,null,null,null,null,null,151.77000000000001]
["Гумбар Илья / Gumbar Ilya / 1989",null,null,null,null,null,null,null,null,null,null,null,null,null,null,null,263.77,null,null,null,null,null,null,null,null,null,null,null,263.77]
["Гурская Татьяна / Gurskaya Tatyana / 1980",1041.1500000000001,null,null,null,null,null,null,null,null,null,null,null,null,null,null,null,null,null,null,null,null,null,null,null,null,null,null,1041.1500000000001]
["Гурский Олег / Gurskij Oleg / 1988",null,null,null,null,null,null,null,null,null,null,null,null,null,null,null,null,null,null,null,null,null,null,46.19,null,null,null,null,46.19]
["Гусаревич Денис / Gusarevich Denis / 1983",578.41999999999996,null,null,null,null,null,null,null,null,null,null,null,null,null,null,null,null,null,null,null,null,null,null,null,null,null,null,578.41999999999996]
["Давыдов Андрей / Davydov Andrej / 1980",null,null,null,null,328.55,null,null,null,null,null,null,null,null,null,null,null,null,null,null,null,null,null,null,null,null,null,null,328.55]
["Дадалев Алексей / Dadalev Aleksej / 1995",null,null,null,null,null,null,null,null,null,null,null,null,null,null,null,null,null,null,null,null,null,262.13,null,null,null,null,null,262.13]
["Дальниченко Юрий / Dalnichenko Yurij / 1985",null,null,null,null,null,null,null,null,null,null,null,null,null,null,null,null,null,null,412.78,null,null,null,501.47,null,null,null,null,914.25]
["Даник Даниил / Danik Daniil / 1982",null,null,null,null,null,null,null,null,null,null,null,null,null,null,91.78,null,null,null,null,null,null,152.69999999999999,null,null,null,null,null,244.48]
["Даниленко Инесса / Danilenko Inessa / 1984",null,null,null,null,null,null,null,null,null,null,null,null,null,null,null,null,null,null,null,165.57,null,null,null,null,null,null,null,165.57]
["Данілаў Віктар / Danіlau Vіktar / 1987",null,null,null,null,null,null,null,null,null,null,null,null,null,null,null,null,null,null,null,103.71,null,null,null,null,96.88,null,null,200.58999999999997]
["Данченко Глеб / Danchenko Gleb / 1986",null,null,null,null,null,null,null,null,null,null,286.07,null,null,null,null,null,null,null,null,null,null,null,null,null,null,null,null,286.07]
["Дашин Михаил / Dashin Mihail / 1986",null,null,null,221.35,null,null,null,null,null,null,null,null,null,null,null,null,217.6,null,null,207.42,null,null,null,null,139.27000000000001,null,null,785.64]
["Дашкевич Павел / Dashkevich Pavel / 1999",null,null,null,null,null,null,null,null,null,null,86.49,null,null,null,112.18,null,null,null,null,null,null,null,null,null,null,null,null,198.67000000000002]
["Дашкевич Сергей / Dashkevich Sergej / 1996",null,null,null,null,null,null,null,null,null,null,39.92,null,null,null,null,null,null,null,null,null,null,null,null,null,null,null,null,39.92]
["Дегтярев Сергей / Degtyarev Sergej / 1983",null,null,649.51,null,null,null,null,null,191.41,null,null,null,null,null,null,null,null,null,169.97,null,null,null,224.34,null,null,null,null,1235.23]
["Дедков Никита / Dedkov Nikita / 1998",null,null,null,null,null,null,null,null,null,null,null,null,null,null,198.86,null,null,null,null,null,null,null,null,null,null,null,null,198.86]
["Дедкова Ирина / Dedkova Irina / 1981",null,null,null,null,null,null,null,null,null,null,null,null,null,null,null,null,null,null,null,null,null,251.95,null,null,null,null,null,251.95]
["Дедуль Дмитрий / Dedul Dmitrij / 1994",null,null,null,null,null,null,null,null,null,null,null,null,null,null,null,null,null,null,null,null,null,76.349999999999994,null,null,null,null,null,76.349999999999994]
["Декевич Сергей / Dekevich Sergej / 1989",null,null,null,null,null,null,null,null,null,null,null,null,null,null,null,null,null,null,null,null,null,221.41,null,null,null,null,null,221.41]
["Делендик Максим / Delendik Maksim / 1992",null,null,null,null,null,null,null,null,null,null,null,null,null,null,152.97,null,null,null,null,null,null,null,null,null,null,null,null,152.97]
["Делендик Надежда / Delendik Nadezhda / 1987",null,437.76,null,null,null,null,null,null,null,null,null,null,null,null,null,328.86,null,null,null,null,null,null,null,null,null,null,null,766.62]
["Дельянов Одиссей / Delyanov Odissej / 1979",null,null,null,null,null,null,null,null,357.31,null,null,null,null,null,null,null,null,null,null,null,null,null,null,null,null,null,null,357.31]
["Демчук Ростислав / Demchuk Rostislav / 1978",null,null,null,null,282.92,null,null,null,null,null,null,null,null,null,null,null,null,null,null,null,null,null,105.57,null,null,null,null,388.49]
["Денисик Светлана / Denisik Svetlana / 1998",null,null,null,null,null,null,null,null,null,null,null,null,null,null,null,null,null,null,null,null,null,298.60000000000002,null,null,null,null,null,298.60000000000002]
["Диксон Катерина  / Dikson Katerina  / 1993",null,null,null,null,null,486.5,null,null,null,null,null,null,null,null,null,null,null,null,null,null,null,null,null,null,null,null,null,486.5]
["Домбровский Евгений / Dombrovskij Evgenij / 1987",null,null,null,null,null,null,null,null,null,null,279.42,null,null,null,null,null,null,null,null,null,null,null,null,null,236.16,null,null,515.58000000000004]
["Драгун Алина / Dragun Alina / 1993",null,412.75,null,null,null,null,null,null,null,null,null,null,null,null,null,null,null,null,null,null,null,null,null,null,null,null,null,412.75]
["Драгун Борис / Dragun Boris / 1970",null,null,null,null,null,null,null,null,248.84,null,null,null,null,298.16000000000003,null,null,null,null,null,null,null,null,null,null,null,null,null,547]
["Дрофа Виталий / Drofa Vitalij / 1970",null,null,null,null,null,null,null,null,null,null,null,null,null,null,null,null,null,290.91000000000003,null,null,null,null,null,null,null,null,null,290.91000000000003]
["Дубков Алексей  / Dubkov Aleksej  / 1984",null,null,null,null,null,373.51,null,null,null,null,null,null,null,null,null,null,null,null,null,null,null,null,null,null,null,null,null,373.51]
["Дубровский Виктор / Dubrovskij Viktor / 1961",null,null,105.33,null,null,null,null,null,null,null,null,null,null,null,null,null,null,null,null,null,null,null,null,null,null,null,null,105.33]
["Дубровский Евгений / Dubrovskij Evgenij / 1984",null,null,87.77,null,null,null,null,null,null,null,null,null,null,null,null,null,null,null,null,null,null,null,null,null,null,null,null,87.77]
["Дуван Дмитрий / Duvan Dmitrij / 1985",null,null,null,null,null,null,null,null,null,null,null,null,null,null,null,null,null,null,null,null,null,null,323.32,null,null,null,null,323.32]
["Дунаева Мария / Dunaeva Mariya / 1983",null,null,null,null,null,null,null,null,null,null,171.95,null,null,null,null,null,null,null,null,null,null,null,null,null,null,null,null,171.95]
["Дундуков Андрей / Dundukov Andrej / 1985",null,null,null,null,null,null,null,null,null,128.9,null,null,null,null,96.88,null,null,null,null,null,null,290.12,null,null,null,null,null,515.9]
["Дурейко Анна / Durejko Anna / 1987",null,12.51,null,null,null,null,null,null,null,null,null,null,null,null,null,null,null,null,null,null,null,null,null,null,null,null,null,12.51]
["Дышлевич Сергей / Dyshlevich Sergej / 1982",null,null,null,null,null,null,null,null,null,null,null,null,null,null,188.66,null,null,null,null,null,null,229.04,null,null,null,null,null,417.7]
["Евсюченя Александр / Evsyuchenya Aleksandr / 1991",null,null,null,null,null,null,null,null,null,null,null,329.17,null,null,null,null,null,null,400.64,null,null,null,null,null,null,null,736.89,1466.6999999999998]
["Егорова Дарина / Egorova Darina / 1994",null,null,null,null,null,null,null,null,null,null,null,null,null,null,null,null,null,231.58,null,null,null,null,null,null,null,null,null,231.58]
["Едомская Вольга / Edomskaya Volga / 1987",null,null,null,316.52,null,null,null,340.27,null,null,329.57,null,null,null,null,null,212.79,294.74,null,null,null,335.93,null,null,null,null,null,1829.82]
["Ежелева Светлана / Ezheleva Svetlana / 1989",null,null,null,null,null,null,null,null,null,null,null,null,null,null,null,null,null,null,null,null,null,null,null,null,113.54,null,null,113.54]
["Елесин Иван / Elesin Ivan / 1992",null,null,null,null,null,null,null,null,null,null,null,null,null,null,null,null,null,null,null,null,null,null,211.15,null,null,null,null,211.15]
["Емельянова Анна / Emelyanova Anna / 1995",null,null,null,null,null,null,null,null,null,null,null,null,null,null,null,null,null,null,null,null,null,354.59,null,null,null,null,null,354.59]
["Ермак Алексей / Ermak Aleksej / 1984",null,null,null,null,null,null,null,null,165.89,null,null,null,null,null,null,null,null,null,null,null,null,null,null,null,null,null,null,165.89]
["Ермохин Максим / Ermohin Maksim / 1975",null,null,null,null,null,null,null,null,433.87,null,null,384.04,null,null,null,null,null,null,null,null,null,null,null,null,null,null,null,817.91000000000008]
["Жамойдзін Яўген / Zhamojdzіn Yaugen / 1985",null,null,null,null,null,null,null,null,null,null,null,null,null,null,null,null,null,null,null,null,null,86.53,null,null,null,null,null,86.53]
["Ждамиров Виталий / Zhdamirov Vitalij / 1983",null,null,null,null,null,null,null,null,null,null,null,null,null,null,null,null,null,null,null,null,null,null,null,null,60.55,null,null,60.55]
["Ждамиров Эдуард / Zhdamirov Eduard / 1987",null,null,null,null,null,null,null,null,null,null,null,null,null,null,null,null,null,null,null,null,null,null,null,null,157.44,null,null,157.44]
["Жданович Александра / Zhdanovich Aleksandra / 1985",null,null,null,null,null,null,null,null,null,232.02,null,null,null,null,206.72,null,null,null,null,269.05,null,null,null,null,244.1,null,null,951.89]
["Жданович Андрей / Zhdanovich Andrej / 1973",null,null,null,null,null,null,null,null,287.12,null,null,null,null,null,null,null,null,null,null,null,null,null,null,null,null,null,null,287.12]
["Жданович Максим / Zhdanovich Maksim / 1987",null,null,561.73,null,null,null,null,null,null,null,null,null,null,null,null,null,null,null,null,null,null,null,null,null,null,null,null,561.73]
["Жевняк Андрей / Zhevnyak Andrej / 1986",null,null,null,null,null,null,null,null,null,null,null,null,null,null,193.76,null,null,null,null,null,null,277.39999999999998,null,null,null,null,null,471.15999999999997]
["Жегуло Ольга / Zhegulo Olga / 1983",null,null,null,null,null,null,null,null,null,null,null,null,null,null,null,null,null,null,null,null,null,195.96,null,null,null,null,null,195.96]
["Желнов Анатолий / Zhelnov Anatolij / 1993",null,null,null,null,null,null,null,null,null,null,null,null,null,null,null,null,null,null,null,null,null,null,null,null,230.1,null,null,230.1]
["Жигало Ольга / Zhigalo Olga / 1993",null,null,null,null,null,null,null,null,null,null,null,null,null,null,null,null,null,null,null,null,null,130.63999999999999,null,null,null,null,null,130.63999999999999]
["Жидович Вадим / Zhidovich Vadim / 1984",null,null,491.52,null,null,null,null,231.61,null,null,null,208.48,null,null,null,76.73,null,null,null,null,78.38,null,131.97,null,null,null,null,1218.69]
["Жила Анастасия / Zhila Anastasiya / 1994",null,null,null,null,null,291.89999999999998,null,null,null,null,null,null,null,298.16000000000003,223.25,null,null,null,null,null,null,null,null,null,null,null,null,813.31]
["Жилан Павел / Zhilan Pavel / 1990",null,null,null,null,null,null,null,null,null,null,null,null,null,null,null,null,null,null,null,null,null,391.92,null,null,null,null,null,391.92]
["Жук Лия / Zhuk Liya / 1980",null,75.040000000000006,null,null,null,null,null,null,null,null,null,null,null,null,null,null,null,null,null,null,null,null,null,null,null,null,null,75.040000000000006]
["Жукова Елизавета / Zhukova Elizaveta / 1989",null,null,null,null,null,null,null,null,null,null,null,null,null,null,null,null,null,null,null,248.35,null,null,null,null,null,null,null,248.35]
["Жукова Марина / Zhukova Marina / 1985",null,null,null,null,null,null,null,null,null,null,null,null,null,null,null,null,null,null,null,null,null,214.62,null,null,null,null,null,214.62]
["Жукович Артем / Zhukovich Artem / 1988",null,null,null,115.49,null,null,null,null,null,null,93.14,null,null,null,null,null,null,null,null,47.14,null,104.34,null,null,null,null,null,360.11]
["Журавлёв Андрей / Zhuravljov Andrej / 1978",null,null,null,null,null,null,null,null,484.91,null,null,null,null,null,null,359.69,null,381.82,null,null,null,null,null,null,null,null,null,1226.42]
["Журавлёв Илья / Zhuravljov Ilya / 1987",null,null,null,null,null,null,null,null,null,null,null,null,null,null,null,null,null,null,null,null,null,89.07,null,null,null,null,null,89.07]
["Журавлёва Оксана / Zhuravljova Oksana / 1980",null,null,null,null,null,null,null,405.09,null,null,null,null,null,null,264.60000000000002,null,null,null,null,275.94,null,null,null,null,null,null,null,945.63000000000011]
["Жучин Алексей / Zhuchin Aleksej / 1983",null,null,null,null,null,null,null,null,null,283.57,332.64,null,null,null,null,null,null,null,null,null,null,null,402.5,null,null,null,null,1018.71]
["Жучина Катерина / Zhuchina Katerina / 1986",null,null,null,null,null,null,null,null,null,154.68,128.96,null,null,null,null,null,null,null,null,null,null,null,null,null,null,null,null,283.64]
["Жучков Алексей / Zhuchkov Aleksej / 1985",null,null,193.1,null,null,109.86,null,null,140.37,null,null,null,178.57,null,null,38.369999999999997,null,null,null,null,null,null,null,null,null,null,null,660.27]
["Забабуро Сергей / Zababuro Sergej / 1978",null,null,null,null,null,null,null,null,null,null,null,null,null,null,null,273.36,null,null,null,null,null,null,null,null,null,null,null,273.36]
["Забелова Юлия / Zabelova Yuliya / 1978",null,87.55,null,null,null,null,null,null,null,null,null,null,null,null,null,null,null,null,null,null,null,null,null,null,null,null,null,87.55]
["Завалова Анастасия / Zavalova Anastasiya / 1994",null,null,null,null,null,null,null,null,null,null,null,null,null,null,82.69,null,null,252.63,null,null,null,null,null,null,null,null,null,335.32]
["Заверач Денис / Zaverach Denis / 1985",null,null,null,null,null,null,null,null,null,null,null,null,null,null,null,null,null,null,null,null,null,null,514.66999999999996,null,null,null,null,514.66999999999996]
["Загорнов Александр / Zagornov Aleksandr / 1966",null,null,140.43,null,null,null,null,null,null,null,null,null,null,null,null,null,null,null,null,null,null,null,null,null,null,null,null,140.43]
["Зайцев Александр / Zajtsev Aleksandr / 1986",null,null,null,null,null,null,null,null,null,null,null,null,null,null,null,null,null,null,null,null,null,147.61000000000001,null,null,null,null,null,147.61000000000001]
["Зайчук Кирилл / Zajchuk Kirill / 1990",null,null,null,null,null,null,null,197.3,null,null,null,null,null,null,null,null,null,null,null,null,null,null,null,null,null,null,null,197.3]
["Замахаева Мария  / Zamahaeva Mariya  / 1985",null,null,null,346.2,null,null,null,null,null,null,null,null,null,null,null,null,null,null,null,null,null,null,null,null,null,null,null,346.2]
["Занеуская Ганна / Zaneuskaya Ganna / 1994",null,null,null,158.26,null,null,null,null,null,null,null,null,null,null,null,null,null,null,null,null,null,null,null,null,null,null,null,158.26]
["Занько Юрий / Zanko Yurij / 1982",null,null,null,null,null,null,null,null,null,null,null,null,null,null,null,null,null,null,null,null,null,null,null,null,null,null,151.71,151.71]
["Зарецкая Оксана / Zaretskaya Oksana / 1982",null,null,null,null,238.5,null,null,null,null,null,null,null,null,null,null,null,null,null,null,null,null,null,null,null,null,null,null,238.5]
["Заречанский Юрий / Zarechanskij Yurij / 1980",null,200.12,null,null,246.41,null,null,null,null,null,null,null,null,null,null,null,null,null,null,null,null,162.88,null,null,null,null,null,609.41]
["Зарицкий Сергей / Zaritskij Sergej / 1975",null,null,null,null,null,null,null,null,null,null,null,null,null,null,null,null,null,null,null,null,null,null,475.08,null,null,null,null,475.08]
["Зарубина Наталья / Zarubina Natalya / 1989",null,null,null,286.85000000000002,null,null,null,null,null,null,null,null,null,null,null,null,null,null,null,null,null,null,null,null,null,null,null,286.85000000000002]
["Зарубина Ульяна / Zarubina Ulyana / ",null,null,null,247.28,null,null,null,null,null,null,null,null,null,null,null,null,null,null,null,null,null,null,null,null,null,null,null,247.28]
["Захаркин Сергей / Zaharkin Sergej / 1976",null,null,null,null,null,null,null,420.34,null,null,null,null,null,null,null,null,null,null,null,null,null,null,null,null,null,null,null,420.34]
["Захаров Иван / Zaharov Ivan / 1979",null,null,null,null,null,null,null,null,null,77.34,null,null,null,null,null,null,null,null,null,null,null,null,null,null,null,null,null,77.34]
["Захарьев Алексей / Zaharev Aleksej / 1984",null,null,null,null,null,null,null,null,null,null,null,null,null,null,null,268.57,null,null,null,null,null,null,null,null,null,null,null,268.57]
["Заяц Александр / Zayats Aleksandr / 1978",null,null,null,null,null,null,null,null,267.98,null,null,null,null,null,null,null,null,null,null,null,null,null,376.1,null,null,null,null,644.08000000000004]
["Зданович Андрей / Zdanovich Andrej / 1973",null,null,null,null,null,43.94,null,null,null,null,null,null,null,null,null,null,null,190.91,null,null,null,236.68,null,null,null,null,null,471.53]
["Здитовецкая Ирина / Zditovetskaya Irina / 1980",null,null,null,null,null,null,null,null,null,null,null,null,null,null,null,null,null,null,null,null,null,null,null,null,102.18,null,null,102.18]
["Зеленкевич Валентина / Zelenkevich Valentina / 1999",null,487.79,null,null,null,null,null,null,null,null,null,null,null,null,null,null,null,null,null,null,null,null,null,null,null,null,null,487.79]
["Зеленко Алексей / Zelenko Aleksej / 1980",null,null,null,null,null,null,null,null,null,null,null,131.66999999999999,null,null,null,null,null,null,null,null,null,null,null,null,null,null,null,131.66999999999999]
["Зеленко Диана / Zelenko Diana / 1988",null,null,null,null,null,null,null,null,null,128.9,null,null,null,null,null,null,null,null,null,null,null,null,null,null,null,null,null,128.9]
["Зеленко Дмитрий / Zelenko Dmitrij / 1987",null,null,null,null,null,null,null,343.13,null,null,null,null,null,null,null,null,null,null,null,216.85,null,315.57,null,null,null,null,null,875.55]
["Зеленский Александр / Zelenskij Aleksandr / 1978",null,null,null,null,null,null,null,null,null,null,null,null,null,null,null,167.85,null,null,null,null,null,null,null,null,null,null,null,167.85]
["Зеленцова Галина / Zelentsova Galina / 1988",null,null,null,null,null,null,null,null,null,null,null,null,null,null,null,null,221.3,null,null,null,null,null,null,null,null,null,null,221.3]
["Зенченко Александр / Zenchenko Aleksandr / 1992",null,null,null,null,null,null,null,null,null,null,null,null,null,null,null,null,null,null,null,null,null,null,171.56,null,null,null,null,171.56]
["Зеньков Александр / Zenkov Aleksandr / 1993",null,null,null,null,null,null,null,null,null,null,null,null,null,null,null,null,null,null,null,null,null,null,52.79,null,null,null,null,52.79]
["Зиновенко Павел / Zinovenko Pavel / 1997",null,null,null,null,null,null,null,null,null,null,null,null,null,null,280.45,null,null,null,null,null,null,null,null,null,null,null,null,280.45]
["Злобин Денис / Zlobin Denis / 1982",null,null,null,null,null,null,null,null,null,null,null,null,null,null,null,null,null,null,497.76,null,null,null,null,null,null,null,null,497.76]
["Зубкевич Анжелика / Zubkevich Anzhelika / 1992",null,null,null,null,null,null,null,null,null,null,null,null,null,null,null,null,null,null,null,null,null,null,null,null,232.75,null,null,232.75]
["Зуевский Роман / Zuevskij Roman / 1986",null,null,null,null,null,null,null,null,null,null,186.28,null,null,null,null,null,null,null,null,null,null,null,null,null,null,null,null,186.28]
["Зуй Александр / Zuj Aleksandr / 1980",null,118.25,null,null,null,null,null,null,null,null,null,65.83,null,null,null,null,null,null,null,null,null,null,null,null,null,null,null,184.07999999999998]
["Зуй Алексей / Zuj Aleksej / 1980",null,null,null,null,null,null,null,null,null,null,null,null,null,null,null,null,null,null,null,null,null,null,72.58,null,null,null,null,72.58]
["Зуй Марина / Zuj Marina / 1984",null,null,null,null,null,null,null,null,null,null,57.32,null,null,null,null,null,null,null,null,null,null,null,null,null,null,null,null,57.32]
["Зуйков Антон / Zujkov Anton / 1995",null,null,null,null,null,null,null,null,null,null,null,null,null,null,null,340.5,null,null,null,null,null,null,null,null,null,null,null,340.5]
["Зументс Роберт / Zuments Robert / 1979",null,null,35.11,null,null,null,null,null,null,null,null,null,null,null,null,null,null,null,null,null,null,null,null,null,null,null,null,35.11]
["Зюзина Алёна / Zyuzina Aljona / 1978",null,null,null,null,null,null,null,null,null,null,null,null,null,null,null,null,null,null,null,null,null,null,443.41,null,null,null,null,443.41]
["Зятиков Евгений / Zyatikov Evgenij / 1982",null,null,null,null,319.42,null,null,null,null,null,null,null,142.86000000000001,null,null,19.18,null,null,109.26,null,null,null,197.95,null,null,null,null,788.67000000000007]
["Зятикова Наталья / Zyatikova Natalya / 1983",null,null,null,null,null,null,null,null,null,null,null,null,238.09,null,49.61,null,null,null,null,68.989999999999995,null,null,null,null,null,null,null,356.69]
["Иванов Денис / Ivanov Denis / 1990",null,154.63999999999999,null,null,null,153.80000000000001,null,null,null,null,null,null,null,null,null,null,null,null,null,null,null,279.94,null,null,null,null,null,588.38]
["Иванова Екатерина / Ivanova Ekaterina / 1989",null,62.54,null,null,null,null,null,null,null,null,null,null,null,null,null,null,null,null,null,null,null,null,null,null,null,null,null,62.54]
["Иванцов Вячеслав / Ivantsov Vyacheslav / 1986",null,null,null,null,null,null,null,null,null,null,null,null,null,null,214.16,null,null,245.45,null,null,null,null,null,null,null,null,null,459.61]
["Иванчик Александр / Ivanchik Aleksandr / 1990",null,null,null,null,null,null,null,null,null,null,null,null,null,null,null,null,null,null,null,null,null,null,null,null,null,null,303.42,303.42]
["Иванчик Константин / Ivanchik Konstantin / 1983",null,null,null,null,null,null,null,null,null,null,null,null,392.86,null,null,null,null,null,157.83000000000001,null,null,null,null,null,null,null,null,550.69000000000005]
["Иванюта Дмитрий / Ivanyuta Dmitrij / 1982",null,null,null,null,null,null,null,null,null,null,null,null,null,null,null,null,null,null,null,null,null,305.39,null,null,null,null,null,305.39]
["Игнатович Александр / Ignatovich Aleksandr / 1992",null,null,null,null,null,null,null,265.93,null,null,null,null,null,null,null,null,null,null,null,null,null,null,null,null,null,null,null,265.93]
["Илатовский Дмитрий / Ilatovskij Dmitrij / 1974",null,null,null,null,null,null,null,null,197.79,null,null,null,null,null,null,null,null,null,null,null,null,null,null,null,null,null,null,197.79]
["Ильюшенок Юлия  / Ilyushenok Yuliya  / 1987",null,null,null,148.37,null,null,null,null,null,null,null,null,null,null,null,null,null,null,null,null,null,null,null,null,null,null,null,148.37]
["Иолтуховский Владислав / Ioltuhovskij Vladislav / 1971",null,null,null,null,null,null,null,null,121.23,null,null,263.33999999999997,null,null,null,null,null,null,null,null,null,null,null,null,null,null,null,384.57]
["Исаев Антон / Isaev Anton / 1979",838.71,null,null,null,null,null,null,null,null,null,null,null,null,null,null,null,null,null,null,null,null,null,null,null,null,1024.0999999999999,null,1862.81]
["Искорцев Алексей / Iskortsev Aleksej / 1980",null,null,null,null,null,null,null,274.51,null,null,null,null,null,null,null,129.49,null,null,null,null,null,null,null,null,null,null,null,404]
["Йоцюс Виталий / Jotsyus Vitalij / ",null,null,null,null,null,null,null,null,null,null,null,null,null,null,50.99,null,null,null,null,null,null,null,null,null,null,null,null,50.99]
["Каволюнас Андрюс / Kavolyunas Andryus / 1984",null,null,null,null,null,null,null,null,null,null,null,null,null,null,null,null,null,null,null,null,null,null,178.15,null,null,null,null,178.15]
["Казак Дмитрий / Kazak Dmitrij / 1979",null,null,614.4,null,null,null,null,null,null,null,null,null,null,null,null,220.61,null,null,null,null,null,null,null,null,null,null,null,835.01]
["Казак Константин / Kazak Konstantin / 2004",null,null,null,null,null,null,null,null,null,null,null,null,null,null,null,null,134.71,null,null,null,null,null,null,null,null,null,null,134.71]
["Казак Наталья / Kazak Natalya / 1979",null,null,null,null,null,null,null,null,null,null,100.3,null,null,null,null,null,25.54,null,null,null,null,null,null,null,51.09,null,null,176.93]
["Казакевич Ирина / Kazakevich Irina / 1969",null,null,null,null,null,null,null,421.29,null,null,null,null,null,null,null,null,null,null,null,null,null,null,471.12,null,null,null,null,892.41000000000008]
["Казарин Дмитрий / Kazarin Dmitrij / 1994",null,227.41,null,null,273.79000000000002,null,null,120.1,null,null,null,197.5,null,null,null,null,null,172.73,null,null,195.96,285.02999999999997,null,null,null,null,null,1472.52]
["Казимирская Надежда  / Kazimirskaya Nadezhda  / 1983",null,null,null,267.07,null,null,null,null,null,null,null,null,null,null,null,null,null,null,null,null,null,null,null,null,null,null,null,267.07]
["Калацей Роман / Kalatsej Roman / 1997",null,null,null,null,null,null,null,null,null,null,null,null,null,null,null,null,null,null,null,null,null,null,428.89,null,null,null,null,428.89]
["Калвинковская Ольга / Kalvinkovskaya Olga / 1994",null,450.27,null,null,null,null,null,null,null,null,null,null,null,null,null,null,null,null,null,null,null,null,null,null,null,null,null,450.27]
["Каленская Наталия / Kalenskaya Nataliya / 1986",null,null,null,null,null,null,null,null,null,null,null,null,null,null,null,null,null,null,null,110.38,null,null,null,null,null,null,null,110.38]
["Калинка Руслан / Kalinka Ruslan / 1978",null,null,null,null,null,null,null,null,null,null,null,null,null,null,null,null,null,null,null,null,null,231.59,null,null,null,null,null,231.59]
["Кальвинковская Екатерина / Kalvinkovskaya Ekaterina / 1993",null,337.7,null,null,null,null,null,null,null,null,null,null,null,null,null,null,null,null,null,null,null,null,null,null,null,null,null,337.7]
["Калюжный Дмитрий / Kalyuzhnyj Dmitrij / 1986",null,null,null,null,null,null,null,null,null,null,null,null,null,null,35.69,null,null,null,null,null,null,null,null,null,null,null,null,35.69]
["Камышкайло Анатолий / Kamyshkajlo Anatolij / 1981",null,null,null,null,null,null,null,null,427.49,null,null,null,null,null,null,null,null,null,null,null,null,null,null,null,null,null,null,427.49]
["Капустин Егор / Kapustin Egor / 2004",null,null,null,null,null,null,null,null,null,85.93,99.79,null,null,null,null,null,null,null,null,null,null,null,null,null,null,null,null,185.72000000000003]
["Капытов Александр / Kapytov Aleksandr / 1978",null,null,null,null,null,null,null,null,null,null,null,null,null,null,null,null,null,null,null,null,null,249.4,null,null,null,null,null,249.4]
["Карабанькова Марина / Karabankova Marina / 1989",null,null,null,null,null,null,null,null,null,null,14.33,null,null,null,41.34,null,null,null,null,null,null,null,null,null,null,null,null,55.67]
["Карпович Алексей / Karpovich Aleksej / 1991",null,null,null,null,null,null,null,null,null,null,null,null,null,null,null,null,null,236.36,null,null,null,null,null,null,null,null,null,236.36]
["Карпович Владимир / Karpovich Vladimir / 1983",null,null,null,null,337.68,null,null,null,null,null,null,null,214.28,null,null,52.75,null,200,null,null,null,318.12,null,null,null,null,null,1122.83]
["Католиков Роман / Katolikov Roman / 1985",null,null,null,356.09,null,null,null,null,null,274.98,352.6,null,null,null,null,null,238.33,null,null,273.41000000000003,null,null,null,null,null,null,null,1495.41]
["Катонов Василий / Katonov Vasilij / 1985",null,null,null,null,null,null,null,null,null,null,null,null,null,null,null,null,null,null,null,null,null,null,null,null,null,null,86.69,86.69]
["Каханович Илья / Kahanovich Ilya / 1982",null,null,null,null,null,null,null,null,null,null,null,null,null,null,null,null,null,null,null,null,null,null,null,null,115.05,null,null,115.05]
["Керножицкий Андрей / Kernozhitskij Andrej / 1981",null,null,null,null,null,null,null,null,null,null,null,null,null,null,null,null,null,null,null,null,null,295.20999999999998,null,null,null,null,null,295.20999999999998]
["Кизик Валерия / Kizik Valeriya / 1990",null,null,null,null,null,null,null,null,null,null,null,null,null,null,null,null,null,null,null,null,null,326.60000000000002,null,null,null,null,null,326.60000000000002]
["Кимстач Валерий / Kimstach Valerij / 1984",null,null,null,null,null,null,null,null,null,null,null,null,null,null,null,null,null,null,null,null,null,310.48,null,null,null,null,null,310.48]
["Кирcанов Алексей / Kircanov Aleksej / 1981",null,400.24,null,null,null,null,null,null,null,null,null,395.01,null,null,null,null,null,null,null,null,null,null,null,null,null,null,null,795.25]
["Кислицын Артем / Kislitsyn Artem / 1992",null,null,null,null,null,null,null,null,null,null,null,null,null,596.32000000000005,null,null,null,null,null,null,null,null,null,null,null,null,null,596.32000000000005]
["Кислов Михаил / Kislov Mihail / 1992",null,null,null,null,null,null,null,null,null,null,null,null,null,null,81.58,null,null,null,null,null,null,null,null,null,null,null,null,81.58]
["Клауч Виктор / Klauch Viktor / 1988",null,null,null,null,null,null,null,null,null,8.59,null,null,null,null,null,null,null,null,null,null,null,null,null,null,null,null,null,8.59]
["Клауч Екатерина / Klauch Ekaterina / 1987",null,null,null,null,null,null,null,null,null,12.89,null,null,null,null,null,null,null,null,null,null,null,null,null,null,null,null,null,12.89]
["Кликун Алла / Klikun Alla / 1961",null,null,null,null,null,null,null,null,null,null,null,null,null,null,null,null,null,null,null,62.09,null,null,null,null,null,null,null,62.09]
["Кликун Татьяна / Klikun Tatyana / 1989",null,362.72,null,null,408.86,null,null,null,null,null,null,null,null,null,null,246.64,null,null,null,206.96,null,null,277.13,null,null,null,null,1502.31]
["Климова Вера / Klimova Vera / 1992",null,null,null,null,null,null,null,null,null,null,null,null,null,null,null,null,null,null,null,null,null,null,null,null,175.98,null,null,175.98]
["Ключеня Виталий / Klyuchenya Vitalij / 1982",null,null,null,null,null,null,null,null,null,null,null,null,null,null,null,100.71,null,281.82,null,null,313.52999999999997,null,null,null,null,null,null,696.06]
["Клюшин Олег / Klyushin Oleg / 1972",null,null,null,null,null,null,null,null,null,null,null,null,null,null,null,null,null,null,null,75.42,null,null,null,null,84.77,null,null,160.19]
["Княжевич Алеся / Knyazhevich Alesya / 1992",null,null,null,null,null,null,null,null,null,null,null,null,null,null,null,null,null,null,null,103.48,null,null,null,null,null,null,null,103.48]
["Князев Родион / Knyazev Rodion / 1995",null,245.6,null,null,null,null,null,null,null,null,null,null,null,null,null,null,null,null,null,null,null,null,null,null,null,null,null,245.6]
["Ковалев Михаил / Kovalev Mihail / 1970",null,null,null,null,null,null,null,null,null,null,53.22,null,null,null,null,null,null,null,null,null,null,null,null,null,null,null,null,53.22]
["Ковалев Никита / Kovalev Nikita / 2001",null,null,null,null,null,null,null,null,null,null,59.88,null,null,null,null,null,null,null,null,null,null,null,null,null,null,null,null,59.88]
["Ковалёва Катерина / Kovaljova Katerina / 1987",null,null,null,null,null,null,null,null,null,null,null,null,null,null,132.30000000000001,null,null,null,null,null,null,null,null,null,null,null,null,132.30000000000001]
["Коваленко Леонид / Kovalenko Leonid / 1999",null,null,null,null,null,null,null,null,null,null,null,null,null,null,203.96,null,null,null,null,null,null,null,null,null,null,null,null,203.96]
["Ковальчук Екатерина / Kovalchuk Ekaterina / 1987",null,null,null,null,null,null,null,null,null,null,null,null,null,null,74.42,null,null,null,null,null,null,null,null,null,null,null,null,74.42]
["Ковалюк Вадим / Kovalyuk Vadim / 1978",null,null,null,null,null,null,null,null,null,null,null,null,null,null,null,null,null,null,null,null,null,null,79.180000000000007,null,null,null,null,79.180000000000007]
["Ковалюк Вадим / Kovalyuk Vadim / 1987",null,null,null,null,182.53,null,null,null,null,null,null,null,null,null,null,null,null,null,null,null,null,null,null,null,null,null,null,182.53]
["Ковеня Андрей / Kovenya Andrej / 1962",289.20999999999998,null,null,null,null,null,null,null,null,null,null,null,null,null,null,null,null,null,null,null,null,null,null,null,null,null,null,289.20999999999998]
["Ковриго Сергей / Kovrigo Sergej / 1981",null,null,null,null,null,null,null,null,null,null,46.57,null,null,null,null,null,null,null,null,null,null,null,null,null,null,null,null,46.57]
["Когалёнок Елена / Kogaljonok Elena / 1979",null,null,null,null,null,null,null,null,null,90.23,null,null,null,null,null,null,null,null,null,null,null,null,null,null,null,null,null,90.23]
["Кожан Михаил / Kozhan Mihail / 1946",null,null,null,null,null,null,null,null,204.17,null,null,285.27999999999997,null,null,null,null,null,null,null,null,null,null,null,null,null,null,null,489.44999999999993]
["Кожемякин Алексей / Kozhemyakin Aleksej / 1986",null,null,null,null,null,null,null,null,null,null,null,null,null,null,null,null,10.36,null,null,null,null,null,null,null,null,null,null,10.36]
["Кожемякин Владимир / Kozhemyakin Vladimir / 1970",null,null,null,null,null,null,null,null,236.08,null,null,null,null,null,null,null,null,null,null,null,null,null,null,null,null,null,null,236.08]
["Кожемякина Анна / Kozhemyakina Anna / 1991",null,null,null,null,null,null,null,null,null,null,157.62,null,null,null,null,null,119.16,null,null,null,null,null,null,null,null,null,null,276.77999999999997]
["Козич Андрей / Kozich Andrej / 1986",983.31,null,null,null,null,null,null,null,null,null,null,null,null,null,null,null,null,null,null,null,null,null,null,null,null,null,null,983.31]
["Козич Галина / Kozich Galina / 1990",null,null,null,null,null,null,null,null,null,null,null,null,null,null,289.39999999999998,null,null,null,null,null,null,null,null,null,null,null,null,289.39999999999998]
["Колабышев Антон / Kolabyshev Anton / 1986",null,null,null,null,null,null,null,null,null,null,null,null,null,null,null,null,null,null,null,null,130.63999999999999,null,null,null,null,null,null,130.63999999999999]
["Коледа Константин / Koleda Konstantin / 1976",null,327.47000000000003,null,null,null,null,null,null,null,null,null,null,null,null,null,null,null,null,null,null,null,null,null,null,null,null,null,327.47000000000003]
["Коледа Татьяна / Koleda Tatyana / 1990",null,400.24,null,null,null,null,null,null,null,null,null,null,null,null,null,null,null,null,null,null,null,null,null,null,null,null,null,400.24]
["Колташова Елена / Koltashova Elena / 1984",null,null,553.63,null,null,null,null,null,null,null,null,null,null,null,null,null,null,null,null,null,null,null,null,null,null,null,null,553.63]
["Коляда Максим / Kolyada Maksim / 1978",null,null,null,null,null,null,null,null,null,null,null,null,null,null,null,null,null,null,null,null,null,50.9,null,null,null,null,null,50.9]
["Коляда Юрий / Kolyada Yurij / 1980",null,null,null,null,null,null,null,111.52,null,null,null,null,null,null,null,null,null,null,null,null,null,null,250.73,null,null,null,null,362.25]
["Коляев Антон / Kolyaev Anton / 1980",null,null,null,null,null,null,null,null,null,null,null,null,null,null,null,null,null,null,null,null,null,185.78,null,null,null,null,null,185.78]
["Комар Артем / Komar Artem / 1998",null,null,null,null,null,65.91,null,null,null,null,null,98.75,null,null,209.06,null,null,null,null,null,null,null,null,null,null,null,null,373.72]
["Комин Игорь / Komin Igor / 1959",433.81,null,null,null,null,null,null,null,null,null,null,null,null,null,null,null,null,null,null,null,null,null,null,null,null,null,null,433.81]
["Кондяр Павел / Kondyar Pavel / 1993",null,null,null,null,null,null,null,null,null,null,325.99,null,null,null,290.64,null,null,null,null,null,null,null,null,null,null,null,null,616.63]
["Коновалова Елена / Konovalova Elena / 1975",null,null,null,null,null,null,null,null,null,193.35,null,null,null,null,null,null,null,null,null,null,null,null,null,null,null,null,null,193.35]
["Конопацкая Юлия / Konopatskaya Yuliya / 1998",null,null,null,227.5,null,null,null,null,null,null,null,null,null,null,null,null,null,null,null,null,null,null,null,null,227.07,null,null,454.57]
["Коньшин Андрей / Konshin Andrej / 1988",null,null,null,null,54.76,null,null,null,null,null,null,10.97,null,null,null,null,null,null,null,null,null,null,null,null,null,null,null,65.73]
["Копоть Александр / Kopot Aleksandr / 1992",404.89,null,null,null,null,null,null,null,null,null,null,null,null,null,null,null,null,null,null,null,null,null,null,null,null,null,null,404.89]
["Кордунская Екатерина / Kordunskaya Ekaterina / 1983",null,null,null,null,null,null,null,null,null,null,null,362.09,null,null,null,null,null,null,null,null,null,null,null,null,null,null,368.44,730.53]
["Корень Дмитрий / Koren Dmitrij / 1975",null,null,null,null,null,null,null,null,null,null,null,null,null,null,null,null,null,null,null,null,null,55.99,null,null,null,null,null,55.99]
["Коровец Богдан / Korovets Bogdan / 1976",null,null,438.85,null,null,307.58999999999997,null,null,274.36,null,null,null,321.43,null,null,143.87,null,null,null,null,null,null,null,null,null,null,585.16999999999996,2071.27]
["Корожан Александр / Korozhan Aleksandr / 1971",null,336.57,null,null,null,null,null,null,null,null,null,null,null,null,null,null,null,null,null,null,null,null,null,null,null,null,null,336.57]
["Корожан Наталья / Korozhan Natalya / 1974",null,212.63,null,null,null,null,null,null,null,null,null,null,null,null,null,null,null,null,null,null,null,null,null,null,null,null,null,212.63]
["Королёв Максим / Koroljov Maksim / 1989",null,null,null,null,null,395.48,null,null,null,197.64,null,null,null,null,null,null,null,null,null,null,null,246.86,null,null,null,null,null,839.98]
["Королёва Виктория / Koroljova Viktoriya / 1977",null,null,null,null,null,null,null,null,null,null,null,null,null,null,null,null,null,null,null,null,235.15,null,null,null,null,null,null,235.15]
["Коротких Елена / Korotkih Elena / 1984",null,null,null,null,null,null,null,null,null,null,null,296.26,null,null,null,null,null,null,null,null,null,307.94,null,null,null,null,null,604.20000000000005]
["Косач Антон / Kosach Anton / 1983",null,null,null,null,null,null,null,null,null,null,null,null,null,null,null,null,null,null,null,56.57,null,null,null,null,null,null,null,56.57]
["Косач Надежда / Kosach Nadezhda / 1981",null,null,null,null,null,null,null,null,null,null,null,null,null,null,null,null,null,null,null,172.47,null,null,null,null,null,null,null,172.47]
["Костев Евгений / Kostev Evgenij / 1990",null,null,null,null,null,null,null,null,null,null,266.11,null,null,null,null,null,null,null,null,null,null,null,null,null,null,null,null,266.11]
["Костеневич Ольга / Kostenevich Olga / 1990",null,null,null,null,null,null,null,null,null,null,null,null,null,null,null,null,null,null,null,255.25,null,null,null,null,null,null,null,255.25]
["Костров Александр / Kostrov Aleksandr / 1982",null,null,null,269.47000000000003,null,null,null,null,null,null,null,null,null,null,null,null,null,null,null,null,null,302.85000000000002,null,null,null,null,null,572.32000000000005]
["Костя Юрий / Kostya Yurij / 1985",null,null,null,null,365.06,null,null,null,null,null,null,null,null,null,null,null,null,null,null,null,null,null,null,null,null,null,null,365.06]
["Костян Денис / Kostyan Denis / 1977",null,272.89,null,null,null,null,null,null,null,null,null,null,null,null,null,null,null,null,null,null,null,null,null,null,null,null,null,272.89]
["Косціна Вікторыя / Kostsіna Vіktoryya / 1992",null,null,null,null,102.22,null,null,null,null,null,null,null,null,null,null,null,null,null,null,null,null,139.97,null,null,null,null,null,242.19]
["Косяков Максим / Kosyakov Maksim / ",null,null,null,76.989999999999995,null,null,null,null,null,null,null,null,null,null,null,null,null,null,null,null,null,null,null,null,null,null,null,76.989999999999995]
["Кохан Виталий / Kohan Vitalij / 1982",null,null,null,null,292.04000000000002,null,null,null,178.65,null,null,null,null,null,null,null,null,null,null,null,null,null,null,null,null,null,null,470.69000000000005]
["Кошур Александр / Koshur Aleksandr / 1988",null,372.95,null,null,null,null,null,null,null,null,null,null,null,null,null,null,null,null,null,null,null,null,null,null,null,null,null,372.95]
["Кравченко Александр / Kravchenko Aleksandr / 1981",null,null,null,null,null,null,null,null,null,null,null,null,null,null,null,null,null,null,null,null,null,null,395.9,null,null,null,null,395.9]
["Кравченко Марина / Kravchenko Marina / 1990",null,null,null,49.46,null,null,null,null,null,null,null,null,null,null,null,null,null,null,null,82.78,null,null,null,null,79.48,null,null,211.72000000000003]
["Кравчук Александр / Kravchuk Aleksandr / 1983",null,null,null,null,null,null,null,null,null,137.49,null,null,null,null,null,null,null,null,null,null,null,null,null,null,null,null,null,137.49]
["Кравчук Артём / Kravchuk Artjom / 1992",null,null,null,null,null,null,null,null,null,null,null,null,null,null,null,null,null,118.18,null,null,null,null,null,null,null,null,null,118.18]
["Красовская Инна / Krasovskaya Inna / 1975",null,200.12,null,null,null,null,null,null,null,null,null,null,null,null,null,null,null,null,null,null,null,null,null,null,null,null,null,200.12]
["Кривальцевич Валентина / Krivaltsevich Valentina / 1984",null,null,null,null,null,null,null,null,null,null,null,null,null,null,74.42,null,null,null,null,null,null,null,null,null,null,null,null,74.42]
["Кривошей Леонид / Krivoshej Leonid / 1980",null,null,null,null,null,null,null,null,null,null,null,null,null,null,null,null,null,null,null,null,null,null,null,null,72.66,null,null,72.66]
["Крипа Светлана / Kripa Svetlana / 1989",null,null,null,null,null,null,null,null,null,null,null,null,null,null,null,null,170.23,null,null,null,null,null,null,null,null,null,null,170.23]
["Крисенков Алексей / Krisenkov Aleksej / 1983",null,null,684.61,null,null,571.25,null,377.44,null,null,null,null,607.14,null,265.14999999999998,null,null,null,291.37,null,null,366.47,null,null,null,null,563.5,3726.9300000000003]
["Круглик Алексей / Kruglik Aleksej / 1987",null,null,null,null,null,null,null,null,null,null,null,null,null,null,null,null,null,null,null,null,156.77000000000001,null,null,null,null,null,null,156.77000000000001]
["Круглик Игорь / Kruglik Igor / 1985",null,null,null,null,null,null,null,null,null,null,null,null,null,null,null,null,155.43,null,null,null,null,null,null,null,null,null,null,155.43]
["Круглова Александра / Kruglova Aleksandra / 1989",null,null,null,null,null,null,null,null,null,64.45,null,null,null,null,null,null,null,null,null,null,null,null,null,null,null,null,null,64.45]
["Крус Виктор / Krus Viktor / 1980",null,null,null,259.85000000000002,null,null,null,null,null,null,252.81,null,null,null,null,null,227.97,109.09,null,null,null,null,null,null,null,null,null,849.72000000000014]
["Крыворот Руслан / Kryvorot Ruslan / 1991",null,null,null,null,null,null,null,null,null,null,null,null,null,null,null,null,null,null,null,null,null,null,null,null,127.16,null,null,127.16]
["Крыленко Дмитрий / Krylenko Dmitrij / 1975",null,null,null,null,null,null,null,null,null,null,null,null,null,null,null,null,null,null,null,null,null,null,442.09,null,null,null,null,442.09]
["Крюков Дима / Kryukov Dima / 1988",null,null,null,null,null,null,null,null,null,null,null,null,null,null,null,null,null,null,461.34,null,null,null,null,null,null,null,null,461.34]
["Крюкова Наталья / Kryukova Natalya / 1987",null,null,null,null,null,null,null,null,null,null,null,null,null,null,null,null,null,378.95,null,null,null,null,null,null,null,null,null,378.95]
["Кубышкина Татьяна / Kubyshkina Tatyana / 1975",null,null,null,null,null,null,null,null,null,null,null,null,null,null,null,null,null,null,null,null,null,null,null,null,96.51,null,null,96.51]
["Кудрейко Михаил / Kudrejko Mihail / 1981",null,null,70.22,null,null,null,null,null,null,null,null,null,null,null,null,null,null,null,null,null,null,null,null,null,null,null,null,70.22]
["Кудрявец Валерий / Kudryavets Valerij / 1975",null,145.54,null,null,null,null,null,null,null,null,null,null,null,null,null,86.32,null,null,null,null,null,null,null,null,null,null,null,231.85999999999999]
["Кузеева Марина / Kuzeeva Marina / 1986",null,262.66000000000003,null,null,null,null,null,null,null,null,null,null,null,null,null,null,null,null,null,null,null,null,null,null,null,null,null,262.66000000000003]
["Кузнецова Наталья / Kuznetsova Natalya / 1984",null,162.6,null,null,null,null,null,null,null,null,null,null,null,null,null,null,null,null,null,null,null,null,null,null,null,null,null,162.6]
["Кузьменко Иван / Kuzmenko Ivan / 1981",null,null,null,null,null,null,null,null,null,103.12,null,null,null,null,null,null,null,null,null,null,null,null,null,null,null,null,null,103.12]
["Кузьменок Денис / Kuzmenok Denis / 1979",null,163.72999999999999,null,null,null,null,null,77.2,null,null,null,76.81,null,null,null,null,null,null,null,null,null,null,65.98,null,null,null,null,383.72]
["Кузьмич Дмитрий / Kuzmich Dmitrij / 1975",null,null,null,null,null,null,null,null,null,null,13.31,null,null,null,25.5,null,null,18.18,null,null,26.13,7.63,null,null,null,null,216.73,307.48]
["Кукареко Екатерина / Kukareko Ekaterina / 1986",null,null,166.09,null,null,null,null,null,null,null,null,null,null,null,null,null,null,null,null,null,null,null,null,null,null,null,null,166.09]
["Кукобникова Вита / Kukobnikova Vita / 1993",null,null,null,null,null,null,null,null,null,141.79,null,null,null,null,124.03,null,null,210.53,null,null,null,102.65,null,null,null,null,null,579]
["Кукса Юлия / Kuksa Yuliya / 1978",null,null,null,null,null,null,null,null,null,null,null,null,null,null,null,null,null,null,null,null,156.77000000000001,null,null,null,null,null,null,156.77000000000001]
["Кулаев Алексей / Kulaev Aleksej / 1980",null,null,null,null,null,null,null,null,null,null,null,null,null,null,null,null,null,null,null,null,null,null,null,null,224.05,null,null,224.05]
["Кулак Александр / Kulak Aleksandr / 1989",null,191.02,null,null,null,null,null,null,null,null,null,null,null,null,null,null,null,null,null,null,null,null,null,null,null,null,null,191.02]
["Кулеш Кристина / Kulesh Kristina / 1984",null,null,null,null,null,null,null,null,null,null,null,null,null,null,null,null,null,null,null,null,null,null,null,null,136.24,null,null,136.24]
["Куликовский Ян / Kulikovskij Yan / 1992",null,null,null,null,null,null,null,null,null,null,192.93,null,null,null,107.08,null,null,45.45,null,null,null,91.62,null,null,null,null,null,437.08]
["Куликовских Иванна / Kulikovskih Ivanna / 1974",null,175.1,null,null,null,null,null,null,null,null,null,null,null,null,null,null,null,null,null,null,null,null,null,null,null,null,null,175.1]
["Кульбацкий Владислав / Kulbatskij Vladislav / 1989",null,null,null,null,null,null,null,null,null,null,null,null,null,null,null,null,null,null,null,null,null,241.77,null,null,null,null,null,241.77]
["Купреева Татьяна / Kupreeva Tatyana / 1990",null,null,null,null,null,null,null,null,null,null,null,null,null,null,null,null,null,null,null,234.55,null,null,null,null,null,null,null,234.55]
["Курата Кеннет / Kurata Kennet / 1978",null,null,null,67.37,null,null,null,null,null,null,19.96,null,null,null,null,null,null,null,null,null,null,null,null,null,null,null,null,87.330000000000013]
["Куратник Юрий / Kuratnik Yurij / 1987",null,436.63,null,null,null,null,null,null,null,null,null,null,null,null,null,null,null,null,null,null,null,null,null,null,null,null,null,436.63]
["Курилович Дмитрий / Kurilovich Dmitrij / 1998",null,null,null,null,null,null,null,null,null,null,null,null,null,null,null,null,null,400,null,null,null,null,null,null,null,null,null,400]
["Курышка Марына / Kuryshka Maryna / 1991",null,null,null,null,null,null,null,null,null,null,null,null,null,null,null,null,null,null,null,null,null,121.31,null,null,null,null,null,121.31]
["Кусов Иван / Kusov Ivan / 1993",null,null,null,null,null,null,null,null,null,null,null,362.09,null,null,null,null,null,null,null,null,null,null,null,null,null,null,null,362.09]
["Куцакова Татьяна / Kutsakova Tatyana / 1987",null,null,null,null,null,null,null,null,null,null,358.23,null,null,null,null,null,null,null,null,null,null,null,null,null,null,null,null,358.23]
["Куцун Надежда / Kutsun Nadezhda / 1982",null,null,null,null,null,null,null,null,null,null,null,null,null,null,null,null,null,null,null,null,null,373.26,null,null,null,null,578.98,952.24]
["Куцуха Александр / Kutsuha Aleksandr / 1992",null,null,245.76,null,null,null,null,null,null,null,null,null,null,null,null,null,null,null,null,null,null,null,null,null,null,null,null,245.76]
["Кучук Андрей / Kuchuk Andrej / 1994",null,null,null,null,null,null,null,null,null,null,null,null,null,null,null,null,null,null,null,null,null,null,541.05999999999995,null,null,null,null,541.05999999999995]
["Кушель Максим / Kushel Maksim / 1998",null,null,null,null,null,null,null,null,null,null,null,null,null,null,null,null,null,null,null,null,null,null,494.87,null,null,null,null,494.87]
["Кшановская Ирина / Kshanovskaya Irina / 1977",null,null,null,197.83,null,null,null,null,null,null,null,null,null,null,null,null,null,null,null,220.76,null,279.94,null,null,null,null,null,698.53]
["Лабунская Ирина / Labunskaya Irina / 1983",null,null,null,null,null,null,null,null,null,25.78,null,null,null,null,null,null,null,null,null,null,null,null,null,null,null,null,null,25.78]
["Лавник Игорь / Lavnik Igor / 1983",null,null,null,null,null,null,null,null,229.7,null,null,null,null,null,null,239.79,null,null,279.23,null,null,null,null,413.4,null,null,476.81,1638.9299999999998]
["Лаврецкая Елена / Lavretskaya Elena / 1986",null,null,null,null,null,null,null,null,null,null,null,null,null,null,null,null,null,null,null,null,null,317.27,null,null,null,null,null,317.27]
["Лавриченок Светлана / Lavrichenok Svetlana / 1971",null,null,332.18,null,null,null,null,null,null,null,null,null,null,null,null,null,null,null,null,null,null,null,null,null,null,null,null,332.18]
["Ладеев Дмитрий / Ladeev Dmitrij / 1981",null,null,null,null,null,null,null,248.77,null,null,219.54,null,null,null,null,null,null,null,null,null,null,null,null,null,null,null,null,468.31]
["Ладутько Наталья / Ladutko Natalya / 1974",null,null,null,null,null,null,null,null,null,51.56,42.99,null,null,null,null,null,93.63,null,null,41.39,null,null,null,null,45.41,null,null,274.98]
["Лазаренок Глеб / Lazarenok Gleb / 1982",null,null,null,null,73.010000000000005,null,null,null,null,68.75,33.26,null,null,null,null,null,124.34,null,null,37.71,null,73.8,null,null,null,null,null,410.87]
["Лакустов Алексей / Lakustov Aleksej / 1986",null,109.16,null,null,null,null,null,null,null,null,null,87.78,null,null,null,null,null,null,null,null,null,null,null,null,null,null,null,196.94]
["Ланин Иван / Lanin Ivan / 1989",null,null,228.2,null,null,null,null,null,null,null,272.77,null,null,null,null,null,null,null,null,null,null,null,null,null,null,null,null,500.96999999999997]
["Лапко Оля / Lapko Olya / 1992",null,null,null,null,null,null,null,null,null,null,null,null,null,null,null,137.02000000000001,null,null,null,null,null,null,null,null,null,null,null,137.02000000000001]
["Лапухин Андрей / Lapuhin Andrej / 1989",null,null,null,null,null,null,null,null,null,null,null,null,null,null,null,null,null,null,null,150.85,null,162.88,null,null,null,null,null,313.73]
["Ларионов Андрей / Larionov Andrej / 1981",null,null,null,null,228.16,null,null,null,null,null,null,null,null,null,null,null,null,null,null,null,null,236.68,null,null,null,null,null,464.84000000000003]
["Ласюк Юрий / Lasyuk Yurij / 1987",null,null,null,null,301.17,null,null,null,478.53,null,null,471.82,null,null,null,345.3,null,null,424.92,null,null,null,527.86,null,null,null,null,2549.6]
["Лаханич Мария / Lahanich Mariya / 1991",null,null,null,null,null,null,null,null,null,null,null,null,null,null,null,null,null,null,null,158.66999999999999,null,null,null,null,null,null,null,158.66999999999999]
["Леверовский Александр / Leverovskij Aleksandr / 1988",null,null,null,null,null,null,null,null,null,null,null,175.56,null,null,null,null,null,null,null,null,null,null,null,null,null,null,281.75,457.31]
["Левонюк Анна / Levonyuk Anna / 1986",null,null,null,null,null,null,null,null,null,null,null,null,null,null,null,null,null,null,null,null,null,345.26,null,null,null,null,null,345.26]
["Левчук Александр / Levchuk Aleksandr / 1970",null,null,null,null,null,null,null,null,null,null,null,318.2,null,null,null,null,null,null,null,null,null,null,null,null,null,null,null,318.2]
["Левчук Ирина / Levchuk Irina / 1974",null,null,null,null,null,null,null,null,null,null,114.63,null,null,null,null,null,null,null,null,null,null,null,null,null,null,null,null,114.63]
["Легчеков Дмитрий / Legchekov Dmitrij / 1984",null,null,null,null,null,null,null,null,null,null,null,null,null,null,183.56,null,null,null,null,null,null,null,null,null,null,null,null,183.56]
["Леденёв Андрей / Ledenjov Andrej / 1971",null,427.53,null,null,447.19,null,null,null,null,null,null,null,null,null,null,null,null,null,null,null,null,null,null,null,null,null,null,874.72]
["Леонов Алексей / Leonov Aleksej / 1986",null,null,null,null,null,null,null,null,null,null,null,null,null,null,null,163.06,null,null,null,null,null,null,null,null,null,null,null,163.06]
["Леонов Иван / Leonov Ivan / 1986",null,null,null,null,null,659.13,null,null,497.68,null,null,null,null,null,null,350.1,null,null,449.2,null,null,null,null,723.44,null,null,null,2679.55]
["Леонович Виталий / Leonovich Vitalij / 1984",null,null,null,null,null,null,null,null,null,null,null,null,null,null,127.48,null,null,null,null,null,null,null,null,null,null,null,null,127.48]
["Леончик Владимир  / Leonchik Vladimir  / 1985",null,null,null,163.61000000000001,null,null,null,null,null,null,null,null,null,null,null,null,null,null,null,null,null,null,null,null,null,null,null,163.61000000000001]
["Лесковец Александр / Leskovets Aleksandr / 1990",null,null,null,null,null,null,null,null,389.21,null,null,null,null,null,null,249.38,null,null,null,null,null,null,null,null,null,682.73,null,1321.32]
["Лесникович Лиана / Lesnikovich Liana / 1988",null,null,null,null,null,null,null,null,null,null,null,null,null,null,231.52,null,null,null,null,null,null,null,null,null,null,null,null,231.52]
["Летунович Егор / Letunovich Egor / 1984",null,null,null,null,null,null,null,null,null,null,null,null,null,null,null,null,null,null,null,null,null,10.18,null,null,null,null,null,10.18]
["Лещевич Валерий / Leschevich Valerij / 1989",null,null,null,null,null,null,null,null,null,null,372.56,null,null,null,null,null,null,null,null,282.83999999999997,null,null,null,null,null,null,null,655.4]
["Лещинский Владимир / Leschinskij Vladimir / 1983",null,null,579.29,null,null,null,null,null,null,null,null,null,null,null,null,null,null,null,null,null,null,null,null,null,null,null,null,579.29]
["Липницкая Виктория / Lipnitskaya Viktoriya / 1987",null,null,null,null,null,null,null,210.64,null,null,null,197.5,null,null,null,null,null,null,null,null,null,null,221.7,null,null,null,null,629.83999999999992]
["Липская Наталья / Lipskaya Natalya / 1977",null,null,null,null,null,null,null,null,null,null,null,null,null,null,null,null,59.58,null,null,null,null,null,null,null,null,null,null,59.58]
["Липская Яна / Lipskaya Yana / 2007",null,null,null,null,null,null,null,null,null,null,null,null,null,null,null,null,68.09,null,null,null,null,null,null,null,null,null,null,68.09]
["Липский Александр / Lipskij Aleksandr / 1977",null,null,null,null,null,null,null,null,null,null,null,null,null,null,76.489999999999995,null,null,null,null,null,null,null,null,null,null,null,null,76.489999999999995]
["Липский Андрей / Lipskij Andrej / 1985",null,null,null,null,null,null,null,null,null,null,null,null,null,null,null,null,null,null,null,null,null,203.59,null,null,null,null,null,203.59]
["Лира Дина / Lira Dina / 1980",null,null,null,null,null,null,null,null,null,null,null,null,null,null,null,null,null,null,null,null,null,null,null,null,170.31,null,null,170.31]
["Лисовская Наталья / Lisovskaya Natalya / 1998",null,null,null,null,null,null,null,null,null,null,null,null,null,null,null,219.24,null,null,null,null,null,null,null,null,null,null,null,219.24]
["Лисовский Виктор / Lisovskij Viktor / 1964",null,null,456.41,null,null,null,null,null,null,null,null,null,357.14,null,null,81.53,null,null,null,null,null,null,158.36000000000001,null,null,null,520.15,1573.5900000000001]
["Лисовский Павел / Lisovskij Pavel / 1986",null,null,null,null,null,null,null,null,null,null,null,null,null,null,null,null,null,154.55000000000001,null,null,null,null,null,null,null,null,606.85,761.40000000000009]
["Литвинка Нина / Litvinka Nina / 1991",null,null,null,null,null,null,null,null,null,null,null,null,null,null,null,null,null,null,null,null,null,null,null,null,null,null,210.54,210.54]
["Литвинская Людмила / Litvinskaya Lyudmila / 1977",null,null,null,null,170.36,null,null,null,281.89999999999998,null,null,null,null,null,null,null,null,null,null,null,null,null,null,null,null,null,null,452.26]
["Лобанова Елена / Lobanova Elena / 1984",null,null,null,null,null,null,null,null,null,null,null,null,null,null,null,null,null,null,null,null,null,46.66,null,null,null,null,null,46.66]
["Лобач Павел / Lobach Pavel / 1989",null,null,null,null,null,null,null,null,null,null,null,null,null,null,null,null,null,null,null,null,null,142.52000000000001,null,null,null,null,null,142.52000000000001]
["Логиновский Михаил / Loginovskij Mihail / 1976",null,null,null,null,null,null,null,null,null,null,119.75,null,null,null,null,null,null,null,null,null,null,null,null,null,null,null,null,119.75]
["Лозюк Алексей / Lozyuk Aleksej / 1976",null,null,null,null,null,null,null,null,null,null,null,null,null,null,null,null,null,null,null,null,null,346.11,null,null,null,null,null,346.11]
["Лойко Сергей / Lojko Sergej / 1985",null,463.91,null,null,null,null,null,351.71,null,null,null,416.95,null,null,null,292.55,null,318.18,null,null,326.60000000000002,null,null,null,null,null,null,2169.9]
["Лопатик Юрий / Lopatik Yurij / 1984",null,null,null,null,null,null,null,154.41,null,null,null,null,null,null,null,null,null,null,null,null,null,137.43,null,null,null,null,null,291.84000000000003]
["Лукашенок Алексей / Lukashenok Aleksej / 1978",null,null,null,null,null,null,null,null,440.25,null,null,null,null,null,null,null,null,null,null,null,null,null,null,null,null,null,null,440.25]
["Лукин Василий / Lukin Vasilij / 1951",null,null,null,null,null,null,null,null,null,null,null,null,null,null,null,null,null,null,null,null,null,20.36,null,null,null,null,null,20.36]
["Лукин Павел / Lukin Pavel / 1978",null,null,null,null,null,null,null,null,null,null,null,null,null,null,null,null,null,null,null,null,null,null,null,null,6.06,null,null,6.06]
["Лукьяненко Александр / Lukyanenko Aleksandr / 1984",null,445.72,null,null,null,null,null,null,null,null,null,null,null,null,null,null,null,null,null,null,null,null,468.48,null,null,null,null,914.2]
["Лукьянов Александр / Lukyanov Aleksandr / 1979",null,null,null,null,null,null,null,240.19,null,null,null,null,null,null,null,null,null,null,null,null,null,null,null,null,null,null,null,240.19]
["Лунский Сергей / Lunskij Sergej / 1995",null,100.06,null,null,null,null,null,null,null,null,null,null,null,null,null,null,null,null,null,null,null,null,null,null,null,null,null,100.06]
["Лупин Сергей / Lupin Sergej / 1985",null,null,null,null,null,null,null,null,null,null,166.32,null,null,null,null,28.77,null,null,null,null,null,null,null,null,null,null,null,195.09]
["Луцевич Eвгений / Lutsevich Evgenij / 1964",null,null,52.66,null,null,null,null,null,null,null,null,null,null,null,null,null,null,null,null,null,null,null,null,null,null,null,null,52.66]
["Лучинович Сергей / Luchinovich Sergej / 1979",null,null,null,null,null,null,null,null,null,null,null,null,null,null,null,57.55,null,null,null,null,null,null,null,null,null,null,null,57.55]
["Лучкин Олег / Luchkin Oleg / 1983",null,null,null,null,null,null,null,null,null,null,null,null,null,null,null,null,null,null,null,null,null,null,null,null,null,null,173.38,173.38]
["Лысенко Ольга / Lysenko Olga / 1989",null,null,null,null,null,null,null,null,null,null,null,null,null,null,null,null,null,null,null,null,null,74.650000000000006,null,null,null,null,null,74.650000000000006]
["Лысенко Павел / Lysenko Pavel / 1966",896.55,null,null,null,null,null,null,null,null,null,null,null,null,null,null,null,null,null,null,null,null,null,null,null,null,938.76,null,1835.31]
["Львовский Андрей / Lvovskij Andrej / 1991",null,null,null,null,null,null,null,null,306.26,null,null,null,null,null,null,null,null,null,null,null,null,null,null,null,null,null,null,306.26]
["Лялеко Сергей / Lyaleko Sergej / 1986",null,null,null,null,null,null,null,null,null,null,null,null,null,null,null,null,null,null,null,null,null,null,null,null,null,null,195.06,195.06]
["Майхерский Андрей / Majherskij Andrej / 1995",null,null,null,null,null,null,null,null,null,null,null,null,null,null,null,null,null,null,null,null,null,96.71,null,null,null,null,null,96.71]
["Макарский Сергей / Makarskij Sergej / 1987",null,null,null,null,null,null,null,null,null,223.42,null,null,null,null,null,null,null,null,null,null,null,330.84,null,null,null,null,null,554.26]
["Макась Алексей / Makas Aleksej / 1986",null,null,null,null,null,null,null,null,null,null,null,null,null,null,null,null,null,null,null,null,null,22.9,null,null,null,null,null,22.9]
["Маклаков Максим / Maklakov Maksim / 1987",null,null,null,null,null,null,null,null,null,null,null,null,null,null,null,null,null,null,null,null,null,124.7,null,null,null,null,null,124.7]
["Маковский Дмитрий / Makovskij Dmitrij / 1981",null,null,null,null,null,461.39,null,null,null,null,null,null,null,null,null,244.59,null,null,null,null,null,null,415.69,null,null,null,null,1121.67]
["Мактавиш Джон / Maktavish Dzhon / 1987",null,null,null,null,474.57,null,null,null,null,null,null,null,null,null,null,null,null,null,null,null,null,null,null,null,null,null,null,474.57]
["Малалетников Павел / Malaletnikov Pavel / 1982",null,null,null,null,null,null,null,null,null,null,null,null,null,null,null,null,null,null,null,null,null,null,null,null,null,null,411.79,411.79]
["Малаховская Татьяна / Malahovskaya Tatyana / 1989",null,null,null,null,null,null,null,243.05,null,null,null,null,null,null,null,null,null,null,null,null,null,null,null,null,null,null,null,243.05]
["Малаховский Александр / Malahovskij Aleksandr / 1985",null,null,null,null,null,null,null,null,null,null,null,null,null,null,null,null,null,null,null,null,null,null,null,null,null,null,43.35,43.35]
["Малофей Глеб / Malofej Gleb / 1995",null,null,null,null,null,null,null,null,null,null,null,null,null,null,null,null,null,null,null,null,null,null,null,null,121.11,null,null,121.11]
["Малышко Татьяна / Malyshko Tatyana / 1983",null,null,null,null,null,null,null,null,null,206.24,null,null,null,null,null,null,null,null,null,null,null,null,null,null,null,null,null,206.24]
["Малькевич Елена / Malkevich Elena / 1984",null,null,null,null,null,null,null,null,null,null,null,null,null,null,256.33,null,null,null,null,null,null,289.27,null,null,null,null,null,545.59999999999991]
["Мальков Валентин / Malkov Valentin / 1988",null,454.82,null,null,null,681.1,null,null,null,null,null,493.76,null,null,null,378.87,null,363.64,null,null,null,null,null,757.89,null,null,null,3130.08]
["Малявко Сергей / Malyavko Sergej / 1990",null,null,null,null,null,null,null,null,null,null,null,null,null,null,163.16999999999999,null,null,null,null,null,null,null,null,null,null,null,null,163.16999999999999]
["Мамонтова Марина / Mamontova Marina / 1992",null,null,null,null,null,null,null,null,null,null,null,null,null,null,null,null,null,null,null,89.68,null,null,null,null,null,null,null,89.68]
["Мананков Дмитрий / Manankov Dmitrij / 1988",null,null,null,null,null,null,null,null,null,null,null,null,null,null,null,null,null,null,null,169.71,null,null,null,null,null,null,null,169.71]
["Манкевич Алексей / Mankevich Aleksej / 1972",null,null,null,null,null,null,null,null,null,17.190000000000001,null,null,null,null,null,null,null,null,null,null,null,null,null,null,18.170000000000002,null,null,35.36]
["Маркевич Денис / Markevich Denis / 1981",null,391.14,null,null,null,null,null,null,363.69,null,null,null,null,null,null,282.95,null,null,null,null,null,null,184.75,null,null,554.72,null,1777.25]
["Марозик Юлия / Marozik Yuliya / 1993",null,null,null,null,null,null,null,null,null,null,null,null,null,null,null,null,null,null,null,null,313.52999999999997,null,null,null,null,null,null,313.52999999999997]
["Мартынов Дмитрий / Martynov Dmitrij / 1984",null,null,null,317.58999999999997,null,null,null,null,null,null,365.91,null,null,null,null,null,null,null,null,null,null,358.83,null,null,null,null,null,1042.33]
["Мартынчук Ян / Martynchuk Yan / 1987",null,null,null,null,null,null,null,null,null,null,null,null,null,null,null,null,null,null,null,null,null,269.76,null,null,null,null,null,269.76]
["Мартысевич Роман / Martysevich Roman / 1993",723.02,null,null,null,null,null,null,null,null,null,null,null,null,477.06,null,null,null,null,null,null,null,null,null,null,null,null,null,1200.08]
["Марченко Людмила / Marchenko Lyudmila / 1972",null,250.15,null,null,34.07,null,null,null,null,null,null,null,null,null,null,null,null,null,null,null,null,null,null,null,null,null,null,284.22000000000003]
["Марчук Александр / Marchuk Aleksandr / 1986",null,null,null,null,null,null,null,null,299.88,null,null,null,null,null,null,null,null,null,null,null,null,null,null,null,null,null,null,299.88]
["Марчук Михаил / Marchuk Mihail / 1996",null,null,null,null,null,null,null,null,null,null,null,null,null,null,null,null,null,null,null,null,null,null,92.38,null,null,null,null,92.38]
["Матвийчук Вадим / Matvijchuk Vadim / 1976",null,null,null,null,null,null,null,null,null,null,null,null,null,null,null,null,null,null,null,226.27,null,325.75,null,null,null,null,null,552.02]
["Матейчик Юрий / Matejchik Yurij / 1983",null,null,null,null,null,null,null,null,null,null,null,null,null,null,null,null,null,null,null,null,null,null,null,null,54.5,null,null,54.5]
["Маторова Анна / Matorova Anna / 1981",null,null,null,null,null,null,null,null,null,null,null,null,null,null,null,null,null,null,null,null,null,null,null,null,22.71,null,null,22.71]
["Маханьков Александр / Mahankov Aleksandr / 1983",null,null,null,null,null,null,null,null,null,null,null,null,null,null,null,316.52,null,null,null,null,null,null,null,null,null,null,null,316.52]
["Мацко Сергей / Matsko Sergej / 1991",null,null,null,null,null,null,null,null,null,257.8,null,null,null,null,null,null,null,null,null,null,null,null,null,null,null,null,null,257.8]
["Медведев Константин / Medvedev Konstantin / 1990",null,null,null,null,null,null,null,null,null,null,null,null,null,null,null,null,null,390.91,null,null,null,null,null,null,null,null,null,390.91]
["Медведева Ольга / Medvedeva Olga / 1991",null,387.73,null,null,null,null,null,null,null,null,null,null,null,null,null,null,null,null,null,null,null,null,null,null,null,null,null,387.73]
["Медвецкий Денис / Medvetskij Denis / 1986",null,null,null,null,null,null,null,null,null,146.08000000000001,239.5,null,null,null,null,153.47,null,null,null,null,null,null,null,null,null,null,65.02,604.07000000000005]
["Мейсак Александр / Mejsak Aleksandr / 1989",null,null,null,null,null,null,null,null,null,null,null,43.89,null,null,null,null,null,null,null,null,null,null,null,null,null,null,null,43.89]
["Мельник Сергей / Melnik Sergej / 1975",null,null,null,null,null,null,null,null,null,null,null,null,null,null,null,null,null,218.18,null,null,null,null,null,null,null,null,null,218.18]
["Мельник Станислав / Melnik Stanislav / 1991",null,null,null,null,null,null,null,null,null,null,null,null,null,null,null,null,null,null,null,null,null,132.34,null,null,null,null,null,132.34]
["Мельников Павел / Melnikov Pavel / 1998",null,null,null,null,null,null,null,null,null,null,null,null,null,null,244.75,null,null,null,null,null,null,null,null,null,null,null,null,244.75]
["Мельников Роман / Melnikov Roman / 1983",null,null,null,null,null,null,null,null,null,null,null,null,null,null,null,null,null,null,null,188.56,null,null,null,null,null,null,null,188.56]
["Мертенс Андрей / Mertens Andrej / 1992",null,null,null,null,null,null,null,180.14,null,null,73.180000000000007,null,null,null,61.19,null,null,null,null,null,null,null,null,null,null,null,null,314.51]
["Метелица Антон / Metelitsa Anton / 1989",null,null,null,null,null,null,null,null,null,111.71,null,null,null,null,null,null,null,null,null,null,null,null,null,null,null,null,null,111.71]
["Мигас Александр / Migas Aleksandr / 1984",null,null,null,null,null,null,null,null,null,null,null,null,null,null,null,null,null,null,null,null,null,180.69,null,null,null,null,null,180.69]
["Миканович Антон / Mikanovich Anton / 1990",null,null,421.3,null,null,null,null,171.57,null,null,212.89,null,null,null,null,null,null,null,null,null,null,null,null,null,133.22,null,null,938.98]
["Милинкевич Елена / Milinkevich Elena / 1977",null,null,null,null,null,null,null,437.49,null,null,372.56,null,null,null,297.67,null,null,null,null,null,null,null,null,null,null,null,null,1107.72]
["Минич Ольга / Minich Olga / 1989",null,null,null,null,null,null,null,null,null,null,null,null,null,null,null,null,161.72,null,null,null,null,null,null,null,null,null,null,161.72]
["Минков Сергей / Minkov Sergej / 1985",null,null,null,null,182.53,null,null,null,null,null,null,null,null,null,null,null,null,null,null,null,null,null,85.78,null,null,null,null,268.31]
["Минчук Александр / Minchuk Aleksandr / 1974",null,27.29,null,null,null,null,null,null,null,null,null,null,null,null,null,null,null,null,null,null,null,null,null,null,null,null,null,27.29]
["Минько Алексей / Minko Aleksej / 1997",null,null,544.17999999999995,null,null,null,null,null,null,null,null,null,null,null,null,null,null,null,null,null,null,null,null,null,null,null,null,544.17999999999995]
["Миранович Павел / Miranovich Pavel / 1986",null,null,null,null,null,null,null,null,null,null,null,null,null,null,null,null,null,null,null,null,null,155.24,null,null,null,null,null,155.24]
["Миронов Юрий / Mironov Yurij / 1982",null,null,null,null,null,null,null,null,null,null,null,null,null,null,null,null,null,null,null,null,null,null,null,null,151.38,null,null,151.38]
["Михайлова Марина / Mihajlova Marina / 1988",null,null,null,null,null,null,null,null,null,null,null,null,null,null,57.88,null,null,null,null,null,null,null,null,null,null,null,null,57.88]
["Михалкин Сергей / Mihalkin Sergej / 1989",null,null,null,null,null,null,null,null,516.82000000000005,null,null,null,null,null,null,null,null,null,null,null,null,null,null,null,null,null,null,516.82000000000005]
["Михальков Ян / Mihalkov Yan / ",null,null,null,211.73,null,null,null,null,null,null,null,null,null,null,null,null,null,null,null,null,null,null,null,null,null,null,null,211.73]
["Михальчук Евгения / Mihalchuk Evgeniya / ",null,null,null,276.95999999999998,null,null,null,null,null,null,null,null,null,null,null,null,null,null,null,null,null,null,null,null,null,null,null,276.95999999999998]
["Михеенко Ольга / Miheenko Olga / 1992",null,null,null,null,null,null,null,null,null,null,null,null,null,null,null,null,null,null,null,null,null,null,null,null,119.21,null,null,119.21]
["Михно Алла / Mihno Alla / 1979",null,null,null,null,null,null,null,null,140.94999999999999,null,null,null,476.19,null,null,null,null,null,null,null,null,null,null,null,null,null,526.35,1143.49]
["Михно Борис / Mihno Boris / 1982",null,null,null,null,null,null,null,null,102.09,null,null,null,142.86000000000001,null,null,null,null,null,null,null,null,null,32.99,null,null,null,325.10000000000002,603.04]
["Михнович Владимир / Mihnovich Vladimir / 1969",null,null,null,null,null,null,null,null,null,null,null,null,null,null,null,null,null,null,null,null,null,null,59.38,null,null,null,null,59.38]
["Михнюк Виктор / Mihnyuk Viktor / 1990",null,null,null,null,null,null,null,386.02,null,null,null,null,null,null,null,null,null,null,null,null,null,null,null,null,null,null,null,386.02]
["Млынарчик Николай / Mlynarchik Nikolaj / 1998",null,null,null,null,null,null,null,null,null,null,null,null,null,null,null,null,null,null,null,null,null,208.68,null,null,null,null,null,208.68]
["Млынарчик Сергей / Mlynarchik Sergej / 1990",null,null,null,null,null,null,null,null,null,null,null,null,null,null,null,null,null,null,null,null,null,35.630000000000003,null,null,null,null,null,35.630000000000003]
["Моисеева Вероника / Moiseeva Veronika / 1983",null,null,null,null,null,null,null,null,null,null,null,null,null,null,null,null,136.19,null,null,117.28,null,null,null,null,124.89,null,null,378.36]
["Моисеева Елена / Moiseeva Elena / 1990",null,null,null,null,null,null,null,null,null,null,null,null,null,null,null,null,null,null,null,null,null,363.92,null,null,null,null,null,363.92]
["Молочко Александр / Molochko Aleksandr / 1981",925.47,null,null,null,null,null,987.09,null,446.63,null,null,null,null,775.22,null,211.02,null,null,230.67,null,117.58,null,null,620.09,null,null,null,4313.7699999999995]
["Молочко Анна / Molochko Anna / 2006",null,null,null,null,null,null,null,null,null,null,null,null,null,null,null,null,204.28,null,null,null,null,null,null,null,null,null,null,204.28]
["Молочко Николай / Molochko Nikolaj / 2004",null,null,null,null,null,null,null,null,null,null,null,null,null,null,null,null,31.09,null,null,null,null,null,null,null,null,null,null,31.09]
["Молочников Дмитрий / Molochnikov Dmitrij / 1984",null,null,null,202.11,null,null,null,null,null,null,null,null,null,null,null,null,null,null,null,null,null,145.06,null,null,null,null,null,347.17]
["Молчан Александр / Molchan Aleksandr / 1988",null,418.43,null,null,419.81,null,null,null,null,null,null,373.06,null,null,null,335.71,null,null,327.79,null,null,null,329.91,null,null,null,null,2204.71]
["Моргачев Андрей / Morgachev Andrej / 1981",null,null,null,null,null,null,null,null,null,42.97,null,null,null,null,null,null,null,null,null,null,null,null,null,null,null,null,null,42.97]
["Мороз Евгений / Moroz Evgenij / 1985",null,null,null,null,null,null,null,null,null,null,79.83,null,null,null,null,null,null,null,null,null,null,null,null,null,null,null,null,79.83]
["Мороз Чеслав / Moroz Cheslav / 1959",null,null,null,null,null,null,null,null,null,null,null,null,null,null,null,null,null,null,null,null,null,null,39.590000000000003,null,null,null,null,39.590000000000003]
["Морозик Юлия / Morozik Yuliya / 1993",null,null,null,null,null,null,null,null,null,null,null,null,null,null,null,null,null,273.68,null,null,null,null,null,null,null,null,null,273.68]
["Морозова Екатерина / Morozova Ekaterina / 1978",null,125.07,null,null,null,null,null,null,null,null,null,null,null,null,null,null,null,null,null,null,null,null,null,null,null,null,null,125.07]
["Мосийчук Максим / Mosijchuk Maksim / 1984",null,473.01,null,null,492.82,null,null,null,null,null,null,null,null,null,null,326.12,null,null,null,null,null,376.65,null,null,null,null,null,1668.6]
["Мурашкин Виктор / Murashkin Viktor / 1989",null,null,null,null,null,null,null,null,null,null,null,null,null,null,null,null,null,null,null,null,null,null,356.31,null,null,null,null,356.31]
["Мурашкина Галина / Murashkina Galina / 1988",null,300.18,null,null,null,null,null,129.63,null,null,null,null,null,null,null,null,null,null,null,null,null,null,null,null,null,null,null,429.81]
["Мурашов Владимир / Murashov Vladimir / 1983",null,null,null,null,null,null,null,null,108.47,null,null,null,null,null,null,null,null,null,null,null,null,null,null,null,null,null,368.44,476.90999999999997]
["Мышковец Василий  / Myshkovets Vasilij  / 1980",null,null,null,null,118.64,null,null,null,null,null,null,null,null,null,null,null,null,null,null,null,null,null,null,null,199.82,null,null,318.45999999999998]
["Набоков Дмитрий / Nabokov Dmitrij / 1998",null,null,null,null,null,null,null,null,null,null,null,null,null,null,275.35000000000002,null,null,null,null,null,null,null,null,null,null,null,null,275.35000000000002]
["Нагорнюк Михаил / Nagornyuk Mihail / 1984",null,null,null,null,null,593.22,null,null,null,null,null,null,null,null,null,null,null,null,null,null,null,null,null,null,null,null,null,593.22]
["Насвит Дмитрий / Nasvit Dmitrij / 1986",null,null,null,null,null,null,null,null,null,null,null,427.93,null,null,null,null,null,null,null,null,null,null,null,null,null,null,null,427.93]
["Невмержицкая Анна / Nevmerzhitskaya Anna / 1997",null,null,498.27,null,null,194.6,null,307.87,null,null,null,null,null,null,null,null,null,null,null,null,null,null,138.56,null,null,null,null,1139.3]
["Недведская Елена / Nedvedskaya Elena / 1986",null,null,null,null,null,null,null,null,null,null,272.25,null,null,null,null,null,195.77,null,null,null,null,null,null,null,null,null,null,468.02]
["Недень Виталий / Neden Vitalij / 1974",null,null,null,null,null,null,null,null,null,null,null,null,null,null,null,null,null,null,null,null,null,null,369.5,null,null,null,null,369.5]
["Нежаветс Сергей / Nezhavets Sergej / 1989",null,null,null,null,null,null,null,null,null,180.46,null,null,null,null,null,null,null,null,null,null,null,null,null,null,null,null,null,180.46]
["Незнанов Михаил / Neznanov Mihail / 1982",null,null,null,144.36000000000001,null,null,null,null,null,null,106.45,null,null,null,null,null,null,null,null,null,null,139.97,null,null,null,null,null,390.78]
["Некрасов Василий / Nekrasov Vasilij / 1986",null,null,null,null,null,null,null,null,null,null,null,null,null,null,null,null,null,null,null,null,null,null,null,null,null,null,715.21,715.21]
["Необердина Мария / Neoberdina Mariya / 1987",null,null,null,null,null,null,null,null,null,null,null,null,null,null,165.37,null,null,null,null,213.86,null,null,null,null,null,null,null,379.23]
["Нестеров Андрей / Nesterov Andrej / 1981",null,null,null,230.98,null,null,null,null,null,null,null,null,null,null,null,null,null,null,null,null,null,null,null,null,null,null,null,230.98]
["Нестерович Сергей / Nesterovich Sergej / 1994",null,null,null,null,null,null,null,null,null,null,null,null,null,null,null,null,null,null,null,197.99,null,null,null,null,null,640.05999999999995,null,838.05]
["Нефедова Оксана / Nefedova Oksana / 1979",null,237.64,null,null,null,null,null,null,null,null,null,null,null,null,null,null,null,null,null,null,null,null,null,null,null,null,null,237.64]
["Нехайчик Артур / Nehajchik Artur / 1995",null,null,null,null,null,null,null,null,null,null,null,null,null,null,null,null,null,null,null,null,null,201.05,null,null,null,null,null,201.05]
["Нехайчик Артур  / Nehajchik Artur  / 1995",null,null,null,null,209.91,null,null,null,null,null,null,null,null,null,null,null,null,null,null,null,null,null,null,null,null,null,null,209.91]
["Нехайчик Мария / Nehajchik Mariya / 1995",null,null,null,null,null,null,null,null,null,null,null,null,null,null,107.49,null,null,null,null,null,null,null,null,null,null,null,null,107.49]
["Нечаев Владимир / Nechaev Vladimir / 1995",null,null,null,null,null,null,null,368.87,null,null,null,null,null,null,249.85,null,null,null,null,null,null,341.02,null,null,null,null,null,959.74]
["Нечай Алексей / Nechaj Aleksej / 1980",null,null,null,null,null,null,null,null,null,null,null,null,null,null,null,null,null,null,null,null,null,null,118.77,null,null,null,null,118.77]
["Нещик Алексей / Neschik Aleksej / 1983",null,null,null,null,null,null,null,null,null,null,null,null,null,null,178.47,null,null,null,null,null,null,null,null,null,null,null,null,178.47]
["Никеенко Вита / Nikeenko Vita / 1984",null,null,null,null,null,null,null,null,null,null,null,null,null,null,null,null,null,null,null,null,null,null,304.83999999999997,null,null,null,null,304.83999999999997]
["Никитюк Алексей / Nikityuk Aleksej / 1985",null,null,386.19,null,null,null,null,null,null,null,null,null,null,null,null,null,null,null,null,null,null,183.23,null,null,null,null,null,569.41999999999996]
["Никифоров Дмитрий / Nikiforov Dmitrij / 1989",null,null,null,null,355.93,null,null,null,null,null,null,null,null,null,null,null,null,209.09,null,null,null,null,null,null,null,null,null,565.02]
["Николаевич Дмитрий / Nikolaevich Dmitrij / 1999",null,null,null,null,null,null,null,null,null,null,null,null,null,null,295.74,null,null,null,null,null,null,null,null,null,null,null,null,295.74]
["Николаевский Станислав / Nikolaevskij Stanislav / 1985",null,null,473.96,null,null,null,null,null,null,null,null,null,null,null,null,null,null,null,null,null,null,null,null,null,null,null,null,473.96]
["Никоненко Сергей / Nikonenko Sergej / 1984",null,null,null,null,219.03,null,null,null,null,null,null,null,null,null,null,null,null,null,null,null,null,null,null,null,null,null,null,219.03]
["Никонов Максим / Nikonov Maksim / 1979",null,null,null,null,null,null,null,null,null,null,null,438.9,null,null,null,null,null,null,388.5,null,null,369.01,null,null,null,null,null,1196.4099999999999]
["Никрашевич Сергей / Nikrashevich Sergej / 1985",null,null,null,null,null,null,null,128.66999999999999,null,null,null,null,null,null,null,null,null,null,null,null,null,null,null,null,null,null,null,128.66999999999999]
["Новик Анастасия / Novik Anastasiya / 1985",null,null,null,null,272.57,null,null,null,null,null,null,427.93,null,null,null,null,null,null,null,null,null,null,415.69,null,null,null,null,1116.19]
["Новик Олег / Novik Oleg / 1987",null,null,null,null,null,null,null,null,null,null,null,null,null,null,null,null,null,null,null,null,null,173.05,null,null,null,null,null,173.05]
["Новиков Денис / Novikov Denis / 1989",null,null,null,null,null,null,null,null,null,null,null,null,null,null,173.37,null,null,327.27,null,null,null,null,null,null,null,null,null,500.64]
["Новиков Евгений / Novikov Evgenij / 1988",null,null,null,null,null,null,null,null,null,null,null,null,null,null,null,null,null,null,null,141.41999999999999,null,null,null,null,null,null,null,141.41999999999999]
["Новиков Максим / Novikov Maksim / 1988",null,null,null,null,null,null,null,null,null,null,null,null,null,null,null,null,null,null,null,null,null,null,null,null,169.55,null,null,169.55]
["Новикова Анастасия / Novikova Anastasiya / 1992",null,null,null,null,null,null,null,null,null,null,null,null,null,null,null,null,null,null,null,227.65,null,null,null,null,null,null,null,227.65]
["Новикова Галина  / Novikova Galina  / 1975",null,null,null,null,374.79,null,null,null,null,null,null,null,null,null,null,null,null,null,null,null,null,null,null,null,null,null,null,374.79]
["Новиченко Антон / Novichenko Anton / 1997",null,null,null,null,null,null,null,null,null,null,null,null,null,null,null,383.67,null,null,null,null,null,null,null,null,null,null,null,383.67]
["Новичкова Екатерина  / Novichkova Ekaterina  / 1997",null,null,null,108.81,null,null,null,null,null,null,null,null,null,null,null,null,null,null,null,null,null,null,null,null,null,null,null,108.81]
["Новікаў Анатоль / Novіkau Anatol / 1984",694.1,null,null,null,null,null,null,null,null,null,null,null,null,null,null,null,null,null,null,null,null,null,null,null,null,null,null,694.1]
["Новосяд Владимир / Novosyad Vladimir / 1968",null,54.58,null,null,null,null,null,null,null,null,null,null,null,null,null,null,null,null,null,null,null,null,null,null,null,null,null,54.58]
["Обухов Артём / Obuhov Artjom / 1985",null,null,null,null,45.63,null,null,null,null,null,null,null,null,null,null,null,null,27.27,null,null,null,null,null,null,null,null,null,72.900000000000006]
["Обухова Екатерина / Obuhova Ekaterina / 1978",null,null,null,null,null,null,null,null,null,null,null,null,null,null,null,null,null,null,null,null,null,null,null,null,null,null,631.62,631.62]
["Овсиюк Богдан / Ovsiyuk Bogdan / 1993",null,null,null,null,501.95,null,null,null,472.15,null,null,482.79,null,null,null,null,null,null,null,null,null,null,null,null,null,null,null,1456.8899999999999]
["Окромешко Антон / Okromeshko Anton / 1990",809.79,null,null,null,null,null,null,null,null,null,null,null,null,null,null,null,null,null,null,null,null,null,null,null,null,null,null,809.79]
["Олин Денис / Olin Denis / 1976",null,null,null,null,null,null,null,145.83000000000001,null,null,null,null,null,null,null,null,null,null,null,null,null,null,null,null,null,512.04999999999995,null,657.88]
["Ольгин Василий / Olgin Vasilij / ",null,null,null,96.24,null,null,null,null,null,null,null,null,null,null,null,null,null,null,null,null,null,null,null,null,null,null,null,96.24]
["Ольшевский Александр / Olshevskij Aleksandr / 1984",null,null,null,null,null,null,null,null,null,null,null,null,null,null,null,null,null,null,null,null,null,353.74,null,null,null,null,null,353.74]
["Орлов Алексей / Orlov Aleksej / 1981",null,null,null,null,null,null,null,null,null,null,null,null,null,null,null,null,null,181.82,null,null,null,null,null,null,null,null,null,181.82]
["Орлов Максим / Orlov Maksim / 1990",null,null,null,null,null,null,null,null,null,null,null,null,null,null,null,91.12,null,null,null,null,null,null,null,null,null,null,null,91.12]
["Орлова Татьяна / Orlova Tatyana / 1990",null,null,null,null,null,null,null,null,null,null,null,null,null,null,null,null,76.61,null,null,null,null,null,null,null,null,null,null,76.61]
["Орловский Павел / Orlovskij Pavel / 1989",null,null,null,null,null,null,null,null,350.93,null,319.33999999999997,null,null,null,null,null,null,null,364.22,null,null,null,null,null,null,null,null,1034.49]
["Осадчий Константин / Osadchij Konstantin / 1985",null,null,null,null,null,null,921.29,null,null,null,null,null,null,null,null,null,null,null,null,null,null,null,null,null,null,null,null,921.29]
["Осипенко Александр / Osipenko Aleksandr / 1977",null,null,null,null,383.31,null,null,null,null,null,null,null,null,null,null,null,null,null,null,null,null,null,null,null,null,null,null,383.31]
["Осипук Дмитрий / Osipuk Dmitrij / 1980",null,null,null,null,null,null,null,null,null,null,null,null,null,null,null,null,null,null,null,null,248.21,null,null,null,null,null,null,248.21]
["Осокина Наталья / Osokina Natalya / 1982",null,null,null,98.91,null,null,null,null,null,null,null,null,null,null,null,null,null,null,null,null,null,null,null,null,null,null,null,98.91]
["Остапов Владимир / Ostapov Vladimir / 1977",null,null,null,null,null,null,null,null,370.07,null,null,null,null,null,null,null,null,null,null,null,null,null,null,447.85,null,null,null,817.92000000000007]
["Остаповец Евгений / Ostapovets Evgenij / 1990",null,null,null,null,null,null,null,null,395.59,null,null,null,null,null,239.65,null,null,null,null,null,null,null,349.71,null,null,null,null,984.95]
["Остапюк Андрей / Ostapyuk Andrej / 1990",null,null,null,null,null,null,null,null,null,null,null,null,null,null,null,null,null,null,null,null,null,328.3,null,null,null,null,null,328.3]
["Остапюк Анна / Ostapyuk Anna / 2000",null,null,null,null,null,null,null,null,null,null,null,null,null,null,null,null,null,null,null,null,null,null,null,null,181.66,null,null,181.66]
["Островцов Александр / Ostrovtsov Aleksandr / 1988",null,36.39,null,null,null,null,null,null,null,null,null,null,null,null,null,null,null,null,null,null,null,null,null,null,null,null,null,36.39]
["Островцова Марина / Ostrovtsova Marina / 1987",null,187.61,null,null,null,null,null,null,null,null,null,null,null,null,null,null,null,null,null,null,null,null,null,null,null,null,null,187.61]
["Охотникова Екатерина  / Ohotnikova Ekaterina  / 1968",null,null,null,9.89,null,null,null,null,null,null,null,null,null,null,null,null,null,null,null,null,null,null,null,null,null,null,null,9.89]
["Павленко Юрий / Pavlenko Yurij / 1983",null,null,null,null,null,null,null,325.98,null,null,null,null,null,null,null,null,null,null,null,null,null,null,422.29,null,null,null,null,748.27]
["Павлов Александр / Pavlov Aleksandr / 1992",null,null,null,null,null,null,null,null,null,null,6.65,null,null,null,null,null,null,null,null,null,null,null,null,null,null,null,null,6.65]
["Павлова Анна / Pavlova Anna / 1992",null,null,null,null,null,null,null,null,null,null,null,null,null,null,198.45,null,null,null,null,null,null,null,null,null,null,null,null,198.45]
["Павловская Светлана / Pavlovskaya Svetlana / 1984",null,null,null,null,null,null,null,null,null,null,300.91000000000003,null,null,null,173.64,null,null,null,null,null,null,186.63,null,null,null,null,null,661.18000000000006]
["Пак Олег / Pak Oleg / 1977",null,null,null,null,346.8,null,null,null,null,null,null,null,null,null,null,null,null,null,null,null,null,null,263.93,null,null,null,null,610.73]
["Пак Юлия  / Pak Yuliya  / 1984",null,null,null,39.57,null,null,null,null,null,null,null,null,null,null,null,null,null,null,null,null,null,null,null,null,null,null,null,39.57]
["Палий Андрей / Palij Andrej / 1984",null,363.85,null,null,null,175.77,null,null,null,171.86,null,null,null,null,null,215.81,null,null,206.39,null,104.51,null,217.74,null,null,null,null,1455.9299999999998]
["Пальвинская Валерия / Palvinskaya Valeriya / 1996",null,null,221.45,null,null,null,null,null,null,null,null,null,null,null,null,null,null,null,null,null,null,null,null,null,null,null,null,221.45]
["Панковец Николай / Pankovets Nikolaj / 1979",null,null,null,null,null,null,null,162.99,null,null,null,null,null,null,null,null,null,null,null,null,null,null,null,null,null,null,null,162.99]
["Панфилов Сергей  / Panfilov Sergej  / 1975",null,null,null,null,109.52,null,null,null,null,null,null,null,null,null,null,null,null,null,null,null,null,null,null,null,null,null,null,109.52]
["Паплёвка Иван / Papljovka Ivan / 1990",null,null,null,336.84,null,null,null,null,null,null,null,null,null,null,null,null,null,null,null,null,null,null,null,null,272.49,null,null,609.32999999999993]
["Паранок Полина / Paranok Polina / 1984",null,null,null,null,null,null,null,null,null,null,null,null,null,null,null,null,null,null,null,null,null,null,null,null,158.94999999999999,null,null,158.94999999999999]
["Пархимович Ирина / Parhimovich Irina / 1988",null,null,null,null,null,null,null,null,null,null,null,null,null,null,214.99,null,null,null,null,null,null,null,null,null,null,null,null,214.99]
["Пашкевич Павел / Pashkevich Pavel / 1984",null,null,null,null,null,null,null,null,null,null,null,null,null,null,null,null,null,null,null,null,null,30.54,null,null,null,null,null,30.54]
["Пенько Фёдор / Penko Fjodor / 1987",null,null,null,null,null,null,null,null,null,null,null,null,null,null,null,null,null,null,null,null,null,null,296.92,null,null,null,null,296.92]
["Переходько Виктор / Perehodko Viktor / 1969",null,null,null,null,null,null,null,null,null,null,null,null,null,null,null,null,null,null,null,null,null,null,null,null,181.66,null,null,181.66]
["Петкевич Лилия / Petkevich Liliya / 1990",null,null,null,null,null,null,null,81.02,null,null,null,null,null,null,null,null,null,null,null,null,null,null,null,null,17.03,null,null,98.05]
["Петкевич Юлия / Petkevich Yuliya / 1968",null,null,null,null,null,null,null,null,null,null,null,null,null,null,null,null,null,null,null,null,null,null,null,null,11.35,null,null,11.35]
["Петров Андрей / Petrov Andrej / 1970",null,null,null,null,null,null,null,null,null,null,null,null,null,null,null,null,null,null,null,null,null,17.809999999999999,null,null,null,null,null,17.809999999999999]
["Пехтерев Сергей / Pehterev Sergej / 1979",null,null,null,86.62,null,null,null,null,null,94.52,null,null,null,null,null,null,null,null,null,null,null,78.89,null,null,null,null,null,260.02999999999997]
["Пехтерева Татьяна / Pehtereva Tatyana / 1987",null,null,null,178.04,null,null,null,null,null,309.35000000000002,null,null,null,null,null,null,null,400,null,null,null,391.92,null,null,null,null,null,1279.31]
["Печёнов Георгий / Pechjonov Georgij / 1975",null,null,null,null,374.18,null,null,291.66000000000003,null,null,null,241.39,null,null,null,null,null,null,null,null,null,null,null,null,null,null,130.04,1037.27]
["Пешков Кирилл / Peshkov Kirill / 1989",null,null,null,null,410.69,null,null,null,null,null,null,null,null,null,null,null,null,null,null,null,null,null,null,null,null,null,null,410.69]
["Пивень Андрей / Piven Andrej / 1992",null,null,null,null,null,null,null,null,null,null,null,null,null,null,null,null,null,null,null,null,null,null,null,null,null,1066.77,null,1066.77]
["Пигулевский Денис / Pigulevskij Denis / 1990",null,null,null,null,null,null,null,null,null,null,null,null,null,null,null,null,null,null,null,null,null,226.5,null,null,null,null,null,226.5]
["Пилецкий Максим / Piletskij Maksim / 1991",null,null,null,null,null,null,null,null,null,null,null,null,null,null,40.79,null,null,36.36,null,null,null,63.62,null,null,null,null,null,140.77000000000001]
["Пилипейко Дарья / Pilipejko Darya / 1999",null,null,null,null,null,null,null,null,null,null,null,null,null,null,null,null,null,null,null,null,null,null,null,null,249.78,null,null,249.78]
["Пиньковская Ирина / Pinkovskaya Irina / 1986",null,null,null,null,null,null,null,null,null,null,null,null,null,null,null,null,229.82,null,null,null,null,null,null,null,null,null,null,229.82]
["Писаренко Андрей / Pisarenko Andrej / 1957",null,null,null,null,null,null,null,null,216.94,null,null,null,null,null,null,null,null,null,null,null,null,null,null,null,null,null,null,216.94]
["Писарик Маргарита  / Pisarik Margarita  / 1988",null,null,null,148.37,null,null,null,null,null,null,null,null,null,null,null,null,null,null,null,null,null,null,null,null,null,null,null,148.37]
["Питкевич Екатерина / Pitkevich Ekaterina / 1984",null,null,null,null,null,null,null,null,null,null,null,null,null,null,null,null,null,null,null,262.14999999999998,null,null,null,null,null,null,null,262.14999999999998]
["Пісарчык Сяргей / Pіsarchyk Syargej / 1980",null,null,null,null,null,null,null,null,null,null,null,null,null,null,null,374.07,null,null,null,null,null,null,null,null,null,null,null,374.07]
["Плодунов Захар / Plodunov Zahar / 1993",null,491.2,null,346.47,null,null,null,null,null,null,null,null,null,null,null,null,null,null,null,null,null,null,null,null,null,null,null,837.67000000000007]
["Побединский Александр / Pobedinskij Aleksandr / 1983",867.63,null,null,null,null,null,855.48,null,null,null,null,null,null,null,null,null,null,null,null,null,null,null,null,null,null,null,null,1723.1100000000001]
["Поволоцкая Кристина / Povolotskaya Kristina / 1990",null,25.01,null,null,null,null,null,null,null,null,null,null,null,null,null,null,null,null,null,null,null,null,null,null,null,null,null,25.01]
["Поволоцкий Даниил / Povolotskij Daniil / 1990",null,9.1,null,null,null,null,null,null,null,null,null,null,null,null,null,null,null,null,null,null,null,null,null,null,null,null,null,9.1]
["Подайко Владимир / Podajko Vladimir / 1994",null,null,null,null,null,null,null,null,null,null,null,null,null,null,null,null,null,null,null,null,null,null,230.94,null,null,null,null,230.94]
["Подосетников Андрей / Podosetnikov Andrej / 1976",null,null,null,null,null,null,null,null,null,null,null,null,null,null,null,null,null,127.27,null,null,null,null,409.09,null,null,null,null,536.36]
["Подрез Ярослав / Podrez Yaroslav / 1996",null,null,null,null,null,null,null,null,242.46,null,null,null,null,null,null,254.18,null,null,null,null,null,null,null,null,null,853.42,null,1350.06]
["Позднева Мария / Pozdneva Mariya / 2001",null,null,null,null,null,null,null,null,null,null,null,null,null,null,null,null,null,null,null,144.87,null,null,null,null,198.69,null,null,343.56]
["Позняк Анна / Poznyak Anna / 2000",null,null,null,null,null,null,null,null,null,null,null,null,null,null,null,null,null,null,null,null,null,null,null,null,62.45,null,null,62.45]
["Позняк Лидия / Poznyak Lidiya / 2002",null,null,null,null,null,null,null,null,null,null,null,null,null,null,null,null,null,null,null,27.59,null,null,null,null,null,null,null,27.59]
["Покульницкий Алексей / Pokulnitskij Aleksej / 1988",null,null,175.54,null,null,null,null,null,null,null,null,null,null,null,null,23.98,null,null,null,null,null,null,null,null,null,null,null,199.51999999999998]
["Полещук Татьяна / Poleschuk Tatyana / 1988",694.1,null,null,null,null,null,null,null,null,null,null,null,null,null,null,null,null,null,null,null,null,null,null,null,null,null,null,694.1]
["Полторан Валерий / Poltoran Valerij / 1988",null,null,null,null,null,null,null,null,null,null,null,null,null,null,null,null,null,null,null,null,null,379.19,null,null,null,null,null,379.19]
["Полякова Анна / Polyakova Anna / 1987",null,312.69,null,89.02,null,null,null,null,null,244.91,229.27,null,null,null,190.18,null,null,null,null,null,null,null,null,null,null,null,null,1066.07]
["Попадюк Виктория  / Popadyuk Viktoriya  / 1985",null,null,null,217.61,null,null,null,null,null,null,null,null,null,null,null,null,null,null,null,null,null,null,null,null,null,null,null,217.61]
["Попадюк Игорь / Popadyuk Igor / 1982",null,null,631.95000000000005,null,null,549.28,null,null,344.54,null,null,null,535.71,null,null,196.63,null,null,267.08999999999997,null,null,null,null,null,null,null,null,2525.2000000000003]
["Попков Виталий / Popkov Vitalij / 1981",null,null,null,null,null,null,null,null,null,null,null,null,null,null,null,null,null,null,null,null,null,43.26,null,null,null,null,null,43.26]
["Попов Александр / Popov Aleksandr / 1986",null,null,null,null,null,null,null,null,null,null,null,null,null,null,null,302.14,null,null,null,null,null,null,534.46,null,null,null,null,836.6]
["Попов Юрий / Popov Yurij / 1969",null,null,702.17,null,null,null,null,null,null,null,null,null,null,null,null,null,null,null,null,null,null,null,null,516.74,null,null,null,1218.9099999999999]
["Постников Михаил / Postnikov Mihail / 1984",null,null,null,null,null,null,null,null,null,null,null,null,null,null,null,null,null,null,null,28.28,null,null,null,null,null,null,null,28.28]
["Постникова Ольга / Postnikova Olga / 1990",null,null,null,null,null,null,null,null,null,null,null,null,null,null,null,null,null,null,null,48.29,null,null,null,null,null,null,null,48.29]
["Потапов Сергей / Potapov Sergej / 1988",null,null,null,null,null,null,null,null,null,240.61,null,null,null,null,null,null,null,null,null,null,null,null,null,null,null,null,null,240.61]
["Похолкин Александр / Poholkin Aleksandr / 1988",null,null,null,null,null,null,null,null,null,null,null,null,null,null,null,null,null,null,null,null,null,175.6,null,null,null,null,null,175.6]
["Поцелуев Сергей / Potseluev Sergej / 1973",null,null,null,null,null,null,null,null,null,null,null,null,null,null,null,null,null,null,null,null,null,null,null,null,null,null,433.46,433.46]
["Почиковский Павел / Pochikovskij Pavel / 1985",null,null,null,null,null,null,null,null,null,null,null,null,null,null,null,null,null,null,null,null,null,348.65,null,null,null,null,null,348.65]
["Прищепа Сергей / Prischepa Sergej / 1985",null,null,null,null,91.26,null,null,null,null,null,null,null,null,null,null,null,null,null,null,null,null,null,null,null,null,null,null,91.26]
["Прокопенко Анна / Prokopenko Anna / 1980",null,50.03,null,null,null,null,null,null,null,null,null,null,null,null,null,null,null,null,null,null,null,null,null,null,null,null,null,50.03]
["Прокопович Ростислав / Prokopovich Rostislav / 1982",null,null,596.84,null,null,null,null,null,null,null,null,null,null,null,null,null,null,null,null,null,null,null,null,null,null,null,null,596.84]
["Прохоренко Дмитрий / Prohorenko Dmitrij / 1981",null,null,null,240.6,null,null,null,null,null,null,null,null,null,null,null,null,null,null,null,null,null,206.14,null,null,null,null,null,446.74]
["Птицына Оксана / Ptitsyna Oksana / 1976",null,null,null,null,null,null,null,null,null,null,null,null,null,null,null,null,null,null,null,null,null,null,null,null,5.68,null,null,5.68]
["Пугач Вадим / Pugach Vadim / 1985",null,null,null,null,null,null,null,205.88,null,null,null,null,null,null,null,null,null,null,null,null,null,null,null,null,null,null,null,205.88]
["Пузаревский Роман / Puzarevskij Roman / 1994",null,null,null,null,null,null,null,360.29,null,null,null,null,null,null,null,null,null,null,null,null,null,null,null,null,null,null,null,360.29]
["Пухаева Светлана / Puhaeva Svetlana / 1980",null,325.19,null,null,null,null,null,372.68,null,null,null,null,null,null,null,null,null,null,null,null,null,null,249.42,null,null,null,null,947.29]
["Пучик Александр / Puchik Aleksandr / 1983",null,null,509.07,null,null,null,null,null,null,null,null,null,null,null,null,null,null,null,null,null,null,null,null,null,null,null,null,509.07]
["Пыжик Антон / Pyzhik Anton / 1991",null,null,null,null,null,null,null,null,null,null,null,null,null,null,null,null,null,null,null,null,null,251.95,null,null,null,null,null,251.95]
["Рагойша Пётр / Ragojsha Pjotr / 1976",null,null,null,null,null,null,null,null,null,null,null,null,null,834.85,null,206.22,null,null,null,null,null,null,null,null,null,null,null,1041.07]
["Радиончик Александр / Radionchik Aleksandr / 1971",null,null,null,null,null,null,null,null,null,null,null,null,null,null,null,null,null,null,null,null,null,109.43,null,null,null,null,null,109.43]
["Радиончик Александр / Radionchik Aleksandr / 1985",null,null,315.98,null,null,null,null,null,null,null,null,164.59,null,null,null,62.35,null,null,null,null,null,null,null,null,null,null,null,542.92000000000007]
["Радчук Алеся / Radchuk Alesya / 1996",null,null,null,null,null,null,null,null,null,null,null,null,null,null,null,null,null,null,null,null,null,null,null,null,null,null,473.71,473.71]
["Рак Дмитрий / Rak Dmitrij / 1992",null,null,null,null,null,null,null,null,null,null,null,null,null,null,null,null,null,145.44999999999999,null,null,null,null,null,null,null,null,null,145.44999999999999]
["Ракомсин Юрий / Rakomsin Yurij / 1983",null,null,null,null,null,null,null,null,null,null,null,null,null,null,null,null,null,54.55,null,null,null,null,null,null,null,null,null,54.55]
["Рачковский Николай / Rachkovskij Nikolaj / 1985",318.13,null,null,null,null,null,null,null,null,null,null,null,null,null,null,null,null,null,null,null,null,null,null,null,null,null,null,318.13]
["Рачковский Сергей / Rachkovskij Sergej / 1988",null,null,null,null,null,null,null,null,null,null,null,null,null,null,null,null,null,null,null,null,null,null,null,null,null,null,541.83000000000004,541.83000000000004]
["Ращинский Александр / Raschinskij Aleksandr / 1990",null,null,null,null,null,null,null,null,null,null,null,null,null,null,101.98,null,null,null,null,null,null,null,null,null,null,null,null,101.98]
["Резвицкая Елена / Rezvitskaya Elena / ",null,null,null,null,null,null,null,null,null,null,null,null,null,null,null,null,null,null,null,null,null,null,null,null,68.12,null,null,68.12]
["Ремизевич Вадим / Remizevich Vadim / 1980",null,null,null,null,null,null,null,null,null,null,113.1,null,null,null,null,null,null,null,null,null,null,null,null,null,null,null,null,113.1]
["Ремизевич Роман / Remizevich Roman / 1982",null,null,null,null,null,null,null,null,null,null,null,null,null,null,null,null,null,null,null,null,null,null,310.12,null,null,null,null,310.12]
["Рингевич Александр  / Ringevich Aleksandr  / 1983",null,null,null,null,null,241.68,null,null,null,null,null,null,null,null,null,null,null,null,null,null,null,null,null,null,null,null,null,241.68]
["Робова Марина / Robova Marina / 1960",null,null,null,null,null,null,null,null,null,null,null,null,null,null,null,null,null,null,null,null,null,9.33,null,null,null,null,null,9.33]
["Родионова Светлана / Rodionova Svetlana / 1981",null,null,null,null,null,null,null,null,null,null,null,null,null,null,null,null,42.56,null,null,55.19,null,null,null,null,null,null,null,97.75]
["Ролдугин Михаил / Roldugin Mihail / 1987",null,null,null,null,null,null,null,257.35000000000002,null,null,null,null,null,null,null,null,null,null,null,null,null,null,null,null,null,null,null,257.35000000000002]
["Романовская Ольга / Romanovskaya Olga / 1988",null,null,null,null,null,null,null,null,null,null,null,null,null,null,null,null,null,null,null,null,null,null,null,null,141.91999999999999,null,null,141.91999999999999]
["Романцевич Илья / Romantsevich Ilya / 1990",null,null,null,null,null,null,null,null,null,null,null,null,null,null,null,null,null,null,null,null,null,null,488.27,null,null,null,null,488.27]
["Рудковская Татьяна / Rudkovskaya Tatyana / 1997",null,null,null,null,null,null,null,null,null,null,null,null,null,null,181.91,null,null,null,null,null,null,null,null,null,null,null,null,181.91]
["Рудницкий Сергей / Rudnitskij Sergej / 1979",null,null,null,null,null,null,null,null,null,null,null,null,null,null,null,null,null,null,null,null,null,188.32,null,null,null,null,null,188.32]
["Рудович Александр / Rudovich Aleksandr / 1990",null,null,null,null,null,null,null,null,null,null,126.4,null,null,null,null,null,null,null,null,null,null,null,null,null,null,null,null,126.4]
["Ружицкая Елена / Ruzhitskaya Elena / 1983",null,null,null,null,null,null,null,null,null,null,null,null,null,null,99.22,null,null,null,null,null,null,null,null,null,null,null,null,99.22]
["Русакова Татьяна / Rusakova Tatyana / 1979",null,null,null,null,null,null,null,null,null,null,null,null,null,null,148.84,null,null,null,null,null,null,167.97,null,null,null,null,null,316.81]
["Рускевич Максим / Ruskevich Maksim / 1990",null,null,null,null,null,null,null,null,null,51.56,null,null,null,null,null,null,null,null,null,null,null,117.07,null,null,null,null,null,168.63]
["Руссинов Сергей / Russinov Sergej / 1989",null,null,null,null,null,null,null,null,null,null,null,null,null,null,null,null,null,null,null,null,null,333.39,null,null,null,null,null,333.39]
["Рыжков Алексей / Ryzhkov Aleksej / 1992",null,null,null,125.11,null,null,null,null,null,null,null,null,null,null,null,null,null,null,null,null,null,null,null,null,null,null,null,125.11]
["Рябцева Инна / Ryabtseva Inna / 1974",null,null,null,null,null,null,null,null,null,null,null,null,null,null,null,null,null,null,null,20.7,null,null,null,null,null,null,null,20.7]
["Савич Евгений / Savich Evgenij / 1980",null,null,null,null,null,null,null,300.24,null,null,null,null,null,null,168.27,null,null,null,null,null,null,null,null,null,null,null,null,468.51]
["Савостеня Виктор / Savostenya Viktor / 1989",null,null,null,null,null,null,null,null,null,null,null,null,null,null,219.26,null,null,null,null,null,null,null,null,null,null,null,null,219.26]
["Савченко Марина / Savchenko Marina / 1983",null,null,null,null,null,null,null,null,null,null,null,null,null,null,null,null,null,null,null,6.9,null,null,null,null,null,null,null,6.9]
["Сакович Андрей / Sakovich Andrej / 1990",null,null,null,null,null,null,null,null,null,null,null,null,null,null,null,null,null,null,null,null,null,null,435.49,null,null,null,null,435.49]
["Салодкин Сергей / Salodkin Sergej / 1984",null,null,null,null,null,null,null,null,null,null,null,null,null,null,null,364.48,null,null,null,null,null,null,null,null,null,null,null,364.48]
["Самсонов Никита / Samsonov Nikita / 1989",null,null,null,null,null,null,null,null,null,null,null,32.92,null,null,56.09,null,null,null,null,null,null,null,null,null,null,null,null,89.01]
["Самусик Елена / Samusik Elena / 1992",null,null,null,null,null,null,null,null,null,null,null,null,null,null,null,null,85.12,null,null,null,null,null,null,null,null,null,null,85.12]
["Саскевич Алексей / Saskevich Aleksej / 1992",null,null,null,null,null,null,null,null,null,null,null,null,null,null,null,null,null,null,null,null,287.41000000000003,null,null,null,null,null,null,287.41000000000003]
["Сафонов Юрий / Safonov Yurij / 1983",null,null,298.42,null,null,null,null,null,null,null,null,null,null,null,null,null,null,null,null,null,null,null,null,null,null,null,null,298.42]
["Сафроненко Андрей / Safronenko Andrej / 1984",null,null,null,null,null,505.33,null,null,null,null,null,null,null,null,null,null,null,null,null,null,null,null,382.7,null,null,null,null,888.03]
["Сверчков Сергей / Sverchkov Sergej / 1988",null,null,null,null,null,null,null,null,null,null,null,null,null,null,null,null,null,227.27,null,null,null,null,null,null,null,null,null,227.27]
["Свечников Антон / Svechnikov Anton / 1991",null,null,null,null,null,null,null,null,312.64,null,null,null,null,null,null,321.32,null,336.36,null,null,null,374.1,null,null,null,null,null,1344.42]
["Свиридов Максим / Sviridov Maksim / 1989",null,null,null,null,null,null,null,null,null,null,null,null,null,null,null,null,null,null,null,null,null,170.51,null,null,null,null,null,170.51]
["Свирков Сергей / Svirkov Sergej / 1987",null,null,null,null,null,null,null,null,null,null,null,null,null,null,null,null,null,null,null,null,null,null,null,null,12.11,null,null,12.11]
["Свиркова Татьяна / Svirkova Tatyana / 1987",null,null,null,null,null,null,null,null,null,null,null,null,null,null,null,null,null,null,null,null,null,null,null,null,28.38,null,null,28.38]
["Селиванов Алексавндр / Selivanov Aleksavndr / 1970",null,null,null,null,null,null,null,null,223.32,null,null,null,null,null,null,null,null,null,null,null,null,null,null,null,null,null,null,223.32]
["Селиванов Максим / Selivanov Maksim / 1981",null,null,null,null,null,null,null,null,null,null,null,null,null,null,null,null,null,null,null,null,null,null,191.35,null,null,null,null,191.35]
["Селищева Ирина / Selischeva Irina / 1983",null,null,null,null,null,null,null,null,null,167.57,null,null,null,null,null,null,null,null,null,null,null,null,null,null,null,null,null,167.57]
["Селютин Владимир / Selyutin Vladimir / 1990",null,null,null,327.22000000000003,null,null,null,null,376.45,null,312.68,null,null,null,254.95,null,null,null,null,263.99,365.79,null,null,null,254.32,810.75,null,2966.15]
["Сенникова Светлана / Sennikova Svetlana / 1980",null,null,null,207.72,null,null,null,null,null,null,null,null,null,null,null,null,null,null,null,null,null,null,null,null,204.37,null,null,412.09000000000003]
["Сеннікаў Ілья / Sennіkau Іlya / 1984",null,null,null,null,237.29,null,null,null,null,null,null,null,null,null,null,null,null,null,null,null,null,198.5,null,null,null,null,null,435.78999999999996]
["Сенько Вероника / Senko Veronika / 1990",null,null,null,null,null,null,null,null,null,null,null,null,null,null,null,null,null,null,null,null,null,null,null,null,193.01,null,null,193.01]
["Сербаев Виталий / Serbaev Vitalij / 1979",null,null,null,null,null,null,null,null,null,null,null,null,null,null,null,110.3,null,null,null,null,null,165.42,null,null,null,null,null,275.71999999999997]
["Сердитов Вадим / Serditov Vadim / 1993",null,null,null,null,null,null,null,null,510.44,null,null,null,null,null,null,null,null,null,485.62,null,null,null,null,null,null,null,null,996.06]
["Середа Александр / Sereda Aleksandr / 1986",null,null,null,null,null,null,null,null,null,null,null,null,null,null,null,null,null,null,null,null,null,null,null,482.29,null,null,null,482.29]
["Сечко Евгений / Sechko Evgenij / 1980",null,null,null,null,null,null,null,null,null,null,null,null,null,null,null,null,null,null,null,null,null,363.92,null,null,null,null,null,363.92]
["Сидоревич Александр / Sidorevich Aleksandr / 1985",null,null,null,null,null,null,null,394.6,null,null,null,null,null,null,null,330.91,null,null,null,null,null,371.56,null,null,null,null,671.87,1768.94]
["Сикорская Настя / Sikorskaya Nastya / 1983",null,null,null,null,306.64999999999998,null,null,324.07,null,null,null,null,null,null,null,null,null,null,null,null,null,null,null,null,null,null,null,630.72]
["Сикорский Сергей / Sikorskij Sergej / 1982",null,null,null,null,null,null,null,null,null,null,null,null,null,null,null,null,null,null,null,null,null,313.02999999999997,null,null,null,null,null,313.02999999999997]
["Силивонова Виктория / Silivonova Viktoriya / 1994",null,null,null,69.239999999999995,null,null,null,null,null,null,null,null,null,null,null,null,187.26,null,null,null,null,null,null,null,null,null,null,256.5]
["Сильванович Валерия / Silvanovich Valeriya / 1998",null,null,null,null,null,null,null,null,null,null,null,329.17,null,null,null,82.21,null,null,null,null,null,null,null,null,null,null,null,411.38]
["Сильченко Наталья / Silchenko Natalya / ",null,null,null,null,null,null,null,145.83000000000001,null,null,null,null,null,null,null,null,null,null,null,null,null,null,null,null,null,null,null,145.83000000000001]
["Сим Игорь / Sim Igor / 1989",null,null,null,null,null,null,null,null,null,null,66.53,null,null,null,null,null,null,null,null,null,null,null,null,null,null,null,null,66.53]
["Симогостицкий Александр / Simogostitskij Aleksandr / 1987",null,null,null,null,null,null,null,null,null,266.39,133.06,null,null,null,null,null,null,null,null,null,null,335.93,null,null,null,null,null,735.38]
["Симонов Александр / Simonov Aleksandr / 1999",null,null,null,null,null,null,null,null,null,null,null,null,null,null,260.05,null,null,null,null,null,null,null,null,null,null,null,null,260.05]
["Симонов Вадим / Simonov Vadim / 1985",null,null,null,null,null,null,null,null,255.22,null,null,null,null,null,null,115.1,null,null,null,null,null,71.260000000000005,null,null,null,null,null,441.58]
["Синица Кирилл / Sinitsa Kirill / 1981",1012.23,null,null,null,null,null,1052.9000000000001,null,null,249.2,null,null,null,894.48,null,354.89,null,354.55,null,null,235.15,null,null,654.54,null,981.43,null,5789.37]
["Сичкарь Игорь / Sichkar Igor / 1975",null,null,null,null,null,131.83000000000001,null,null,null,null,null,null,null,null,null,null,null,null,null,null,null,null,null,null,null,null,null,131.83000000000001]
["Сіпачоў Аляксей / Sіpachou Alyaksej / 1979",null,null,null,null,438.07,null,null,null,null,null,259.45999999999998,null,null,null,null,null,null,null,null,null,null,null,237.54,null,null,null,null,935.06999999999994]
["Скабицкая Анна / Skabitskaya Anna / 1987",null,null,null,null,null,null,null,null,null,null,null,null,null,null,null,null,178.75,null,null,null,null,null,null,null,null,null,null,178.75]
["Скадорва Алексей / Skadorva Aleksej / 1994",null,null,null,null,null,null,null,null,null,null,null,null,null,null,null,null,null,null,null,null,274.33999999999997,null,null,null,null,null,null,274.33999999999997]
["Скирук Юлия / Skiruk Yuliya / 1988",null,500.3,null,null,null,null,null,null,422.85,null,null,null,null,596.32000000000005,null,null,238.33,null,null,null,null,null,null,757.89,null,null,736.89,3252.58]
["Скляр Антон / Sklyar Anton / 1983",null,null,null,null,null,null,null,214.46,null,null,null,null,null,null,null,null,null,null,null,null,null,null,null,null,null,null,null,214.46]
["Скобло Елена / Skoblo Elena / 1984",null,null,null,null,null,null,null,null,null,null,null,null,null,null,null,null,null,null,null,null,null,null,null,null,147.6,null,null,147.6]
["Сковорода Инна / Skovoroda Inna / 1995",null,null,null,null,null,null,null,null,null,null,null,null,null,null,null,null,null,null,null,null,null,null,null,null,261.13,null,null,261.13]
["Скребец Артур  / Skrebets Artur  / 1991",null,null,null,null,191.65,null,null,null,null,null,null,null,null,null,null,null,null,null,null,null,null,null,null,null,null,null,null,191.65]
["Скребец Сергей / Skrebets Sergej / 1963",null,45.48,null,null,null,null,null,null,null,null,null,null,null,null,null,null,null,null,null,null,null,null,null,null,null,null,null,45.48]
["Скуратович Андрей  / Skuratovich Andrej  / 1963",null,null,null,38.5,null,null,null,null,null,null,null,null,null,null,null,null,null,null,null,null,null,null,null,null,null,null,null,38.5]
["Скуратович Антон / Skuratovich Anton / 1985",null,null,null,307.97000000000003,null,null,null,null,459.39,null,null,405.98,null,null,null,311.73,null,null,339.93,null,null,null,389.3,null,null,null,650.19000000000005,2864.4900000000002]
["Скуратович Герман / Skuratovich German / 1990",null,null,null,null,264.67,null,null,null,null,null,null,null,null,null,null,null,null,null,null,null,null,null,null,null,null,null,null,264.67]
["Славинский Дмитрий / Slavinskij Dmitrij / 1986",null,null,null,null,null,null,null,null,261.60000000000002,null,null,21.94,null,null,null,null,null,null,null,null,null,null,null,null,null,null,null,283.54000000000002]
["Слеменева Евгения / Slemeneva Evgeniya / 1993",null,null,null,null,null,null,null,null,null,null,null,null,null,null,null,null,null,null,null,null,null,null,null,null,34.06,null,null,34.06]
["Сливинский Вадим / Slivinskij Vadim / 1984",null,null,null,null,null,null,null,null,null,null,null,null,null,null,null,null,null,null,null,null,null,null,112.17,null,null,null,null,112.17]
["Слободько Дмитрий / Slobodko Dmitrij / 1984",null,null,null,null,null,null,null,317.39999999999998,null,null,null,null,null,null,null,null,null,null,null,null,null,null,461.88,null,null,null,null,779.28]
["Смолко Николай / Smolko Nikolaj / 1987",null,null,null,null,null,285.62,null,null,null,null,null,null,null,null,null,null,null,null,null,null,null,null,null,688.99,null,null,null,974.61]
["Совпель Максим / Sovpel Maksim / 1993",null,null,null,null,null,null,null,null,null,null,null,null,null,null,null,null,null,372.73,null,null,391.92,null,null,null,266.43,null,null,1031.0800000000002]
["Соколов Артем / Sokolov Artem / 1986",null,null,null,28.87,null,null,null,null,null,null,null,null,null,null,null,null,93.26,null,null,66,null,53.44,null,null,null,null,null,241.57]
["Солодкин Сергей / Solodkin Sergej / 1984",null,null,null,null,null,null,null,null,453.01,null,null,null,null,null,null,null,null,345.45,null,null,null,null,null,null,null,null,null,798.46]
["Сопот Александр / Sopot Aleksandr / ",null,null,null,134.74,null,null,null,null,null,null,null,null,null,null,null,null,null,null,null,null,null,null,null,null,null,null,null,134.74]
["Сорока Эдуард / Soroka Eduard / 1991",null,null,null,null,null,null,null,null,null,null,null,null,null,null,null,null,null,null,null,null,null,null,336.51,null,null,null,null,336.51]
["Сорокин Денис / Sorokin Denis / 1998",null,null,null,null,null,null,null,null,null,null,null,null,null,null,null,null,null,null,null,null,null,null,null,null,null,597.39,null,597.39]
["Сорокина Марина  / Sorokina Marina  / 1981",null,null,null,null,340.72,null,null,null,null,null,null,null,null,null,null,null,null,null,null,null,null,null,null,null,null,null,null,340.72]
["Соц Василий / Sots Vasilij / 1966",null,null,null,null,null,null,null,null,null,null,null,null,null,null,null,null,null,null,null,null,null,null,244.14,null,null,null,null,244.14]
["Станкевич Владимир / Stankevich Vladimir / 1982",null,null,null,null,null,null,null,null,null,null,null,null,null,null,142.77000000000001,null,null,null,null,null,null,null,null,null,null,null,null,142.77000000000001]
["Старастенко Виктор / Starastenko Viktor / 1994",null,null,null,null,null,null,null,null,null,null,null,null,null,null,null,null,null,null,null,null,null,33.08,null,null,null,null,null,33.08]
["Старикевич Максим / Starikevich Maksim / 1995",null,null,null,null,null,null,null,null,null,null,null,null,null,null,null,null,null,null,null,null,null,40.72,null,null,null,null,null,40.72]
["Старовойтова Евгения / Starovojtova Evgeniya / 1996",null,null,null,null,null,null,null,null,null,null,null,null,null,null,null,191.83,null,null,null,null,null,null,null,null,null,null,null,191.83]
["Стародуб Евгений / Starodub Evgenij / 2000",null,null,null,null,null,null,null,null,null,null,null,null,null,null,270.25,null,null,null,null,null,null,null,null,null,null,null,null,270.25]
["Стасевич Александр / Stasevich Aleksandr / 1987",null,null,null,null,null,null,null,437.49,null,null,null,null,null,null,null,null,null,null,null,null,null,null,null,null,null,null,null,437.49]
["Стасилович Виктор  / Stasilovich Viktor  / 1993",null,null,null,null,9.1300000000000008,null,null,null,null,null,null,null,null,null,null,null,null,null,null,null,null,null,null,null,null,null,null,9.1300000000000008]
["Стельмах Юрий / Stelmah Yurij / 1982",null,null,null,null,null,null,null,137.25,null,null,null,null,null,null,null,null,null,null,null,null,null,157.79,null,null,null,null,null,295.03999999999996]
["Степук Наталья / Stepuk Natalya / 1984",null,null,null,null,null,null,null,null,null,null,null,null,null,null,null,null,null,null,null,131.07,null,null,null,null,null,null,null,131.07]
["Стешко Фёдор / Steshko Fjodor / 1990",null,null,null,null,null,null,null,null,null,null,null,null,null,null,null,null,72.53,null,null,null,null,null,null,null,null,null,null,72.53]
["Стойчикова Ксения / Stojchikova Kseniya / 1997",null,null,null,null,null,389.2,null,null,null,null,null,null,null,null,null,null,null,336.84,null,null,null,null,360.27,null,null,null,null,1086.31]
["Стоненис Игорь / Stonenis Igor / 1996",null,null,null,null,null,null,null,null,null,null,null,null,null,null,null,null,null,null,null,null,null,null,null,null,90.83,null,null,90.83]
["Стош Роман / Stosh Roman / 2000",null,null,null,null,null,null,null,null,null,null,null,null,null,null,null,null,null,null,null,null,null,null,null,null,78.72,null,null,78.72]
["Стракович Екатерина / Strakovich Ekaterina / 1991",null,null,null,null,null,null,null,null,null,null,null,null,null,null,null,null,153.21,null,null,null,78.38,null,null,null,90.83,null,null,322.42]
["Струщенко Светлана / Struschenko Svetlana / 1986",null,null,null,null,204.43,null,null,null,null,null,null,null,null,null,null,null,null,147.37,null,null,null,177.3,null,null,null,null,null,529.1]
["Студенков Александр / Studenkov Aleksandr / 1984",null,null,280.87,null,null,null,null,null,null,null,null,null,null,null,null,null,null,null,null,null,null,323.20999999999998,null,null,null,null,null,604.07999999999993]
["Ступяк Андрей / Stupyak Andrej / 1979",null,null,null,null,null,null,null,null,null,null,null,109.72,null,null,null,null,null,null,null,null,null,null,null,null,null,null,null,109.72]
["Суворов Александр / Suvorov Aleksandr / 1983",null,null,null,null,null,null,null,null,null,null,null,null,null,null,117.28,null,null,100,null,null,null,167.97,null,null,null,null,null,385.25]
["Сулимчик Оксана / Sulimchik Oksana / 1986",null,null,null,null,null,null,1052.9000000000001,null,null,null,null,null,null,894.48,null,301.45,null,null,null,null,null,null,null,null,null,null,null,2248.83]
["Суматохин Виталий / Sumatohin Vitalij / 1989",null,null,null,null,null,null,null,null,null,null,null,null,null,null,158.07,null,null,null,null,null,null,null,null,null,null,null,null,158.07]
["Суровцев Максим / Surovtsev Maksim / 1993",null,null,null,null,null,null,null,null,null,null,null,null,null,null,null,null,null,null,null,null,null,119.61,null,null,null,null,null,119.61]
["Суханова Надежда / Suhanova Nadezhda / 1994",null,null,null,null,511.08,null,null,null,null,null,null,null,null,null,null,null,null,null,null,null,null,null,526.54,null,null,null,null,1037.6199999999999]
["Сухобаевский Николай / Suhobaevskij Nikolaj / 1986",null,null,null,null,null,null,null,null,null,214.83,null,null,null,null,null,null,null,null,null,null,null,null,null,null,null,null,null,214.83]
["Суховей Михаил / Suhovej Mihail / 1991",462.73,null,null,null,null,null,null,null,null,null,null,null,null,655.95,null,null,null,null,null,null,null,null,null,null,null,null,null,1118.68]
["Суховерхая Татьяна / Suhoverhaya Tatyana / 1986",null,null,null,null,null,null,null,null,234.92,null,null,null,null,null,null,54.81,null,null,null,null,null,null,null,null,null,1066.77,null,1356.5]
["Сушко Александра / Sushko Aleksandra / 1995",null,null,null,null,null,null,null,null,null,null,null,null,null,null,null,null,null,null,null,null,null,null,null,null,221.4,null,null,221.4]
["Сысков Никита / Syskov Nikita / 1985",null,null,null,28.87,null,null,null,null,null,null,null,null,null,null,null,null,20.72,null,null,9.43,null,null,null,null,null,null,null,59.02]
["Сыченко Евгения / Sychenko Evgeniya / 1992",null,null,null,null,null,null,null,null,null,null,null,null,null,null,null,null,null,null,null,null,null,null,null,null,215.72,null,null,215.72]
["Сяба Александр / Syaba Aleksandr / 1982",null,null,null,null,27.38,null,null,null,null,null,null,null,null,null,null,null,null,null,null,null,null,null,null,null,null,null,null,27.38]
["Табала Андрей / Tabala Andrej / 1992",null,null,null,null,null,null,null,null,null,null,null,null,null,null,null,null,null,null,null,null,null,null,null,null,109,null,null,109]
["Танасейчук Анна / Tanasejchuk Anna / 1983",null,null,null,null,null,null,null,388.88,null,null,null,null,null,null,null,null,null,null,null,null,null,null,null,null,null,null,null,388.88]
["Танковид Евгений / Tankovid Evgenij / 1985",null,null,null,null,null,null,null,null,null,null,null,null,null,null,null,null,null,null,null,null,null,351.2,null,null,null,null,null,351.2]
["Таран Виталий / Taran Vitalij / 1983",null,null,null,null,null,null,null,null,338.16,null,null,null,null,null,null,47.96,null,null,null,null,null,null,null,null,null,null,null,386.12]
["Таранко Марта / Taranko Marta / 1990",null,null,null,null,null,null,null,291.66000000000003,null,null,null,null,null,null,null,null,127.68,null,null,null,null,233.28,null,null,null,null,null,652.62]
["Тарасевич Алёна / Tarasevich Aljona / 1991",null,null,null,247.28,null,null,null,null,null,null,null,null,null,null,null,null,null,null,null,null,null,null,null,null,null,null,null,247.28]
["Тарасенко Павел / Tarasenko Pavel / 1983",null,null,667.06,null,null,null,null,null,null,null,null,null,571.42999999999995,null,null,71.94,null,null,218.53,null,null,null,343.11,null,null,null,null,1872.0699999999997]
["Тарасик Владимир / Tarasik Vladimir / 1977",null,null,null,null,null,null,null,null,null,null,null,null,null,null,null,null,null,null,null,null,null,356.29,null,null,null,null,null,356.29]
["Тарлецкий Валерий / Tarletskij Valerij / 1982",null,null,null,null,null,null,null,null,null,null,null,null,null,null,null,null,null,null,null,null,null,81.44,null,null,null,null,null,81.44]
["Татарицкий Виталий / Tataritskij Vitalij / 1971",null,null,null,null,null,null,null,null,null,null,null,null,null,null,null,null,null,null,null,null,182.9,null,null,null,null,null,null,182.9]
["Тебинский Александр / Tebinskij Aleksandr / 1987",null,null,null,null,null,null,null,null,null,null,null,null,null,null,null,null,null,null,null,null,null,null,null,null,66.61,null,null,66.61]
["Телегина София / Telegina Sofiya / 1991",null,null,null,null,null,null,null,null,null,null,286.58,null,null,null,null,null,null,null,null,null,null,null,null,null,null,null,null,286.58]
["Тенюго Татьяна / Tenyugo Tatyana / 1978",null,null,null,null,null,null,null,null,null,null,null,null,null,null,null,null,null,null,null,124.17,null,null,null,null,null,null,null,124.17]
["Теребенин Владислав / Terebenin Vladislav / 2001",null,null,null,null,null,null,null,null,null,null,null,null,null,null,null,null,null,null,null,null,null,195.96,null,null,null,null,null,195.96]
["Терехова Татьяна / Terehova Tatyana / 1982",null,null,null,null,null,null,null,null,null,null,null,null,null,null,115.76,null,null,null,null,null,null,null,null,null,null,null,null,115.76]
["Тимкина Наталья / Timkina Natalya / 1982",null,100.06,null,null,null,null,null,null,null,null,null,null,null,null,null,null,null,null,null,null,null,null,null,null,null,null,null,100.06]
["Тимофеев Алексей / Timofeev Aleksej / 1990",null,null,null,null,null,null,null,null,null,null,null,null,null,null,null,null,null,null,null,160.28,null,null,null,null,null,null,null,160.28]
["Тимошенко Алёна / Timoshenko Aljona / 1982",null,null,null,null,null,null,null,null,null,null,343.9,null,null,null,null,null,null,null,339.93,null,null,null,null,null,null,null,null,683.82999999999993]
["Титова Инна / Titova Inna / 1986",null,null,null,null,null,null,null,null,null,null,null,null,null,null,281.14,null,null,null,null,null,null,null,null,null,null,null,null,281.14]
["Титуленко Егор / Titulenko Egor / 1983",347.05,null,null,null,null,373.51,null,null,null,null,null,null,null,null,null,null,null,null,null,null,null,null,null,null,null,null,null,720.56]
["Тиханович Елена / Tihanovich Elena / 1989",null,null,null,null,null,null,null,null,null,null,null,null,null,null,null,null,null,null,null,null,null,382.59,null,null,null,null,null,382.59]
["Тихонов Василий / Tihonov Vasilij / 1993",null,null,null,null,null,null,null,null,408.35,null,null,null,678.57,null,null,null,null,null,null,null,null,null,null,null,null,null,null,1086.92]
["Тишковец Анастасия / Tishkovets Anastasiya / 1988",null,null,null,null,null,null,null,null,null,null,null,null,null,null,null,null,null,null,null,null,null,null,null,null,210.04,null,null,210.04]
["Ткачук Дарья / Tkachuk Darya / 1981",null,null,387.54,null,null,null,null,null,null,null,null,null,null,null,null,null,null,null,null,null,null,null,null,null,null,null,null,387.54]
["Тмофеева Александр / Tmofeeva Aleksandr / 1990",null,null,null,null,null,null,null,null,null,null,null,null,null,null,null,null,null,null,null,186.26,null,null,null,null,null,null,null,186.26]
["Толкачев Дмитрий / Tolkachev Dmitrij / 1971",null,500.3,null,null,null,null,null,null,null,null,null,null,null,null,null,null,null,null,null,null,null,null,null,null,null,null,null,500.3]
["Томашев Игорь / Tomashev Igor / 1965",null,18.190000000000001,null,null,null,null,null,null,null,null,null,null,null,null,null,null,null,null,null,null,null,null,null,null,null,null,null,18.190000000000001]
["Торопова Мария / Toropova Mariya / 1989",null,null,null,null,null,null,null,null,null,null,186.28,null,null,null,null,null,null,null,null,null,null,null,null,null,null,null,null,186.28]
["Торубарова Татьяна / Torubarova Tatyana / 1983",null,null,719.72,null,null,583.79999999999995,null,null,null,null,null,null,null,null,null,null,null,null,509.9,null,null,null,null,631.58000000000004,null,null,null,2445]
["Тофоров Дмитрий / Toforov Dmitrij / 1991",null,null,null,null,null,null,null,null,null,null,null,null,null,536.69000000000005,null,null,null,null,null,null,null,null,null,null,null,null,null,536.69000000000005]
["Трасковский Геннадий / Traskovskij Gennadij / 1961",260.29000000000002,null,null,null,null,null,null,null,null,null,null,null,null,null,null,null,null,null,null,null,null,null,null,null,null,null,null,260.29000000000002]
["Трасковский Дмитрий / Traskovskij Dmitrij / 1986",549.5,null,null,null,null,null,null,null,null,null,null,null,null,null,null,null,null,null,null,null,null,null,null,null,null,null,null,549.5]
["Третьяк Екатерина / Tretyak Ekaterina / 1985",null,null,null,326.42,null,null,null,null,null,null,null,null,null,null,null,null,null,null,null,null,null,261.27999999999997,null,null,null,null,null,587.70000000000005]
["Тривашкевич Евгений / Trivashkevich Evgenij / 1996",null,null,null,null,null,null,null,null,382.83,null,null,null,null,null,null,null,null,null,null,null,null,384.28,null,null,null,null,null,767.1099999999999]
["Троцкий Игнат / Trotskij Ignat / 2002",null,null,null,null,null,null,null,null,null,null,null,null,null,null,30.59,null,null,null,null,null,null,61.08,null,null,null,null,null,91.67]
["Трубкина Анастасия / Trubkina Anastasiya / 1989",null,null,null,null,477.01,null,null,null,null,null,null,460.84,null,null,null,null,null,null,396.59,null,null,null,498.83,null,null,null,null,1833.2699999999998]
["Трубкина Инна / Trubkina Inna / 1972",null,null,null,null,null,null,null,162.03,null,null,null,null,null,null,null,null,null,null,null,null,null,null,null,null,null,null,null,162.03]
["Труханов Сергей / Truhanov Sergej / 1987",null,null,368.64,null,null,null,null,null,null,null,null,null,null,null,null,null,null,null,null,null,null,null,null,null,null,null,null,368.64]
["Трухтанова Елена / Truhtanova Elena / 1985",null,null,442.91,null,null,null,null,null,null,null,null,null,null,null,null,null,null,null,null,null,null,null,null,null,null,null,null,442.91]
["Тудакова Людмила  / Tudakova Lyudmila  / 1981",null,null,null,19.78,null,null,null,null,null,null,null,null,null,null,null,null,null,null,null,null,null,null,null,null,null,null,null,19.78]
["Тумашик Екатерина / Tumashik Ekaterina / 1984",null,null,null,null,null,null,null,null,null,null,200.61,null,null,null,null,null,null,null,null,null,null,null,null,null,null,null,null,200.61]
["Тумащик Александр / Tumaschik Aleksandr / 1972",null,null,null,null,null,null,null,null,null,null,null,null,null,null,null,null,null,null,null,null,null,264.67,null,null,null,null,null,264.67]
["Туровец Ольга / Turovets Olga / 1979",null,null,null,null,null,null,null,113.42,null,null,214.94,null,null,null,null,109.62,null,null,null,null,null,93.31,null,null,null,null,null,531.29]
["Туцкий Юрий / Tutskij Yurij / 1992",null,null,null,null,null,null,null,null,null,null,null,null,null,null,null,null,null,null,null,null,null,null,null,null,193.77,null,null,193.77]
["Тылиндус Александр / Tylindus Aleksandr / 1984",null,null,null,null,null,null,null,null,null,null,null,null,null,null,null,null,null,null,null,null,null,239.22,null,null,null,null,null,239.22]
["Тюев Даниил / Tyuev Daniil / 1977",607.34,null,null,null,null,null,723.87,null,127.61,null,null,null,null,715.59,null,206.22,null,null,145.69,null,null,null,null,378.95,null,null,498.48,3403.7499999999995]
["Устинович Игорь / Ustinovich Igor / 1970",null,null,null,null,null,null,null,null,null,null,null,null,null,null,null,null,null,null,null,null,null,12.72,null,null,null,null,null,12.72]
["Утлик Максим / Utlik Maksim / 1985",null,null,null,null,null,null,null,null,null,null,null,null,null,null,null,172.65,null,null,null,null,null,null,null,null,null,null,null,172.65]
["Фадеева Светлана / Fadeeva Svetlana / 1980",null,null,null,null,null,null,null,null,null,null,null,null,null,null,null,null,null,null,null,193.16,null,null,null,null,null,null,null,193.16]
["Фалинский Кирилл / Falinskij Kirill / 1983",null,null,null,null,null,null,null,null,null,null,null,null,null,null,null,null,null,null,null,null,209.02,null,null,null,null,null,null,209.02]
["Фам Вероника / Fam Veronika / 1982",null,112.57,null,null,null,null,null,null,null,null,null,null,null,null,null,null,null,null,null,null,null,null,null,null,null,null,null,112.57]
["Фамичёва Елена / Famichjova Elena / 1993",null,null,null,null,null,null,null,null,null,null,85.98,null,null,null,null,null,null,null,null,null,null,null,null,null,null,null,null,85.98]
["Фастовец Евгений / Fastovets Evgenij / 1979",null,null,null,null,null,null,null,null,null,null,null,null,null,null,null,null,null,null,null,null,null,null,26.39,null,null,null,null,26.39]
["Федоренко Александр / Fedorenko Aleksandr / 1990",null,null,null,null,null,null,null,null,null,null,null,null,null,null,null,null,null,null,null,null,null,null,290.32,null,null,null,null,290.32]
["Федоринчик Дмитрий / Fedorinchik Dmitrij / 1988",null,null,null,null,null,null,null,null,null,null,null,null,null,null,null,null,51.81,null,null,null,null,null,null,null,null,null,null,51.81]
["Федоров Федор / Fedorov Fedor / 1977",null,null,null,null,155.15,null,null,null,null,null,null,null,null,null,null,null,null,null,null,null,null,null,145.16,null,null,null,null,300.31]
["Федорович Николай / Fedorovich Nikolaj / 1959",665.18,null,null,null,null,null,658.06,null,280.74,null,null,null,428.57,null,null,139.08000000000001,null,null,121.41,null,null,null,null,null,null,null,null,2293.0399999999995]
["Федченко Олеся / Fedchenko Olesya / 1977",null,null,null,null,null,null,null,null,null,null,null,32.92,null,null,null,null,null,null,null,null,null,null,null,null,null,null,null,32.92]
["Федченко Ярослава / Fedchenko Yaroslava / 2002",null,null,null,null,null,null,null,null,null,38.67,null,131.66999999999999,null,null,null,null,null,null,null,200.06,null,null,null,null,null,null,null,370.4]
["Федькович Виталий / Fedkovich Vitalij / 1995",null,null,null,null,null,null,null,null,null,null,null,null,null,null,234.55,null,null,null,null,null,null,null,null,null,null,null,null,234.55]
["Фенченко Алексей / Fenchenko Aleksej / 1989",null,null,null,null,null,null,null,null,null,null,null,null,null,null,null,null,null,null,null,null,null,null,null,null,null,768.07,null,768.07]
["Фигурин Дмитрий / Figurin Dmitrij / 1982",null,null,null,null,null,null,null,null,null,163.27000000000001,null,null,null,null,null,null,null,null,null,null,null,null,null,null,null,null,null,163.27000000000001]
["Фидек Виталий / Fidek Vitalij / 1966",null,null,122.88,null,null,null,null,null,null,null,null,null,null,null,null,null,null,null,null,null,null,null,null,null,null,null,null,122.88]
["Филипович Никита / Filipovich Nikita / 1993",null,136.44999999999999,null,null,null,null,null,null,null,null,null,null,null,null,null,null,null,null,null,null,null,null,null,null,null,null,null,136.44999999999999]
["Филитарин Дмитрий / Filitarin Dmitrij / 1987",null,null,null,null,null,null,null,null,421.11,null,null,null,null,null,null,null,null,null,null,null,null,null,null,null,null,null,null,421.11]
["Флерчук Евгений / Flerchuk Evgenij / 1992",null,null,null,null,null,null,null,null,null,null,null,null,null,null,null,null,null,null,null,84.85,null,101.8,null,null,null,null,null,186.64999999999998]
["Фомин Леонид / Fomin Leonid / 1983",231.37,null,null,null,164.27,null,null,null,null,null,null,null,null,null,null,null,null,null,null,null,null,null,null,null,null,null,null,395.64]
["Фомина Ирина / Fomina Irina / 1986",null,null,null,257.18,null,null,null,null,null,null,null,null,null,null,null,null,null,null,null,282.83999999999997,null,null,null,null,266.81,null,null,806.82999999999993]
["Фомичёва Елена / Fomichjova Elena / 1993",null,null,null,null,null,null,null,null,null,null,null,null,null,null,null,null,null,null,null,96.58,null,null,null,null,null,null,null,96.58]
["Фузейников Алексей / Fuzejnikov Aleksej / 1984",null,null,null,null,null,null,null,null,null,null,null,null,null,null,null,null,null,null,null,null,null,25.45,null,null,null,null,null,25.45]
["Фурсевич Павел / Fursevich Pavel / 1983",null,null,null,null,null,null,null,null,null,null,null,null,null,null,null,null,null,null,null,null,null,null,null,null,36.33,null,null,36.33]
["Хадорик Владимир / Hadorik Vladimir / 1986",null,null,null,null,null,329.57,null,null,null,null,null,null,null,null,null,134.28,null,null,null,null,null,null,null,null,null,null,null,463.85]
["Халомзик Дмитрий / Halomzik Dmitrij / 1972",null,null,null,null,null,null,null,null,null,null,null,null,null,null,45.89,null,null,null,null,null,null,null,null,null,null,null,null,45.89]
["Хамицевич Андрей / Hamitsevich Andrej / 1983",null,null,null,null,null,null,null,null,null,null,226.2,null,null,null,null,null,null,null,null,null,null,134.88,null,null,null,null,null,361.08]
["Хамицевич Михаил / Hamitsevich Mihail / 1980",null,null,403.75,null,200.78,null,null,null,null,null,null,null,null,null,null,119.9,null,null,null,null,null,null,125.37,null,null,null,null,849.8]
["Хандогин Николай / Handogin Nikolaj / 1955",null,null,null,null,null,null,null,null,null,null,null,null,null,null,null,null,null,null,null,null,null,66.17,null,null,null,null,null,66.17]
["Харик Анна / Harik Anna / 1986",null,225.13,null,null,null,null,null,null,null,null,null,null,null,null,null,null,null,null,null,null,null,null,null,null,null,null,null,225.13]
["Харитонов Иван / Haritonov Ivan / 1973",636.26,null,null,null,null,null,null,null,133.99,null,null,null,null,417.43,null,187.04,null,null,null,null,null,null,null,null,null,725.4,null,2100.12]
["Харитонов Илья / Haritonov Ilya / 1973",null,null,null,null,null,null,null,null,null,null,null,null,null,null,null,null,null,null,null,null,235.15,null,null,null,null,null,null,235.15]
["Хатуницкий Евгений / Hatunitskij Evgenij / 1886",null,null,null,null,null,null,null,null,null,null,null,null,null,null,null,null,null,null,null,null,null,381.74,null,null,null,null,null,381.74]
["Хацкевич Дмитрий / Hatskevich Dmitrij / 1985",null,null,null,null,null,null,null,188.72,null,null,null,null,null,null,null,null,null,null,null,null,null,null,null,null,null,null,null,188.72]
["Херзен Андрей / Herzen Andrej / 1984",null,null,null,null,null,null,null,null,114.85,null,null,null,null,null,null,null,null,null,null,null,null,null,null,null,null,null,null,114.85]
["Хинец Анна / Hinets Anna / 1986",null,150.09,null,null,null,null,null,null,null,null,null,null,null,null,null,null,null,null,null,null,null,null,null,null,null,null,null,150.09]
["Хлопцева Инга / Hloptseva Inga / 1982",null,null,null,null,null,null,null,null,null,283.57,null,null,null,null,null,null,null,null,null,null,null,270.61,null,null,null,null,null,554.18000000000006]
["Хмелевская Ольга / Hmelevskaya Olga / 1988",null,null,null,null,null,null,null,null,null,null,null,null,null,null,null,null,null,105.26,null,null,null,null,null,null,187.34,null,null,292.60000000000002]
["Хмелевский Антон / Hmelevskij Anton / 1984",null,null,null,null,428.94,null,null,null,null,null,null,null,null,null,null,null,null,null,null,null,null,null,null,null,null,null,null,428.94]
["Хмелевский Юрий / Hmelevskij Yurij / 1974",null,null,null,null,null,null,null,null,null,null,null,null,null,null,null,null,null,null,null,null,null,190.87,null,null,null,null,null,190.87]
["Ходан Александр / Hodan Aleksandr / 1988",null,null,null,null,511.08,null,null,null,504.06,null,null,null,null,null,null,null,null,null,473.48,null,null,null,554.26,null,null,null,null,2042.8799999999999]
["Хомич Юрий / Homich Yurij / 1970",null,null,null,null,null,null,null,null,null,null,172.97,null,null,null,null,null,null,null,null,null,null,null,null,null,null,null,null,172.97]
["Хорольский Александр / Horolskij Aleksandr / 1985",null,null,null,57.74,null,null,null,null,null,null,null,null,null,null,null,null,null,null,null,null,null,58.53,null,null,null,null,null,116.27000000000001]
["Хорошавин Вячеслав / Horoshavin Vyacheslav / 1985",null,482.11,null,null,465.45,null,null,null,null,292.17,345.95,null,null,null,300.83999999999997,null,null,null,null,null,null,null,null,551.19000000000005,null,null,null,2437.71]
["Храмов Антон / Hramov Anton / 1991",751.94,null,null,null,null,null,null,null,414.73,null,null,null,642.85,null,null,null,null,null,315.64999999999998,null,null,null,null,null,null,null,390.12,2515.29]
["Храмов Иван / Hramov Ivan / 2001",null,null,null,null,null,null,null,null,null,null,null,null,null,null,null,null,null,null,242.81,null,null,null,null,null,null,null,null,242.81]
["Храмченко Татьяна / Hramchenko Tatyana / 1982",null,null,null,null,null,null,null,null,null,null,null,null,null,null,null,null,null,null,null,null,null,65.319999999999993,null,null,null,null,null,65.319999999999993]
["Хромов Вадим / Hromov Vadim / 1994",null,null,null,null,null,null,null,null,null,null,null,null,null,null,null,null,null,null,null,null,null,216.32,null,null,null,null,null,216.32]
["Хурс Елена / Hurs Elena / 1989",null,null,null,null,null,null,null,null,null,null,null,null,null,null,null,null,null,null,null,179.36,null,null,null,null,null,null,null,179.36]
["Цветкова Мария / Tsvetkova Mariya / 1994",null,null,null,null,null,null,null,null,null,null,null,null,null,null,null,null,null,189.47,null,null,null,null,null,null,null,null,null,189.47]
["Цвирбут Юлия / Tsvirbut Yuliya / 1992",null,475.28,null,null,null,null,null,null,null,null,null,493.76,null,null,null,383.67,null,null,null,null,null,null,null,null,null,null,null,1352.71]
["Цвирко Артур / Tsvirko Artur / 1991",null,null,null,null,null,615.19000000000005,null,null,null,null,null,null,null,null,null,null,null,null,null,null,null,null,null,null,null,null,null,615.19000000000005]
["Чабор Максим / Chabor Maksim / 1991",null,null,null,null,null,null,null,null,null,null,null,null,null,null,null,null,null,null,null,null,339.66,null,null,null,null,null,null,339.66]
["Чалый Николай / Chalyj Nikolaj / 1980",null,null,null,null,null,null,null,null,null,25.78,null,null,null,null,null,null,null,null,null,null,null,null,null,null,null,null,null,25.78]
["Чеберяк Сергей / Cheberyak Sergej / 1987",null,null,null,null,null,null,null,null,null,null,null,null,null,null,null,null,null,null,null,null,null,null,547.66,null,null,null,null,547.66]
["Чеботаев Сергей / Chebotaev Sergej / 1989",null,null,null,null,null,null,null,411.76,null,null,null,null,null,null,null,null,null,null,null,null,null,null,null,null,null,null,null,411.76]
["Чеботаева Валерия / Chebotaeva Valeriya / 1993",null,null,null,null,null,null,null,259.26,null,null,null,null,null,null,null,null,null,null,null,null,null,null,null,null,null,null,null,259.26]
["Челышев Сергей / Chelyshev Sergej / 1967",null,null,null,null,null,null,null,null,null,null,null,null,null,null,null,null,null,null,null,null,null,272.31,null,null,null,null,null,272.31]
["Чембрович Марта / Chembrovich Marta / 1995",null,null,null,null,null,null,null,null,null,null,null,null,null,null,null,null,null,null,null,null,null,null,null,null,73.8,null,null,73.8]
["Черкас Александра / Cherkas Aleksandra / 1992",null,462.78,null,null,null,681.1,null,null,null,296.45999999999998,315.24,null,null,null,null,356.26,null,null,453.25,null,null,null,554.26,null,null,null,null,3119.3500000000004]
["Черкас Сергей / Cherkas Sergej / 1985",null,null,null,null,null,null,null,null,null,null,null,null,null,null,null,null,null,null,null,null,39.19,null,null,null,null,null,null,39.19]
["Чернель Татьяна / Chernel Tatyana / 1982",null,null,null,null,null,null,null,null,null,null,null,395.01,null,null,null,null,null,null,null,null,null,null,null,null,null,null,315.81,710.81999999999994]
["Чернышев Дмитрий / Chernyshev Dmitrij / 1987",null,null,null,null,null,null,null,null,null,null,null,null,null,null,null,278.16000000000003,null,null,254.95,null,null,null,null,null,null,null,null,533.11]
["Чернявский Артем / Chernyavskij Artem / 1987",null,181.93,null,null,null,null,null,null,null,null,null,null,null,null,null,null,null,null,null,null,null,null,null,null,null,null,null,181.93]
["Чернявский Евгений / Chernyavskij Evgenij / 1988",null,null,null,null,null,null,null,null,null,null,null,null,null,null,null,null,null,null,null,null,null,292.67,null,null,null,null,null,292.67]
["Чеснокова Надежда / Chesnokova Nadezhda / 1988",null,null,null,null,null,null,null,null,null,270.68,null,null,null,null,null,null,null,null,null,null,null,null,null,null,null,null,null,270.68]
["Чигорская Татьяна / Chigorskaya Tatyana / 1977",null,null,null,null,null,null,null,null,null,null,null,null,null,null,null,null,null,null,null,null,null,205.29,null,null,null,null,null,205.29]
["Чигорская Татьяна  / Chigorskaya Tatyana  / 1977",null,null,null,187.94,null,null,null,null,null,null,null,null,null,null,null,null,null,null,null,null,null,null,null,null,null,null,null,187.94]
["Чиж Сергей / Chizh Sergej / 1993",null,null,null,null,null,null,null,null,null,null,null,null,null,null,null,null,null,null,null,null,null,null,448.68,null,null,null,null,448.68]
["Чирская Юлия / Chirskaya Yuliya / 1992",null,null,null,null,null,null,null,null,null,null,null,null,null,null,null,null,145.07,null,null,null,null,null,null,null,null,null,null,145.07]
["Чичин Юрий / Chichin Yurij / 1979",null,null,null,null,null,null,null,null,null,null,null,120.7,null,null,null,null,null,null,null,131.99,null,null,null,null,null,null,260.08,512.77]
["Чудаков Владислав / Chudakov Vladislav / 1977",null,291.08,null,null,null,null,null,null,null,null,null,null,null,null,122.38,null,null,136.36000000000001,null,null,null,null,null,null,null,null,null,549.81999999999994]
["Шабалов Вячеслав / Shabalov Vyacheslav / 1982",null,null,null,null,null,null,null,null,null,null,null,null,null,null,null,null,null,null,null,null,null,297.76,null,null,null,null,null,297.76]
["Шабанов Олег / Shabanov Oleg / 1971",null,254.7,null,null,null,null,null,null,null,null,null,null,null,null,null,71.94,null,null,null,null,null,null,null,null,null,null,null,326.64]
["Шавель Татьяна / Shavel Tatyana / 1986",null,null,null,null,null,null,null,null,null,null,null,null,null,null,null,null,null,84.21,null,null,null,null,null,null,null,null,null,84.21]
["Шалайко Дмитрий / Shalajko Dmitrij / 1993",null,null,null,null,null,null,null,null,null,null,null,null,null,null,null,null,null,null,null,null,null,null,481.68,null,null,null,null,481.68]
["Шаметько Роман / Shametko Roman / 1991",null,null,null,null,null,null,null,null,null,null,null,null,null,null,null,null,null,null,null,null,null,null,null,null,24.22,null,null,24.22]
["Шапелевич Максим / Shapelevich Maksim / 1987",null,null,null,null,null,null,null,null,153.13,null,null,null,285.70999999999998,null,null,105.51,null,null,null,null,null,null,null,null,null,null,null,544.35]
["Шаповалова Ирина / Shapovalova Irina / 1993",null,null,null,null,null,null,null,null,null,257.8,null,null,null,null,null,null,null,null,null,null,null,223.95,null,null,null,null,null,481.75]
["Шапотковский Алексей / Shapotkovskij Aleksej / 1982",null,null,null,null,null,null,null,null,null,null,null,null,null,null,null,null,null,null,null,null,null,48.35,null,null,null,null,null,48.35]
["Шаров Александр / Sharov Aleksandr / 1983",null,null,null,null,null,null,null,null,null,null,null,null,null,null,null,null,null,null,null,null,null,68.709999999999994,null,null,null,null,null,68.709999999999994]
["Шатерник Евгений / Shaternik Evgenij / 1980",null,null,null,null,null,null,null,null,null,null,null,null,null,null,null,null,null,null,null,null,null,129.79,null,null,null,null,null,129.79]
["Шахметова Наталья / Shahmetova Natalya / 1992",null,null,null,null,null,null,null,null,null,null,null,null,null,null,272.87,null,null,357.89,null,null,null,null,null,null,255.46,null,null,886.22]
["Шахненко Павел / Shahnenko Pavel / 1976",null,null,null,null,null,null,null,null,null,null,null,null,null,null,null,null,null,null,null,null,null,38.17,null,null,null,null,null,38.17]
["Шашков Егор / Shashkov Egor / 1983",null,null,null,null,null,null,null,null,null,null,null,null,null,null,null,null,null,null,null,null,null,122.16,null,null,null,null,null,122.16]
["Швайковская Ольга / Shvajkovskaya Olga / 1979",null,null,null,null,null,null,null,null,null,null,null,263.33999999999997,null,null,null,null,null,null,null,null,null,null,null,null,null,null,null,263.33999999999997]
["Шванц Алексей / Shvants Aleksej / 1991",null,null,null,null,null,null,null,null,null,null,null,null,null,null,null,null,null,null,null,null,null,null,null,585.64,null,null,null,585.64]
["Шевченко Алёна / Shevchenko Aljona / ",null,null,null,168.15,null,null,null,null,null,null,null,null,null,null,null,null,null,null,null,null,null,null,null,null,null,null,null,168.15]
["Шевченко Анатолий / Shevchenko Anatolij / 1981",null,null,null,null,null,null,null,null,null,null,null,null,null,null,null,null,null,null,null,null,143.69999999999999,null,null,null,null,null,null,143.69999999999999]
["Шевчук Максим  / Shevchuk Maksim  / 1994",null,null,null,null,null,197.74,null,null,null,null,null,null,null,null,null,null,null,null,null,null,null,null,null,null,null,null,null,197.74]
["Шепетько Сергей / Shepetko Sergej / 1987",null,318.37,null,48.12,null,null,null,null,172.27,null,null,252.37,null,null,null,177.45,null,null,194.25,null,null,null,283.73,null,null,null,null,1446.56]
["Шеремет Евгения / Sheremet Evgeniya / 1981",null,null,null,null,null,null,null,null,null,null,null,null,null,null,null,null,null,null,null,75.88,null,null,null,null,null,null,null,75.88]
["Шестаков Геннадий / Shestakov Gennadij / 1962",491.66,null,null,null,null,null,null,null,null,null,null,null,null,null,null,null,null,null,null,null,null,null,null,null,null,null,null,491.66]
["Шестеров Андрей / Shesterov Andrej / 1986",null,209.22,null,null,null,null,null,null,null,null,null,null,null,null,null,null,null,null,null,null,null,null,null,null,null,null,null,209.22]
["Шибаева Светлана / Shibaeva Svetlana / 1995",null,null,null,null,null,null,null,null,null,null,null,null,null,null,null,null,null,null,null,null,null,null,387.98,null,null,null,null,387.98]
["Шило Руслан / Shilo Ruslan / 1993",null,null,null,null,null,null,null,null,159.51,null,null,null,464.28,null,null,null,null,null,null,null,null,null,null,null,null,null,null,623.79]
["Шиман Руслан / Shiman Ruslan / 1993",null,null,null,null,null,null,null,null,null,null,null,null,null,null,null,null,null,null,null,null,null,null,null,null,175.6,null,null,175.6]
["Шипунов Олег / Shipunov Oleg / 1992",null,null,null,null,null,null,null,null,null,300.76,null,null,null,null,null,null,null,null,null,null,null,null,null,null,null,null,null,300.76]
["Шир Алисия / Shir Alisiya / 1982",null,null,null,306.63,null,null,null,null,null,null,null,null,null,null,null,null,null,null,null,null,null,null,null,null,null,null,null,306.63]
["Шир Джордан / Shir Dzhordan / 1980",null,null,null,105.86,null,null,null,null,null,null,null,null,null,null,null,null,null,null,null,null,null,null,null,null,null,null,null,105.86]
["Широкова Анастасия / Shirokova Anastasiya / 1988",null,287.67,null,null,null,null,null,null,null,180.46,null,null,null,null,null,null,null,null,null,null,null,null,null,null,null,null,null,468.13]
["Шклярик Олег / Shklyarik Oleg / 1970",null,null,null,null,null,263.64999999999998,null,null,325.39999999999998,null,null,null,250,null,null,null,null,null,null,null,null,null,null,null,null,null,null,839.05]
["Шкрабо Ольга / Shkrabo Olga / 1985",null,null,null,null,null,null,null,null,null,77.34,null,null,null,null,null,null,null,null,null,null,null,null,null,null,null,null,null,77.34]
["Шкурко Людмила / Shkurko Lyudmila / 1988",null,null,null,null,null,null,null,null,null,null,null,null,null,null,null,null,null,null,null,null,null,null,null,505.26,null,null,null,505.26]
["Шлеёв Денис / Shlejov Denis / 2001",null,null,null,null,null,null,null,null,null,null,null,null,null,null,null,null,null,null,null,null,null,null,null,null,242.21,null,null,242.21]
["Шнитко Светлана / Shnitko Svetlana / 1981",null,null,null,null,null,null,null,null,null,null,null,null,null,null,null,null,null,null,null,null,null,null,332.55,null,null,null,null,332.55]
["Шукайлов Максим / Shukajlov Maksim / 1988",null,null,null,null,null,87.88,null,null,null,null,null,null,null,null,null,null,null,null,null,null,null,null,null,null,null,null,null,87.88]
["Шуленков Роман / Shulenkov Roman / 1990",null,127.35,null,null,63.88,null,null,null,null,null,null,null,null,null,null,null,null,null,null,null,null,null,null,null,null,null,null,191.23]
["Шульпенков Александр / Shulpenkov Aleksandr / 1986",null,null,null,null,null,null,null,null,null,60.15,null,null,null,null,null,null,62.17,null,null,null,null,null,null,null,null,null,null,122.32]
["Шуминский Александр / Shuminskij Aleksandr / 1984",null,null,null,null,null,null,null,null,null,null,null,null,null,null,null,null,null,null,null,null,null,111.98,null,null,null,null,null,111.98]
["Шупленков Клим  / Shuplenkov Klim  / 1996",null,null,null,173.23,null,null,null,null,null,null,null,null,null,null,null,null,null,null,null,null,null,null,null,null,null,null,null,173.23]
["Щербаков Илья / Scherbakov Ilya / 1989",null,null,null,null,null,null,null,null,null,null,246.15,null,null,null,147.87,null,null,null,null,null,null,null,null,null,null,null,null,394.02]
["Щербина Максим / Scherbina Maksim / 1976",null,null,null,null,null,21.97,null,null,null,null,null,54.86,null,null,null,null,null,null,null,null,null,null,null,null,null,null,null,76.83]
["Щербо Виктор / Scherbo Viktor / 1961",null,null,null,null,null,null,null,null,null,null,null,null,null,null,null,null,196.88,null,null,122.57,null,null,null,null,145.33000000000001,null,null,464.78]
["Щукин Макс / Schukin Maks / 1992",null,null,null,null,null,null,null,null,null,null,null,null,null,null,86.68,null,null,null,null,null,null,null,null,null,null,null,null,86.68]
["Щур Илья / Schur Ilya / 1991",null,null,null,null,null,null,null,null,null,null,null,null,null,null,null,null,null,null,null,null,null,null,151.76,null,null,null,null,151.76]
["Юкевич Александр / Yukevich Aleksandr / 1983",null,null,null,null,null,null,null,334.55,null,null,null,340.15,null,null,null,null,null,null,null,null,null,338.47,null,null,null,null,null,1013.1700000000001]
["Юкевич Андрей / Yukevich Andrej / 1990",null,null,null,null,null,null,null,null,null,null,null,219.45,null,null,null,null,null,null,null,null,null,null,null,null,null,null,null,219.45]
["Юлов Герман / Yulov German / 1993",null,null,333.53,null,null,null,null,null,null,null,null,null,null,null,null,null,null,null,null,null,null,null,277.13,null,null,null,null,610.66]
["Юлов Герман  / Yulov German  / 1993",null,null,null,null,null,417.45,null,null,null,null,null,null,null,null,null,null,null,null,null,null,null,null,null,null,null,null,null,417.45]
["Явтушенко Вадим / Yavtushenko Vadim / 1981",null,null,null,null,null,null,null,null,null,154.68,159.66999999999999,null,null,null,null,null,null,81.819999999999993,null,null,null,218.86,null,null,null,null,null,615.03]
["Якименко Римма / Yakimenko Rimma / 1975",null,null,null,null,null,null,null,null,null,null,null,null,null,null,null,null,null,null,null,null,null,27.99,null,null,null,null,null,27.99]
["Якимченко Анатолий / Yakimchenko Anatolij / 1967",null,null,null,null,null,null,null,68.63,null,null,null,null,null,null,null,33.57,null,null,null,null,null,5.09,null,null,null,null,null,107.28999999999999]
["Якимчук Надежда / Yakimchuk Nadezhda / 1986",null,null,null,null,null,null,null,null,null,null,null,65.83,null,null,null,null,null,null,null,null,null,null,null,null,null,null,null,65.83]
["Яковлев Евгений / Yakovlev Evgenij / 1988",null,null,null,null,null,null,null,null,null,null,null,null,null,null,null,null,null,null,null,113.14,null,null,null,null,null,null,null,113.14]
["Якубовская Виктория / Yakubovskaya Viktoriya / 1984",null,null,null,null,null,null,null,null,null,null,null,null,null,null,null,null,102.14,null,null,null,null,null,null,null,null,null,null,102.14]
["Якубовский Игорь / Yakubovskij Igor / 1984",null,null,null,null,310.3,null,null,null,146.75,null,null,186.53,null,null,null,null,82.9,90.91,null,null,null,null,null,null,null,null,null,817.39]
["Ямбушева Катерина / Yambusheva Katerina / 1987",null,null,null,null,null,null,null,356.48,null,null,null,null,null,null,null,null,null,null,null,null,null,null,null,null,null,null,null,356.48]
["Янович Лена / Yanovich Lena / 1996",null,null,null,null,null,null,null,null,null,null,null,null,null,null,null,null,null,null,null,null,null,null,null,null,null,null,421.08,421.08]
["Янченко Ксения / Yanchenko Kseniya / 1997",null,375.22,null,null,null,null,null,null,null,null,null,null,null,null,null,null,null,null,null,null,null,null,null,null,null,null,null,375.22]
["Ярмончик Игорь / Yarmonchik Igor / 1985",null,null,null,298.35000000000002,null,null,null,223.04,null,null,null,null,null,null,null,null,null,null,null,null,null,320.66000000000003,null,null,null,null,null,842.05]
["Яроцкий Евгений / Yarotskij Evgenij / 1987",null,null,null,null,null,null,null,null,null,null,null,null,null,null,null,null,null,254.55,null,null,null,274.85000000000002,null,null,null,null,null,529.40000000000009]
["Яцкевич Кирилл / Yatskevich Kirill / 2001",null,382.05,null,null,null,null,null,null,null,null,null,null,null,null,null,null,null,null,null,null,null,null,null,null,null,null,null,382.05]
["Яцкевич Ольга / Yatskevich Olga / 1988",null,null,null,null,null,null,null,null,null,null,null,null,null,null,null,null,null,315.79000000000002,null,null,null,null,null,null,null,null,null,315.79000000000002]
["Общий итог",20389.239999999994,24264.499999999989,19968.580000000009,13373.150000000003,18663.46,13568.670000000002,7041.27,17097.490000000002,23383.8,9590.0099999999984,15654.140000000001,15306.560000000005,8928.5300000000007,8706.2999999999993,15044.160000000002,18415.969999999994,6315.7000000000007,12936.840000000002,12735.420000000002,10330.66,7250.48,38804.989999999991,29058.869999999992,8715.74,12948.869999999999,12118.51,18084.670000000006,418696.57999999984]

{"sheet":"4 лучших1","index":4,"n_rows":1016,"n_cols":37,"rows_kept":1016,"cut":false,"hidden":false,"merged":[[2,29,2,32]]}
[]
[]
["Сумма по полю личный рез-т соревнований","Названия столбцов",null,null,null,null,null,null,null,null,null,null,null,null,null,null,null,null,null,null,null,null,null,null,null,null,null,null,null,"Лучшие результаты"]
["Названия строк","\"Налибоки 2018\" Трейл 100","\"Налибоки 2018\" Трейл 21","\"Налибоки 2018\" Трейл 42","Дорога замков Трейл 10","Дорога замков Трейл 21","Дорога замков Трейл 42","Дорога замков Ультра-Трейл 100","Жук-трейл # 4 Минское Море  Трейл 16","Жук-трейл # 4 Минское Море  Трейл 25","Жук-трейл # 4 Минское Море  Трейл 8","Жук-трейл # 5 Крево Трейл 10","Жук-трейл # 5 Крево Трейл 21","Жук-трейл # 5 Крево Трейл 45","Жук-трейл # 5 Крево Трейл 70","Жук-трейл #6 Купалье Трейл 10","Жук-трейл #6 Купалье Трейл 21","Жук-трейл #6 Купалье Трейл 5","Жук-трейл #7 Раубичи Трейл 10","Жук-трейл #7 Раубичи Трейл 21","Жук-трейл #7 Раубичи Трейл 5","Жук-трейл #8 Логойск Ночной 10","Жук-трейл #8 Логойск Трейл 10","Жук-трейл #8 Логойск Трейл 21","Жук-трейл #8 Логойск Трейл 42","Жук-трейл #8 Логойск Трейл 5","Зима минус 100 Трейл 100","Зима минус 100 Трейл 50","Общий итог",null,null,null,null,"Сумма баллов (принятая к зачёту)"]
["Ben Bilel / Ben Bilel / 1981",null,null,null,null,null,null,null,null,null,null,null,null,71.430000000000007,null,null,null,null,null,null,null,null,null,null,null,null,null,null,71.430000000000007,{"$f":"LARGE(B5:AB5,1)","v":71.430000000000007},{"$f":"IF(COUNT(B5:AB5)=1,0,LARGE(B5:AB5,2))","v":0},{"$f":"IF(COUNT(B5:AB5)<3,0,LARGE(B5:AB5,3))","v":0},{"$f":"IF(COUNT(B5:AB5)<4,0,LARGE(B5:AB5,4))","v":0},{"$f":"SUM(AD5:AG5)","v":71.430000000000007},null,{"$f":"VLOOKUP(A5,'личные рез-ты по гонкам списком'!$J$1:$N$1645,2,FALSE)","v":"М"},{"$f":"COUNT(B5:AB5)","v":1}]
["McTavish John / McTavish John / 1987",null,null,null,null,null,null,null,null,null,null,null,null,null,null,null,null,null,null,303.51,null,null,null,508.07,null,null,null,null,811.57999999999993,{"$f":"LARGE(B6:AB6,1)","v":508.07},{"$f":"IF(COUNT(B6:AB6)=1,0,LARGE(B6:AB6,2))","v":303.51},{"$f":"IF(COUNT(B6:AB6)<3,0,LARGE(B6:AB6,3))","v":0},{"$f":"IF(COUNT(B6:AB6)<4,0,LARGE(B6:AB6,4))","v":0},{"$f":"SUM(AD6:AG6)","v":811.57999999999993},null,{"$f":"VLOOKUP(A6,'личные рез-ты по гонкам списком'!$J$1:$N$1645,2,FALSE)","v":"М"},{"$f":"COUNT(B6:AB6)","v":2}]
["Tan Burak / Tan Burak / 1983",null,null,null,192.48,null,null,null,null,null,null,null,null,null,null,null,null,null,null,null,null,null,213.77,null,null,null,null,null,406.25,213.77,192.48,0,0,406.25,null,{"$f":"VLOOKUP(A7,'личные рез-ты по гонкам списком'!$J$1:$N$1645,2,FALSE)","v":"М"},2]
["user 4931 dan / user 4931 dan / 1989",null,null,null,null,null,null,null,null,null,null,null,null,null,null,null,null,null,null,null,null,null,223.95,null,null,null,null,null,223.95,223.95,0,0,0,223.95,null,{"$f":"VLOOKUP(A8,'личные рез-ты по гонкам списком'!$J$1:$N$1645,2,FALSE)","v":"М"},1]
["Абаркина Елена / Abarkina Elena / 1983",null,null,null,29.67,null,null,null,null,null,null,null,null,null,null,null,null,110.65,null,null,null,null,null,null,null,null,null,null,140.32,110.65,29.67,0,0,140.32,null,{"$f":"VLOOKUP(A9,'личные рез-ты по гонкам списком'!$J$1:$N$1645,2,FALSE)","v":"Ж"},2]
["Авсянский Федор / Avsyanskij Fedor / 1988",null,null,null,null,null,null,null,null,null,null,null,null,null,null,null,null,null,null,null,null,null,83.98,null,null,null,null,null,83.98,83.98,0,0,0,83.98,null,{"$f":"VLOOKUP(A10,'личные рез-ты по гонкам списком'!$J$1:$N$1645,2,FALSE)","v":"М"},1]
["Агаев Руслан / Agaev Ruslan / 1995",null,null,null,null,null,null,null,null,null,null,null,null,null,null,137.66999999999999,null,null,null,null,null,null,null,null,null,null,null,null,137.66999999999999,137.66999999999999,0,0,0,137.66999999999999,null,{"$f":"VLOOKUP(A11,'личные рез-ты по гонкам списком'!$J$1:$N$1645,2,FALSE)","v":"М"},1]
["Агеев Константин / Ageev Konstantin / 1995",null,null,null,null,null,null,null,null,null,null,null,null,null,null,null,null,null,null,null,null,null,null,303.52,null,null,null,null,303.52,303.52,0,0,0,303.52,null,{"$f":"VLOOKUP(A12,'личные рез-ты по гонкам списком'!$J$1:$N$1645,2,FALSE)","v":"М"},1]
["Агеева Катерина / Ageeva Katerina / 1986",null,null,null,null,null,null,null,null,null,null,null,null,null,null,null,null,null,null,null,null,null,37.33,null,null,null,null,null,37.33,37.33,0,0,0,37.33,null,{"$f":"VLOOKUP(A13,'личные рез-ты по гонкам списком'!$J$1:$N$1645,2,FALSE)","v":"Ж"},1]
["Адаменко Виталий / Adamenko Vitalij / 1985",null,null,null,null,null,null,null,null,null,null,26.61,null,null,null,null,null,null,null,null,18.86,null,null,null,null,48.44,null,null,93.91,48.44,26.61,18.86,0,93.91,null,{"$f":"VLOOKUP(A14,'личные рез-ты по гонкам списком'!$J$1:$N$1645,2,FALSE)","v":"М"},3]
["Адамов Юрий / Adamov Yurij / 1976",null,null,null,null,null,null,null,null,null,null,null,null,null,null,null,null,null,null,null,null,null,null,null,null,42.39,null,null,42.39,42.39,0,0,0,42.39,null,{"$f":"VLOOKUP(A15,'личные рез-ты по гонкам списком'!$J$1:$N$1645,2,FALSE)","v":"М"},1]
["Адамович Денис / Adamovich Denis / 1986",null,null,null,null,null,null,null,null,null,null,null,null,null,null,null,null,null,null,null,null,null,99.25,null,null,null,null,null,99.25,99.25,0,0,0,99.25,null,{"$f":"VLOOKUP(A16,'личные рез-ты по гонкам списком'!$J$1:$N$1645,2,FALSE)","v":"М"},1]
["Адамович Ирина / Adamovich Irina / 1973",null,425.25,null,null,null,null,null,null,null,null,null,null,null,null,null,null,null,null,283.27999999999997,null,null,null,null,null,null,null,null,708.53,425.25,283.27999999999997,0,0,708.53,null,{"$f":"VLOOKUP(A17,'личные рез-ты по гонкам списком'!$J$1:$N$1645,2,FALSE)","v":"Ж"},2]
["Адасик Вячеслав / Adasik Vyacheslav / 1975",null,null,null,null,null,null,null,null,null,null,null,null,null,null,null,null,null,null,null,null,null,null,270.52999999999997,null,null,null,null,270.52999999999997,270.52999999999997,0,0,0,270.52999999999997,null,{"$f":"VLOOKUP(A18,'личные рез-ты по гонкам списком'!$J$1:$N$1645,2,FALSE)","v":"М"},1]
["Акулич Владимир / Akulich Vladimir / 1986",null,null,null,279.10000000000002,null,null,null,null,null,null,null,null,null,null,null,null,null,null,null,null,null,307.94,null,null,null,null,null,587.04,307.94,279.10000000000002,0,0,587.04,null,{"$f":"VLOOKUP(A19,'личные рез-ты по гонкам списком'!$J$1:$N$1645,2,FALSE)","v":"М"},2]
["Акулова Виктория / Akulova Viktoriya / 1980",null,null,null,null,null,null,null,null,null,null,null,null,null,null,null,null,null,null,null,null,null,null,null,null,153.27000000000001,null,null,153.27000000000001,153.27000000000001,0,0,0,153.27000000000001,null,{"$f":"VLOOKUP(A20,'личные рез-ты по гонкам списком'!$J$1:$N$1645,2,FALSE)","v":"Ж"},1]
["Александрова Дарья / Aleksandrova Darya / 1995",null,null,null,296.74,null,null,null,null,null,null,null,null,null,null,null,null,null,null,null,null,null,null,null,null,null,null,null,296.74,296.74,0,0,0,296.74,null,{"$f":"VLOOKUP(A21,'личные рез-ты по гонкам списком'!$J$1:$N$1645,2,FALSE)","v":"Ж"},1]
["Александронец Ганна / Aleksandronets Ganna / 1991",null,null,null,null,68.14,null,null,null,null,null,null,null,null,null,null,null,null,null,null,null,null,null,null,null,null,null,null,68.14,68.14,0,0,0,68.14,null,{"$f":"VLOOKUP(A22,'личные рез-ты по гонкам списком'!$J$1:$N$1645,2,FALSE)","v":"Ж"},1]
["Алексеев Алексей / Alekseev Aleksej / 1980",null,null,null,null,401.56,null,null,null,331.78,null,null,null,500,null,null,225.4,null,null,null,null,null,259.58,null,null,null,null,null,1718.32,500,401.56,331.78,259.58,1492.9199999999998,null,{"$f":"VLOOKUP(A23,'личные рез-ты по гонкам списком'!$J$1:$N$1645,2,FALSE)","v":"М"},5]
["Алексейчик Павел / Aleksejchik Pavel / 1994",null,null,null,null,null,null,null,null,null,null,null,null,null,null,null,null,null,null,null,null,null,244.31,null,null,null,null,null,244.31,244.31,0,0,0,244.31,null,{"$f":"VLOOKUP(A24,'личные рез-ты по гонкам списком'!$J$1:$N$1645,2,FALSE)","v":"М"},1]
["Аленова Анастасия / Alenova Anastasiya / 1993",null,null,null,null,null,null,null,null,null,null,null,null,null,null,null,null,null,null,null,null,null,null,null,null,238.43,null,null,238.43,238.43,0,0,0,238.43,null,{"$f":"VLOOKUP(A25,'личные рез-ты по гонкам списком'!$J$1:$N$1645,2,FALSE)","v":"Ж"},1]
["Алесиюк Татьяна / Alesiyuk Tatyana / 1987",null,null,null,null,null,null,null,null,null,null,null,null,null,null,null,null,null,null,null,null,null,242.62,null,null,null,null,null,242.62,242.62,0,0,0,242.62,null,{"$f":"VLOOKUP(A26,'личные рез-ты по гонкам списком'!$J$1:$N$1645,2,FALSE)","v":"Ж"},1]
["Ананич Александр / Ananich Aleksandr / 1979",null,null,null,null,null,null,null,null,null,null,null,null,null,null,null,null,null,null,null,null,null,null,null,null,null,null,108.37,108.37,108.37,0,0,0,108.37,null,{"$f":"VLOOKUP(A27,'личные рез-ты по гонкам списком'!$J$1:$N$1645,2,FALSE)","v":"М"},1]
["Анацко Леонид / Anatsko Leonid / 1961",null,null,null,null,null,null,null,null,null,null,null,null,null,298.16000000000003,null,14.39,null,null,null,null,null,null,null,null,null,null,null,312.55,298.16000000000003,14.39,0,0,312.55,null,{"$f":"VLOOKUP(A28,'личные рез-ты по гонкам списком'!$J$1:$N$1645,2,FALSE)","v":"М"},2]
["Андрюшенко Андрей / Andryushenko Andrej / 1980",null,null,null,null,null,null,null,null,null,null,null,null,null,null,null,null,null,null,null,null,null,94.16,null,null,null,null,null,94.16,94.16,0,0,0,94.16,null,{"$f":"VLOOKUP(A29,'личные рез-ты по гонкам списком'!$J$1:$N$1645,2,FALSE)","v":"М"},1]
["Андуро Сергей / Anduro Sergej / 1986",null,null,null,null,null,null,null,null,null,null,null,307.23,null,null,null,null,null,null,null,null,null,null,null,null,null,null,null,307.23,307.23,0,0,0,307.23,null,{"$f":"VLOOKUP(A30,'личные рез-ты по гонкам списком'!$J$1:$N$1645,2,FALSE)","v":"М"},1]
["Аноничев Александр / Anonichev Aleksandr / 1982",null,null,null,null,null,null,null,null,null,null,null,null,null,null,null,369.28,null,null,null,null,null,null,null,null,null,null,null,369.28,369.28,0,0,0,369.28,null,{"$f":"VLOOKUP(A31,'личные рез-ты по гонкам списком'!$J$1:$N$1645,2,FALSE)","v":"М"},1]
["Антонова Мария  / Antonova Mariya  / 1980",null,null,null,118.7,null,null,null,null,null,null,null,null,null,null,null,null,null,null,null,null,null,null,null,null,null,null,null,118.7,118.7,0,0,0,118.7,null,{"$f":"VLOOKUP(A32,'личные рез-ты по гонкам списком'!$J$1:$N$1645,2,FALSE)","v":"Ж"},1]
["Арабиенко Татьяна / Arabienko Tatyana / 1986",null,null,609,null,null,null,null,null,null,null,null,null,null,null,null,null,null,null,null,null,null,null,null,null,null,null,null,609,609,0,0,0,609,null,{"$f":"VLOOKUP(A33,'личные рез-ты по гонкам списком'!$J$1:$N$1645,2,FALSE)","v":"Ж"},1]
["Аржаников Евгений / Arzhanikov Evgenij / 1976",null,263.79000000000002,null,null,null,null,null,85.78,null,null,null,153.61000000000001,null,null,null,null,null,null,null,null,null,null,null,null,null,null,null,503.18000000000006,263.79000000000002,153.61000000000001,85.78,0,503.18000000000006,null,{"$f":"VLOOKUP(A34,'личные рез-ты по гонкам списком'!$J$1:$N$1645,2,FALSE)","v":"М"},3]
["Арзамасов Илья / Arzamasov Ilya / 1987",null,null,null,null,null,637.16,null,null,null,null,null,null,null,null,null,null,null,null,null,null,null,null,null,null,null,null,null,637.16,637.16,0,0,0,637.16,null,{"$f":"VLOOKUP(A35,'личные рез-ты по гонкам списком'!$J$1:$N$1645,2,FALSE)","v":"М"},1]
["Арловская Кристина / Arlovskaya Kristina / 1989",null,null,null,null,null,null,null,null,null,null,null,230.42,null,null,null,null,null,null,null,null,null,null,null,null,null,null,263.17,493.59000000000003,263.17,230.42,0,0,493.59000000000003,null,{"$f":"VLOOKUP(A36,'личные рез-ты по гонкам списком'!$J$1:$N$1645,2,FALSE)","v":"Ж"},2]
["Артихович Александр / Artihovich Aleksandr / 1972",null,null,null,null,null,null,null,null,null,null,null,null,null,null,71.39,null,null,null,null,null,91.45,114.52,null,null,null,null,null,277.36,114.52,91.45,71.39,0,277.36,null,{"$f":"VLOOKUP(A37,'личные рез-ты по гонкам списком'!$J$1:$N$1645,2,FALSE)","v":"М"},3]
["Асаевич Роман / Asaevich Roman / 1964",null,null,351.08,null,null,null,null,null,null,null,null,null,null,null,null,null,null,null,null,null,null,null,null,null,null,null,null,351.08,351.08,0,0,0,351.08,null,{"$f":"VLOOKUP(A38,'личные рез-ты по гонкам списком'!$J$1:$N$1645,2,FALSE)","v":"М"},1]
["Астапеня Андрей / Astapenya Andrej / 1985",null,null,null,null,null,null,null,null,null,null,null,null,null,null,null,null,null,null,null,null,null,287.58,null,null,null,null,null,287.58,287.58,0,0,0,287.58,null,{"$f":"VLOOKUP(A39,'личные рез-ты по гонкам списком'!$J$1:$N$1645,2,FALSE)","v":"М"},1]
["Астапов Владимир / Astapov Vladimir / 1977",375.97,null,null,null,null,483.36,null,null,null,null,null,null,null,null,null,null,null,null,null,null,null,null,null,null,null,null,null,859.33,483.36,375.97,0,0,859.33,null,{"$f":"VLOOKUP(A40,'личные рез-ты по гонкам списком'!$J$1:$N$1645,2,FALSE)","v":"М"},2]
["Афанасьев Иван / Afanasev Ivan / 1979",null,null,null,null,null,null,null,null,null,null,null,null,null,null,305.94,null,null,null,null,null,null,null,null,null,null,null,null,305.94,305.94,0,0,0,305.94,null,{"$f":"VLOOKUP(A41,'личные рез-ты по гонкам списком'!$J$1:$N$1645,2,FALSE)","v":"М"},1]
["Бабицкий Кирилл / Babitskij Kirill / 1998",null,null,null,null,null,null,null,null,null,null,null,null,null,null,null,null,null,null,null,null,null,null,null,null,null,null,628.52,628.52,628.52,0,0,0,628.52,null,{"$f":"VLOOKUP(A42,'личные рез-ты по гонкам списком'!$J$1:$N$1645,2,FALSE)","v":"М"},1]
["Бабич Виталий / Babich Vitalij / 1981",null,345.66,null,null,null,null,null,null,null,null,null,null,null,null,null,null,null,null,null,null,null,null,null,null,null,null,null,345.66,345.66,0,0,0,345.66,null,{"$f":"VLOOKUP(A43,'личные рез-ты по гонкам списком'!$J$1:$N$1645,2,FALSE)","v":"М"},1]
["Бажанский Виталий / Bazhanskij Vitalij / 1982",null,null,null,null,null,null,null,null,null,null,null,null,null,null,null,182.24,null,null,null,null,null,null,null,null,null,null,null,182.24,182.24,0,0,0,182.24,null,{"$f":"VLOOKUP(A44,'личные рез-ты по гонкам списком'!$J$1:$N$1645,2,FALSE)","v":"М"},1]
["Балашов Никита / Balashov Nikita / 1983",null,409.34,null,null,null,null,null,null,null,null,null,null,null,null,null,null,null,272.73,null,null,null,null,null,null,null,null,null,682.06999999999994,409.34,272.73,0,0,682.06999999999994,null,{"$f":"VLOOKUP(A45,'личные рез-ты по гонкам списком'!$J$1:$N$1645,2,FALSE)","v":"М"},2]
["Балицкая Ольга / Balitskaya Olga / 1981",null,null,null,null,null,null,null,null,null,null,null,null,null,null,null,null,null,null,null,null,null,null,null,null,272.49,null,null,272.49,272.49,0,0,0,272.49,null,{"$f":"VLOOKUP(A46,'личные рез-ты по гонкам списком'!$J$1:$N$1645,2,FALSE)","v":"Ж"},1]
["Барановский Александр / Baranovskij Aleksandr / 1984",null,null,null,null,null,null,null,null,null,null,null,null,null,null,null,null,null,300,null,null,null,null,null,null,null,null,null,300,300,0,0,0,300,null,{"$f":"VLOOKUP(A47,'личные рез-ты по гонкам списком'!$J$1:$N$1645,2,FALSE)","v":"М"},1]
["Барановский Алексей / Baranovskij Aleksej / 1981",null,null,null,null,null,461.39,null,null,null,null,null,null,null,null,null,158.26,null,null,null,null,null,null,null,null,null,null,null,619.65,461.39,158.26,0,0,619.65,null,{"$f":"VLOOKUP(A48,'личные рез-ты по гонкам списком'!$J$1:$N$1645,2,FALSE)","v":"М"},2]
["Баронов Роман / Baronov Roman / 1993",null,null,null,null,null,null,null,null,null,null,306.02999999999997,null,null,null,224.36,null,null,null,null,null,null,null,null,null,null,null,null,530.39,306.02999999999997,224.36,0,0,530.39,null,{"$f":"VLOOKUP(A49,'личные рез-ты по гонкам списком'!$J$1:$N$1645,2,FALSE)","v":"М"},2]
["Барсумян Артур / Barsumyan Artur / 1992",null,null,null,null,null,null,null,null,null,189.05,null,null,null,null,null,null,null,null,null,null,null,null,null,null,null,null,null,189.05,189.05,0,0,0,189.05,null,{"$f":"VLOOKUP(A50,'личные рез-ты по гонкам списком'!$J$1:$N$1645,2,FALSE)","v":"М"},1]
["Бахтизин Павел / Bahtizin Pavel / 1980",null,null,null,null,255.54,null,null,null,null,null,null,null,null,null,null,null,null,null,null,null,null,null,null,null,null,null,null,255.54,255.54,0,0,0,255.54,null,{"$f":"VLOOKUP(A51,'личные рез-ты по гонкам списком'!$J$1:$N$1645,2,FALSE)","v":"М"},1]
["Бачища Николай / Bachischa Nikolaj / 1988",null,null,null,null,null,null,null,null,null,null,null,null,null,null,null,null,null,null,null,null,null,null,null,null,null,null,238.4,238.4,238.4,0,0,0,238.4,null,{"$f":"VLOOKUP(A52,'личные рез-ты по гонкам списком'!$J$1:$N$1645,2,FALSE)","v":"М"},1]
["Беганский Иван  / Beganskij Ivan  / 1984",null,null,null,null,null,219.71,null,null,null,null,null,null,null,null,null,null,null,null,null,null,null,null,null,null,null,null,null,219.71,219.71,0,0,0,219.71,null,{"$f":"VLOOKUP(A53,'личные рез-ты по гонкам списком'!$J$1:$N$1645,2,FALSE)","v":"М"},1]
["Бегун Егор / Begun Egor / 1988",null,null,null,250.23,null,null,null,null,null,null,232.85,null,null,null,null,null,null,null,null,null,169.83,282.49,null,null,null,null,null,935.4,282.49,250.23,232.85,169.83,935.40000000000009,null,{"$f":"VLOOKUP(A54,'личные рез-ты по гонкам списком'!$J$1:$N$1645,2,FALSE)","v":"М"},4]
["Белая Юлия / Belaya Yuliya / 1988",null,null,664.36,null,136.29,null,null,null,375.87,null,null,null,null,null,null,274.05,null,null,null,null,null,null,null,null,null,null,null,1450.57,664.36,375.87,274.05,136.29,1450.57,null,{"$f":"VLOOKUP(A55,'личные рез-ты по гонкам списком'!$J$1:$N$1645,2,FALSE)","v":"Ж"},4]
["Белинская Галина / Belinskaya Galina / 1980",null,null,null,null,null,null,null,null,null,null,null,null,null,null,null,null,null,null,null,null,null,null,null,null,null,null,684.25,684.25,684.25,0,0,0,684.25,null,{"$f":"VLOOKUP(A56,'личные рез-ты по гонкам списком'!$J$1:$N$1645,2,FALSE)","v":"Ж"},1]
["Белицкий Денис / Belitskij Denis / 1990",null,90.96,null,null,null,null,null,null,null,null,null,null,null,null,null,43.16,null,null,null,null,null,null,null,null,null,null,null,134.12,90.96,43.16,0,0,134.12,null,{"$f":"VLOOKUP(A57,'личные рез-ты по гонкам списком'!$J$1:$N$1645,2,FALSE)","v":"М"},2]
["Белов Александр / Belov Aleksandr / 1991",null,null,null,null,null,null,null,null,null,null,null,null,null,null,null,null,null,null,null,null,null,178.14,null,null,null,null,null,178.14,178.14,0,0,0,178.14,null,{"$f":"VLOOKUP(A58,'личные рез-ты по гонкам списком'!$J$1:$N$1645,2,FALSE)","v":"М"},1]
["Белоусов Александр / Belousov Aleksandr / 1981",null,null,null,null,null,null,null,null,null,null,null,null,null,null,132.57,null,null,null,null,null,null,null,null,null,null,null,null,132.57,132.57,0,0,0,132.57,null,{"$f":"VLOOKUP(A59,'личные рез-ты по гонкам списком'!$J$1:$N$1645,2,FALSE)","v":"М"},1]
["Белоцкая Елена / Belotskaya Elena / 1987",null,null,null,null,null,null,null,null,null,116.01,null,null,null,null,null,null,null,null,null,null,null,null,null,null,null,null,null,116.01,116.01,0,0,0,116.01,null,{"$f":"VLOOKUP(A60,'личные рез-ты по гонкам списком'!$J$1:$N$1645,2,FALSE)","v":"Ж"},1]
["Беляй Владимир / Belyaj Vladimir / 1989",null,null,null,null,null,null,null,null,null,null,null,null,null,null,null,null,null,null,null,null,null,null,null,null,260.38,null,null,260.38,260.38,0,0,0,260.38,null,{"$f":"VLOOKUP(A61,'личные рез-ты по гонкам списком'!$J$1:$N$1645,2,FALSE)","v":"М"},1]
["Бердников Дмитрий / Berdnikov Dmitrij / ",null,null,null,null,null,null,null,null,null,null,null,null,null,null,66.290000000000006,null,null,null,null,null,null,null,null,null,null,null,null,66.290000000000006,66.290000000000006,0,0,0,66.290000000000006,null,{"$f":"VLOOKUP(A62,'личные рез-ты по гонкам списком'!$J$1:$N$1645,2,FALSE)","v":"М"},1]
["Березин Артём / Berezin Artjom / 1986",null,null,null,null,null,null,null,null,null,null,null,null,null,null,null,148.66999999999999,null,null,182.11,null,null,null,null,null,null,null,null,330.78,182.11,148.66999999999999,0,0,330.78,null,{"$f":"VLOOKUP(A63,'личные рез-ты по гонкам списком'!$J$1:$N$1645,2,FALSE)","v":"М"},2]
["Березовский Андрей / Berezovskij Andrej / 1973",null,null,null,null,null,null,null,null,465.77,null,null,null,null,null,null,297.33999999999997,null,null,376.36,null,378.85,null,null,null,null,null,693.54,2211.8599999999997,693.54,465.77,378.85,376.36,1914.52,null,{"$f":"VLOOKUP(A64,'личные рез-ты по гонкам списком'!$J$1:$N$1645,2,FALSE)","v":"М"},5]
["Бизюк Игорь / Bizyuk Igor / 1956",null,null,157.99,null,null,null,null,null,null,null,null,null,null,null,null,null,null,null,null,null,null,null,null,null,null,null,null,157.99,157.99,0,0,0,157.99,null,{"$f":"VLOOKUP(A65,'личные рез-ты по гонкам списком'!$J$1:$N$1645,2,FALSE)","v":"М"},1]
["Бобровский Максим / Bobrovskij Maksim / 1991",null,null,null,null,null,null,null,null,null,null,null,null,null,null,null,null,null,null,null,null,261.27999999999997,null,null,null,null,null,null,261.27999999999997,261.27999999999997,0,0,0,261.27999999999997,null,{"$f":"VLOOKUP(A66,'личные рез-ты по гонкам списком'!$J$1:$N$1645,2,FALSE)","v":"М"},1]
["Богачев Борис / Bogachev Boris / 1991",null,null,null,null,null,null,null,null,null,null,null,null,null,null,null,null,null,null,437.06,null,null,null,null,null,null,null,null,437.06,437.06,0,0,0,437.06,null,{"$f":"VLOOKUP(A67,'личные рез-ты по гонкам списком'!$J$1:$N$1645,2,FALSE)","v":"М"},1]
["Богдевич Анатолий / Bogdevich Anatolij / 1999",null,null,null,null,null,null,null,null,null,null,null,null,null,null,234.55,null,null,null,null,null,null,null,null,null,null,null,null,234.55,234.55,0,0,0,234.55,null,{"$f":"VLOOKUP(A68,'личные рез-ты по гонкам списком'!$J$1:$N$1645,2,FALSE)","v":"М"},1]
["Богомаз Владимир / Bogomaz Vladimir / 1982",null,null,null,null,null,null,null,null,null,null,null,null,null,null,null,null,null,null,null,null,null,null,455.28,null,null,null,null,455.28,455.28,0,0,0,455.28,null,{"$f":"VLOOKUP(A69,'личные рез-ты по гонкам списком'!$J$1:$N$1645,2,FALSE)","v":"М"},1]
["Богомаз Екатерина / Bogomaz Ekaterina / 1981",null,null,null,null,null,null,null,null,null,null,null,null,null,null,null,null,null,null,null,null,null,null,null,null,107.86,null,null,107.86,{"$f":"LARGE(B70:AB70,1)","v":107.86},{"$f":"IF(COUNT(B70:AB70)=1,0,LARGE(B70:AB70,2))","v":0},{"$f":"IF(COUNT(B70:AB70)<3,0,LARGE(B70:AB70,3))","v":0},{"$f":"IF(COUNT(B70:AB70)<4,0,LARGE(B70:AB70,4))","v":0},{"$f":"SUM(AD70:AG70)","v":107.86},null,{"$f":"VLOOKUP(A70,'личные рез-ты по гонкам списком'!$J$1:$N$1645,2,FALSE)","v":"Ж"},{"$f":"COUNT(B70:AB70)","v":1}]
["Бойко Евгений / Bojko Evgenij / 1985",null,null,null,null,null,null,null,null,null,null,null,null,null,null,null,null,165.79,null,null,null,null,null,null,null,null,null,null,165.79,165.79,0,0,0,165.79,null,{"$f":"VLOOKUP(A71,'личные рез-ты по гонкам списком'!$J$1:$N$1645,2,FALSE)","v":"М"},1]
["Бокунович Дмитрий  / Bokunovich Dmitrij  / 1982",null,null,null,null,392.43,null,null,null,null,null,null,null,null,null,null,null,null,null,null,null,null,null,null,null,null,null,null,392.43,392.43,0,0,0,392.43,null,{"$f":"VLOOKUP(A72,'личные рез-ты по гонкам списком'!$J$1:$N$1645,2,FALSE)","v":"М"},1]
["Бокша Сергей / Boksha Sergej / 1988",null,null,null,null,null,null,null,null,319.02,null,null,null,null,null,null,null,null,null,133.55000000000001,null,null,null,null,null,null,null,null,452.57,319.02,133.55000000000001,0,0,452.57,null,{"$f":"VLOOKUP(A73,'личные рез-ты по гонкам списком'!$J$1:$N$1645,2,FALSE)","v":"М"},2]
["Болотов Илья / Bolotov Ilya / 1988",null,null,null,null,null,null,null,null,null,null,null,null,null,null,null,null,null,null,null,null,null,127.25,null,null,null,null,null,127.25,127.25,0,0,0,127.25,null,{"$f":"VLOOKUP(A74,'личные рез-ты по гонкам списком'!$J$1:$N$1645,2,FALSE)","v":"М"},1]
["Бондарь Юлия / Bondar Yuliya / 1993",null,275.16000000000003,null,null,null,null,null,null,null,null,null,null,null,null,null,null,null,null,null,null,null,null,null,null,null,null,null,275.16000000000003,275.16000000000003,0,0,0,275.16000000000003,null,{"$f":"VLOOKUP(A75,'личные рез-ты по гонкам списком'!$J$1:$N$1645,2,FALSE)","v":"Ж"},1]
["Борздыко Виктория / Borzdyko Viktoriya / 1994",null,null,null,null,null,null,null,null,null,null,null,null,null,null,null,null,null,null,null,null,null,null,null,null,164.63,null,null,164.63,164.63,0,0,0,164.63,null,{"$f":"VLOOKUP(A76,'личные рез-ты по гонкам списком'!$J$1:$N$1645,2,FALSE)","v":"Ж"},1]
["Борисевич Александр / Borisevich Aleksandr / 1989",null,218.31,null,null,null,null,null,null,null,null,null,null,null,null,null,124.69,null,null,null,null,null,null,null,null,null,null,null,343,218.31,124.69,0,0,343,null,{"$f":"VLOOKUP(A77,'личные рез-ты по гонкам списком'!$J$1:$N$1645,2,FALSE)","v":"М"},2]
["Борисевич Анастасия / Borisevich Anastasiya / 1985",null,137.58000000000001,null,null,null,null,null,null,null,null,null,null,714.28,null,null,null,null,63.16,null,null,null,null,null,null,null,null,null,915.02,714.28,137.58000000000001,63.16,0,915.02,null,{"$f":"VLOOKUP(A78,'личные рез-ты по гонкам списком'!$J$1:$N$1645,2,FALSE)","v":"Ж"},3]
["Борисевич Леонид / Borisevich Leonid / 1969",null,null,null,null,null,null,null,null,401.97,null,null,null,null,null,null,292.55,null,null,null,null,null,null,null,null,null,896.09,null,1590.6100000000001,896.09,401.97,292.55,0,1590.61,null,{"$f":"VLOOKUP(A79,'личные рез-ты по гонкам списком'!$J$1:$N$1645,2,FALSE)","v":"М"},3]
["Бортник Александр / Bortnik Aleksandr / 1994",null,null,null,null,null,null,null,null,null,null,139.71,null,null,null,null,null,null,null,null,null,null,null,null,null,null,null,null,139.71,139.71,0,0,0,139.71,null,{"$f":"VLOOKUP(A80,'личные рез-ты по гонкам списком'!$J$1:$N$1645,2,FALSE)","v":"М"},1]
["Бортняк Екатерина / Bortnyak Ekaterina / 1994",null,null,null,null,null,null,null,null,null,null,null,null,null,null,null,null,null,null,null,13.8,null,null,null,null,null,null,null,13.8,13.8,0,0,0,13.8,null,{"$f":"VLOOKUP(A81,'личные рез-ты по гонкам списком'!$J$1:$N$1645,2,FALSE)","v":"Ж"},1]
["Брагин Иван / Bragin Ivan / 1986",null,null,null,null,null,null,null,null,null,null,null,null,714.28,null,null,null,null,null,null,null,null,null,null,null,null,null,null,714.28,714.28,0,0,0,714.28,null,{"$f":"VLOOKUP(A82,'личные рез-ты по гонкам списком'!$J$1:$N$1645,2,FALSE)","v":"М"},1]
["Бритов Максим / Britov Maksim / 1974",null,null,null,null,82.14,null,null,null,null,null,null,null,null,null,null,null,null,null,null,null,null,null,null,null,null,null,null,82.14,82.14,0,0,0,82.14,null,{"$f":"VLOOKUP(A83,'личные рез-ты по гонкам списком'!$J$1:$N$1645,2,FALSE)","v":"М"},1]
["Брытько Роман / Brytko Roman / 1995",null,null,null,null,null,null,null,null,185.03,null,292.72000000000003,null,null,null,285.55,null,null,null,null,254.56,352.73,null,null,null,248.27,null,null,1618.86,352.73,292.72000000000003,285.55,254.56,1185.56,null,{"$f":"VLOOKUP(A84,'личные рез-ты по гонкам списком'!$J$1:$N$1645,2,FALSE)","v":"М"},6]
["Бубликов Александр / Bublikov Aleksandr / 1986",null,null,null,null,36.51,null,null,null,null,null,null,null,null,null,null,null,null,null,null,null,65.319999999999993,null,null,null,30.28,null,null,132.10999999999999,65.319999999999993,36.51,30.28,0,132.10999999999999,null,{"$f":"VLOOKUP(A85,'личные рез-ты по гонкам списком'!$J$1:$N$1645,2,FALSE)","v":"М"},3]
["Будник Владимир / Budnik Vladimir / 1987",null,172.83,null,null,null,null,null,null,null,null,null,null,null,null,null,null,null,null,null,null,null,null,null,null,null,null,null,172.83,172.83,0,0,0,172.83,null,{"$f":"VLOOKUP(A86,'личные рез-ты по гонкам списком'!$J$1:$N$1645,2,FALSE)","v":"М"},1]
["Будрик Юлия / Budrik Yuliya / 1995",null,null,null,null,null,null,null,null,null,null,null,null,null,null,239.79,null,null,null,null,null,null,null,null,null,null,null,null,239.79,239.79,0,0,0,239.79,null,{"$f":"VLOOKUP(A87,'личные рез-ты по гонкам списком'!$J$1:$N$1645,2,FALSE)","v":"Ж"},1]
["Будыхина Татьяна / Budyhina Tatyana / 1985",null,37.520000000000003,null,null,null,null,null,null,null,null,null,null,null,null,null,null,null,null,null,null,null,null,null,null,null,null,null,37.520000000000003,37.520000000000003,0,0,0,37.520000000000003,null,{"$f":"VLOOKUP(A88,'личные рез-ты по гонкам списком'!$J$1:$N$1645,2,FALSE)","v":"Ж"},1]
["Бузо Александр / Buzo Aleksandr / 1982",null,null,null,null,483.7,null,null,403.18,null,null,null,449.87,null,null,null,235,null,309.08999999999997,null,null,null,361.38,null,null,null,null,null,2242.2199999999998,483.7,449.87,403.18,361.38,1698.13,null,{"$f":"VLOOKUP(A89,'личные рез-ты по гонкам списком'!$J$1:$N$1645,2,FALSE)","v":"М"},6]
["Булеева Наталья / Buleeva Natalya / 1969",null,null,null,null,null,null,null,226.85,null,null,null,null,null,null,null,null,null,null,null,null,null,null,null,null,null,null,null,226.85,226.85,0,0,0,226.85,null,{"$f":"VLOOKUP(A90,'личные рез-ты по гонкам списком'!$J$1:$N$1645,2,FALSE)","v":"Ж"},1]
["Бунос Анатолий / Bunos Anatolij / 1956",null,null,null,null,null,null,null,308.82,null,null,null,null,null,null,null,null,null,null,null,null,null,null,null,null,null,null,null,308.82,308.82,0,0,0,308.82,null,{"$f":"VLOOKUP(A91,'личные рез-ты по гонкам списком'!$J$1:$N$1645,2,FALSE)","v":"М"},1]
["Бурак Анжелика / Burak Anzhelika / 1994",null,null,null,128.59,null,null,null,null,null,null,null,null,null,null,null,null,144.69999999999999,null,null,null,null,null,null,null,null,null,null,273.28999999999996,144.69999999999999,128.59,0,0,273.28999999999996,null,{"$f":"VLOOKUP(A92,'личные рез-ты по гонкам списком'!$J$1:$N$1645,2,FALSE)","v":"Ж"},2]
["Бураковская Ульяна / Burakovskaya Ulyana / 1996",null,null,null,null,null,null,null,null,null,null,null,null,null,null,null,null,null,null,null,null,null,null,null,null,136.24,null,null,136.24,136.24,0,0,0,136.24,null,{"$f":"VLOOKUP(A93,'личные рез-ты по гонкам списком'!$J$1:$N$1645,2,FALSE)","v":"Ж"},1]
["Бурый Евгений / Buryj Evgenij / 1984",null,null,null,null,null,null,null,null,null,null,null,null,null,null,null,null,null,null,null,null,null,null,164.96,null,null,null,null,164.96,164.96,0,0,0,164.96,null,{"$f":"VLOOKUP(A94,'личные рез-ты по гонкам списком'!$J$1:$N$1645,2,FALSE)","v":"М"},1]
["Буто Дмитрий / Buto Dmitrij / 1988",null,null,null,null,null,null,null,null,null,null,null,null,null,null,null,null,null,null,null,null,null,257.04000000000002,null,null,null,null,null,257.04000000000002,257.04000000000002,0,0,0,257.04000000000002,null,{"$f":"VLOOKUP(A95,'личные рез-ты по гонкам списком'!$J$1:$N$1645,2,FALSE)","v":"М"},1]
["Бутурля Александр / Buturlya Aleksandr / 1981",null,null,null,null,null,null,null,null,null,null,null,null,null,null,null,null,113.98,null,null,null,null,null,null,null,null,null,null,113.98,113.98,0,0,0,113.98,null,{"$f":"VLOOKUP(A96,'личные рез-ты по гонкам списком'!$J$1:$N$1645,2,FALSE)","v":"М"},1]
["Буховецкий Андрей / Buhovetskij Andrej / 1987",null,300.18,null,null,null,null,null,null,null,null,null,null,null,null,null,null,null,null,null,null,null,null,null,null,null,null,null,300.18,300.18,0,0,0,300.18,null,{"$f":"VLOOKUP(A97,'личные рез-ты по гонкам списком'!$J$1:$N$1645,2,FALSE)","v":"М"},1]
["Бушковский Максим / Bushkovskij Maksim / 1989",null,null,null,null,null,null,null,null,null,null,null,null,null,null,null,95.92,null,null,null,null,null,150.15,null,null,null,null,null,246.07,150.15,95.92,0,0,246.07,null,{"$f":"VLOOKUP(A98,'личные рез-ты по гонкам списком'!$J$1:$N$1645,2,FALSE)","v":"М"},2]
["Быков Владимир / Bykov Vladimir / 1977",null,null,null,null,null,null,null,null,null,null,null,null,null,null,null,null,null,null,null,null,null,null,null,null,null,null,346.77,346.77,346.77,0,0,0,346.77,null,{"$f":"VLOOKUP(A99,'личные рез-ты по гонкам списком'!$J$1:$N$1645,2,FALSE)","v":"М"},1]
["Бычинский Владислав / Bychinskij Vladislav / 1992",null,null,null,null,null,null,null,null,null,null,206.24,null,null,null,null,null,null,null,null,null,null,null,null,null,null,null,null,206.24,206.24,0,0,0,206.24,null,{"$f":"VLOOKUP(A100,'личные рез-ты по гонкам списком'!$J$1:$N$1645,2,FALSE)","v":"М"},1]
["Бычков Александр / Bychkov Aleksandr / 1990",null,81.87,null,null,null,null,null,null,null,null,null,null,null,null,null,null,null,null,null,null,null,null,null,null,null,null,null,81.87,81.87,0,0,0,81.87,null,{"$f":"VLOOKUP(A101,'личные рез-ты по гонкам списком'!$J$1:$N$1645,2,FALSE)","v":"М"},1]
["Вагин Андрей / Vagin Andrej / 1989",null,null,719.72,null,null,null,null,null,491.3,null,null,460.84,null,null,null,null,null,null,null,null,null,null,521.26,null,null,null,null,2193.12,719.72,521.26,491.3,460.84,2193.12,null,{"$f":"VLOOKUP(A102,'личные рез-ты по гонкам списком'!$J$1:$N$1645,2,FALSE)","v":"М"},4]
["Вадим Лукин / Vadim Lukin / 1993",null,null,null,null,null,null,null,null,null,null,null,null,null,null,null,null,null,null,null,null,300.47000000000003,null,null,null,null,null,null,300.47000000000003,300.47000000000003,0,0,0,300.47000000000003,null,{"$f":"VLOOKUP(A103,'личные рез-ты по гонкам списком'!$J$1:$N$1645,2,FALSE)","v":"М"},1]
["Вайдо Андрей / Vajdo Andrej / 1995",null,null,null,null,null,null,null,null,null,null,null,null,null,null,null,null,null,null,null,null,null,389.37,null,null,null,null,null,389.37,389.37,0,0,0,389.37,null,{"$f":"VLOOKUP(A104,'личные рез-ты по гонкам списком'!$J$1:$N$1645,2,FALSE)","v":"М"},1]
["Вайтешонок Сергей / Vajteshonok Sergej / 1981",null,null,null,null,null,null,null,null,null,120.3,null,null,null,null,null,null,null,null,null,null,null,211.23,null,null,null,null,null,331.53,211.23,120.3,0,0,331.53,null,{"$f":"VLOOKUP(A105,'личные рез-ты по гонкам списком'!$J$1:$N$1645,2,FALSE)","v":"М"},2]
["Ванькова Светлана / Vankova Svetlana / 1984",null,null,null,null,null,null,null,null,null,null,null,null,null,null,null,null,null,null,null,null,null,149.30000000000001,null,null,null,null,null,149.30000000000001,149.30000000000001,0,0,0,149.30000000000001,null,{"$f":"VLOOKUP(A106,'личные рез-ты по гонкам списком'!$J$1:$N$1645,2,FALSE)","v":"Ж"},1]
["Варава Андрей / Varava Andrej / 1994",null,null,null,null,null,null,null,null,null,null,null,null,null,null,null,null,null,172.73,null,null,null,null,null,null,null,null,null,172.73,172.73,0,0,0,172.73,null,{"$f":"VLOOKUP(A107,'личные рез-ты по гонкам списком'!$J$1:$N$1645,2,FALSE)","v":"М"},1]
["Варданян Кристина / Vardanyan Kristina / 1981",null,350.21,null,null,null,null,null,null,null,null,null,null,null,null,null,null,null,null,null,null,null,null,null,null,null,null,null,350.21,350.21,0,0,0,350.21,null,{"$f":"VLOOKUP(A108,'личные рез-ты по гонкам списком'!$J$1:$N$1645,2,FALSE)","v":"Ж"},1]
["Варивода Сергей / Varivoda Sergej / 1964",null,null,null,null,null,null,null,null,null,null,null,null,null,null,null,null,null,null,null,null,null,null,null,null,163.49,null,null,163.49,163.49,0,0,0,163.49,null,{"$f":"VLOOKUP(A109,'личные рез-ты по гонкам списком'!$J$1:$N$1645,2,FALSE)","v":"М"},1]
["Василевич Валентина / Vasilevich Valentina / 1998",null,null,null,null,null,null,null,null,187.93,null,null,null,null,null,null,27.4,null,null,null,null,null,null,166.28,null,null,null,null,381.61,187.93,166.28,27.4,0,381.61,null,{"$f":"VLOOKUP(A110,'личные рез-ты по гонкам списком'!$J$1:$N$1645,2,FALSE)","v":"Ж"},3]
["Васильченко Вадим / Vasilchenko Vadim / 1987",null,null,null,null,146.02000000000001,null,null,null,null,null,null,null,null,null,null,null,null,63.64,null,null,null,null,null,null,null,null,null,209.66000000000003,146.02000000000001,63.64,0,0,209.66000000000003,null,{"$f":"VLOOKUP(A111,'личные рез-ты по гонкам списком'!$J$1:$N$1645,2,FALSE)","v":"М"},2]
["Вдовиченко Ирина / Vdovichenko Irina / 1989",null,null,null,null,null,null,null,97.22,null,null,null,98.75,null,null,null,null,null,null,null,null,null,null,null,null,null,null,null,195.97,98.75,97.22,0,0,195.97,null,{"$f":"VLOOKUP(A112,'личные рез-ты по гонкам списком'!$J$1:$N$1645,2,FALSE)","v":"Ж"},2]
["Величко Павел / Velichko Pavel / 1982",520.58000000000004,null,null,null,null,null,null,null,null,null,null,null,null,null,null,258.97000000000003,null,null,null,null,null,null,null,null,null,null,null,779.55000000000007,520.58000000000004,258.97000000000003,0,0,779.55000000000007,null,{"$f":"VLOOKUP(A113,'личные рез-ты по гонкам списком'!$J$1:$N$1645,2,FALSE)","v":"М"},2]
["Веремейчик Елена / Veremejchik Elena / 1986",null,null,null,null,442.93,null,null,null,null,null,null,null,null,null,248.06,null,null,null,226.62,null,null,null,null,null,null,null,null,917.61,442.93,248.06,226.62,0,917.61,null,{"$f":"VLOOKUP(A114,'личные рез-ты по гонкам списком'!$J$1:$N$1645,2,FALSE)","v":"Ж"},3]
["Веремейчик Юрий / Veremejchik Yurij / 1979",null,null,null,null,null,null,null,null,293.5,null,null,274.31,null,null,null,null,null,null,null,null,null,null,null,null,null,null,null,567.80999999999995,293.5,274.31,0,0,567.80999999999995,null,{"$f":"VLOOKUP(A115,'личные рез-ты по гонкам списком'!$J$1:$N$1645,2,FALSE)","v":"М"},2]
["Веремич Юрий / Veremich Yurij / 1979",null,null,null,null,null,null,null,null,null,null,null,null,null,null,null,null,null,263.64,null,null,null,null,null,null,null,null,null,263.64,263.64,0,0,0,263.64,null,{"$f":"VLOOKUP(A116,'личные рез-ты по гонкам списком'!$J$1:$N$1645,2,FALSE)","v":"М"},1]
["Верещако Павел / Vereschako Pavel / 1988",null,null,null,null,null,null,null,283.08,null,null,null,null,null,null,null,null,null,null,null,null,null,300.3,null,null,null,null,null,583.38,300.3,283.08,0,0,583.38,null,{"$f":"VLOOKUP(A117,'личные рез-ты по гонкам списком'!$J$1:$N$1645,2,FALSE)","v":"М"},2]
["Ветохин Иван / Vetohin Ivan / 1987",null,null,null,null,null,null,null,null,null,null,null,null,null,null,null,null,41.45,null,null,null,null,null,null,null,null,null,null,41.45,41.45,0,0,0,41.45,null,{"$f":"VLOOKUP(A118,'личные рез-ты по гонкам списком'!$J$1:$N$1645,2,FALSE)","v":"М"},1]
["Ветохина София / Vetohina Sofiya / 2010",null,null,null,null,null,null,null,null,null,null,null,null,null,null,null,null,34.049999999999997,null,null,null,null,null,null,null,null,null,null,34.049999999999997,34.049999999999997,0,0,0,34.049999999999997,null,{"$f":"VLOOKUP(A119,'личные рез-ты по гонкам списком'!$J$1:$N$1645,2,FALSE)","v":"Ж"},1]
["Винтергрин Андрей / Vintergrin Andrej / 1981",null,236.51,null,null,null,null,null,null,null,null,null,null,null,null,null,null,null,null,null,null,null,null,null,null,null,null,null,236.51,236.51,0,0,0,236.51,null,{"$f":"VLOOKUP(A120,'личные рез-ты по гонкам списком'!$J$1:$N$1645,2,FALSE)","v":"М"},1]
["Вирский Константин / Virskij Konstantin / 1977",null,null,null,null,null,null,null,null,null,null,199.59,null,null,null,null,null,null,null,null,null,null,193.41,null,null,null,null,null,393,199.59,193.41,0,0,393,null,{"$f":"VLOOKUP(A121,'личные рез-ты по гонкам списком'!$J$1:$N$1645,2,FALSE)","v":"М"},2]
["Вирт Олег / Virt Oleg / 1980",null,63.67,null,null,null,null,null,null,null,null,null,null,null,null,null,null,null,null,null,null,null,null,null,null,null,null,null,63.67,63.67,0,0,0,63.67,null,{"$f":"VLOOKUP(A122,'личные рез-ты по гонкам списком'!$J$1:$N$1645,2,FALSE)","v":"М"},1]
["Вишневская Анастасия / Vishnevskaya Anastasiya / 1995",null,null,null,null,null,null,null,null,null,null,null,null,null,null,null,null,null,null,null,null,null,null,null,null,56.77,null,null,56.77,56.77,0,0,0,56.77,null,{"$f":"VLOOKUP(A123,'личные рез-ты по гонкам списком'!$J$1:$N$1645,2,FALSE)","v":"Ж"},1]
["Войтехович Максим / Vojtehovich Maksim / 1990",null,null,null,null,null,null,null,null,null,null,null,null,null,null,null,null,null,null,null,null,null,null,204.55,null,null,null,null,204.55,204.55,0,0,0,204.55,null,{"$f":"VLOOKUP(A124,'личные рез-ты по гонкам списком'!$J$1:$N$1645,2,FALSE)","v":"М"},1]
["Войтович Татьяна / Vojtovich Tatyana / 1986",null,null,null,79.13,null,null,null,null,null,null,143.29,null,null,null,null,null,null,126.32,null,null,null,83.98,null,null,null,null,null,432.72,143.29,126.32,83.98,79.13,432.72,null,{"$f":"VLOOKUP(A125,'личные рез-ты по гонкам списком'!$J$1:$N$1645,2,FALSE)","v":"Ж"},4]
["Волков Алексей  / Volkov Aleksej  / 1990",null,null,null,null,100.39,null,null,null,null,null,null,null,null,null,null,null,null,null,null,null,null,null,null,null,null,null,null,100.39,100.39,0,0,0,100.39,null,{"$f":"VLOOKUP(A126,'личные рез-ты по гонкам списком'!$J$1:$N$1645,2,FALSE)","v":"М"},1]
["Волков Алексей / Volkov Aleksej / 1990",null,null,null,null,null,null,null,null,null,null,null,null,null,null,null,null,null,null,null,null,null,null,98.97,null,null,null,null,98.97,98.97,0,0,0,98.97,null,{"$f":"VLOOKUP(A127,'личные рез-ты по гонкам списком'!$J$1:$N$1645,2,FALSE)","v":"М"},1]
["Волков Николай / Volkov Nikolaj / 1989",null,null,null,null,null,null,null,428.91,null,null,null,null,null,null,null,null,null,null,352.08,null,null,null,null,null,null,null,null,780.99,428.91,352.08,0,0,780.99,null,{"$f":"VLOOKUP(A128,'личные рез-ты по гонкам списком'!$J$1:$N$1645,2,FALSE)","v":"М"},2]
["Володько Андрей / Volodko Andrej / 1986",null,null,526.63,null,456.32,null,null,null,null,206.24,null,296.26,null,null,null,230.2,null,null,null,null,null,null,257.33,null,null,null,null,1972.98,526.63,456.32,296.26,257.33,1536.54,null,{"$f":"VLOOKUP(A129,'личные рез-ты по гонкам списком'!$J$1:$N$1645,2,FALSE)","v":"М"},6]
["Володько Владимир / Volodko Vladimir / 2001",null,null,null,null,null,null,null,null,null,null,null,null,null,null,null,null,186.52,null,null,null,null,null,null,null,null,null,null,186.52,186.52,0,0,0,186.52,null,{"$f":"VLOOKUP(A130,'личные рез-ты по гонкам списком'!$J$1:$N$1645,2,FALSE)","v":"М"},1]
["Волостных Сергей / Volostnyh Sergej / 1989",null,null,210.65,null,null,null,null,null,null,null,null,null,null,null,null,null,null,null,null,null,null,null,null,null,null,null,null,210.65,210.65,0,0,0,210.65,null,{"$f":"VLOOKUP(A131,'личные рез-ты по гонкам списком'!$J$1:$N$1645,2,FALSE)","v":"М"},1]
["Воробьев Дмитрий / Vorobev Dmitrij / 1988",null,null,null,null,null,null,null,null,null,null,null,null,null,null,null,null,null,null,null,null,null,45.81,null,null,null,null,null,45.81,45.81,0,0,0,45.81,null,{"$f":"VLOOKUP(A132,'личные рез-ты по гонкам списком'!$J$1:$N$1645,2,FALSE)","v":"М"},1]
["Воробьёв Дмитрий / Vorobjov Dmitrij / 1988",null,null,null,null,null,null,null,null,null,null,153.02000000000001,null,null,null,null,null,176.16,null,null,null,null,null,null,null,null,null,null,329.18,176.16,153.02000000000001,0,0,329.18,null,{"$f":"VLOOKUP(A133,'личные рез-ты по гонкам списком'!$J$1:$N$1645,2,FALSE)","v":"М"},2]
["Ворончук Алексей / Voronchuk Aleksej / 1987",null,null,null,null,null,null,null,null,null,null,null,null,null,null,null,null,null,null,null,null,null,27.99,null,null,null,null,null,27.99,{"$f":"LARGE(B134:AB134,1)","v":27.99},{"$f":"IF(COUNT(B134:AB134)=1,0,LARGE(B134:AB134,2))","v":0},{"$f":"IF(COUNT(B134:AB134)<3,0,LARGE(B134:AB134,3))","v":0},{"$f":"IF(COUNT(B134:AB134)<4,0,LARGE(B134:AB134,4))","v":0},{"$f":"SUM(AD134:AG134)","v":27.99},null,{"$f":"VLOOKUP(A134,'личные рез-ты по гонкам списком'!$J$1:$N$1645,2,FALSE)","v":"М"},{"$f":"COUNT(B134:AB134)","v":1}]
["Воротникова Татьяна / Vorotnikova Tatyana / 1989",null,null,null,null,null,null,null,null,null,null,null,null,null,null,null,null,null,null,null,null,null,null,193.99,null,null,null,null,193.99,193.99,0,0,0,193.99,null,{"$f":"VLOOKUP(A135,'личные рез-ты по гонкам списком'!$J$1:$N$1645,2,FALSE)","v":"Ж"},1]
["Врублевский Кирилл / Vrublevskij Kirill / 1995",null,null,null,null,null,null,null,null,null,null,null,null,null,null,null,null,null,null,null,null,null,null,null,null,217.99,null,null,217.99,217.99,0,0,0,217.99,null,{"$f":"VLOOKUP(A136,'личные рез-ты по гонкам списком'!$J$1:$N$1645,2,FALSE)","v":"М"},1]
["Выборный Александр / Vybornyj Aleksandr / 1985",null,null,null,null,null,null,null,null,null,null,null,351.12,null,null,null,306.93,null,null,null,null,null,null,null,null,null,null,null,658.05,351.12,306.93,0,0,658.05,null,{"$f":"VLOOKUP(A137,'личные рез-ты по гонкам списком'!$J$1:$N$1645,2,FALSE)","v":"М"},2]
["Выробов Дмитрий / Vyrobov Dmitrij / 1988",null,null,null,null,null,null,null,null,null,34.369999999999997,null,null,null,null,null,null,null,null,null,null,null,null,null,null,null,null,null,34.369999999999997,34.369999999999997,0,0,0,34.369999999999997,null,{"$f":"VLOOKUP(A138,'личные рез-ты по гонкам списком'!$J$1:$N$1645,2,FALSE)","v":"М"},1]
["Гайдуков Александр / Gajdukov Aleksandr / 1989",null,null,null,null,null,null,null,null,null,null,299.38,null,null,null,null,null,null,null,null,235.7,null,null,null,null,null,null,null,535.07999999999993,299.38,235.7,0,0,535.07999999999993,null,{"$f":"VLOOKUP(A139,'личные рез-ты по гонкам списком'!$J$1:$N$1645,2,FALSE)","v":"М"},2]
["Гайдукович Максим / Gajdukovich Maksim / 1988",null,null,null,null,null,null,null,null,null,null,null,null,null,null,null,null,null,null,null,null,null,null,null,null,211.94,null,null,211.94,211.94,0,0,0,211.94,null,{"$f":"VLOOKUP(A140,'личные рез-ты по гонкам списком'!$J$1:$N$1645,2,FALSE)","v":"М"},1]
["Галец Константин / Galets Konstantin / 1988",null,null,null,null,null,null,null,null,null,null,null,null,null,null,null,null,null,null,null,94.28,null,106.89,null,null,null,null,null,201.17000000000002,106.89,94.28,0,0,201.17000000000002,null,{"$f":"VLOOKUP(A141,'личные рез-ты по гонкам списком'!$J$1:$N$1645,2,FALSE)","v":"М"},2]
["Галка Дмитрий / Galka Dmitrij / 1988",null,281.99,null,null,null,null,null,null,null,null,null,null,null,null,null,null,null,null,null,null,null,null,null,null,null,null,null,281.99,281.99,0,0,0,281.99,null,{"$f":"VLOOKUP(A142,'личные рез-ты по гонкам списком'!$J$1:$N$1645,2,FALSE)","v":"М"},1]
["Гамидов Нариман / Gamidov Nariman / 1972",null,null,null,null,null,null,null,null,null,null,179.63,null,null,null,null,null,null,null,null,null,null,null,null,null,null,null,null,179.63,179.63,0,0,0,179.63,null,{"$f":"VLOOKUP(A143,'личные рез-ты по гонкам списком'!$J$1:$N$1645,2,FALSE)","v":"М"},1]
["Гамидов Тимур / Gamidov Timur / 1996",null,null,null,null,null,null,null,null,null,null,345.95,null,null,null,null,null,null,null,null,null,null,null,null,null,null,null,null,345.95,345.95,0,0,0,345.95,null,{"$f":"VLOOKUP(A144,'личные рез-ты по гонкам списком'!$J$1:$N$1645,2,FALSE)","v":"М"},1]
["Гандзюк Всеволод / Gandzyuk Vsevolod / ",null,null,null,null,null,null,null,null,null,null,null,null,null,null,null,null,null,72.73,null,null,null,null,null,null,null,null,null,72.73,72.73,0,0,0,72.73,null,{"$f":"VLOOKUP(A145,'личные рез-ты по гонкам списком'!$J$1:$N$1645,2,FALSE)","v":"М"},1]
["Гарбар Екатерина / Garbar Ekaterina / 1989",null,null,null,null,null,null,null,null,null,null,null,null,null,null,140.57,null,null,null,null,null,null,null,null,null,null,null,null,140.57,140.57,0,0,0,140.57,null,{"$f":"VLOOKUP(A146,'личные рез-ты по гонкам списком'!$J$1:$N$1645,2,FALSE)","v":"Ж"},1]
["Гарбуз Алла / Garbuz Alla / 1969",null,null,null,null,null,null,null,null,null,null,28.66,null,null,null,null,null,25.54,null,null,41.39,null,null,null,null,null,null,null,95.59,41.39,28.66,25.54,0,95.59,null,{"$f":"VLOOKUP(A147,'личные рез-ты по гонкам списком'!$J$1:$N$1645,2,FALSE)","v":"Ж"},3]
["Гаслова Ольга / Gaslova Olga / 1981",null,null,null,null,null,null,null,null,null,null,null,null,null,null,null,null,null,null,null,null,null,null,null,null,85.15,null,null,85.15,85.15,0,0,0,85.15,null,{"$f":"VLOOKUP(A148,'личные рез-ты по гонкам списком'!$J$1:$N$1645,2,FALSE)","v":"Ж"},1]
["Генсировский Павел / Gensirovskij Pavel / 1979",1041.1500000000001,null,null,null,null,null,null,null,null,null,null,null,null,null,null,null,null,null,null,null,null,null,null,null,null,null,null,1041.1500000000001,1041.1500000000001,0,0,0,1041.1500000000001,null,{"$f":"VLOOKUP(A149,'личные рез-ты по гонкам списком'!$J$1:$N$1645,2,FALSE)","v":"М"},1]
["Геранин Дмитрий / Geranin Dmitrij / ",null,null,null,null,null,null,null,null,null,null,null,null,null,null,null,null,207.24,null,null,null,null,null,null,null,null,null,null,207.24,207.24,0,0,0,207.24,null,{"$f":"VLOOKUP(A150,'личные рез-ты по гонкам списком'!$J$1:$N$1645,2,FALSE)","v":"М"},1]
["Герасевич Максим / Gerasevich Maksim / ",null,null,null,null,null,null,null,94.36,null,null,null,null,null,null,null,null,103.62,null,null,null,null,15.27,null,null,null,null,null,213.25000000000003,103.62,94.36,15.27,0,213.25000000000003,null,{"$f":"VLOOKUP(A151,'личные рез-ты по гонкам списком'!$J$1:$N$1645,2,FALSE)","v":"М"},3]
["Герасимук Дмитрий / Gerasimuk Dmitrij / 1993",null,null,null,null,null,null,null,null,null,null,null,null,null,null,null,null,null,null,null,245.13,null,343.56,null,null,null,null,null,588.69000000000005,343.56,245.13,0,0,588.69000000000005,null,{"$f":"VLOOKUP(A152,'личные рез-ты по гонкам списком'!$J$1:$N$1645,2,FALSE)","v":"М"},2]
["Герасимук Юрий / Gerasimuk Yurij / 1992",null,309.27999999999997,null,null,null,null,789.68,null,null,null,null,142.63999999999999,null,null,null,null,null,null,null,null,null,null,362.91,null,null,null,null,1604.51,789.68,362.91,309.27999999999997,142.63999999999999,1604.5099999999998,null,{"$f":"VLOOKUP(A153,'личные рез-ты по гонкам списком'!$J$1:$N$1645,2,FALSE)","v":"М"},4]
["Герман Кирилл / German Kirill / 1999",null,null,null,null,null,null,null,null,null,null,null,null,null,null,null,null,null,null,null,null,null,254.49,null,null,null,null,null,254.49,254.49,0,0,0,254.49,null,{"$f":"VLOOKUP(A154,'личные рез-ты по гонкам списком'!$J$1:$N$1645,2,FALSE)","v":"М"},1]
["Гецман Мила / Getsman Mila / 1988",null,null,null,null,null,null,null,null,null,null,null,null,null,null,null,null,null,null,null,241.45,null,null,null,null,null,null,null,241.45,241.45,0,0,0,241.45,null,{"$f":"VLOOKUP(A155,'личные рез-ты по гонкам списком'!$J$1:$N$1645,2,FALSE)","v":"Ж"},1]
["Гидлевский Дмитрий / Gidlevskij Dmitrij / 1986",null,null,null,null,null,null,null,null,null,309.35000000000002,359.25,null,null,null,null,null,null,null,null,null,null,null,null,null,null,null,null,668.6,359.25,309.35000000000002,0,0,668.6,null,{"$f":"VLOOKUP(A156,'личные рез-ты по гонкам списком'!$J$1:$N$1645,2,FALSE)","v":"М"},2]
["Гилевич Диана / Gilevich Diana / 1993",null,null,null,356.09,null,null,null,null,516.82000000000005,null,null,null,null,null,305.94,null,null,null,null,null,null,null,null,null,null,null,null,1178.8500000000001,516.82000000000005,356.09,305.94,0,1178.8500000000001,null,{"$f":"VLOOKUP(A157,'личные рез-ты по гонкам списком'!$J$1:$N$1645,2,FALSE)","v":"Ж"},3]
["Гилевич Кристина / Gilevich Kristina / 1994",null,null,null,336.31,null,null,null,null,469.83,null,null,null,null,null,null,null,null,null,null,null,391.92,null,null,null,null,null,null,1198.06,469.83,391.92,336.31,0,1198.06,null,{"$f":"VLOOKUP(A158,'личные рез-ты по гонкам списком'!$J$1:$N$1645,2,FALSE)","v":"Ж"},3]
["Гладкая Ольга / Gladkaya Olga / 1986",null,null,null,null,null,null,null,null,null,null,null,null,null,null,null,null,null,null,null,null,null,null,null,null,39.74,null,null,39.74,39.74,0,0,0,39.74,null,{"$f":"VLOOKUP(A159,'личные рез-ты по гонкам списком'!$J$1:$N$1645,2,FALSE)","v":"Ж"},1]
["Гладкова Анна / Gladkova Anna / 1985",null,null,null,null,null,null,null,null,null,103.12,null,null,null,null,null,null,51.07,null,null,null,null,null,null,null,null,null,null,154.19,103.12,51.07,0,0,154.19,null,{"$f":"VLOOKUP(A160,'личные рез-ты по гонкам списком'!$J$1:$N$1645,2,FALSE)","v":"Ж"},2]
["Гладковский Владислав / Gladkovskij Vladislav / 1990",null,354.76,null,null,null,null,null,null,null,null,null,null,null,null,null,null,null,null,null,null,null,null,null,null,null,null,null,354.76,354.76,0,0,0,354.76,null,{"$f":"VLOOKUP(A161,'личные рез-ты по гонкам списком'!$J$1:$N$1645,2,FALSE)","v":"М"},1]
["Глатанков Пётр / Glatankov Pjotr / 1978",null,null,null,null,null,null,null,null,null,null,null,null,null,null,null,null,null,null,null,null,null,null,null,null,187.71,null,null,187.71,187.71,0,0,0,187.71,null,{"$f":"VLOOKUP(A162,'личные рез-ты по гонкам списком'!$J$1:$N$1645,2,FALSE)","v":"М"},1]
["Глебко Сергей / Glebko Sergej / 1985",null,null,null,null,null,null,null,null,null,null,null,null,null,null,null,null,null,null,null,null,null,null,null,null,102.94,null,null,102.94,102.94,0,0,0,102.94,null,{"$f":"VLOOKUP(A163,'личные рез-ты по гонкам списком'!$J$1:$N$1645,2,FALSE)","v":"М"},1]
["Глушаков Сергей / Glushakov Sergej / 1958",null,null,null,null,null,null,null,null,210.56,null,null,null,null,null,null,null,null,null,null,null,null,null,null,null,null,null,null,210.56,210.56,0,0,0,210.56,null,{"$f":"VLOOKUP(A164,'личные рез-ты по гонкам списком'!$J$1:$N$1645,2,FALSE)","v":"М"},1]
["Глушков Александр / Glushkov Aleksandr / 1980",780.86,null,null,null,null,null,null,null,null,null,null,null,null,417.43,null,191.83,null,null,null,null,null,null,null,null,null,null,null,1390.12,780.86,417.43,191.83,0,1390.12,null,{"$f":"VLOOKUP(A165,'личные рез-ты по гонкам списком'!$J$1:$N$1645,2,FALSE)","v":"М"},3]
["Голомзик Дмитрий / Golomzik Dmitrij / 1972",null,null,null,null,null,null,null,null,null,null,null,null,null,null,null,null,null,null,null,null,52.26,null,null,null,null,null,null,52.26,52.26,0,0,0,52.26,null,{"$f":"VLOOKUP(A166,'личные рез-ты по гонкам списком'!$J$1:$N$1645,2,FALSE)","v":"М"},1]
["Голубева Елена / Golubeva Elena / 1987",null,null,null,null,null,null,null,null,328.88,null,null,null,null,null,null,164.43,null,null,null,null,null,null,null,null,null,null,null,493.31,328.88,164.43,0,0,493.31,null,{"$f":"VLOOKUP(A167,'личные рез-ты по гонкам списком'!$J$1:$N$1645,2,FALSE)","v":"Ж"},2]
["Гомон Сергей / Gomon Sergej / 1990",202.45,null,null,null,null,null,null,null,null,null,null,null,null,null,null,null,null,null,null,null,null,null,null,null,null,null,null,202.45,202.45,0,0,0,202.45,null,{"$f":"VLOOKUP(A168,'личные рез-ты по гонкам списком'!$J$1:$N$1645,2,FALSE)","v":"М"},1]
["Гончарик Наталья / Goncharik Natalya / 1991",null,null,null,null,null,null,null,null,null,null,71.650000000000006,null,null,null,null,null,null,null,null,null,null,null,null,null,null,null,null,71.650000000000006,71.650000000000006,0,0,0,71.650000000000006,null,{"$f":"VLOOKUP(A169,'личные рез-ты по гонкам списком'!$J$1:$N$1645,2,FALSE)","v":"Ж"},1]
["Гончаров Игорь / Goncharov Igor / 1981",null,null,null,null,null,null,null,null,null,null,null,null,null,null,null,null,null,null,null,null,null,null,316.72000000000003,null,null,null,null,316.72000000000003,316.72000000000003,0,0,0,316.72000000000003,null,{"$f":"VLOOKUP(A170,'личные рез-ты по гонкам списком'!$J$1:$N$1645,2,FALSE)","v":"М"},1]
["Гончаров Николай / Goncharov Nikolaj / 1984",null,null,null,null,null,null,null,null,null,null,null,null,null,null,null,null,null,null,null,179.13,null,null,null,null,null,null,null,179.13,179.13,0,0,0,179.13,null,{"$f":"VLOOKUP(A171,'личные рез-ты по гонкам списком'!$J$1:$N$1645,2,FALSE)","v":"М"},1]
["Горбач Максим / Gorbach Maksim / 1983",null,null,null,null,null,527.29999999999995,null,null,null,null,null,null,null,null,null,null,null,null,null,null,null,null,null,null,null,null,null,527.29999999999995,527.29999999999995,0,0,0,527.29999999999995,null,{"$f":"VLOOKUP(A172,'личные рез-ты по гонкам списком'!$J$1:$N$1645,2,FALSE)","v":"М"},1]
["Горбиков Кирилл  / Gorbikov Kirill  / 1982",null,null,null,null,18.25,null,null,null,null,null,null,null,null,null,null,null,null,null,null,null,null,null,null,null,null,null,null,18.25,18.25,0,0,0,18.25,null,{"$f":"VLOOKUP(A173,'личные рез-ты по гонкам списком'!$J$1:$N$1645,2,FALSE)","v":"М"},1]
["Горевцова Евгения / Gorevtsova Evgeniya / 1989",null,null,null,null,null,null,null,null,null,null,null,null,null,null,null,null,null,168.42,null,null,null,111.98,null,null,null,null,null,280.39999999999998,168.42,111.98,0,0,280.39999999999998,null,{"$f":"VLOOKUP(A174,'личные рез-ты по гонкам списком'!$J$1:$N$1645,2,FALSE)","v":"Ж"},2]
["Горелик Юрий / Gorelik Yurij / 1987",null,null,null,182.86,null,null,null,null,null,null,null,null,null,null,null,null,null,null,null,null,null,267.22000000000003,null,null,null,null,null,450.08000000000004,267.22000000000003,182.86,0,0,450.08000000000004,null,{"$f":"VLOOKUP(A175,'личные рез-ты по гонкам списком'!$J$1:$N$1645,2,FALSE)","v":"М"},2]
["Горнов Антон / Gornov Anton / 1992",null,null,null,null,null,null,null,null,null,null,null,null,null,null,null,null,null,null,null,null,null,null,null,null,205.88,null,null,205.88,205.88,0,0,0,205.88,null,{"$f":"VLOOKUP(A176,'личные рез-ты по гонкам списком'!$J$1:$N$1645,2,FALSE)","v":"М"},1]
["Городко Игорь / Gorodko Igor / 1970",null,72.77,null,null,null,null,null,null,null,null,null,null,null,null,null,null,null,null,null,null,null,null,null,null,null,null,null,72.77,72.77,0,0,0,72.77,null,{"$f":"VLOOKUP(A177,'личные рез-ты по гонкам списком'!$J$1:$N$1645,2,FALSE)","v":"М"},1]
["Горшков Игорь / Gorshkov Igor / 1977",null,null,null,null,127.77,null,null,102.94,null,null,null,null,null,null,null,null,null,null,null,null,null,null,138.56,null,null,null,null,369.27,138.56,127.77,102.94,0,369.27,null,{"$f":"VLOOKUP(A178,'личные рез-ты по гонкам списком'!$J$1:$N$1645,2,FALSE)","v":"М"},3]
["Гославская Анастасия / Goslavskaya Anastasiya / 1991",null,null,null,null,null,null,null,null,null,null,null,null,null,null,null,null,null,null,null,137.97,null,null,null,null,null,null,null,137.97,137.97,0,0,0,137.97,null,{"$f":"VLOOKUP(A179,'личные рез-ты по гонкам списком'!$J$1:$N$1645,2,FALSE)","v":"Ж"},1]
["Грабовец Павел / Grabovets Pavel / 1981",954.39,null,null,null,null,null,null,null,null,null,null,null,null,null,null,null,null,null,null,null,null,null,null,null,null,null,null,954.39,954.39,0,0,0,954.39,null,{"$f":"VLOOKUP(A180,'личные рез-ты по гонкам списком'!$J$1:$N$1645,2,FALSE)","v":"М"},1]
["Гракович Ольга / Grakovich Olga / 1994",null,null,null,null,null,null,null,null,null,null,null,null,null,null,90.96,null,null,null,null,null,null,null,null,null,null,null,null,90.96,90.96,0,0,0,90.96,null,{"$f":"VLOOKUP(A181,'личные рез-ты по гонкам списком'!$J$1:$N$1645,2,FALSE)","v":"Ж"},1]
["Грачева Анастасия / Gracheva Anastasiya / 1995",null,null,null,null,null,null,null,null,null,null,null,null,null,null,null,null,null,null,null,null,null,18.66,null,null,null,null,null,18.66,18.66,0,0,0,18.66,null,{"$f":"VLOOKUP(A182,'личные рез-ты по гонкам списком'!$J$1:$N$1645,2,FALSE)","v":"Ж"},1]
["Гребенчук Максим / Grebenchuk Maksim / 1989",null,null,null,153.97999999999999,null,null,null,null,null,null,null,null,null,null,null,null,null,null,null,null,null,386.83,null,null,null,null,null,540.80999999999995,386.83,153.97999999999999,0,0,540.80999999999995,null,{"$f":"VLOOKUP(A183,'личные рез-ты по гонкам списком'!$J$1:$N$1645,2,FALSE)","v":"М"},2]
["Грейд Юлия / Grejd Yuliya / 1986",null,null,null,null,null,null,null,194.44,null,null,null,164.59,null,null,null,null,null,null,null,null,null,null,null,null,null,null,null,359.03,194.44,164.59,0,0,359.03,null,{"$f":"VLOOKUP(A184,'личные рез-ты по гонкам списком'!$J$1:$N$1645,2,FALSE)","v":"Ж"},2]
["Грек Илья / Grek Ilya / 1992",null,null,null,288.72000000000003,null,null,null,null,null,null,null,230.42,null,null,null,null,null,null,null,null,null,null,null,null,null,null,455.14,974.28,455.14,288.72000000000003,230.42,0,974.28,null,{"$f":"VLOOKUP(A185,'личные рез-ты по гонкам списком'!$J$1:$N$1645,2,FALSE)","v":"М"},3]
["Греков Игорь / Grekov Igor / 1970",null,null,263.31,null,136.9,null,null,null,null,null,null,null,null,null,null,null,null,null,null,null,null,null,null,null,null,null,null,400.21000000000004,263.31,136.9,0,0,400.21000000000004,null,{"$f":"VLOOKUP(A186,'личные рез-ты по гонкам списком'!$J$1:$N$1645,2,FALSE)","v":"М"},2]
["Гречишкин Алексей / Grechishkin Aleksej / 1983",null,null,null,null,null,null,null,null,null,null,null,null,null,null,20.399999999999999,null,null,null,null,null,null,null,null,null,null,null,null,20.399999999999999,20.399999999999999,0,0,0,20.399999999999999,null,{"$f":"VLOOKUP(A187,'личные рез-ты по гонкам списком'!$J$1:$N$1645,2,FALSE)","v":"М"},1]
["Гриб Екатерина / Grib Ekaterina / 1981",null,null,null,null,null,null,null,null,null,219.13,243.6,null,null,null,null,null,null,null,null,null,null,55.99,null,null,null,null,null,518.72,243.6,219.13,55.99,0,518.72,null,{"$f":"VLOOKUP(A188,'личные рез-ты по гонкам списком'!$J$1:$N$1645,2,FALSE)","v":"Ж"},3]
["Григорович Руслан / Grigorovich Ruslan / 1987",null,null,null,null,null,null,null,null,null,232.02,null,null,null,null,null,null,null,null,null,null,null,null,null,null,null,null,null,232.02,232.02,0,0,0,232.02,null,{"$f":"VLOOKUP(A189,'личные рез-ты по гонкам списком'!$J$1:$N$1645,2,FALSE)","v":"М"},1]
["Григорьев Никита / Grigorev Nikita / 1990",null,null,null,null,null,null,null,null,null,null,null,null,null,null,null,null,null,null,509.9,null,null,null,null,null,null,null,null,509.9,509.9,0,0,0,509.9,null,{"$f":"VLOOKUP(A190,'личные рез-ты по гонкам списком'!$J$1:$N$1645,2,FALSE)","v":"М"},1]
["Григорьева Светлана / Grigoreva Svetlana / 1984",null,null,null,null,null,null,null,275.45999999999998,null,null,null,null,null,null,157.1,null,null,null,null,null,null,158.63,null,null,null,null,null,591.18999999999994,275.45999999999998,158.63,157.1,0,591.18999999999994,null,{"$f":"VLOOKUP(A191,'личные рез-ты по гонкам списком'!$J$1:$N$1645,2,FALSE)","v":"Ж"},3]
["Гринько Анастасия / Grinko Anastasiya / 1993",null,null,null,null,null,null,null,178.24,null,null,257.93,null,null,null,null,null,null,null,null,null,null,null,null,null,null,null,null,436.17,257.93,178.24,0,0,436.17,null,{"$f":"VLOOKUP(A192,'личные рез-ты по гонкам списком'!$J$1:$N$1645,2,FALSE)","v":"Ж"},2]
["Грицевич Виталий / Gritsevich Vitalij / 1987",null,null,null,null,null,null,null,null,null,null,146.36000000000001,null,null,null,null,null,null,null,null,null,null,null,null,null,null,null,null,146.36000000000001,146.36000000000001,0,0,0,146.36000000000001,null,{"$f":"VLOOKUP(A193,'личные рез-ты по гонкам списком'!$J$1:$N$1645,2,FALSE)","v":"М"},1]
["Грицук Татьяна / Gritsuk Tatyana / 1973",null,null,276.82,null,null,null,null,null,null,null,null,null,null,null,null,null,null,null,null,null,null,null,null,null,null,null,null,276.82,276.82,0,0,0,276.82,null,{"$f":"VLOOKUP(A194,'личные рез-ты по гонкам списком'!$J$1:$N$1645,2,FALSE)","v":"Ж"},1]
["Гришко Руслан / Grishko Ruslan / 1974",null,null,null,null,null,null,null,null,null,null,null,null,null,null,null,null,null,null,null,null,null,2.54,null,null,null,null,null,2.54,2.54,0,0,0,2.54,null,{"$f":"VLOOKUP(A195,'личные рез-ты по гонкам списком'!$J$1:$N$1645,2,FALSE)","v":"М"},1]
["Грошева Елена  / Grosheva Elena  / 1994",null,null,null,59.35,null,null,null,null,null,null,null,null,null,null,null,null,null,null,null,null,null,null,null,null,null,null,null,59.35,59.35,0,0,0,59.35,null,{"$f":"VLOOKUP(A196,'личные рез-ты по гонкам списком'!$J$1:$N$1645,2,FALSE)","v":"Ж"},1]
["Грушевская Виктория / Grushevskaya Viktoriya / 1992",null,null,null,null,null,null,null,null,null,null,null,null,null,null,null,null,null,null,null,151.77000000000001,null,null,null,null,null,null,null,151.77000000000001,151.77000000000001,0,0,0,151.77000000000001,null,{"$f":"VLOOKUP(A197,'личные рез-ты по гонкам списком'!$J$1:$N$1645,2,FALSE)","v":"Ж"},1]
["Гумбар Илья / Gumbar Ilya / 1989",null,null,null,null,null,null,null,null,null,null,null,null,null,null,null,263.77,null,null,null,null,null,null,null,null,null,null,null,263.77,{"$f":"LARGE(B198:AB198,1)","v":263.77},{"$f":"IF(COUNT(B198:AB198)=1,0,LARGE(B198:AB198,2))","v":0},{"$f":"IF(COUNT(B198:AB198)<3,0,LARGE(B198:AB198,3))","v":0},{"$f":"IF(COUNT(B198:AB198)<4,0,LARGE(B198:AB198,4))","v":0},{"$f":"SUM(AD198:AG198)","v":263.77},null,{"$f":"VLOOKUP(A198,'личные рез-ты по гонкам списком'!$J$1:$N$1645,2,FALSE)","v":"М"},{"$f":"COUNT(B198:AB198)","v":1}]
["Гурская Татьяна / Gurskaya Tatyana / 1980",1041.1500000000001,null,null,null,null,null,null,null,null,null,null,null,null,null,null,null,null,null,null,null,null,null,null,null,null,null,null,1041.1500000000001,1041.1500000000001,0,0,0,1041.1500000000001,null,{"$f":"VLOOKUP(A199,'личные рез-ты по гонкам списком'!$J$1:$N$1645,2,FALSE)","v":"Ж"},1]
["Гурский Олег / Gurskij Oleg / 1988",null,null,null,null,null,null,null,null,null,null,null,null,null,null,null,null,null,null,null,null,null,null,46.19,null,null,null,null,46.19,46.19,0,0,0,46.19,null,{"$f":"VLOOKUP(A200,'личные рез-ты по гонкам списком'!$J$1:$N$1645,2,FALSE)","v":"М"},1]
["Гусаревич Денис / Gusarevich Denis / 1983",578.41999999999996,null,null,null,null,null,null,null,null,null,null,null,null,null,null,null,null,null,null,null,null,null,null,null,null,null,null,578.41999999999996,578.41999999999996,0,0,0,578.41999999999996,null,{"$f":"VLOOKUP(A201,'личные рез-ты по гонкам списком'!$J$1:$N$1645,2,FALSE)","v":"М"},1]
["Давыдов Андрей / Davydov Andrej / 1980",null,null,null,null,328.55,null,null,null,null,null,null,null,null,null,null,null,null,null,null,null,null,null,null,null,null,null,null,328.55,328.55,0,0,0,328.55,null,{"$f":"VLOOKUP(A202,'личные рез-ты по гонкам списком'!$J$1:$N$1645,2,FALSE)","v":"М"},1]
["Дадалев Алексей / Dadalev Aleksej / 1995",null,null,null,null,null,null,null,null,null,null,null,null,null,null,null,null,null,null,null,null,null,262.13,null,null,null,null,null,262.13,262.13,0,0,0,262.13,null,{"$f":"VLOOKUP(A203,'личные рез-ты по гонкам списком'!$J$1:$N$1645,2,FALSE)","v":"М"},1]
["Дальниченко Юрий / Dalnichenko Yurij / 1985",null,null,null,null,null,null,null,null,null,null,null,null,null,null,null,null,null,null,412.78,null,null,null,501.47,null,null,null,null,914.25,501.47,412.78,0,0,914.25,null,{"$f":"VLOOKUP(A204,'личные рез-ты по гонкам списком'!$J$1:$N$1645,2,FALSE)","v":"М"},2]
["Даник Даниил / Danik Daniil / 1982",null,null,null,null,null,null,null,null,null,null,null,null,null,null,91.78,null,null,null,null,null,null,152.69999999999999,null,null,null,null,null,244.48,152.69999999999999,91.78,0,0,244.48,null,{"$f":"VLOOKUP(A205,'личные рез-ты по гонкам списком'!$J$1:$N$1645,2,FALSE)","v":"М"},2]
["Даниленко Инесса / Danilenko Inessa / 1984",null,null,null,null,null,null,null,null,null,null,null,null,null,null,null,null,null,null,null,165.57,null,null,null,null,null,null,null,165.57,165.57,0,0,0,165.57,null,{"$f":"VLOOKUP(A206,'личные рез-ты по гонкам списком'!$J$1:$N$1645,2,FALSE)","v":"Ж"},1]
["Данілаў Віктар / Danіlau Vіktar / 1987",null,null,null,null,null,null,null,null,null,null,null,null,null,null,null,null,null,null,null,103.71,null,null,null,null,96.88,null,null,200.58999999999997,103.71,96.88,0,0,200.58999999999997,null,{"$f":"VLOOKUP(A207,'личные рез-ты по гонкам списком'!$J$1:$N$1645,2,FALSE)","v":"М"},2]
["Данченко Глеб / Danchenko Gleb / 1986",null,null,null,null,null,null,null,null,null,null,286.07,null,null,null,null,null,null,null,null,null,null,null,null,null,null,null,null,286.07,286.07,0,0,0,286.07,null,{"$f":"VLOOKUP(A208,'личные рез-ты по гонкам списком'!$J$1:$N$1645,2,FALSE)","v":"М"},1]
["Дашин Михаил / Dashin Mihail / 1986",null,null,null,221.35,null,null,null,null,null,null,null,null,null,null,null,null,217.6,null,null,207.42,null,null,null,null,139.27000000000001,null,null,785.64,221.35,217.6,207.42,139.27000000000001,785.64,null,{"$f":"VLOOKUP(A209,'личные рез-ты по гонкам списком'!$J$1:$N$1645,2,FALSE)","v":"М"},4]
["Дашкевич Павел / Dashkevich Pavel / 1999",null,null,null,null,null,null,null,null,null,null,86.49,null,null,null,112.18,null,null,null,null,null,null,null,null,null,null,null,null,198.67000000000002,112.18,86.49,0,0,198.67000000000002,null,{"$f":"VLOOKUP(A210,'личные рез-ты по гонкам списком'!$J$1:$N$1645,2,FALSE)","v":"М"},2]
["Дашкевич Сергей / Dashkevich Sergej / 1996",null,null,null,null,null,null,null,null,null,null,39.92,null,null,null,null,null,null,null,null,null,null,null,null,null,null,null,null,39.92,39.92,0,0,0,39.92,null,{"$f":"VLOOKUP(A211,'личные рез-ты по гонкам списком'!$J$1:$N$1645,2,FALSE)","v":"М"},1]
["Дегтярев Сергей / Degtyarev Sergej / 1983",null,null,649.51,null,null,null,null,null,191.41,null,null,null,null,null,null,null,null,null,169.97,null,null,null,224.34,null,null,null,null,1235.23,649.51,224.34,191.41,169.97,1235.23,null,{"$f":"VLOOKUP(A212,'личные рез-ты по гонкам списком'!$J$1:$N$1645,2,FALSE)","v":"М"},4]
["Дедков Никита / Dedkov Nikita / 1998",null,null,null,null,null,null,null,null,null,null,null,null,null,null,198.86,null,null,null,null,null,null,null,null,null,null,null,null,198.86,198.86,0,0,0,198.86,null,{"$f":"VLOOKUP(A213,'личные рез-ты по гонкам списком'!$J$1:$N$1645,2,FALSE)","v":"М"},1]
["Дедкова Ирина / Dedkova Irina / 1981",null,null,null,null,null,null,null,null,null,null,null,null,null,null,null,null,null,null,null,null,null,251.95,null,null,null,null,null,251.95,251.95,0,0,0,251.95,null,{"$f":"VLOOKUP(A214,'личные рез-ты по гонкам списком'!$J$1:$N$1645,2,FALSE)","v":"Ж"},1]
["Дедуль Дмитрий / Dedul Dmitrij / 1994",null,null,null,null,null,null,null,null,null,null,null,null,null,null,null,null,null,null,null,null,null,76.349999999999994,null,null,null,null,null,76.349999999999994,76.349999999999994,0,0,0,76.349999999999994,null,{"$f":"VLOOKUP(A215,'личные рез-ты по гонкам списком'!$J$1:$N$1645,2,FALSE)","v":"М"},1]
["Декевич Сергей / Dekevich Sergej / 1989",null,null,null,null,null,null,null,null,null,null,null,null,null,null,null,null,null,null,null,null,null,221.41,null,null,null,null,null,221.41,221.41,0,0,0,221.41,null,{"$f":"VLOOKUP(A216,'личные рез-ты по гонкам списком'!$J$1:$N$1645,2,FALSE)","v":"М"},1]
["Делендик Максим / Delendik Maksim / 1992",null,null,null,null,null,null,null,null,null,null,null,null,null,null,152.97,null,null,null,null,null,null,null,null,null,null,null,null,152.97,152.97,0,0,0,152.97,null,{"$f":"VLOOKUP(A217,'личные рез-ты по гонкам списком'!$J$1:$N$1645,2,FALSE)","v":"М"},1]
["Делендик Надежда / Delendik Nadezhda / 1987",null,437.76,null,null,null,null,null,null,null,null,null,null,null,null,null,328.86,null,null,null,null,null,null,null,null,null,null,null,766.62,437.76,328.86,0,0,766.62,null,{"$f":"VLOOKUP(A218,'личные рез-ты по гонкам списком'!$J$1:$N$1645,2,FALSE)","v":"Ж"},2]
["Дельянов Одиссей / Delyanov Odissej / 1979",null,null,null,null,null,null,null,null,357.31,null,null,null,null,null,null,null,null,null,null,null,null,null,null,null,null,null,null,357.31,357.31,0,0,0,357.31,null,{"$f":"VLOOKUP(A219,'личные рез-ты по гонкам списком'!$J$1:$N$1645,2,FALSE)","v":"М"},1]
["Демчук Ростислав / Demchuk Rostislav / 1978",null,null,null,null,282.92,null,null,null,null,null,null,null,null,null,null,null,null,null,null,null,null,null,105.57,null,null,null,null,388.49,282.92,105.57,0,0,388.49,null,{"$f":"VLOOKUP(A220,'личные рез-ты по гонкам списком'!$J$1:$N$1645,2,FALSE)","v":"М"},2]
["Денисик Светлана / Denisik Svetlana / 1998",null,null,null,null,null,null,null,null,null,null,null,null,null,null,null,null,null,null,null,null,null,298.60000000000002,null,null,null,null,null,298.60000000000002,298.60000000000002,0,0,0,298.60000000000002,null,{"$f":"VLOOKUP(A221,'личные рез-ты по гонкам списком'!$J$1:$N$1645,2,FALSE)","v":"Ж"},1]
["Диксон Катерина  / Dikson Katerina  / 1993",null,null,null,null,null,486.5,null,null,null,null,null,null,null,null,null,null,null,null,null,null,null,null,null,null,null,null,null,486.5,486.5,0,0,0,486.5,null,{"$f":"VLOOKUP(A222,'личные рез-ты по гонкам списком'!$J$1:$N$1645,2,FALSE)","v":"Ж"},1]
["Домбровский Евгений / Dombrovskij Evgenij / 1987",null,null,null,null,null,null,null,null,null,null,279.42,null,null,null,null,null,null,null,null,null,null,null,null,null,236.16,null,null,515.58000000000004,279.42,236.16,0,0,515.58000000000004,null,{"$f":"VLOOKUP(A223,'личные рез-ты по гонкам списком'!$J$1:$N$1645,2,FALSE)","v":"М"},2]
["Драгун Алина / Dragun Alina / 1993",null,412.75,null,null,null,null,null,null,null,null,null,null,null,null,null,null,null,null,null,null,null,null,null,null,null,null,null,412.75,412.75,0,0,0,412.75,null,{"$f":"VLOOKUP(A224,'личные рез-ты по гонкам списком'!$J$1:$N$1645,2,FALSE)","v":"Ж"},1]
["Драгун Борис / Dragun Boris / 1970",null,null,null,null,null,null,null,null,248.84,null,null,null,null,298.16000000000003,null,null,null,null,null,null,null,null,null,null,null,null,null,547,298.16000000000003,248.84,0,0,547,null,{"$f":"VLOOKUP(A225,'личные рез-ты по гонкам списком'!$J$1:$N$1645,2,FALSE)","v":"М"},2]
["Дрофа Виталий / Drofa Vitalij / 1970",null,null,null,null,null,null,null,null,null,null,null,null,null,null,null,null,null,290.91000000000003,null,null,null,null,null,null,null,null,null,290.91000000000003,290.91000000000003,0,0,0,290.91000000000003,null,{"$f":"VLOOKUP(A226,'личные рез-ты по гонкам списком'!$J$1:$N$1645,2,FALSE)","v":"М"},1]
["Дубков Алексей  / Dubkov Aleksej  / 1984",null,null,null,null,null,373.51,null,null,null,null,null,null,null,null,null,null,null,null,null,null,null,null,null,null,null,null,null,373.51,373.51,0,0,0,373.51,null,{"$f":"VLOOKUP(A227,'личные рез-ты по гонкам списком'!$J$1:$N$1645,2,FALSE)","v":"М"},1]
["Дубровский Виктор / Dubrovskij Viktor / 1961",null,null,105.33,null,null,null,null,null,null,null,null,null,null,null,null,null,null,null,null,null,null,null,null,null,null,null,null,105.33,105.33,0,0,0,105.33,null,{"$f":"VLOOKUP(A228,'личные рез-ты по гонкам списком'!$J$1:$N$1645,2,FALSE)","v":"М"},1]
["Дубровский Евгений / Dubrovskij Evgenij / 1984",null,null,87.77,null,null,null,null,null,null,null,null,null,null,null,null,null,null,null,null,null,null,null,null,null,null,null,null,87.77,87.77,0,0,0,87.77,null,{"$f":"VLOOKUP(A229,'личные рез-ты по гонкам списком'!$J$1:$N$1645,2,FALSE)","v":"М"},1]
["Дуван Дмитрий / Duvan Dmitrij / 1985",null,null,null,null,null,null,null,null,null,null,null,null,null,null,null,null,null,null,null,null,null,null,323.32,null,null,null,null,323.32,323.32,0,0,0,323.32,null,{"$f":"VLOOKUP(A230,'личные рез-ты по гонкам списком'!$J$1:$N$1645,2,FALSE)","v":"М"},1]
["Дунаева Мария / Dunaeva Mariya / 1983",null,null,null,null,null,null,null,null,null,null,171.95,null,null,null,null,null,null,null,null,null,null,null,null,null,null,null,null,171.95,171.95,0,0,0,171.95,null,{"$f":"VLOOKUP(A231,'личные рез-ты по гонкам списком'!$J$1:$N$1645,2,FALSE)","v":"Ж"},1]
["Дундуков Андрей / Dundukov Andrej / 1985",null,null,null,null,null,null,null,null,null,128.9,null,null,null,null,96.88,null,null,null,null,null,null,290.12,null,null,null,null,null,515.9,290.12,128.9,96.88,0,515.9,null,{"$f":"VLOOKUP(A232,'личные рез-ты по гонкам списком'!$J$1:$N$1645,2,FALSE)","v":"М"},3]
["Дурейко Анна / Durejko Anna / 1987",null,12.51,null,null,null,null,null,null,null,null,null,null,null,null,null,null,null,null,null,null,null,null,null,null,null,null,null,12.51,12.51,0,0,0,12.51,null,{"$f":"VLOOKUP(A233,'личные рез-ты по гонкам списком'!$J$1:$N$1645,2,FALSE)","v":"Ж"},1]
["Дышлевич Сергей / Dyshlevich Sergej / 1982",null,null,null,null,null,null,null,null,null,null,null,null,null,null,188.66,null,null,null,null,null,null,229.04,null,null,null,null,null,417.7,229.04,188.66,0,0,417.7,null,{"$f":"VLOOKUP(A234,'личные рез-ты по гонкам списком'!$J$1:$N$1645,2,FALSE)","v":"М"},2]
["Евсюченя Александр / Evsyuchenya Aleksandr / 1991",null,null,null,null,null,null,null,null,null,null,null,329.17,null,null,null,null,null,null,400.64,null,null,null,null,null,null,null,736.89,1466.6999999999998,736.89,400.64,329.17,0,1466.7,null,{"$f":"VLOOKUP(A235,'личные рез-ты по гонкам списком'!$J$1:$N$1645,2,FALSE)","v":"М"},3]
["Егорова Дарина / Egorova Darina / 1994",null,null,null,null,null,null,null,null,null,null,null,null,null,null,null,null,null,231.58,null,null,null,null,null,null,null,null,null,231.58,231.58,0,0,0,231.58,null,{"$f":"VLOOKUP(A236,'личные рез-ты по гонкам списком'!$J$1:$N$1645,2,FALSE)","v":"Ж"},1]
["Едомская Вольга / Edomskaya Volga / 1987",null,null,null,316.52,null,null,null,340.27,null,null,329.57,null,null,null,null,null,212.79,294.74,null,null,null,335.93,null,null,null,null,null,1829.82,340.27,335.93,329.57,316.52,1322.29,null,{"$f":"VLOOKUP(A237,'личные рез-ты по гонкам списком'!$J$1:$N$1645,2,FALSE)","v":"Ж"},6]
["Ежелева Светлана / Ezheleva Svetlana / 1989",null,null,null,null,null,null,null,null,null,null,null,null,null,null,null,null,null,null,null,null,null,null,null,null,113.54,null,null,113.54,113.54,0,0,0,113.54,null,{"$f":"VLOOKUP(A238,'личные рез-ты по гонкам списком'!$J$1:$N$1645,2,FALSE)","v":"Ж"},1]
["Елесин Иван / Elesin Ivan / 1992",null,null,null,null,null,null,null,null,null,null,null,null,null,null,null,null,null,null,null,null,null,null,211.15,null,null,null,null,211.15,211.15,0,0,0,211.15,null,{"$f":"VLOOKUP(A239,'личные рез-ты по гонкам списком'!$J$1:$N$1645,2,FALSE)","v":"М"},1]
["Емельянова Анна / Emelyanova Anna / 1995",null,null,null,null,null,null,null,null,null,null,null,null,null,null,null,null,null,null,null,null,null,354.59,null,null,null,null,null,354.59,354.59,0,0,0,354.59,null,{"$f":"VLOOKUP(A240,'личные рез-ты по гонкам списком'!$J$1:$N$1645,2,FALSE)","v":"Ж"},1]
["Ермак Алексей / Ermak Aleksej / 1984",null,null,null,null,null,null,null,null,165.89,null,null,null,null,null,null,null,null,null,null,null,null,null,null,null,null,null,null,165.89,165.89,0,0,0,165.89,null,{"$f":"VLOOKUP(A241,'личные рез-ты по гонкам списком'!$J$1:$N$1645,2,FALSE)","v":"М"},1]
["Ермохин Максим / Ermohin Maksim / 1975",null,null,null,null,null,null,null,null,433.87,null,null,384.04,null,null,null,null,null,null,null,null,null,null,null,null,null,null,null,817.91000000000008,433.87,384.04,0,0,817.91000000000008,null,{"$f":"VLOOKUP(A242,'личные рез-ты по гонкам списком'!$J$1:$N$1645,2,FALSE)","v":"М"},2]
["Жамойдзін Яўген / Zhamojdzіn Yaugen / 1985",null,null,null,null,null,null,null,null,null,null,null,null,null,null,null,null,null,null,null,null,null,86.53,null,null,null,null,null,86.53,86.53,0,0,0,86.53,null,{"$f":"VLOOKUP(A243,'личные рез-ты по гонкам списком'!$J$1:$N$1645,2,FALSE)","v":"М"},1]
["Ждамиров Виталий / Zhdamirov Vitalij / 1983",null,null,null,null,null,null,null,null,null,null,null,null,null,null,null,null,null,null,null,null,null,null,null,null,60.55,null,null,60.55,60.55,0,0,0,60.55,null,{"$f":"VLOOKUP(A244,'личные рез-ты по гонкам списком'!$J$1:$N$1645,2,FALSE)","v":"М"},1]
["Ждамиров Эдуард / Zhdamirov Eduard / 1987",null,null,null,null,null,null,null,null,null,null,null,null,null,null,null,null,null,null,null,null,null,null,null,null,157.44,null,null,157.44,157.44,0,0,0,157.44,null,{"$f":"VLOOKUP(A245,'личные рез-ты по гонкам списком'!$J$1:$N$1645,2,FALSE)","v":"М"},1]
["Жданович Александра / Zhdanovich Aleksandra / 1985",null,null,null,null,null,null,null,null,null,232.02,null,null,null,null,206.72,null,null,null,null,269.05,null,null,null,null,244.1,null,null,951.89,269.05,244.1,232.02,206.72,951.89,null,{"$f":"VLOOKUP(A246,'личные рез-ты по гонкам списком'!$J$1:$N$1645,2,FALSE)","v":"Ж"},4]
["Жданович Андрей / Zhdanovich Andrej / 1973",null,null,null,null,null,null,null,null,287.12,null,null,null,null,null,null,null,null,null,null,null,null,null,null,null,null,null,null,287.12,287.12,0,0,0,287.12,null,{"$f":"VLOOKUP(A247,'личные рез-ты по гонкам списком'!$J$1:$N$1645,2,FALSE)","v":"М"},1]
["Жданович Максим / Zhdanovich Maksim / 1987",null,null,561.73,null,null,null,null,null,null,null,null,null,null,null,null,null,null,null,null,null,null,null,null,null,null,null,null,561.73,561.73,0,0,0,561.73,null,{"$f":"VLOOKUP(A248,'личные рез-ты по гонкам списком'!$J$1:$N$1645,2,FALSE)","v":"М"},1]
["Жевняк Андрей / Zhevnyak Andrej / 1986",null,null,null,null,null,null,null,null,null,null,null,null,null,null,193.76,null,null,null,null,null,null,277.39999999999998,null,null,null,null,null,471.15999999999997,277.39999999999998,193.76,0,0,471.15999999999997,null,{"$f":"VLOOKUP(A249,'личные рез-ты по гонкам списком'!$J$1:$N$1645,2,FALSE)","v":"М"},2]
["Жегуло Ольга / Zhegulo Olga / 1983",null,null,null,null,null,null,null,null,null,null,null,null,null,null,null,null,null,null,null,null,null,195.96,null,null,null,null,null,195.96,195.96,0,0,0,195.96,null,{"$f":"VLOOKUP(A250,'личные рез-ты по гонкам списком'!$J$1:$N$1645,2,FALSE)","v":"Ж"},1]
["Желнов Анатолий / Zhelnov Anatolij / 1993",null,null,null,null,null,null,null,null,null,null,null,null,null,null,null,null,null,null,null,null,null,null,null,null,230.1,null,null,230.1,230.1,0,0,0,230.1,null,{"$f":"VLOOKUP(A251,'личные рез-ты по гонкам списком'!$J$1:$N$1645,2,FALSE)","v":"М"},1]
["Жигало Ольга / Zhigalo Olga / 1993",null,null,null,null,null,null,null,null,null,null,null,null,null,null,null,null,null,null,null,null,null,130.63999999999999,null,null,null,null,null,130.63999999999999,130.63999999999999,0,0,0,130.63999999999999,null,{"$f":"VLOOKUP(A252,'личные рез-ты по гонкам списком'!$J$1:$N$1645,2,FALSE)","v":"Ж"},1]
["Жидович Вадим / Zhidovich Vadim / 1984",null,null,491.52,null,null,null,null,231.61,null,null,null,208.48,null,null,null,76.73,null,null,null,null,78.38,null,131.97,null,null,null,null,1218.69,491.52,231.61,208.48,131.97,1063.58,null,{"$f":"VLOOKUP(A253,'личные рез-ты по гонкам списком'!$J$1:$N$1645,2,FALSE)","v":"М"},6]
["Жила Анастасия / Zhila Anastasiya / 1994",null,null,null,null,null,291.89999999999998,null,null,null,null,null,null,null,298.16000000000003,223.25,null,null,null,null,null,null,null,null,null,null,null,null,813.31,298.16000000000003,291.89999999999998,223.25,0,813.31,null,{"$f":"VLOOKUP(A254,'личные рез-ты по гонкам списком'!$J$1:$N$1645,2,FALSE)","v":"Ж"},3]
["Жилан Павел / Zhilan Pavel / 1990",null,null,null,null,null,null,null,null,null,null,null,null,null,null,null,null,null,null,null,null,null,391.92,null,null,null,null,null,391.92,391.92,0,0,0,391.92,null,{"$f":"VLOOKUP(A255,'личные рез-ты по гонкам списком'!$J$1:$N$1645,2,FALSE)","v":"М"},1]
["Жук Лия / Zhuk Liya / 1980",null,75.040000000000006,null,null,null,null,null,null,null,null,null,null,null,null,null,null,null,null,null,null,null,null,null,null,null,null,null,75.040000000000006,75.040000000000006,0,0,0,75.040000000000006,null,{"$f":"VLOOKUP(A256,'личные рез-ты по гонкам списком'!$J$1:$N$1645,2,FALSE)","v":"Ж"},1]
["Жукова Елизавета / Zhukova Elizaveta / 1989",null,null,null,null,null,null,null,null,null,null,null,null,null,null,null,null,null,null,null,248.35,null,null,null,null,null,null,null,248.35,248.35,0,0,0,248.35,null,{"$f":"VLOOKUP(A257,'личные рез-ты по гонкам списком'!$J$1:$N$1645,2,FALSE)","v":"Ж"},1]
["Жукова Марина / Zhukova Marina / 1985",null,null,null,null,null,null,null,null,null,null,null,null,null,null,null,null,null,null,null,null,null,214.62,null,null,null,null,null,214.62,214.62,0,0,0,214.62,null,{"$f":"VLOOKUP(A258,'личные рез-ты по гонкам списком'!$J$1:$N$1645,2,FALSE)","v":"Ж"},1]
["Жукович Артем / Zhukovich Artem / 1988",null,null,null,115.49,null,null,null,null,null,null,93.14,null,null,null,null,null,null,null,null,47.14,null,104.34,null,null,null,null,null,360.11,115.49,104.34,93.14,47.14,360.10999999999996,null,{"$f":"VLOOKUP(A259,'личные рез-ты по гонкам списком'!$J$1:$N$1645,2,FALSE)","v":"М"},4]
["Журавлёв Андрей / Zhuravljov Andrej / 1978",null,null,null,null,null,null,null,null,484.91,null,null,null,null,null,null,359.69,null,381.82,null,null,null,null,null,null,null,null,null,1226.42,484.91,381.82,359.69,0,1226.42,null,{"$f":"VLOOKUP(A260,'личные рез-ты по гонкам списком'!$J$1:$N$1645,2,FALSE)","v":"М"},3]
["Журавлёв Илья / Zhuravljov Ilya / 1987",null,null,null,null,null,null,null,null,null,null,null,null,null,null,null,null,null,null,null,null,null,89.07,null,null,null,null,null,89.07,89.07,0,0,0,89.07,null,{"$f":"VLOOKUP(A261,'личные рез-ты по гонкам списком'!$J$1:$N$1645,2,FALSE)","v":"М"},1]
["Журавлёва Оксана / Zhuravljova Oksana / 1980",null,null,null,null,null,null,null,405.09,null,null,null,null,null,null,264.60000000000002,null,null,null,null,275.94,null,null,null,null,null,null,null,945.63000000000011,{"$f":"LARGE(B262:AB262,1)","v":405.09},{"$f":"IF(COUNT(B262:AB262)=1,0,LARGE(B262:AB262,2))","v":275.94},{"$f":"IF(COUNT(B262:AB262)<3,0,LARGE(B262:AB262,3))","v":264.60000000000002},{"$f":"IF(COUNT(B262:AB262)<4,0,LARGE(B262:AB262,4))","v":0},{"$f":"SUM(AD262:AG262)","v":945.63},null,{"$f":"VLOOKUP(A262,'личные рез-ты по гонкам списком'!$J$1:$N$1645,2,FALSE)","v":"Ж"},{"$f":"COUNT(B262:AB262)","v":3}]
["Жучин Алексей / Zhuchin Aleksej / 1983",null,null,null,null,null,null,null,null,null,283.57,332.64,null,null,null,null,null,null,null,null,null,null,null,402.5,null,null,null,null,1018.71,402.5,332.64,283.57,0,1018.71,null,{"$f":"VLOOKUP(A263,'личные рез-ты по гонкам списком'!$J$1:$N$1645,2,FALSE)","v":"М"},3]
["Жучина Катерина / Zhuchina Katerina / 1986",null,null,null,null,null,null,null,null,null,154.68,128.96,null,null,null,null,null,null,null,null,null,null,null,null,null,null,null,null,283.64,154.68,128.96,0,0,283.64,null,{"$f":"VLOOKUP(A264,'личные рез-ты по гонкам списком'!$J$1:$N$1645,2,FALSE)","v":"Ж"},2]
["Жучков Алексей / Zhuchkov Aleksej / 1985",null,null,193.1,null,null,109.86,null,null,140.37,null,null,null,178.57,null,null,38.369999999999997,null,null,null,null,null,null,null,null,null,null,null,660.27,193.1,178.57,140.37,109.86,621.9,null,{"$f":"VLOOKUP(A265,'личные рез-ты по гонкам списком'!$J$1:$N$1645,2,FALSE)","v":"М"},5]
["Забабуро Сергей / Zababuro Sergej / 1978",null,null,null,null,null,null,null,null,null,null,null,null,null,null,null,273.36,null,null,null,null,null,null,null,null,null,null,null,273.36,273.36,0,0,0,273.36,null,{"$f":"VLOOKUP(A266,'личные рез-ты по гонкам списком'!$J$1:$N$1645,2,FALSE)","v":"М"},1]
["Забелова Юлия / Zabelova Yuliya / 1978",null,87.55,null,null,null,null,null,null,null,null,null,null,null,null,null,null,null,null,null,null,null,null,null,null,null,null,null,87.55,87.55,0,0,0,87.55,null,{"$f":"VLOOKUP(A267,'личные рез-ты по гонкам списком'!$J$1:$N$1645,2,FALSE)","v":"Ж"},1]
["Завалова Анастасия / Zavalova Anastasiya / 1994",null,null,null,null,null,null,null,null,null,null,null,null,null,null,82.69,null,null,252.63,null,null,null,null,null,null,null,null,null,335.32,252.63,82.69,0,0,335.32,null,{"$f":"VLOOKUP(A268,'личные рез-ты по гонкам списком'!$J$1:$N$1645,2,FALSE)","v":"Ж"},2]
["Заверач Денис / Zaverach Denis / 1985",null,null,null,null,null,null,null,null,null,null,null,null,null,null,null,null,null,null,null,null,null,null,514.66999999999996,null,null,null,null,514.66999999999996,514.66999999999996,0,0,0,514.66999999999996,null,{"$f":"VLOOKUP(A269,'личные рез-ты по гонкам списком'!$J$1:$N$1645,2,FALSE)","v":"М"},1]
["Загорнов Александр / Zagornov Aleksandr / 1966",null,null,140.43,null,null,null,null,null,null,null,null,null,null,null,null,null,null,null,null,null,null,null,null,null,null,null,null,140.43,140.43,0,0,0,140.43,null,{"$f":"VLOOKUP(A270,'личные рез-ты по гонкам списком'!$J$1:$N$1645,2,FALSE)","v":"М"},1]
["Зайцев Александр / Zajtsev Aleksandr / 1986",null,null,null,null,null,null,null,null,null,null,null,null,null,null,null,null,null,null,null,null,null,147.61000000000001,null,null,null,null,null,147.61000000000001,147.61000000000001,0,0,0,147.61000000000001,null,{"$f":"VLOOKUP(A271,'личные рез-ты по гонкам списком'!$J$1:$N$1645,2,FALSE)","v":"М"},1]
["Зайчук Кирилл / Zajchuk Kirill / 1990",null,null,null,null,null,null,null,197.3,null,null,null,null,null,null,null,null,null,null,null,null,null,null,null,null,null,null,null,197.3,197.3,0,0,0,197.3,null,{"$f":"VLOOKUP(A272,'личные рез-ты по гонкам списком'!$J$1:$N$1645,2,FALSE)","v":"М"},1]
["Замахаева Мария  / Zamahaeva Mariya  / 1985",null,null,null,346.2,null,null,null,null,null,null,null,null,null,null,null,null,null,null,null,null,null,null,null,null,null,null,null,346.2,346.2,0,0,0,346.2,null,{"$f":"VLOOKUP(A273,'личные рез-ты по гонкам списком'!$J$1:$N$1645,2,FALSE)","v":"Ж"},1]
["Занеуская Ганна / Zaneuskaya Ganna / 1994",null,null,null,158.26,null,null,null,null,null,null,null,null,null,null,null,null,null,null,null,null,null,null,null,null,null,null,null,158.26,158.26,0,0,0,158.26,null,{"$f":"VLOOKUP(A274,'личные рез-ты по гонкам списком'!$J$1:$N$1645,2,FALSE)","v":"Ж"},1]
["Занько Юрий / Zanko Yurij / 1982",null,null,null,null,null,null,null,null,null,null,null,null,null,null,null,null,null,null,null,null,null,null,null,null,null,null,151.71,151.71,151.71,0,0,0,151.71,null,{"$f":"VLOOKUP(A275,'личные рез-ты по гонкам списком'!$J$1:$N$1645,2,FALSE)","v":"М"},1]
["Зарецкая Оксана / Zaretskaya Oksana / 1982",null,null,null,null,238.5,null,null,null,null,null,null,null,null,null,null,null,null,null,null,null,null,null,null,null,null,null,null,238.5,238.5,0,0,0,238.5,null,{"$f":"VLOOKUP(A276,'личные рез-ты по гонкам списком'!$J$1:$N$1645,2,FALSE)","v":"Ж"},1]
["Заречанский Юрий / Zarechanskij Yurij / 1980",null,200.12,null,null,246.41,null,null,null,null,null,null,null,null,null,null,null,null,null,null,null,null,162.88,null,null,null,null,null,609.41,246.41,200.12,162.88,0,609.41,null,{"$f":"VLOOKUP(A277,'личные рез-ты по гонкам списком'!$J$1:$N$1645,2,FALSE)","v":"М"},3]
["Зарицкий Сергей / Zaritskij Sergej / 1975",null,null,null,null,null,null,null,null,null,null,null,null,null,null,null,null,null,null,null,null,null,null,475.08,null,null,null,null,475.08,475.08,0,0,0,475.08,null,{"$f":"VLOOKUP(A278,'личные рез-ты по гонкам списком'!$J$1:$N$1645,2,FALSE)","v":"М"},1]
["Зарубина Наталья / Zarubina Natalya / 1989",null,null,null,286.85000000000002,null,null,null,null,null,null,null,null,null,null,null,null,null,null,null,null,null,null,null,null,null,null,null,286.85000000000002,286.85000000000002,0,0,0,286.85000000000002,null,{"$f":"VLOOKUP(A279,'личные рез-ты по гонкам списком'!$J$1:$N$1645,2,FALSE)","v":"Ж"},1]
["Зарубина Ульяна / Zarubina Ulyana / ",null,null,null,247.28,null,null,null,null,null,null,null,null,null,null,null,null,null,null,null,null,null,null,null,null,null,null,null,247.28,247.28,0,0,0,247.28,null,{"$f":"VLOOKUP(A280,'личные рез-ты по гонкам списком'!$J$1:$N$1645,2,FALSE)","v":"Ж"},1]
["Захаркин Сергей / Zaharkin Sergej / 1976",null,null,null,null,null,null,null,420.34,null,null,null,null,null,null,null,null,null,null,null,null,null,null,null,null,null,null,null,420.34,420.34,0,0,0,420.34,null,{"$f":"VLOOKUP(A281,'личные рез-ты по гонкам списком'!$J$1:$N$1645,2,FALSE)","v":"М"},1]
["Захаров Иван / Zaharov Ivan / 1979",null,null,null,null,null,null,null,null,null,77.34,null,null,null,null,null,null,null,null,null,null,null,null,null,null,null,null,null,77.34,77.34,0,0,0,77.34,null,{"$f":"VLOOKUP(A282,'личные рез-ты по гонкам списком'!$J$1:$N$1645,2,FALSE)","v":"М"},1]
["Захарьев Алексей / Zaharev Aleksej / 1984",null,null,null,null,null,null,null,null,null,null,null,null,null,null,null,268.57,null,null,null,null,null,null,null,null,null,null,null,268.57,268.57,0,0,0,268.57,null,{"$f":"VLOOKUP(A283,'личные рез-ты по гонкам списком'!$J$1:$N$1645,2,FALSE)","v":"М"},1]
["Заяц Александр / Zayats Aleksandr / 1978",null,null,null,null,null,null,null,null,267.98,null,null,null,null,null,null,null,null,null,null,null,null,null,376.1,null,null,null,null,644.08000000000004,376.1,267.98,0,0,644.08000000000004,null,{"$f":"VLOOKUP(A284,'личные рез-ты по гонкам списком'!$J$1:$N$1645,2,FALSE)","v":"М"},2]
["Зданович Андрей / Zdanovich Andrej / 1973",null,null,null,null,null,43.94,null,null,null,null,null,null,null,null,null,null,null,190.91,null,null,null,236.68,null,null,null,null,null,471.53,236.68,190.91,43.94,0,471.53000000000003,null,{"$f":"VLOOKUP(A285,'личные рез-ты по гонкам списком'!$J$1:$N$1645,2,FALSE)","v":"М"},3]
["Здитовецкая Ирина / Zditovetskaya Irina / 1980",null,null,null,null,null,null,null,null,null,null,null,null,null,null,null,null,null,null,null,null,null,null,null,null,102.18,null,null,102.18,102.18,0,0,0,102.18,null,{"$f":"VLOOKUP(A286,'личные рез-ты по гонкам списком'!$J$1:$N$1645,2,FALSE)","v":"Ж"},1]
["Зеленкевич Валентина / Zelenkevich Valentina / 1999",null,487.79,null,null,null,null,null,null,null,null,null,null,null,null,null,null,null,null,null,null,null,null,null,null,null,null,null,487.79,487.79,0,0,0,487.79,null,{"$f":"VLOOKUP(A287,'личные рез-ты по гонкам списком'!$J$1:$N$1645,2,FALSE)","v":"Ж"},1]
["Зеленко Алексей / Zelenko Aleksej / 1980",null,null,null,null,null,null,null,null,null,null,null,131.66999999999999,null,null,null,null,null,null,null,null,null,null,null,null,null,null,null,131.66999999999999,131.66999999999999,0,0,0,131.66999999999999,null,{"$f":"VLOOKUP(A288,'личные рез-ты по гонкам списком'!$J$1:$N$1645,2,FALSE)","v":"М"},1]
["Зеленко Диана / Zelenko Diana / 1988",null,null,null,null,null,null,null,null,null,128.9,null,null,null,null,null,null,null,null,null,null,null,null,null,null,null,null,null,128.9,128.9,0,0,0,128.9,null,{"$f":"VLOOKUP(A289,'личные рез-ты по гонкам списком'!$J$1:$N$1645,2,FALSE)","v":"Ж"},1]
["Зеленко Дмитрий / Zelenko Dmitrij / 1987",null,null,null,null,null,null,null,343.13,null,null,null,null,null,null,null,null,null,null,null,216.85,null,315.57,null,null,null,null,null,875.55,343.13,315.57,216.85,0,875.55000000000007,null,{"$f":"VLOOKUP(A290,'личные рез-ты по гонкам списком'!$J$1:$N$1645,2,FALSE)","v":"М"},3]
["Зеленский Александр / Zelenskij Aleksandr / 1978",null,null,null,null,null,null,null,null,null,null,null,null,null,null,null,167.85,null,null,null,null,null,null,null,null,null,null,null,167.85,167.85,0,0,0,167.85,null,{"$f":"VLOOKUP(A291,'личные рез-ты по гонкам списком'!$J$1:$N$1645,2,FALSE)","v":"М"},1]
["Зеленцова Галина / Zelentsova Galina / 1988",null,null,null,null,null,null,null,null,null,null,null,null,null,null,null,null,221.3,null,null,null,null,null,null,null,null,null,null,221.3,221.3,0,0,0,221.3,null,{"$f":"VLOOKUP(A292,'личные рез-ты по гонкам списком'!$J$1:$N$1645,2,FALSE)","v":"Ж"},1]
["Зенченко Александр / Zenchenko Aleksandr / 1992",null,null,null,null,null,null,null,null,null,null,null,null,null,null,null,null,null,null,null,null,null,null,171.56,null,null,null,null,171.56,171.56,0,0,0,171.56,null,{"$f":"VLOOKUP(A293,'личные рез-ты по гонкам списком'!$J$1:$N$1645,2,FALSE)","v":"М"},1]
["Зеньков Александр / Zenkov Aleksandr / 1993",null,null,null,null,null,null,null,null,null,null,null,null,null,null,null,null,null,null,null,null,null,null,52.79,null,null,null,null,52.79,52.79,0,0,0,52.79,null,{"$f":"VLOOKUP(A294,'личные рез-ты по гонкам списком'!$J$1:$N$1645,2,FALSE)","v":"М"},1]
["Зиновенко Павел / Zinovenko Pavel / 1997",null,null,null,null,null,null,null,null,null,null,null,null,null,null,280.45,null,null,null,null,null,null,null,null,null,null,null,null,280.45,280.45,0,0,0,280.45,null,{"$f":"VLOOKUP(A295,'личные рез-ты по гонкам списком'!$J$1:$N$1645,2,FALSE)","v":"М"},1]
["Злобин Денис / Zlobin Denis / 1982",null,null,null,null,null,null,null,null,null,null,null,null,null,null,null,null,null,null,497.76,null,null,null,null,null,null,null,null,497.76,497.76,0,0,0,497.76,null,{"$f":"VLOOKUP(A296,'личные рез-ты по гонкам списком'!$J$1:$N$1645,2,FALSE)","v":"М"},1]
["Зубкевич Анжелика / Zubkevich Anzhelika / 1992",null,null,null,null,null,null,null,null,null,null,null,null,null,null,null,null,null,null,null,null,null,null,null,null,232.75,null,null,232.75,232.75,0,0,0,232.75,null,{"$f":"VLOOKUP(A297,'личные рез-ты по гонкам списком'!$J$1:$N$1645,2,FALSE)","v":"Ж"},1]
["Зуевский Роман / Zuevskij Roman / 1986",null,null,null,null,null,null,null,null,null,null,186.28,null,null,null,null,null,null,null,null,null,null,null,null,null,null,null,null,186.28,186.28,0,0,0,186.28,null,{"$f":"VLOOKUP(A298,'личные рез-ты по гонкам списком'!$J$1:$N$1645,2,FALSE)","v":"М"},1]
["Зуй Александр / Zuj Aleksandr / 1980",null,118.25,null,null,null,null,null,null,null,null,null,65.83,null,null,null,null,null,null,null,null,null,null,null,null,null,null,null,184.07999999999998,118.25,65.83,0,0,184.07999999999998,null,{"$f":"VLOOKUP(A299,'личные рез-ты по гонкам списком'!$J$1:$N$1645,2,FALSE)","v":"М"},2]
["Зуй Алексей / Zuj Aleksej / 1980",null,null,null,null,null,null,null,null,null,null,null,null,null,null,null,null,null,null,null,null,null,null,72.58,null,null,null,null,72.58,72.58,0,0,0,72.58,null,{"$f":"VLOOKUP(A300,'личные рез-ты по гонкам списком'!$J$1:$N$1645,2,FALSE)","v":"М"},1]
["Зуй Марина / Zuj Marina / 1984",null,null,null,null,null,null,null,null,null,null,57.32,null,null,null,null,null,null,null,null,null,null,null,null,null,null,null,null,57.32,57.32,0,0,0,57.32,null,{"$f":"VLOOKUP(A301,'личные рез-ты по гонкам списком'!$J$1:$N$1645,2,FALSE)","v":"Ж"},1]
["Зуйков Антон / Zujkov Anton / 1995",null,null,null,null,null,null,null,null,null,null,null,null,null,null,null,340.5,null,null,null,null,null,null,null,null,null,null,null,340.5,340.5,0,0,0,340.5,null,{"$f":"VLOOKUP(A302,'личные рез-ты по гонкам списком'!$J$1:$N$1645,2,FALSE)","v":"М"},1]
["Зументс Роберт / Zuments Robert / 1979",null,null,35.11,null,null,null,null,null,null,null,null,null,null,null,null,null,null,null,null,null,null,null,null,null,null,null,null,35.11,35.11,0,0,0,35.11,null,{"$f":"VLOOKUP(A303,'личные рез-ты по гонкам списком'!$J$1:$N$1645,2,FALSE)","v":"М"},1]
["Зюзина Алёна / Zyuzina Aljona / 1978",null,null,null,null,null,null,null,null,null,null,null,null,null,null,null,null,null,null,null,null,null,null,443.41,null,null,null,null,443.41,443.41,0,0,0,443.41,null,{"$f":"VLOOKUP(A304,'личные рез-ты по гонкам списком'!$J$1:$N$1645,2,FALSE)","v":"Ж"},1]
["Зятиков Евгений / Zyatikov Evgenij / 1982",null,null,null,null,319.42,null,null,null,null,null,null,null,142.86000000000001,null,null,19.18,null,null,109.26,null,null,null,197.95,null,null,null,null,788.67000000000007,319.42,197.95,142.86000000000001,109.26,769.49,null,{"$f":"VLOOKUP(A305,'личные рез-ты по гонкам списком'!$J$1:$N$1645,2,FALSE)","v":"М"},5]
["Зятикова Наталья / Zyatikova Natalya / 1983",null,null,null,null,null,null,null,null,null,null,null,null,238.09,null,49.61,null,null,null,null,68.989999999999995,null,null,null,null,null,null,null,356.69,238.09,68.989999999999995,49.61,0,356.69,null,{"$f":"VLOOKUP(A306,'личные рез-ты по гонкам списком'!$J$1:$N$1645,2,FALSE)","v":"Ж"},3]
["Иванов Денис / Ivanov Denis / 1990",null,154.63999999999999,null,null,null,153.80000000000001,null,null,null,null,null,null,null,null,null,null,null,null,null,null,null,279.94,null,null,null,null,null,588.38,279.94,154.63999999999999,153.80000000000001,0,588.38,null,{"$f":"VLOOKUP(A307,'личные рез-ты по гонкам списком'!$J$1:$N$1645,2,FALSE)","v":"М"},3]
["Иванова Екатерина / Ivanova Ekaterina / 1989",null,62.54,null,null,null,null,null,null,null,null,null,null,null,null,null,null,null,null,null,null,null,null,null,null,null,null,null,62.54,62.54,0,0,0,62.54,null,{"$f":"VLOOKUP(A308,'личные рез-ты по гонкам списком'!$J$1:$N$1645,2,FALSE)","v":"Ж"},1]
["Иванцов Вячеслав / Ivantsov Vyacheslav / 1986",null,null,null,null,null,null,null,null,null,null,null,null,null,null,214.16,null,null,245.45,null,null,null,null,null,null,null,null,null,459.61,245.45,214.16,0,0,459.61,null,{"$f":"VLOOKUP(A309,'личные рез-ты по гонкам списком'!$J$1:$N$1645,2,FALSE)","v":"М"},2]
["Иванчик Александр / Ivanchik Aleksandr / 1990",null,null,null,null,null,null,null,null,null,null,null,null,null,null,null,null,null,null,null,null,null,null,null,null,null,null,303.42,303.42,303.42,0,0,0,303.42,null,{"$f":"VLOOKUP(A310,'личные рез-ты по гонкам списком'!$J$1:$N$1645,2,FALSE)","v":"М"},1]
["Иванчик Константин / Ivanchik Konstantin / 1983",null,null,null,null,null,null,null,null,null,null,null,null,392.86,null,null,null,null,null,157.83000000000001,null,null,null,null,null,null,null,null,550.69000000000005,392.86,157.83000000000001,0,0,550.69000000000005,null,{"$f":"VLOOKUP(A311,'личные рез-ты по гонкам списком'!$J$1:$N$1645,2,FALSE)","v":"М"},2]
["Иванюта Дмитрий / Ivanyuta Dmitrij / 1982",null,null,null,null,null,null,null,null,null,null,null,null,null,null,null,null,null,null,null,null,null,305.39,null,null,null,null,null,305.39,305.39,0,0,0,305.39,null,{"$f":"VLOOKUP(A312,'личные рез-ты по гонкам списком'!$J$1:$N$1645,2,FALSE)","v":"М"},1]
["Игнатович Александр / Ignatovich Aleksandr / 1992",null,null,null,null,null,null,null,265.93,null,null,null,null,null,null,null,null,null,null,null,null,null,null,null,null,null,null,null,265.93,265.93,0,0,0,265.93,null,{"$f":"VLOOKUP(A313,'личные рез-ты по гонкам списком'!$J$1:$N$1645,2,FALSE)","v":"М"},1]
["Илатовский Дмитрий / Ilatovskij Dmitrij / 1974",null,null,null,null,null,null,null,null,197.79,null,null,null,null,null,null,null,null,null,null,null,null,null,null,null,null,null,null,197.79,197.79,0,0,0,197.79,null,{"$f":"VLOOKUP(A314,'личные рез-ты по гонкам списком'!$J$1:$N$1645,2,FALSE)","v":"М"},1]
["Ильюшенок Юлия  / Ilyushenok Yuliya  / 1987",null,null,null,148.37,null,null,null,null,null,null,null,null,null,null,null,null,null,null,null,null,null,null,null,null,null,null,null,148.37,148.37,0,0,0,148.37,null,{"$f":"VLOOKUP(A315,'личные рез-ты по гонкам списком'!$J$1:$N$1645,2,FALSE)","v":"Ж"},1]
["Иолтуховский Владислав / Ioltuhovskij Vladislav / 1971",null,null,null,null,null,null,null,null,121.23,null,null,263.33999999999997,null,null,null,null,null,null,null,null,null,null,null,null,null,null,null,384.57,263.33999999999997,121.23,0,0,384.57,null,{"$f":"VLOOKUP(A316,'личные рез-ты по гонкам списком'!$J$1:$N$1645,2,FALSE)","v":"М"},2]
["Исаев Антон / Isaev Anton / 1979",838.71,null,null,null,null,null,null,null,null,null,null,null,null,null,null,null,null,null,null,null,null,null,null,null,null,1024.0999999999999,null,1862.81,1024.0999999999999,838.71,0,0,1862.81,null,{"$f":"VLOOKUP(A317,'личные рез-ты по гонкам списком'!$J$1:$N$1645,2,FALSE)","v":"М"},2]
["Искорцев Алексей / Iskortsev Aleksej / 1980",null,null,null,null,null,null,null,274.51,null,null,null,null,null,null,null,129.49,null,null,null,null,null,null,null,null,null,null,null,404,274.51,129.49,0,0,404,null,{"$f":"VLOOKUP(A318,'личные рез-ты по гонкам списком'!$J$1:$N$1645,2,FALSE)","v":"М"},2]
["Йоцюс Виталий / Jotsyus Vitalij / ",null,null,null,null,null,null,null,null,null,null,null,null,null,null,50.99,null,null,null,null,null,null,null,null,null,null,null,null,50.99,50.99,0,0,0,50.99,null,{"$f":"VLOOKUP(A319,'личные рез-ты по гонкам списком'!$J$1:$N$1645,2,FALSE)","v":"М"},1]
["Каволюнас Андрюс / Kavolyunas Andryus / 1984",null,null,null,null,null,null,null,null,null,null,null,null,null,null,null,null,null,null,null,null,null,null,178.15,null,null,null,null,178.15,178.15,0,0,0,178.15,null,{"$f":"VLOOKUP(A320,'личные рез-ты по гонкам списком'!$J$1:$N$1645,2,FALSE)","v":"М"},1]
["Казак Дмитрий / Kazak Dmitrij / 1979",null,null,614.4,null,null,null,null,null,null,null,null,null,null,null,null,220.61,null,null,null,null,null,null,null,null,null,null,null,835.01,614.4,220.61,0,0,835.01,null,{"$f":"VLOOKUP(A321,'личные рез-ты по гонкам списком'!$J$1:$N$1645,2,FALSE)","v":"М"},2]
["Казак Константин / Kazak Konstantin / 2004",null,null,null,null,null,null,null,null,null,null,null,null,null,null,null,null,134.71,null,null,null,null,null,null,null,null,null,null,134.71,134.71,0,0,0,134.71,null,{"$f":"VLOOKUP(A322,'личные рез-ты по гонкам списком'!$J$1:$N$1645,2,FALSE)","v":"М"},1]
["Казак Наталья / Kazak Natalya / 1979",null,null,null,null,null,null,null,null,null,null,100.3,null,null,null,null,null,25.54,null,null,null,null,null,null,null,51.09,null,null,176.93,100.3,51.09,25.54,0,176.92999999999998,null,{"$f":"VLOOKUP(A323,'личные рез-ты по гонкам списком'!$J$1:$N$1645,2,FALSE)","v":"Ж"},3]
["Казакевич Ирина / Kazakevich Irina / 1969",null,null,null,null,null,null,null,421.29,null,null,null,null,null,null,null,null,null,null,null,null,null,null,471.12,null,null,null,null,892.41000000000008,471.12,421.29,0,0,892.41000000000008,null,{"$f":"VLOOKUP(A324,'личные рез-ты по гонкам списком'!$J$1:$N$1645,2,FALSE)","v":"Ж"},2]
["Казарин Дмитрий / Kazarin Dmitrij / 1994",null,227.41,null,null,273.79000000000002,null,null,120.1,null,null,null,197.5,null,null,null,null,null,172.73,null,null,195.96,285.02999999999997,null,null,null,null,null,1472.52,285.02999999999997,273.79000000000002,227.41,197.5,983.7299999999999,null,{"$f":"VLOOKUP(A325,'личные рез-ты по гонкам списком'!$J$1:$N$1645,2,FALSE)","v":"М"},7]
["Казимирская Надежда  / Kazimirskaya Nadezhda  / 1983",null,null,null,267.07,null,null,null,null,null,null,null,null,null,null,null,null,null,null,null,null,null,null,null,null,null,null,null,267.07,{"$f":"LARGE(B326:AB326,1)","v":267.07},{"$f":"IF(COUNT(B326:AB326)=1,0,LARGE(B326:AB326,2))","v":0},{"$f":"IF(COUNT(B326:AB326)<3,0,LARGE(B326:AB326,3))","v":0},{"$f":"IF(COUNT(B326:AB326)<4,0,LARGE(B326:AB326,4))","v":0},{"$f":"SUM(AD326:AG326)","v":267.07},null,{"$f":"VLOOKUP(A326,'личные рез-ты по гонкам списком'!$J$1:$N$1645,2,FALSE)","v":"Ж"},{"$f":"COUNT(B326:AB326)","v":1}]
["Калацей Роман / Kalatsej Roman / 1997",null,null,null,null,null,null,null,null,null,null,null,null,null,null,null,null,null,null,null,null,null,null,428.89,null,null,null,null,428.89,428.89,0,0,0,428.89,null,{"$f":"VLOOKUP(A327,'личные рез-ты по гонкам списком'!$J$1:$N$1645,2,FALSE)","v":"М"},1]
["Калвинковская Ольга / Kalvinkovskaya Olga / 1994",null,450.27,null,null,null,null,null,null,null,null,null,null,null,null,null,null,null,null,null,null,null,null,null,null,null,null,null,450.27,450.27,0,0,0,450.27,null,{"$f":"VLOOKUP(A328,'личные рез-ты по гонкам списком'!$J$1:$N$1645,2,FALSE)","v":"Ж"},1]
["Каленская Наталия / Kalenskaya Nataliya / 1986",null,null,null,null,null,null,null,null,null,null,null,null,null,null,null,null,null,null,null,110.38,null,null,null,null,null,null,null,110.38,110.38,0,0,0,110.38,null,{"$f":"VLOOKUP(A329,'личные рез-ты по гонкам списком'!$J$1:$N$1645,2,FALSE)","v":"Ж"},1]
["Калинка Руслан / Kalinka Ruslan / 1978",null,null,null,null,null,null,null,null,null,null,null,null,null,null,null,null,null,null,null,null,null,231.59,null,null,null,null,null,231.59,231.59,0,0,0,231.59,null,{"$f":"VLOOKUP(A330,'личные рез-ты по гонкам списком'!$J$1:$N$1645,2,FALSE)","v":"М"},1]
["Кальвинковская Екатерина / Kalvinkovskaya Ekaterina / 1993",null,337.7,null,null,null,null,null,null,null,null,null,null,null,null,null,null,null,null,null,null,null,null,null,null,null,null,null,337.7,337.7,0,0,0,337.7,null,{"$f":"VLOOKUP(A331,'личные рез-ты по гонкам списком'!$J$1:$N$1645,2,FALSE)","v":"Ж"},1]
["Калюжный Дмитрий / Kalyuzhnyj Dmitrij / 1986",null,null,null,null,null,null,null,null,null,null,null,null,null,null,35.69,null,null,null,null,null,null,null,null,null,null,null,null,35.69,35.69,0,0,0,35.69,null,{"$f":"VLOOKUP(A332,'личные рез-ты по гонкам списком'!$J$1:$N$1645,2,FALSE)","v":"М"},1]
["Камышкайло Анатолий / Kamyshkajlo Anatolij / 1981",null,null,null,null,null,null,null,null,427.49,null,null,null,null,null,null,null,null,null,null,null,null,null,null,null,null,null,null,427.49,427.49,0,0,0,427.49,null,{"$f":"VLOOKUP(A333,'личные рез-ты по гонкам списком'!$J$1:$N$1645,2,FALSE)","v":"М"},1]
["Капустин Егор / Kapustin Egor / 2004",null,null,null,null,null,null,null,null,null,85.93,99.79,null,null,null,null,null,null,null,null,null,null,null,null,null,null,null,null,185.72000000000003,99.79,85.93,0,0,185.72000000000003,null,{"$f":"VLOOKUP(A334,'личные рез-ты по гонкам списком'!$J$1:$N$1645,2,FALSE)","v":"М"},2]
["Капытов Александр / Kapytov Aleksandr / 1978",null,null,null,null,null,null,null,null,null,null,null,null,null,null,null,null,null,null,null,null,null,249.4,null,null,null,null,null,249.4,249.4,0,0,0,249.4,null,{"$f":"VLOOKUP(A335,'личные рез-ты по гонкам списком'!$J$1:$N$1645,2,FALSE)","v":"М"},1]
["Карабанькова Марина / Karabankova Marina / 1989",null,null,null,null,null,null,null,null,null,null,14.33,null,null,null,41.34,null,null,null,null,null,null,null,null,null,null,null,null,55.67,41.34,14.33,0,0,55.67,null,{"$f":"VLOOKUP(A336,'личные рез-ты по гонкам списком'!$J$1:$N$1645,2,FALSE)","v":"Ж"},2]
["Карпович Алексей / Karpovich Aleksej / 1991",null,null,null,null,null,null,null,null,null,null,null,null,null,null,null,null,null,236.36,null,null,null,null,null,null,null,null,null,236.36,236.36,0,0,0,236.36,null,{"$f":"VLOOKUP(A337,'личные рез-ты по гонкам списком'!$J$1:$N$1645,2,FALSE)","v":"М"},1]
["Карпович Владимир / Karpovich Vladimir / 1983",null,null,null,null,337.68,null,null,null,null,null,null,null,214.28,null,null,52.75,null,200,null,null,null,318.12,null,null,null,null,null,1122.83,337.68,318.12,214.28,200,1070.08,null,{"$f":"VLOOKUP(A338,'личные рез-ты по гонкам списком'!$J$1:$N$1645,2,FALSE)","v":"М"},5]
["Католиков Роман / Katolikov Roman / 1985",null,null,null,356.09,null,null,null,null,null,274.98,352.6,null,null,null,null,null,238.33,null,null,273.41000000000003,null,null,null,null,null,null,null,1495.41,356.09,352.6,274.98,273.41000000000003,1257.0800000000002,null,{"$f":"VLOOKUP(A339,'личные рез-ты по гонкам списком'!$J$1:$N$1645,2,FALSE)","v":"М"},5]
["Катонов Василий / Katonov Vasilij / 1985",null,null,null,null,null,null,null,null,null,null,null,null,null,null,null,null,null,null,null,null,null,null,null,null,null,null,86.69,86.69,86.69,0,0,0,86.69,null,{"$f":"VLOOKUP(A340,'личные рез-ты по гонкам списком'!$J$1:$N$1645,2,FALSE)","v":"М"},1]
["Каханович Илья / Kahanovich Ilya / 1982",null,null,null,null,null,null,null,null,null,null,null,null,null,null,null,null,null,null,null,null,null,null,null,null,115.05,null,null,115.05,115.05,0,0,0,115.05,null,{"$f":"VLOOKUP(A341,'личные рез-ты по гонкам списком'!$J$1:$N$1645,2,FALSE)","v":"М"},1]
["Керножицкий Андрей / Kernozhitskij Andrej / 1981",null,null,null,null,null,null,null,null,null,null,null,null,null,null,null,null,null,null,null,null,null,295.20999999999998,null,null,null,null,null,295.20999999999998,295.20999999999998,0,0,0,295.20999999999998,null,{"$f":"VLOOKUP(A342,'личные рез-ты по гонкам списком'!$J$1:$N$1645,2,FALSE)","v":"М"},1]
["Кизик Валерия / Kizik Valeriya / 1990",null,null,null,null,null,null,null,null,null,null,null,null,null,null,null,null,null,null,null,null,null,326.60000000000002,null,null,null,null,null,326.60000000000002,326.60000000000002,0,0,0,326.60000000000002,null,{"$f":"VLOOKUP(A343,'личные рез-ты по гонкам списком'!$J$1:$N$1645,2,FALSE)","v":"Ж"},1]
["Кимстач Валерий / Kimstach Valerij / 1984",null,null,null,null,null,null,null,null,null,null,null,null,null,null,null,null,null,null,null,null,null,310.48,null,null,null,null,null,310.48,310.48,0,0,0,310.48,null,{"$f":"VLOOKUP(A344,'личные рез-ты по гонкам списком'!$J$1:$N$1645,2,FALSE)","v":"М"},1]
["Кирcанов Алексей / Kircanov Aleksej / 1981",null,400.24,null,null,null,null,null,null,null,null,null,395.01,null,null,null,null,null,null,null,null,null,null,null,null,null,null,null,795.25,400.24,395.01,0,0,795.25,null,{"$f":"VLOOKUP(A345,'личные рез-ты по гонкам списком'!$J$1:$N$1645,2,FALSE)","v":"М"},2]
["Кислицын Артем / Kislitsyn Artem / 1992",null,null,null,null,null,null,null,null,null,null,null,null,null,596.32000000000005,null,null,null,null,null,null,null,null,null,null,null,null,null,596.32000000000005,596.32000000000005,0,0,0,596.32000000000005,null,{"$f":"VLOOKUP(A346,'личные рез-ты по гонкам списком'!$J$1:$N$1645,2,FALSE)","v":"М"},1]
["Кислов Михаил / Kislov Mihail / 1992",null,null,null,null,null,null,null,null,null,null,null,null,null,null,81.58,null,null,null,null,null,null,null,null,null,null,null,null,81.58,81.58,0,0,0,81.58,null,{"$f":"VLOOKUP(A347,'личные рез-ты по гонкам списком'!$J$1:$N$1645,2,FALSE)","v":"М"},1]
["Клауч Виктор / Klauch Viktor / 1988",null,null,null,null,null,null,null,null,null,8.59,null,null,null,null,null,null,null,null,null,null,null,null,null,null,null,null,null,8.59,8.59,0,0,0,8.59,null,{"$f":"VLOOKUP(A348,'личные рез-ты по гонкам списком'!$J$1:$N$1645,2,FALSE)","v":"М"},1]
["Клауч Екатерина / Klauch Ekaterina / 1987",null,null,null,null,null,null,null,null,null,12.89,null,null,null,null,null,null,null,null,null,null,null,null,null,null,null,null,null,12.89,12.89,0,0,0,12.89,null,{"$f":"VLOOKUP(A349,'личные рез-ты по гонкам списком'!$J$1:$N$1645,2,FALSE)","v":"Ж"},1]
["Кликун Алла / Klikun Alla / 1961",null,null,null,null,null,null,null,null,null,null,null,null,null,null,null,null,null,null,null,62.09,null,null,null,null,null,null,null,62.09,62.09,0,0,0,62.09,null,{"$f":"VLOOKUP(A350,'личные рез-ты по гонкам списком'!$J$1:$N$1645,2,FALSE)","v":"Ж"},1]
["Кликун Татьяна / Klikun Tatyana / 1989",null,362.72,null,null,408.86,null,null,null,null,null,null,null,null,null,null,246.64,null,null,null,206.96,null,null,277.13,null,null,null,null,1502.31,408.86,362.72,277.13,246.64,1295.3499999999999,null,{"$f":"VLOOKUP(A351,'личные рез-ты по гонкам списком'!$J$1:$N$1645,2,FALSE)","v":"Ж"},5]
["Климова Вера / Klimova Vera / 1992",null,null,null,null,null,null,null,null,null,null,null,null,null,null,null,null,null,null,null,null,null,null,null,null,175.98,null,null,175.98,175.98,0,0,0,175.98,null,{"$f":"VLOOKUP(A352,'личные рез-ты по гонкам списком'!$J$1:$N$1645,2,FALSE)","v":"Ж"},1]
["Ключеня Виталий / Klyuchenya Vitalij / 1982",null,null,null,null,null,null,null,null,null,null,null,null,null,null,null,100.71,null,281.82,null,null,313.52999999999997,null,null,null,null,null,null,696.06,313.52999999999997,281.82,100.71,0,696.06,null,{"$f":"VLOOKUP(A353,'личные рез-ты по гонкам списком'!$J$1:$N$1645,2,FALSE)","v":"М"},3]
["Клюшин Олег / Klyushin Oleg / 1972",null,null,null,null,null,null,null,null,null,null,null,null,null,null,null,null,null,null,null,75.42,null,null,null,null,84.77,null,null,160.19,84.77,75.42,0,0,160.19,null,{"$f":"VLOOKUP(A354,'личные рез-ты по гонкам списком'!$J$1:$N$1645,2,FALSE)","v":"М"},2]
["Княжевич Алеся / Knyazhevich Alesya / 1992",null,null,null,null,null,null,null,null,null,null,null,null,null,null,null,null,null,null,null,103.48,null,null,null,null,null,null,null,103.48,103.48,0,0,0,103.48,null,{"$f":"VLOOKUP(A355,'личные рез-ты по гонкам списком'!$J$1:$N$1645,2,FALSE)","v":"Ж"},1]
["Князев Родион / Knyazev Rodion / 1995",null,245.6,null,null,null,null,null,null,null,null,null,null,null,null,null,null,null,null,null,null,null,null,null,null,null,null,null,245.6,245.6,0,0,0,245.6,null,{"$f":"VLOOKUP(A356,'личные рез-ты по гонкам списком'!$J$1:$N$1645,2,FALSE)","v":"М"},1]
["Ковалев Михаил / Kovalev Mihail / 1970",null,null,null,null,null,null,null,null,null,null,53.22,null,null,null,null,null,null,null,null,null,null,null,null,null,null,null,null,53.22,53.22,0,0,0,53.22,null,{"$f":"VLOOKUP(A357,'личные рез-ты по гонкам списком'!$J$1:$N$1645,2,FALSE)","v":"М"},1]
["Ковалев Никита / Kovalev Nikita / 2001",null,null,null,null,null,null,null,null,null,null,59.88,null,null,null,null,null,null,null,null,null,null,null,null,null,null,null,null,59.88,59.88,0,0,0,59.88,null,{"$f":"VLOOKUP(A358,'личные рез-ты по гонкам списком'!$J$1:$N$1645,2,FALSE)","v":"М"},1]
["Ковалёва Катерина / Kovaljova Katerina / 1987",null,null,null,null,null,null,null,null,null,null,null,null,null,null,132.30000000000001,null,null,null,null,null,null,null,null,null,null,null,null,132.30000000000001,132.30000000000001,0,0,0,132.30000000000001,null,{"$f":"VLOOKUP(A359,'личные рез-ты по гонкам списком'!$J$1:$N$1645,2,FALSE)","v":"Ж"},1]
["Коваленко Леонид / Kovalenko Leonid / 1999",null,null,null,null,null,null,null,null,null,null,null,null,null,null,203.96,null,null,null,null,null,null,null,null,null,null,null,null,203.96,203.96,0,0,0,203.96,null,{"$f":"VLOOKUP(A360,'личные рез-ты по гонкам списком'!$J$1:$N$1645,2,FALSE)","v":"М"},1]
["Ковальчук Екатерина / Kovalchuk Ekaterina / 1987",null,null,null,null,null,null,null,null,null,null,null,null,null,null,74.42,null,null,null,null,null,null,null,null,null,null,null,null,74.42,74.42,0,0,0,74.42,null,{"$f":"VLOOKUP(A361,'личные рез-ты по гонкам списком'!$J$1:$N$1645,2,FALSE)","v":"Ж"},1]
["Ковалюк Вадим / Kovalyuk Vadim / 1978",null,null,null,null,null,null,null,null,null,null,null,null,null,null,null,null,null,null,null,null,null,null,79.180000000000007,null,null,null,null,79.180000000000007,79.180000000000007,0,0,0,79.180000000000007,null,{"$f":"VLOOKUP(A362,'личные рез-ты по гонкам списком'!$J$1:$N$1645,2,FALSE)","v":"М"},1]
["Ковалюк Вадим / Kovalyuk Vadim / 1987",null,null,null,null,182.53,null,null,null,null,null,null,null,null,null,null,null,null,null,null,null,null,null,null,null,null,null,null,182.53,182.53,0,0,0,182.53,null,{"$f":"VLOOKUP(A363,'личные рез-ты по гонкам списком'!$J$1:$N$1645,2,FALSE)","v":"М"},1]
["Ковеня Андрей / Kovenya Andrej / 1962",289.20999999999998,null,null,null,null,null,null,null,null,null,null,null,null,null,null,null,null,null,null,null,null,null,null,null,null,null,null,289.20999999999998,289.20999999999998,0,0,0,289.20999999999998,null,{"$f":"VLOOKUP(A364,'личные рез-ты по гонкам списком'!$J$1:$N$1645,2,FALSE)","v":"М"},1]
["Ковриго Сергей / Kovrigo Sergej / 1981",null,null,null,null,null,null,null,null,null,null,46.57,null,null,null,null,null,null,null,null,null,null,null,null,null,null,null,null,46.57,46.57,0,0,0,46.57,null,{"$f":"VLOOKUP(A365,'личные рез-ты по гонкам списком'!$J$1:$N$1645,2,FALSE)","v":"М"},1]
["Когалёнок Елена / Kogaljonok Elena / 1979",null,null,null,null,null,null,null,null,null,90.23,null,null,null,null,null,null,null,null,null,null,null,null,null,null,null,null,null,90.23,90.23,0,0,0,90.23,null,{"$f":"VLOOKUP(A366,'личные рез-ты по гонкам списком'!$J$1:$N$1645,2,FALSE)","v":"Ж"},1]
["Кожан Михаил / Kozhan Mihail / 1946",null,null,null,null,null,null,null,null,204.17,null,null,285.27999999999997,null,null,null,null,null,null,null,null,null,null,null,null,null,null,null,489.44999999999993,285.27999999999997,204.17,0,0,489.44999999999993,null,{"$f":"VLOOKUP(A367,'личные рез-ты по гонкам списком'!$J$1:$N$1645,2,FALSE)","v":"М"},2]
["Кожемякин Алексей / Kozhemyakin Aleksej / 1986",null,null,null,null,null,null,null,null,null,null,null,null,null,null,null,null,10.36,null,null,null,null,null,null,null,null,null,null,10.36,10.36,0,0,0,10.36,null,{"$f":"VLOOKUP(A368,'личные рез-ты по гонкам списком'!$J$1:$N$1645,2,FALSE)","v":"М"},1]
["Кожемякин Владимир / Kozhemyakin Vladimir / 1970",null,null,null,null,null,null,null,null,236.08,null,null,null,null,null,null,null,null,null,null,null,null,null,null,null,null,null,null,236.08,236.08,0,0,0,236.08,null,{"$f":"VLOOKUP(A369,'личные рез-ты по гонкам списком'!$J$1:$N$1645,2,FALSE)","v":"М"},1]
["Кожемякина Анна / Kozhemyakina Anna / 1991",null,null,null,null,null,null,null,null,null,null,157.62,null,null,null,null,null,119.16,null,null,null,null,null,null,null,null,null,null,276.77999999999997,157.62,119.16,0,0,276.77999999999997,null,{"$f":"VLOOKUP(A370,'личные рез-ты по гонкам списком'!$J$1:$N$1645,2,FALSE)","v":"Ж"},2]
["Козич Андрей / Kozich Andrej / 1986",983.31,null,null,null,null,null,null,null,null,null,null,null,null,null,null,null,null,null,null,null,null,null,null,null,null,null,null,983.31,983.31,0,0,0,983.31,null,{"$f":"VLOOKUP(A371,'личные рез-ты по гонкам списком'!$J$1:$N$1645,2,FALSE)","v":"М"},1]
["Козич Галина / Kozich Galina / 1990",null,null,null,null,null,null,null,null,null,null,null,null,null,null,289.39999999999998,null,null,null,null,null,null,null,null,null,null,null,null,289.39999999999998,289.39999999999998,0,0,0,289.39999999999998,null,{"$f":"VLOOKUP(A372,'личные рез-ты по гонкам списком'!$J$1:$N$1645,2,FALSE)","v":"Ж"},1]
["Колабышев Антон / Kolabyshev Anton / 1986",null,null,null,null,null,null,null,null,null,null,null,null,null,null,null,null,null,null,null,null,130.63999999999999,null,null,null,null,null,null,130.63999999999999,130.63999999999999,0,0,0,130.63999999999999,null,{"$f":"VLOOKUP(A373,'личные рез-ты по гонкам списком'!$J$1:$N$1645,2,FALSE)","v":"М"},1]
["Коледа Константин / Koleda Konstantin / 1976",null,327.47000000000003,null,null,null,null,null,null,null,null,null,null,null,null,null,null,null,null,null,null,null,null,null,null,null,null,null,327.47000000000003,327.47000000000003,0,0,0,327.47000000000003,null,{"$f":"VLOOKUP(A374,'личные рез-ты по гонкам списком'!$J$1:$N$1645,2,FALSE)","v":"М"},1]
["Коледа Татьяна / Koleda Tatyana / 1990",null,400.24,null,null,null,null,null,null,null,null,null,null,null,null,null,null,null,null,null,null,null,null,null,null,null,null,null,400.24,400.24,0,0,0,400.24,null,{"$f":"VLOOKUP(A375,'личные рез-ты по гонкам списком'!$J$1:$N$1645,2,FALSE)","v":"Ж"},1]
["Колташова Елена / Koltashova Elena / 1984",null,null,553.63,null,null,null,null,null,null,null,null,null,null,null,null,null,null,null,null,null,null,null,null,null,null,null,null,553.63,553.63,0,0,0,553.63,null,{"$f":"VLOOKUP(A376,'личные рез-ты по гонкам списком'!$J$1:$N$1645,2,FALSE)","v":"Ж"},1]
["Коляда Максим / Kolyada Maksim / 1978",null,null,null,null,null,null,null,null,null,null,null,null,null,null,null,null,null,null,null,null,null,50.9,null,null,null,null,null,50.9,50.9,0,0,0,50.9,null,{"$f":"VLOOKUP(A377,'личные рез-ты по гонкам списком'!$J$1:$N$1645,2,FALSE)","v":"М"},1]
["Коляда Юрий / Kolyada Yurij / 1980",null,null,null,null,null,null,null,111.52,null,null,null,null,null,null,null,null,null,null,null,null,null,null,250.73,null,null,null,null,362.25,250.73,111.52,0,0,362.25,null,{"$f":"VLOOKUP(A378,'личные рез-ты по гонкам списком'!$J$1:$N$1645,2,FALSE)","v":"М"},2]
["Коляев Антон / Kolyaev Anton / 1980",null,null,null,null,null,null,null,null,null,null,null,null,null,null,null,null,null,null,null,null,null,185.78,null,null,null,null,null,185.78,185.78,0,0,0,185.78,null,{"$f":"VLOOKUP(A379,'личные рез-ты по гонкам списком'!$J$1:$N$1645,2,FALSE)","v":"М"},1]
["Комар Артем / Komar Artem / 1998",null,null,null,null,null,65.91,null,null,null,null,null,98.75,null,null,209.06,null,null,null,null,null,null,null,null,null,null,null,null,373.72,209.06,98.75,65.91,0,373.72,null,{"$f":"VLOOKUP(A380,'личные рез-ты по гонкам списком'!$J$1:$N$1645,2,FALSE)","v":"М"},3]
["Комин Игорь / Komin Igor / 1959",433.81,null,null,null,null,null,null,null,null,null,null,null,null,null,null,null,null,null,null,null,null,null,null,null,null,null,null,433.81,433.81,0,0,0,433.81,null,{"$f":"VLOOKUP(A381,'личные рез-ты по гонкам списком'!$J$1:$N$1645,2,FALSE)","v":"М"},1]
["Кондяр Павел / Kondyar Pavel / 1993",null,null,null,null,null,null,null,null,null,null,325.99,null,null,null,290.64,null,null,null,null,null,null,null,null,null,null,null,null,616.63,325.99,290.64,0,0,616.63,null,{"$f":"VLOOKUP(A382,'личные рез-ты по гонкам списком'!$J$1:$N$1645,2,FALSE)","v":"М"},2]
["Коновалова Елена / Konovalova Elena / 1975",null,null,null,null,null,null,null,null,null,193.35,null,null,null,null,null,null,null,null,null,null,null,null,null,null,null,null,null,193.35,193.35,0,0,0,193.35,null,{"$f":"VLOOKUP(A383,'личные рез-ты по гонкам списком'!$J$1:$N$1645,2,FALSE)","v":"Ж"},1]
["Конопацкая Юлия / Konopatskaya Yuliya / 1998",null,null,null,227.5,null,null,null,null,null,null,null,null,null,null,null,null,null,null,null,null,null,null,null,null,227.07,null,null,454.57,227.5,227.07,0,0,454.57,null,{"$f":"VLOOKUP(A384,'личные рез-ты по гонкам списком'!$J$1:$N$1645,2,FALSE)","v":"Ж"},2]
["Коньшин Андрей / Konshin Andrej / 1988",null,null,null,null,54.76,null,null,null,null,null,null,10.97,null,null,null,null,null,null,null,null,null,null,null,null,null,null,null,65.73,54.76,10.97,0,0,65.73,null,{"$f":"VLOOKUP(A385,'личные рез-ты по гонкам списком'!$J$1:$N$1645,2,FALSE)","v":"М"},2]
["Копоть Александр / Kopot Aleksandr / 1992",404.89,null,null,null,null,null,null,null,null,null,null,null,null,null,null,null,null,null,null,null,null,null,null,null,null,null,null,404.89,404.89,0,0,0,404.89,null,{"$f":"VLOOKUP(A386,'личные рез-ты по гонкам списком'!$J$1:$N$1645,2,FALSE)","v":"М"},1]
["Кордунская Екатерина / Kordunskaya Ekaterina / 1983",null,null,null,null,null,null,null,null,null,null,null,362.09,null,null,null,null,null,null,null,null,null,null,null,null,null,null,368.44,730.53,368.44,362.09,0,0,730.53,null,{"$f":"VLOOKUP(A387,'личные рез-ты по гонкам списком'!$J$1:$N$1645,2,FALSE)","v":"Ж"},2]
["Корень Дмитрий / Koren Dmitrij / 1975",null,null,null,null,null,null,null,null,null,null,null,null,null,null,null,null,null,null,null,null,null,55.99,null,null,null,null,null,55.99,55.99,0,0,0,55.99,null,{"$f":"VLOOKUP(A388,'личные рез-ты по гонкам списком'!$J$1:$N$1645,2,FALSE)","v":"М"},1]
["Коровец Богдан / Korovets Bogdan / 1976",null,null,438.85,null,null,307.58999999999997,null,null,274.36,null,null,null,321.43,null,null,143.87,null,null,null,null,null,null,null,null,null,null,585.16999999999996,2071.27,585.16999999999996,438.85,321.43,307.58999999999997,1653.04,null,{"$f":"VLOOKUP(A389,'личные рез-ты по гонкам списком'!$J$1:$N$1645,2,FALSE)","v":"М"},6]
["Корожан Александр / Korozhan Aleksandr / 1971",null,336.57,null,null,null,null,null,null,null,null,null,null,null,null,null,null,null,null,null,null,null,null,null,null,null,null,null,336.57,{"$f":"LARGE(B390:AB390,1)","v":336.57},{"$f":"IF(COUNT(B390:AB390)=1,0,LARGE(B390:AB390,2))","v":0},{"$f":"IF(COUNT(B390:AB390)<3,0,LARGE(B390:AB390,3))","v":0},{"$f":"IF(COUNT(B390:AB390)<4,0,LARGE(B390:AB390,4))","v":0},{"$f":"SUM(AD390:AG390)","v":336.57},null,{"$f":"VLOOKUP(A390,'личные рез-ты по гонкам списком'!$J$1:$N$1645,2,FALSE)","v":"М"},{"$f":"COUNT(B390:AB390)","v":1}]
["Корожан Наталья / Korozhan Natalya / 1974",null,212.63,null,null,null,null,null,null,null,null,null,null,null,null,null,null,null,null,null,null,null,null,null,null,null,null,null,212.63,212.63,0,0,0,212.63,null,{"$f":"VLOOKUP(A391,'личные рез-ты по гонкам списком'!$J$1:$N$1645,2,FALSE)","v":"Ж"},1]
["Королёв Максим / Koroljov Maksim / 1989",null,null,null,null,null,395.48,null,null,null,197.64,null,null,null,null,null,null,null,null,null,null,null,246.86,null,null,null,null,null,839.98,395.48,246.86,197.64,0,839.98,null,{"$f":"VLOOKUP(A392,'личные рез-ты по гонкам списком'!$J$1:$N$1645,2,FALSE)","v":"М"},3]
["Королёва Виктория / Koroljova Viktoriya / 1977",null,null,null,null,null,null,null,null,null,null,null,null,null,null,null,null,null,null,null,null,235.15,null,null,null,null,null,null,235.15,235.15,0,0,0,235.15,null,{"$f":"VLOOKUP(A393,'личные рез-ты по гонкам списком'!$J$1:$N$1645,2,FALSE)","v":"Ж"},1]
["Коротких Елена / Korotkih Elena / 1984",null,null,null,null,null,null,null,null,null,null,null,296.26,null,null,null,null,null,null,null,null,null,307.94,null,null,null,null,null,604.20000000000005,307.94,296.26,0,0,604.20000000000005,null,{"$f":"VLOOKUP(A394,'личные рез-ты по гонкам списком'!$J$1:$N$1645,2,FALSE)","v":"Ж"},2]
["Косач Антон / Kosach Anton / 1983",null,null,null,null,null,null,null,null,null,null,null,null,null,null,null,null,null,null,null,56.57,null,null,null,null,null,null,null,56.57,56.57,0,0,0,56.57,null,{"$f":"VLOOKUP(A395,'личные рез-ты по гонкам списком'!$J$1:$N$1645,2,FALSE)","v":"М"},1]
["Косач Надежда / Kosach Nadezhda / 1981",null,null,null,null,null,null,null,null,null,null,null,null,null,null,null,null,null,null,null,172.47,null,null,null,null,null,null,null,172.47,172.47,0,0,0,172.47,null,{"$f":"VLOOKUP(A396,'личные рез-ты по гонкам списком'!$J$1:$N$1645,2,FALSE)","v":"Ж"},1]
["Костев Евгений / Kostev Evgenij / 1990",null,null,null,null,null,null,null,null,null,null,266.11,null,null,null,null,null,null,null,null,null,null,null,null,null,null,null,null,266.11,266.11,0,0,0,266.11,null,{"$f":"VLOOKUP(A397,'личные рез-ты по гонкам списком'!$J$1:$N$1645,2,FALSE)","v":"М"},1]
["Костеневич Ольга / Kostenevich Olga / 1990",null,null,null,null,null,null,null,null,null,null,null,null,null,null,null,null,null,null,null,255.25,null,null,null,null,null,null,null,255.25,255.25,0,0,0,255.25,null,{"$f":"VLOOKUP(A398,'личные рез-ты по гонкам списком'!$J$1:$N$1645,2,FALSE)","v":"Ж"},1]
["Костров Александр / Kostrov Aleksandr / 1982",null,null,null,269.47000000000003,null,null,null,null,null,null,null,null,null,null,null,null,null,null,null,null,null,302.85000000000002,null,null,null,null,null,572.32000000000005,302.85000000000002,269.47000000000003,0,0,572.32000000000005,null,{"$f":"VLOOKUP(A399,'личные рез-ты по гонкам списком'!$J$1:$N$1645,2,FALSE)","v":"М"},2]
["Костя Юрий / Kostya Yurij / 1985",null,null,null,null,365.06,null,null,null,null,null,null,null,null,null,null,null,null,null,null,null,null,null,null,null,null,null,null,365.06,365.06,0,0,0,365.06,null,{"$f":"VLOOKUP(A400,'личные рез-ты по гонкам списком'!$J$1:$N$1645,2,FALSE)","v":"М"},1]
["Костян Денис / Kostyan Denis / 1977",null,272.89,null,null,null,null,null,null,null,null,null,null,null,null,null,null,null,null,null,null,null,null,null,null,null,null,null,272.89,272.89,0,0,0,272.89,null,{"$f":"VLOOKUP(A401,'личные рез-ты по гонкам списком'!$J$1:$N$1645,2,FALSE)","v":"М"},1]
["Косціна Вікторыя / Kostsіna Vіktoryya / 1992",null,null,null,null,102.22,null,null,null,null,null,null,null,null,null,null,null,null,null,null,null,null,139.97,null,null,null,null,null,242.19,139.97,102.22,0,0,242.19,null,{"$f":"VLOOKUP(A402,'личные рез-ты по гонкам списком'!$J$1:$N$1645,2,FALSE)","v":"Ж"},2]
["Косяков Максим / Kosyakov Maksim / ",null,null,null,76.989999999999995,null,null,null,null,null,null,null,null,null,null,null,null,null,null,null,null,null,null,null,null,null,null,null,76.989999999999995,76.989999999999995,0,0,0,76.989999999999995,null,{"$f":"VLOOKUP(A403,'личные рез-ты по гонкам списком'!$J$1:$N$1645,2,FALSE)","v":"М"},1]
["Кохан Виталий / Kohan Vitalij / 1982",null,null,null,null,292.04000000000002,null,null,null,178.65,null,null,null,null,null,null,null,null,null,null,null,null,null,null,null,null,null,null,470.69000000000005,292.04000000000002,178.65,0,0,470.69000000000005,null,{"$f":"VLOOKUP(A404,'личные рез-ты по гонкам списком'!$J$1:$N$1645,2,FALSE)","v":"М"},2]
["Кошур Александр / Koshur Aleksandr / 1988",null,372.95,null,null,null,null,null,null,null,null,null,null,null,null,null,null,null,null,null,null,null,null,null,null,null,null,null,372.95,372.95,0,0,0,372.95,null,{"$f":"VLOOKUP(A405,'личные рез-ты по гонкам списком'!$J$1:$N$1645,2,FALSE)","v":"М"},1]
["Кравченко Александр / Kravchenko Aleksandr / 1981",null,null,null,null,null,null,null,null,null,null,null,null,null,null,null,null,null,null,null,null,null,null,395.9,null,null,null,null,395.9,395.9,0,0,0,395.9,null,{"$f":"VLOOKUP(A406,'личные рез-ты по гонкам списком'!$J$1:$N$1645,2,FALSE)","v":"М"},1]
["Кравченко Марина / Kravchenko Marina / 1990",null,null,null,49.46,null,null,null,null,null,null,null,null,null,null,null,null,null,null,null,82.78,null,null,null,null,79.48,null,null,211.72000000000003,82.78,79.48,49.46,0,211.72,null,{"$f":"VLOOKUP(A407,'личные рез-ты по гонкам списком'!$J$1:$N$1645,2,FALSE)","v":"Ж"},3]
["Кравчук Александр / Kravchuk Aleksandr / 1983",null,null,null,null,null,null,null,null,null,137.49,null,null,null,null,null,null,null,null,null,null,null,null,null,null,null,null,null,137.49,137.49,0,0,0,137.49,null,{"$f":"VLOOKUP(A408,'личные рез-ты по гонкам списком'!$J$1:$N$1645,2,FALSE)","v":"М"},1]
["Кравчук Артём / Kravchuk Artjom / 1992",null,null,null,null,null,null,null,null,null,null,null,null,null,null,null,null,null,118.18,null,null,null,null,null,null,null,null,null,118.18,118.18,0,0,0,118.18,null,{"$f":"VLOOKUP(A409,'личные рез-ты по гонкам списком'!$J$1:$N$1645,2,FALSE)","v":"М"},1]
["Красовская Инна / Krasovskaya Inna / 1975",null,200.12,null,null,null,null,null,null,null,null,null,null,null,null,null,null,null,null,null,null,null,null,null,null,null,null,null,200.12,200.12,0,0,0,200.12,null,{"$f":"VLOOKUP(A410,'личные рез-ты по гонкам списком'!$J$1:$N$1645,2,FALSE)","v":"Ж"},1]
["Кривальцевич Валентина / Krivaltsevich Valentina / 1984",null,null,null,null,null,null,null,null,null,null,null,null,null,null,74.42,null,null,null,null,null,null,null,null,null,null,null,null,74.42,74.42,0,0,0,74.42,null,{"$f":"VLOOKUP(A411,'личные рез-ты по гонкам списком'!$J$1:$N$1645,2,FALSE)","v":"Ж"},1]
["Кривошей Леонид / Krivoshej Leonid / 1980",null,null,null,null,null,null,null,null,null,null,null,null,null,null,null,null,null,null,null,null,null,null,null,null,72.66,null,null,72.66,72.66,0,0,0,72.66,null,{"$f":"VLOOKUP(A412,'личные рез-ты по гонкам списком'!$J$1:$N$1645,2,FALSE)","v":"М"},1]
["Крипа Светлана / Kripa Svetlana / 1989",null,null,null,null,null,null,null,null,null,null,null,null,null,null,null,null,170.23,null,null,null,null,null,null,null,null,null,null,170.23,170.23,0,0,0,170.23,null,{"$f":"VLOOKUP(A413,'личные рез-ты по гонкам списком'!$J$1:$N$1645,2,FALSE)","v":"Ж"},1]
["Крисенков Алексей / Krisenkov Aleksej / 1983",null,null,684.61,null,null,571.25,null,377.44,null,null,null,null,607.14,null,265.14999999999998,null,null,null,291.37,null,null,366.47,null,null,null,null,563.5,3726.9300000000003,684.61,607.14,571.25,563.5,2426.5,null,{"$f":"VLOOKUP(A414,'личные рез-ты по гонкам списком'!$J$1:$N$1645,2,FALSE)","v":"М"},8]
["Круглик Алексей / Kruglik Aleksej / 1987",null,null,null,null,null,null,null,null,null,null,null,null,null,null,null,null,null,null,null,null,156.77000000000001,null,null,null,null,null,null,156.77000000000001,156.77000000000001,0,0,0,156.77000000000001,null,{"$f":"VLOOKUP(A415,'личные рез-ты по гонкам списком'!$J$1:$N$1645,2,FALSE)","v":"М"},1]
["Круглик Игорь / Kruglik Igor / 1985",null,null,null,null,null,null,null,null,null,null,null,null,null,null,null,null,155.43,null,null,null,null,null,null,null,null,null,null,155.43,155.43,0,0,0,155.43,null,{"$f":"VLOOKUP(A416,'личные рез-ты по гонкам списком'!$J$1:$N$1645,2,FALSE)","v":"М"},1]
["Круглова Александра / Kruglova Aleksandra / 1989",null,null,null,null,null,null,null,null,null,64.45,null,null,null,null,null,null,null,null,null,null,null,null,null,null,null,null,null,64.45,64.45,0,0,0,64.45,null,{"$f":"VLOOKUP(A417,'личные рез-ты по гонкам списком'!$J$1:$N$1645,2,FALSE)","v":"Ж"},1]
["Крус Виктор / Krus Viktor / 1980",null,null,null,259.85000000000002,null,null,null,null,null,null,252.81,null,null,null,null,null,227.97,109.09,null,null,null,null,null,null,null,null,null,849.72000000000014,259.85000000000002,252.81,227.97,109.09,849.72000000000014,null,{"$f":"VLOOKUP(A418,'личные рез-ты по гонкам списком'!$J$1:$N$1645,2,FALSE)","v":"М"},4]
["Крыворот Руслан / Kryvorot Ruslan / 1991",null,null,null,null,null,null,null,null,null,null,null,null,null,null,null,null,null,null,null,null,null,null,null,null,127.16,null,null,127.16,127.16,0,0,0,127.16,null,{"$f":"VLOOKUP(A419,'личные рез-ты по гонкам списком'!$J$1:$N$1645,2,FALSE)","v":"М"},1]
["Крыленко Дмитрий / Krylenko Dmitrij / 1975",null,null,null,null,null,null,null,null,null,null,null,null,null,null,null,null,null,null,null,null,null,null,442.09,null,null,null,null,442.09,442.09,0,0,0,442.09,null,{"$f":"VLOOKUP(A420,'личные рез-ты по гонкам списком'!$J$1:$N$1645,2,FALSE)","v":"М"},1]
["Крюков Дима / Kryukov Dima / 1988",null,null,null,null,null,null,null,null,null,null,null,null,null,null,null,null,null,null,461.34,null,null,null,null,null,null,null,null,461.34,461.34,0,0,0,461.34,null,{"$f":"VLOOKUP(A421,'личные рез-ты по гонкам списком'!$J$1:$N$1645,2,FALSE)","v":"М"},1]
["Крюкова Наталья / Kryukova Natalya / 1987",null,null,null,null,null,null,null,null,null,null,null,null,null,null,null,null,null,378.95,null,null,null,null,null,null,null,null,null,378.95,378.95,0,0,0,378.95,null,{"$f":"VLOOKUP(A422,'личные рез-ты по гонкам списком'!$J$1:$N$1645,2,FALSE)","v":"Ж"},1]
["Кубышкина Татьяна / Kubyshkina Tatyana / 1975",null,null,null,null,null,null,null,null,null,null,null,null,null,null,null,null,null,null,null,null,null,null,null,null,96.51,null,null,96.51,96.51,0,0,0,96.51,null,{"$f":"VLOOKUP(A423,'личные рез-ты по гонкам списком'!$J$1:$N$1645,2,FALSE)","v":"Ж"},1]
["Кудрейко Михаил / Kudrejko Mihail / 1981",null,null,70.22,null,null,null,null,null,null,null,null,null,null,null,null,null,null,null,null,null,null,null,null,null,null,null,null,70.22,70.22,0,0,0,70.22,null,{"$f":"VLOOKUP(A424,'личные рез-ты по гонкам списком'!$J$1:$N$1645,2,FALSE)","v":"М"},1]
["Кудрявец Валерий / Kudryavets Valerij / 1975",null,145.54,null,null,null,null,null,null,null,null,null,null,null,null,null,86.32,null,null,null,null,null,null,null,null,null,null,null,231.85999999999999,145.54,86.32,0,0,231.85999999999999,null,{"$f":"VLOOKUP(A425,'личные рез-ты по гонкам списком'!$J$1:$N$1645,2,FALSE)","v":"М"},2]
["Кузеева Марина / Kuzeeva Marina / 1986",null,262.66000000000003,null,null,null,null,null,null,null,null,null,null,null,null,null,null,null,null,null,null,null,null,null,null,null,null,null,262.66000000000003,262.66000000000003,0,0,0,262.66000000000003,null,{"$f":"VLOOKUP(A426,'личные рез-ты по гонкам списком'!$J$1:$N$1645,2,FALSE)","v":"Ж"},1]
["Кузнецова Наталья / Kuznetsova Natalya / 1984",null,162.6,null,null,null,null,null,null,null,null,null,null,null,null,null,null,null,null,null,null,null,null,null,null,null,null,null,162.6,162.6,0,0,0,162.6,null,{"$f":"VLOOKUP(A427,'личные рез-ты по гонкам списком'!$J$1:$N$1645,2,FALSE)","v":"Ж"},1]
["Кузьменко Иван / Kuzmenko Ivan / 1981",null,null,null,null,null,null,null,null,null,103.12,null,null,null,null,null,null,null,null,null,null,null,null,null,null,null,null,null,103.12,103.12,0,0,0,103.12,null,{"$f":"VLOOKUP(A428,'личные рез-ты по гонкам списком'!$J$1:$N$1645,2,FALSE)","v":"М"},1]
["Кузьменок Денис / Kuzmenok Denis / 1979",null,163.72999999999999,null,null,null,null,null,77.2,null,null,null,76.81,null,null,null,null,null,null,null,null,null,null,65.98,null,null,null,null,383.72,163.72999999999999,77.2,76.81,65.98,383.72,null,{"$f":"VLOOKUP(A429,'личные рез-ты по гонкам списком'!$J$1:$N$1645,2,FALSE)","v":"М"},4]
["Кузьмич Дмитрий / Kuzmich Dmitrij / 1975",null,null,null,null,null,null,null,null,null,null,13.31,null,null,null,25.5,null,null,18.18,null,null,26.13,7.63,null,null,null,null,216.73,307.48,216.73,26.13,25.5,18.18,286.54000000000002,null,{"$f":"VLOOKUP(A430,'личные рез-ты по гонкам списком'!$J$1:$N$1645,2,FALSE)","v":"М"},6]
["Кукареко Екатерина / Kukareko Ekaterina / 1986",null,null,166.09,null,null,null,null,null,null,null,null,null,null,null,null,null,null,null,null,null,null,null,null,null,null,null,null,166.09,166.09,0,0,0,166.09,null,{"$f":"VLOOKUP(A431,'личные рез-ты по гонкам списком'!$J$1:$N$1645,2,FALSE)","v":"Ж"},1]
["Кукобникова Вита / Kukobnikova Vita / 1993",null,null,null,null,null,null,null,null,null,141.79,null,null,null,null,124.03,null,null,210.53,null,null,null,102.65,null,null,null,null,null,579,210.53,141.79,124.03,102.65,579,null,{"$f":"VLOOKUP(A432,'личные рез-ты по гонкам списком'!$J$1:$N$1645,2,FALSE)","v":"Ж"},4]
["Кукса Юлия / Kuksa Yuliya / 1978",null,null,null,null,null,null,null,null,null,null,null,null,null,null,null,null,null,null,null,null,156.77000000000001,null,null,null,null,null,null,156.77000000000001,156.77000000000001,0,0,0,156.77000000000001,null,{"$f":"VLOOKUP(A433,'личные рез-ты по гонкам списком'!$J$1:$N$1645,2,FALSE)","v":"Ж"},1]
["Кулаев Алексей / Kulaev Aleksej / 1980",null,null,null,null,null,null,null,null,null,null,null,null,null,null,null,null,null,null,null,null,null,null,null,null,224.05,null,null,224.05,224.05,0,0,0,224.05,null,{"$f":"VLOOKUP(A434,'личные рез-ты по гонкам списком'!$J$1:$N$1645,2,FALSE)","v":"М"},1]
["Кулак Александр / Kulak Aleksandr / 1989",null,191.02,null,null,null,null,null,null,null,null,null,null,null,null,null,null,null,null,null,null,null,null,null,null,null,null,null,191.02,191.02,0,0,0,191.02,null,{"$f":"VLOOKUP(A435,'личные рез-ты по гонкам списком'!$J$1:$N$1645,2,FALSE)","v":"М"},1]
["Кулеш Кристина / Kulesh Kristina / 1984",null,null,null,null,null,null,null,null,null,null,null,null,null,null,null,null,null,null,null,null,null,null,null,null,136.24,null,null,136.24,136.24,0,0,0,136.24,null,{"$f":"VLOOKUP(A436,'личные рез-ты по гонкам списком'!$J$1:$N$1645,2,FALSE)","v":"Ж"},1]
["Куликовский Ян / Kulikovskij Yan / 1992",null,null,null,null,null,null,null,null,null,null,192.93,null,null,null,107.08,null,null,45.45,null,null,null,91.62,null,null,null,null,null,437.08,192.93,107.08,91.62,45.45,437.08,null,{"$f":"VLOOKUP(A437,'личные рез-ты по гонкам списком'!$J$1:$N$1645,2,FALSE)","v":"М"},4]
["Куликовских Иванна / Kulikovskih Ivanna / 1974",null,175.1,null,null,null,null,null,null,null,null,null,null,null,null,null,null,null,null,null,null,null,null,null,null,null,null,null,175.1,175.1,0,0,0,175.1,null,{"$f":"VLOOKUP(A438,'личные рез-ты по гонкам списком'!$J$1:$N$1645,2,FALSE)","v":"Ж"},1]
["Кульбацкий Владислав / Kulbatskij Vladislav / 1989",null,null,null,null,null,null,null,null,null,null,null,null,null,null,null,null,null,null,null,null,null,241.77,null,null,null,null,null,241.77,241.77,0,0,0,241.77,null,{"$f":"VLOOKUP(A439,'личные рез-ты по гонкам списком'!$J$1:$N$1645,2,FALSE)","v":"М"},1]
["Купреева Татьяна / Kupreeva Tatyana / 1990",null,null,null,null,null,null,null,null,null,null,null,null,null,null,null,null,null,null,null,234.55,null,null,null,null,null,null,null,234.55,234.55,0,0,0,234.55,null,{"$f":"VLOOKUP(A440,'личные рез-ты по гонкам списком'!$J$1:$N$1645,2,FALSE)","v":"Ж"},1]
["Курата Кеннет / Kurata Kennet / 1978",null,null,null,67.37,null,null,null,null,null,null,19.96,null,null,null,null,null,null,null,null,null,null,null,null,null,null,null,null,87.330000000000013,67.37,19.96,0,0,87.330000000000013,null,{"$f":"VLOOKUP(A441,'личные рез-ты по гонкам списком'!$J$1:$N$1645,2,FALSE)","v":"М"},2]
["Куратник Юрий / Kuratnik Yurij / 1987",null,436.63,null,null,null,null,null,null,null,null,null,null,null,null,null,null,null,null,null,null,null,null,null,null,null,null,null,436.63,436.63,0,0,0,436.63,null,{"$f":"VLOOKUP(A442,'личные рез-ты по гонкам списком'!$J$1:$N$1645,2,FALSE)","v":"М"},1]
["Курилович Дмитрий / Kurilovich Dmitrij / 1998",null,null,null,null,null,null,null,null,null,null,null,null,null,null,null,null,null,400,null,null,null,null,null,null,null,null,null,400,400,0,0,0,400,null,{"$f":"VLOOKUP(A443,'личные рез-ты по гонкам списком'!$J$1:$N$1645,2,FALSE)","v":"М"},1]
["Курышка Марына / Kuryshka Maryna / 1991",null,null,null,null,null,null,null,null,null,null,null,null,null,null,null,null,null,null,null,null,null,121.31,null,null,null,null,null,121.31,121.31,0,0,0,121.31,null,{"$f":"VLOOKUP(A444,'личные рез-ты по гонкам списком'!$J$1:$N$1645,2,FALSE)","v":"Ж"},1]
["Кусов Иван / Kusov Ivan / 1993",null,null,null,null,null,null,null,null,null,null,null,362.09,null,null,null,null,null,null,null,null,null,null,null,null,null,null,null,362.09,362.09,0,0,0,362.09,null,{"$f":"VLOOKUP(A445,'личные рез-ты по гонкам списком'!$J$1:$N$1645,2,FALSE)","v":"М"},1]
["Куцакова Татьяна / Kutsakova Tatyana / 1987",null,null,null,null,null,null,null,null,null,null,358.23,null,null,null,null,null,null,null,null,null,null,null,null,null,null,null,null,358.23,358.23,0,0,0,358.23,null,{"$f":"VLOOKUP(A446,'личные рез-ты по гонкам списком'!$J$1:$N$1645,2,FALSE)","v":"Ж"},1]
["Куцун Надежда / Kutsun Nadezhda / 1982",null,null,null,null,null,null,null,null,null,null,null,null,null,null,null,null,null,null,null,null,null,373.26,null,null,null,null,578.98,952.24,578.98,373.26,0,0,952.24,null,{"$f":"VLOOKUP(A447,'личные рез-ты по гонкам списком'!$J$1:$N$1645,2,FALSE)","v":"Ж"},2]
["Куцуха Александр / Kutsuha Aleksandr / 1992",null,null,245.76,null,null,null,null,null,null,null,null,null,null,null,null,null,null,null,null,null,null,null,null,null,null,null,null,245.76,245.76,0,0,0,245.76,null,{"$f":"VLOOKUP(A448,'личные рез-ты по гонкам списком'!$J$1:$N$1645,2,FALSE)","v":"М"},1]
["Кучук Андрей / Kuchuk Andrej / 1994",null,null,null,null,null,null,null,null,null,null,null,null,null,null,null,null,null,null,null,null,null,null,541.05999999999995,null,null,null,null,541.05999999999995,541.05999999999995,0,0,0,541.05999999999995,null,{"$f":"VLOOKUP(A449,'личные рез-ты по гонкам списком'!$J$1:$N$1645,2,FALSE)","v":"М"},1]
["Кушель Максим / Kushel Maksim / 1998",null,null,null,null,null,null,null,null,null,null,null,null,null,null,null,null,null,null,null,null,null,null,494.87,null,null,null,null,494.87,494.87,0,0,0,494.87,null,{"$f":"VLOOKUP(A450,'личные рез-ты по гонкам списком'!$J$1:$N$1645,2,FALSE)","v":"М"},1]
["Кшановская Ирина / Kshanovskaya Irina / 1977",null,null,null,197.83,null,null,null,null,null,null,null,null,null,null,null,null,null,null,null,220.76,null,279.94,null,null,null,null,null,698.53,279.94,220.76,197.83,0,698.53,null,{"$f":"VLOOKUP(A451,'личные рез-ты по гонкам списком'!$J$1:$N$1645,2,FALSE)","v":"Ж"},3]
["Лабунская Ирина / Labunskaya Irina / 1983",null,null,null,null,null,null,null,null,null,25.78,null,null,null,null,null,null,null,null,null,null,null,null,null,null,null,null,null,25.78,25.78,0,0,0,25.78,null,{"$f":"VLOOKUP(A452,'личные рез-ты по гонкам списком'!$J$1:$N$1645,2,FALSE)","v":"Ж"},1]
["Лавник Игорь / Lavnik Igor / 1983",null,null,null,null,null,null,null,null,229.7,null,null,null,null,null,null,239.79,null,null,279.23,null,null,null,null,413.4,null,null,476.81,1638.9299999999998,476.81,413.4,279.23,239.79,1409.23,null,{"$f":"VLOOKUP(A453,'личные рез-ты по гонкам списком'!$J$1:$N$1645,2,FALSE)","v":"М"},5]
["Лаврецкая Елена / Lavretskaya Elena / 1986",null,null,null,null,null,null,null,null,null,null,null,null,null,null,null,null,null,null,null,null,null,317.27,null,null,null,null,null,317.27,{"$f":"LARGE(B454:AB454,1)","v":317.27},{"$f":"IF(COUNT(B454:AB454)=1,0,LARGE(B454:AB454,2))","v":0},{"$f":"IF(COUNT(B454:AB454)<3,0,LARGE(B454:AB454,3))","v":0},{"$f":"IF(COUNT(B454:AB454)<4,0,LARGE(B454:AB454,4))","v":0},{"$f":"SUM(AD454:AG454)","v":317.27},null,{"$f":"VLOOKUP(A454,'личные рез-ты по гонкам списком'!$J$1:$N$1645,2,FALSE)","v":"Ж"},{"$f":"COUNT(B454:AB454)","v":1}]
["Лавриченок Светлана / Lavrichenok Svetlana / 1971",null,null,332.18,null,null,null,null,null,null,null,null,null,null,null,null,null,null,null,null,null,null,null,null,null,null,null,null,332.18,332.18,0,0,0,332.18,null,{"$f":"VLOOKUP(A455,'личные рез-ты по гонкам списком'!$J$1:$N$1645,2,FALSE)","v":"Ж"},1]
["Ладеев Дмитрий / Ladeev Dmitrij / 1981",null,null,null,null,null,null,null,248.77,null,null,219.54,null,null,null,null,null,null,null,null,null,null,null,null,null,null,null,null,468.31,248.77,219.54,0,0,468.31,null,{"$f":"VLOOKUP(A456,'личные рез-ты по гонкам списком'!$J$1:$N$1645,2,FALSE)","v":"М"},2]
["Ладутько Наталья / Ladutko Natalya / 1974",null,null,null,null,null,null,null,null,null,51.56,42.99,null,null,null,null,null,93.63,null,null,41.39,null,null,null,null,45.41,null,null,274.98,93.63,51.56,45.41,42.99,233.59,null,{"$f":"VLOOKUP(A457,'личные рез-ты по гонкам списком'!$J$1:$N$1645,2,FALSE)","v":"Ж"},5]
["Лазаренок Глеб / Lazarenok Gleb / 1982",null,null,null,null,73.010000000000005,null,null,null,null,68.75,33.26,null,null,null,null,null,124.34,null,null,37.71,null,73.8,null,null,null,null,null,410.87,124.34,73.8,73.010000000000005,68.75,339.9,null,{"$f":"VLOOKUP(A458,'личные рез-ты по гонкам списком'!$J$1:$N$1645,2,FALSE)","v":"М"},6]
["Лакустов Алексей / Lakustov Aleksej / 1986",null,109.16,null,null,null,null,null,null,null,null,null,87.78,null,null,null,null,null,null,null,null,null,null,null,null,null,null,null,196.94,109.16,87.78,0,0,196.94,null,{"$f":"VLOOKUP(A459,'личные рез-ты по гонкам списком'!$J$1:$N$1645,2,FALSE)","v":"М"},2]
["Ланин Иван / Lanin Ivan / 1989",null,null,228.2,null,null,null,null,null,null,null,272.77,null,null,null,null,null,null,null,null,null,null,null,null,null,null,null,null,500.96999999999997,272.77,228.2,0,0,500.96999999999997,null,{"$f":"VLOOKUP(A460,'личные рез-ты по гонкам списком'!$J$1:$N$1645,2,FALSE)","v":"М"},2]
["Лапко Оля / Lapko Olya / 1992",null,null,null,null,null,null,null,null,null,null,null,null,null,null,null,137.02000000000001,null,null,null,null,null,null,null,null,null,null,null,137.02000000000001,137.02000000000001,0,0,0,137.02000000000001,null,{"$f":"VLOOKUP(A461,'личные рез-ты по гонкам списком'!$J$1:$N$1645,2,FALSE)","v":"Ж"},1]
["Лапухин Андрей / Lapuhin Andrej / 1989",null,null,null,null,null,null,null,null,null,null,null,null,null,null,null,null,null,null,null,150.85,null,162.88,null,null,null,null,null,313.73,162.88,150.85,0,0,313.73,null,{"$f":"VLOOKUP(A462,'личные рез-ты по гонкам списком'!$J$1:$N$1645,2,FALSE)","v":"М"},2]
["Ларионов Андрей / Larionov Andrej / 1981",null,null,null,null,228.16,null,null,null,null,null,null,null,null,null,null,null,null,null,null,null,null,236.68,null,null,null,null,null,464.84000000000003,236.68,228.16,0,0,464.84000000000003,null,{"$f":"VLOOKUP(A463,'личные рез-ты по гонкам списком'!$J$1:$N$1645,2,FALSE)","v":"М"},2]
["Ласюк Юрий / Lasyuk Yurij / 1987",null,null,null,null,301.17,null,null,null,478.53,null,null,471.82,null,null,null,345.3,null,null,424.92,null,null,null,527.86,null,null,null,null,2549.6,527.86,478.53,471.82,424.92,1903.13,null,{"$f":"VLOOKUP(A464,'личные рез-ты по гонкам списком'!$J$1:$N$1645,2,FALSE)","v":"М"},6]
["Лаханич Мария / Lahanich Mariya / 1991",null,null,null,null,null,null,null,null,null,null,null,null,null,null,null,null,null,null,null,158.66999999999999,null,null,null,null,null,null,null,158.66999999999999,158.66999999999999,0,0,0,158.66999999999999,null,{"$f":"VLOOKUP(A465,'личные рез-ты по гонкам списком'!$J$1:$N$1645,2,FALSE)","v":"Ж"},1]
["Леверовский Александр / Leverovskij Aleksandr / 1988",null,null,null,null,null,null,null,null,null,null,null,175.56,null,null,null,null,null,null,null,null,null,null,null,null,null,null,281.75,457.31,281.75,175.56,0,0,457.31,null,{"$f":"VLOOKUP(A466,'личные рез-ты по гонкам списком'!$J$1:$N$1645,2,FALSE)","v":"М"},2]
["Левонюк Анна / Levonyuk Anna / 1986",null,null,null,null,null,null,null,null,null,null,null,null,null,null,null,null,null,null,null,null,null,345.26,null,null,null,null,null,345.26,345.26,0,0,0,345.26,null,{"$f":"VLOOKUP(A467,'личные рез-ты по гонкам списком'!$J$1:$N$1645,2,FALSE)","v":"Ж"},1]
["Левчук Александр / Levchuk Aleksandr / 1970",null,null,null,null,null,null,null,null,null,null,null,318.2,null,null,null,null,null,null,null,null,null,null,null,null,null,null,null,318.2,318.2,0,0,0,318.2,null,{"$f":"VLOOKUP(A468,'личные рез-ты по гонкам списком'!$J$1:$N$1645,2,FALSE)","v":"М"},1]
["Левчук Ирина / Levchuk Irina / 1974",null,null,null,null,null,null,null,null,null,null,114.63,null,null,null,null,null,null,null,null,null,null,null,null,null,null,null,null,114.63,114.63,0,0,0,114.63,null,{"$f":"VLOOKUP(A469,'личные рез-ты по гонкам списком'!$J$1:$N$1645,2,FALSE)","v":"Ж"},1]
["Легчеков Дмитрий / Legchekov Dmitrij / 1984",null,null,null,null,null,null,null,null,null,null,null,null,null,null,183.56,null,null,null,null,null,null,null,null,null,null,null,null,183.56,183.56,0,0,0,183.56,null,{"$f":"VLOOKUP(A470,'личные рез-ты по гонкам списком'!$J$1:$N$1645,2,FALSE)","v":"М"},1]
["Леденёв Андрей / Ledenjov Andrej / 1971",null,427.53,null,null,447.19,null,null,null,null,null,null,null,null,null,null,null,null,null,null,null,null,null,null,null,null,null,null,874.72,447.19,427.53,0,0,874.72,null,{"$f":"VLOOKUP(A471,'личные рез-ты по гонкам списком'!$J$1:$N$1645,2,FALSE)","v":"М"},2]
["Леонов Алексей / Leonov Aleksej / 1986",null,null,null,null,null,null,null,null,null,null,null,null,null,null,null,163.06,null,null,null,null,null,null,null,null,null,null,null,163.06,163.06,0,0,0,163.06,null,{"$f":"VLOOKUP(A472,'личные рез-ты по гонкам списком'!$J$1:$N$1645,2,FALSE)","v":"М"},1]
["Леонов Иван / Leonov Ivan / 1986",null,null,null,null,null,659.13,null,null,497.68,null,null,null,null,null,null,350.1,null,null,449.2,null,null,null,null,723.44,null,null,null,2679.55,723.44,659.13,497.68,449.2,2329.4500000000003,null,{"$f":"VLOOKUP(A473,'личные рез-ты по гонкам списком'!$J$1:$N$1645,2,FALSE)","v":"М"},5]
["Леонович Виталий / Leonovich Vitalij / 1984",null,null,null,null,null,null,null,null,null,null,null,null,null,null,127.48,null,null,null,null,null,null,null,null,null,null,null,null,127.48,127.48,0,0,0,127.48,null,{"$f":"VLOOKUP(A474,'личные рез-ты по гонкам списком'!$J$1:$N$1645,2,FALSE)","v":"М"},1]
["Леончик Владимир  / Leonchik Vladimir  / 1985",null,null,null,163.61000000000001,null,null,null,null,null,null,null,null,null,null,null,null,null,null,null,null,null,null,null,null,null,null,null,163.61000000000001,163.61000000000001,0,0,0,163.61000000000001,null,{"$f":"VLOOKUP(A475,'личные рез-ты по гонкам списком'!$J$1:$N$1645,2,FALSE)","v":"М"},1]
["Лесковец Александр / Leskovets Aleksandr / 1990",null,null,null,null,null,null,null,null,389.21,null,null,null,null,null,null,249.38,null,null,null,null,null,null,null,null,null,682.73,null,1321.32,682.73,389.21,249.38,0,1321.3200000000002,null,{"$f":"VLOOKUP(A476,'личные рез-ты по гонкам списком'!$J$1:$N$1645,2,FALSE)","v":"М"},3]
["Лесникович Лиана / Lesnikovich Liana / 1988",null,null,null,null,null,null,null,null,null,null,null,null,null,null,231.52,null,null,null,null,null,null,null,null,null,null,null,null,231.52,231.52,0,0,0,231.52,null,{"$f":"VLOOKUP(A477,'личные рез-ты по гонкам списком'!$J$1:$N$1645,2,FALSE)","v":"Ж"},1]
["Летунович Егор / Letunovich Egor / 1984",null,null,null,null,null,null,null,null,null,null,null,null,null,null,null,null,null,null,null,null,null,10.18,null,null,null,null,null,10.18,10.18,0,0,0,10.18,null,{"$f":"VLOOKUP(A478,'личные рез-ты по гонкам списком'!$J$1:$N$1645,2,FALSE)","v":"М"},1]
["Лещевич Валерий / Leschevich Valerij / 1989",null,null,null,null,null,null,null,null,null,null,372.56,null,null,null,null,null,null,null,null,282.83999999999997,null,null,null,null,null,null,null,655.4,372.56,282.83999999999997,0,0,655.4,null,{"$f":"VLOOKUP(A479,'личные рез-ты по гонкам списком'!$J$1:$N$1645,2,FALSE)","v":"М"},2]
["Лещинский Владимир / Leschinskij Vladimir / 1983",null,null,579.29,null,null,null,null,null,null,null,null,null,null,null,null,null,null,null,null,null,null,null,null,null,null,null,null,579.29,579.29,0,0,0,579.29,null,{"$f":"VLOOKUP(A480,'личные рез-ты по гонкам списком'!$J$1:$N$1645,2,FALSE)","v":"М"},1]
["Липницкая Виктория / Lipnitskaya Viktoriya / 1987",null,null,null,null,null,null,null,210.64,null,null,null,197.5,null,null,null,null,null,null,null,null,null,null,221.7,null,null,null,null,629.83999999999992,221.7,210.64,197.5,0,629.83999999999992,null,{"$f":"VLOOKUP(A481,'личные рез-ты по гонкам списком'!$J$1:$N$1645,2,FALSE)","v":"Ж"},3]
["Липская Наталья / Lipskaya Natalya / 1977",null,null,null,null,null,null,null,null,null,null,null,null,null,null,null,null,59.58,null,null,null,null,null,null,null,null,null,null,59.58,59.58,0,0,0,59.58,null,{"$f":"VLOOKUP(A482,'личные рез-ты по гонкам списком'!$J$1:$N$1645,2,FALSE)","v":"Ж"},1]
["Липская Яна / Lipskaya Yana / 2007",null,null,null,null,null,null,null,null,null,null,null,null,null,null,null,null,68.09,null,null,null,null,null,null,null,null,null,null,68.09,68.09,0,0,0,68.09,null,{"$f":"VLOOKUP(A483,'личные рез-ты по гонкам списком'!$J$1:$N$1645,2,FALSE)","v":"Ж"},1]
["Липский Александр / Lipskij Aleksandr / 1977",null,null,null,null,null,null,null,null,null,null,null,null,null,null,76.489999999999995,null,null,null,null,null,null,null,null,null,null,null,null,76.489999999999995,76.489999999999995,0,0,0,76.489999999999995,null,{"$f":"VLOOKUP(A484,'личные рез-ты по гонкам списком'!$J$1:$N$1645,2,FALSE)","v":"М"},1]
["Липский Андрей / Lipskij Andrej / 1985",null,null,null,null,null,null,null,null,null,null,null,null,null,null,null,null,null,null,null,null,null,203.59,null,null,null,null,null,203.59,203.59,0,0,0,203.59,null,{"$f":"VLOOKUP(A485,'личные рез-ты по гонкам списком'!$J$1:$N$1645,2,FALSE)","v":"М"},1]
["Лира Дина / Lira Dina / 1980",null,null,null,null,null,null,null,null,null,null,null,null,null,null,null,null,null,null,null,null,null,null,null,null,170.31,null,null,170.31,170.31,0,0,0,170.31,null,{"$f":"VLOOKUP(A486,'личные рез-ты по гонкам списком'!$J$1:$N$1645,2,FALSE)","v":"Ж"},1]
["Лисовская Наталья / Lisovskaya Natalya / 1998",null,null,null,null,null,null,null,null,null,null,null,null,null,null,null,219.24,null,null,null,null,null,null,null,null,null,null,null,219.24,219.24,0,0,0,219.24,null,{"$f":"VLOOKUP(A487,'личные рез-ты по гонкам списком'!$J$1:$N$1645,2,FALSE)","v":"Ж"},1]
["Лисовский Виктор / Lisovskij Viktor / 1964",null,null,456.41,null,null,null,null,null,null,null,null,null,357.14,null,null,81.53,null,null,null,null,null,null,158.36000000000001,null,null,null,520.15,1573.5900000000001,520.15,456.41,357.14,158.36000000000001,1492.06,null,{"$f":"VLOOKUP(A488,'личные рез-ты по гонкам списком'!$J$1:$N$1645,2,FALSE)","v":"М"},5]
["Лисовский Павел / Lisovskij Pavel / 1986",null,null,null,null,null,null,null,null,null,null,null,null,null,null,null,null,null,154.55000000000001,null,null,null,null,null,null,null,null,606.85,761.40000000000009,606.85,154.55000000000001,0,0,761.40000000000009,null,{"$f":"VLOOKUP(A489,'личные рез-ты по гонкам списком'!$J$1:$N$1645,2,FALSE)","v":"М"},2]
["Литвинка Нина / Litvinka Nina / 1991",null,null,null,null,null,null,null,null,null,null,null,null,null,null,null,null,null,null,null,null,null,null,null,null,null,null,210.54,210.54,210.54,0,0,0,210.54,null,{"$f":"VLOOKUP(A490,'личные рез-ты по гонкам списком'!$J$1:$N$1645,2,FALSE)","v":"Ж"},1]
["Литвинская Людмила / Litvinskaya Lyudmila / 1977",null,null,null,null,170.36,null,null,null,281.89999999999998,null,null,null,null,null,null,null,null,null,null,null,null,null,null,null,null,null,null,452.26,281.89999999999998,170.36,0,0,452.26,null,{"$f":"VLOOKUP(A491,'личные рез-ты по гонкам списком'!$J$1:$N$1645,2,FALSE)","v":"Ж"},2]
["Лобанова Елена / Lobanova Elena / 1984",null,null,null,null,null,null,null,null,null,null,null,null,null,null,null,null,null,null,null,null,null,46.66,null,null,null,null,null,46.66,46.66,0,0,0,46.66,null,{"$f":"VLOOKUP(A492,'личные рез-ты по гонкам списком'!$J$1:$N$1645,2,FALSE)","v":"Ж"},1]
["Лобач Павел / Lobach Pavel / 1989",null,null,null,null,null,null,null,null,null,null,null,null,null,null,null,null,null,null,null,null,null,142.52000000000001,null,null,null,null,null,142.52000000000001,142.52000000000001,0,0,0,142.52000000000001,null,{"$f":"VLOOKUP(A493,'личные рез-ты по гонкам списком'!$J$1:$N$1645,2,FALSE)","v":"М"},1]
["Логиновский Михаил / Loginovskij Mihail / 1976",null,null,null,null,null,null,null,null,null,null,119.75,null,null,null,null,null,null,null,null,null,null,null,null,null,null,null,null,119.75,119.75,0,0,0,119.75,null,{"$f":"VLOOKUP(A494,'личные рез-ты по гонкам списком'!$J$1:$N$1645,2,FALSE)","v":"М"},1]
["Лозюк Алексей / Lozyuk Aleksej / 1976",null,null,null,null,null,null,null,null,null,null,null,null,null,null,null,null,null,null,null,null,null,346.11,null,null,null,null,null,346.11,346.11,0,0,0,346.11,null,{"$f":"VLOOKUP(A495,'личные рез-ты по гонкам списком'!$J$1:$N$1645,2,FALSE)","v":"М"},1]
["Лойко Сергей / Lojko Sergej / 1985",null,463.91,null,null,null,null,null,351.71,null,null,null,416.95,null,null,null,292.55,null,318.18,null,null,326.60000000000002,null,null,null,null,null,null,2169.9,463.91,416.95,351.71,326.60000000000002,1559.17,null,{"$f":"VLOOKUP(A496,'личные рез-ты по гонкам списком'!$J$1:$N$1645,2,FALSE)","v":"М"},6]
["Лопатик Юрий / Lopatik Yurij / 1984",null,null,null,null,null,null,null,154.41,null,null,null,null,null,null,null,null,null,null,null,null,null,137.43,null,null,null,null,null,291.84000000000003,154.41,137.43,0,0,291.84000000000003,null,{"$f":"VLOOKUP(A497,'личные рез-ты по гонкам списком'!$J$1:$N$1645,2,FALSE)","v":"М"},2]
["Лукашенок Алексей / Lukashenok Aleksej / 1978",null,null,null,null,null,null,null,null,440.25,null,null,null,null,null,null,null,null,null,null,null,null,null,null,null,null,null,null,440.25,440.25,0,0,0,440.25,null,{"$f":"VLOOKUP(A498,'личные рез-ты по гонкам списком'!$J$1:$N$1645,2,FALSE)","v":"М"},1]
["Лукин Василий / Lukin Vasilij / 1951",null,null,null,null,null,null,null,null,null,null,null,null,null,null,null,null,null,null,null,null,null,20.36,null,null,null,null,null,20.36,20.36,0,0,0,20.36,null,{"$f":"VLOOKUP(A499,'личные рез-ты по гонкам списком'!$J$1:$N$1645,2,FALSE)","v":"М"},1]
["Лукин Павел / Lukin Pavel / 1978",null,null,null,null,null,null,null,null,null,null,null,null,null,null,null,null,null,null,null,null,null,null,null,null,6.06,null,null,6.06,6.06,0,0,0,6.06,null,{"$f":"VLOOKUP(A500,'личные рез-ты по гонкам списком'!$J$1:$N$1645,2,FALSE)","v":"М"},1]
["Лукьяненко Александр / Lukyanenko Aleksandr / 1984",null,445.72,null,null,null,null,null,null,null,null,null,null,null,null,null,null,null,null,null,null,null,null,468.48,null,null,null,null,914.2,468.48,445.72,0,0,914.2,null,{"$f":"VLOOKUP(A501,'личные рез-ты по гонкам списком'!$J$1:$N$1645,2,FALSE)","v":"М"},2]
["Лукьянов Александр / Lukyanov Aleksandr / 1979",null,null,null,null,null,null,null,240.19,null,null,null,null,null,null,null,null,null,null,null,null,null,null,null,null,null,null,null,240.19,240.19,0,0,0,240.19,null,{"$f":"VLOOKUP(A502,'личные рез-ты по гонкам списком'!$J$1:$N$1645,2,FALSE)","v":"М"},1]
["Лунский Сергей / Lunskij Sergej / 1995",null,100.06,null,null,null,null,null,null,null,null,null,null,null,null,null,null,null,null,null,null,null,null,null,null,null,null,null,100.06,100.06,0,0,0,100.06,null,{"$f":"VLOOKUP(A503,'личные рез-ты по гонкам списком'!$J$1:$N$1645,2,FALSE)","v":"М"},1]
["Лупин Сергей / Lupin Sergej / 1985",null,null,null,null,null,null,null,null,null,null,166.32,null,null,null,null,28.77,null,null,null,null,null,null,null,null,null,null,null,195.09,166.32,28.77,0,0,195.09,null,{"$f":"VLOOKUP(A504,'личные рез-ты по гонкам списком'!$J$1:$N$1645,2,FALSE)","v":"М"},2]
["Луцевич Eвгений / Lutsevich Evgenij / 1964",null,null,52.66,null,null,null,null,null,null,null,null,null,null,null,null,null,null,null,null,null,null,null,null,null,null,null,null,52.66,52.66,0,0,0,52.66,null,{"$f":"VLOOKUP(A505,'личные рез-ты по гонкам списком'!$J$1:$N$1645,2,FALSE)","v":"М"},1]
["Лучинович Сергей / Luchinovich Sergej / 1979",null,null,null,null,null,null,null,null,null,null,null,null,null,null,null,57.55,null,null,null,null,null,null,null,null,null,null,null,57.55,57.55,0,0,0,57.55,null,{"$f":"VLOOKUP(A506,'личные рез-ты по гонкам списком'!$J$1:$N$1645,2,FALSE)","v":"М"},1]
["Лучкин Олег / Luchkin Oleg / 1983",null,null,null,null,null,null,null,null,null,null,null,null,null,null,null,null,null,null,null,null,null,null,null,null,null,null,173.38,173.38,173.38,0,0,0,173.38,null,{"$f":"VLOOKUP(A507,'личные рез-ты по гонкам списком'!$J$1:$N$1645,2,FALSE)","v":"М"},1]
["Лысенко Ольга / Lysenko Olga / 1989",null,null,null,null,null,null,null,null,null,null,null,null,null,null,null,null,null,null,null,null,null,74.650000000000006,null,null,null,null,null,74.650000000000006,74.650000000000006,0,0,0,74.650000000000006,null,{"$f":"VLOOKUP(A508,'личные рез-ты по гонкам списком'!$J$1:$N$1645,2,FALSE)","v":"Ж"},1]
["Лысенко Павел / Lysenko Pavel / 1966",896.55,null,null,null,null,null,null,null,null,null,null,null,null,null,null,null,null,null,null,null,null,null,null,null,null,938.76,null,1835.31,938.76,896.55,0,0,1835.31,null,{"$f":"VLOOKUP(A509,'личные рез-ты по гонкам списком'!$J$1:$N$1645,2,FALSE)","v":"М"},2]
["Львовский Андрей / Lvovskij Andrej / 1991",null,null,null,null,null,null,null,null,306.26,null,null,null,null,null,null,null,null,null,null,null,null,null,null,null,null,null,null,306.26,306.26,0,0,0,306.26,null,{"$f":"VLOOKUP(A510,'личные рез-ты по гонкам списком'!$J$1:$N$1645,2,FALSE)","v":"М"},1]
["Лялеко Сергей / Lyaleko Sergej / 1986",null,null,null,null,null,null,null,null,null,null,null,null,null,null,null,null,null,null,null,null,null,null,null,null,null,null,195.06,195.06,195.06,0,0,0,195.06,null,{"$f":"VLOOKUP(A511,'личные рез-ты по гонкам списком'!$J$1:$N$1645,2,FALSE)","v":"М"},1]
["Майхерский Андрей / Majherskij Andrej / 1995",null,null,null,null,null,null,null,null,null,null,null,null,null,null,null,null,null,null,null,null,null,96.71,null,null,null,null,null,96.71,96.71,0,0,0,96.71,null,{"$f":"VLOOKUP(A512,'личные рез-ты по гонкам списком'!$J$1:$N$1645,2,FALSE)","v":"М"},1]
["Макарский Сергей / Makarskij Sergej / 1987",null,null,null,null,null,null,null,null,null,223.42,null,null,null,null,null,null,null,null,null,null,null,330.84,null,null,null,null,null,554.26,330.84,223.42,0,0,554.26,null,{"$f":"VLOOKUP(A513,'личные рез-ты по гонкам списком'!$J$1:$N$1645,2,FALSE)","v":"М"},2]
["Макась Алексей / Makas Aleksej / 1986",null,null,null,null,null,null,null,null,null,null,null,null,null,null,null,null,null,null,null,null,null,22.9,null,null,null,null,null,22.9,22.9,0,0,0,22.9,null,{"$f":"VLOOKUP(A514,'личные рез-ты по гонкам списком'!$J$1:$N$1645,2,FALSE)","v":"М"},1]
["Маклаков Максим / Maklakov Maksim / 1987",null,null,null,null,null,null,null,null,null,null,null,null,null,null,null,null,null,null,null,null,null,124.7,null,null,null,null,null,124.7,124.7,0,0,0,124.7,null,{"$f":"VLOOKUP(A515,'личные рез-ты по гонкам списком'!$J$1:$N$1645,2,FALSE)","v":"М"},1]
["Маковский Дмитрий / Makovskij Dmitrij / 1981",null,null,null,null,null,461.39,null,null,null,null,null,null,null,null,null,244.59,null,null,null,null,null,null,415.69,null,null,null,null,1121.67,461.39,415.69,244.59,0,1121.6699999999998,null,{"$f":"VLOOKUP(A516,'личные рез-ты по гонкам списком'!$J$1:$N$1645,2,FALSE)","v":"М"},3]
["Мактавиш Джон / Maktavish Dzhon / 1987",null,null,null,null,474.57,null,null,null,null,null,null,null,null,null,null,null,null,null,null,null,null,null,null,null,null,null,null,474.57,474.57,0,0,0,474.57,null,{"$f":"VLOOKUP(A517,'личные рез-ты по гонкам списком'!$J$1:$N$1645,2,FALSE)","v":"М"},1]
["Малалетников Павел / Malaletnikov Pavel / 1982",null,null,null,null,null,null,null,null,null,null,null,null,null,null,null,null,null,null,null,null,null,null,null,null,null,null,411.79,411.79,{"$f":"LARGE(B518:AB518,1)","v":411.79},{"$f":"IF(COUNT(B518:AB518)=1,0,LARGE(B518:AB518,2))","v":0},{"$f":"IF(COUNT(B518:AB518)<3,0,LARGE(B518:AB518,3))","v":0},{"$f":"IF(COUNT(B518:AB518)<4,0,LARGE(B518:AB518,4))","v":0},{"$f":"SUM(AD518:AG518)","v":411.79},null,{"$f":"VLOOKUP(A518,'личные рез-ты по гонкам списком'!$J$1:$N$1645,2,FALSE)","v":"М"},{"$f":"COUNT(B518:AB518)","v":1}]
["Малаховская Татьяна / Malahovskaya Tatyana / 1989",null,null,null,null,null,null,null,243.05,null,null,null,null,null,null,null,null,null,null,null,null,null,null,null,null,null,null,null,243.05,243.05,0,0,0,243.05,null,{"$f":"VLOOKUP(A519,'личные рез-ты по гонкам списком'!$J$1:$N$1645,2,FALSE)","v":"Ж"},1]
["Малаховский Александр / Malahovskij Aleksandr / 1985",null,null,null,null,null,null,null,null,null,null,null,null,null,null,null,null,null,null,null,null,null,null,null,null,null,null,43.35,43.35,43.35,0,0,0,43.35,null,{"$f":"VLOOKUP(A520,'личные рез-ты по гонкам списком'!$J$1:$N$1645,2,FALSE)","v":"М"},1]
["Малофей Глеб / Malofej Gleb / 1995",null,null,null,null,null,null,null,null,null,null,null,null,null,null,null,null,null,null,null,null,null,null,null,null,121.11,null,null,121.11,121.11,0,0,0,121.11,null,{"$f":"VLOOKUP(A521,'личные рез-ты по гонкам списком'!$J$1:$N$1645,2,FALSE)","v":"М"},1]
["Малышко Татьяна / Malyshko Tatyana / 1983",null,null,null,null,null,null,null,null,null,206.24,null,null,null,null,null,null,null,null,null,null,null,null,null,null,null,null,null,206.24,206.24,0,0,0,206.24,null,{"$f":"VLOOKUP(A522,'личные рез-ты по гонкам списком'!$J$1:$N$1645,2,FALSE)","v":"Ж"},1]
["Малькевич Елена / Malkevich Elena / 1984",null,null,null,null,null,null,null,null,null,null,null,null,null,null,256.33,null,null,null,null,null,null,289.27,null,null,null,null,null,545.59999999999991,289.27,256.33,0,0,545.59999999999991,null,{"$f":"VLOOKUP(A523,'личные рез-ты по гонкам списком'!$J$1:$N$1645,2,FALSE)","v":"Ж"},2]
["Мальков Валентин / Malkov Valentin / 1988",null,454.82,null,null,null,681.1,null,null,null,null,null,493.76,null,null,null,378.87,null,363.64,null,null,null,null,null,757.89,null,null,null,3130.08,757.89,681.1,493.76,454.82,2387.5700000000002,null,{"$f":"VLOOKUP(A524,'личные рез-ты по гонкам списком'!$J$1:$N$1645,2,FALSE)","v":"М"},6]
["Малявко Сергей / Malyavko Sergej / 1990",null,null,null,null,null,null,null,null,null,null,null,null,null,null,163.16999999999999,null,null,null,null,null,null,null,null,null,null,null,null,163.16999999999999,163.16999999999999,0,0,0,163.16999999999999,null,{"$f":"VLOOKUP(A525,'личные рез-ты по гонкам списком'!$J$1:$N$1645,2,FALSE)","v":"М"},1]
["Мамонтова Марина / Mamontova Marina / 1992",null,null,null,null,null,null,null,null,null,null,null,null,null,null,null,null,null,null,null,89.68,null,null,null,null,null,null,null,89.68,89.68,0,0,0,89.68,null,{"$f":"VLOOKUP(A526,'личные рез-ты по гонкам списком'!$J$1:$N$1645,2,FALSE)","v":"Ж"},1]
["Мананков Дмитрий / Manankov Dmitrij / 1988",null,null,null,null,null,null,null,null,null,null,null,null,null,null,null,null,null,null,null,169.71,null,null,null,null,null,null,null,169.71,169.71,0,0,0,169.71,null,{"$f":"VLOOKUP(A527,'личные рез-ты по гонкам списком'!$J$1:$N$1645,2,FALSE)","v":"М"},1]
["Манкевич Алексей / Mankevich Aleksej / 1972",null,null,null,null,null,null,null,null,null,17.190000000000001,null,null,null,null,null,null,null,null,null,null,null,null,null,null,18.170000000000002,null,null,35.36,18.170000000000002,17.190000000000001,0,0,35.36,null,{"$f":"VLOOKUP(A528,'личные рез-ты по гонкам списком'!$J$1:$N$1645,2,FALSE)","v":"М"},2]
["Маркевич Денис / Markevich Denis / 1981",null,391.14,null,null,null,null,null,null,363.69,null,null,null,null,null,null,282.95,null,null,null,null,null,null,184.75,null,null,554.72,null,1777.25,554.72,391.14,363.69,282.95,1592.5,null,{"$f":"VLOOKUP(A529,'личные рез-ты по гонкам списком'!$J$1:$N$1645,2,FALSE)","v":"М"},5]
["Марозик Юлия / Marozik Yuliya / 1993",null,null,null,null,null,null,null,null,null,null,null,null,null,null,null,null,null,null,null,null,313.52999999999997,null,null,null,null,null,null,313.52999999999997,313.52999999999997,0,0,0,313.52999999999997,null,{"$f":"VLOOKUP(A530,'личные рез-ты по гонкам списком'!$J$1:$N$1645,2,FALSE)","v":"Ж"},1]
["Мартынов Дмитрий / Martynov Dmitrij / 1984",null,null,null,317.58999999999997,null,null,null,null,null,null,365.91,null,null,null,null,null,null,null,null,null,null,358.83,null,null,null,null,null,1042.33,365.91,358.83,317.58999999999997,0,1042.33,null,{"$f":"VLOOKUP(A531,'личные рез-ты по гонкам списком'!$J$1:$N$1645,2,FALSE)","v":"М"},3]
["Мартынчук Ян / Martynchuk Yan / 1987",null,null,null,null,null,null,null,null,null,null,null,null,null,null,null,null,null,null,null,null,null,269.76,null,null,null,null,null,269.76,269.76,0,0,0,269.76,null,{"$f":"VLOOKUP(A532,'личные рез-ты по гонкам списком'!$J$1:$N$1645,2,FALSE)","v":"М"},1]
["Мартысевич Роман / Martysevich Roman / 1993",723.02,null,null,null,null,null,null,null,null,null,null,null,null,477.06,null,null,null,null,null,null,null,null,null,null,null,null,null,1200.08,723.02,477.06,0,0,1200.08,null,{"$f":"VLOOKUP(A533,'личные рез-ты по гонкам списком'!$J$1:$N$1645,2,FALSE)","v":"М"},2]
["Марченко Людмила / Marchenko Lyudmila / 1972",null,250.15,null,null,34.07,null,null,null,null,null,null,null,null,null,null,null,null,null,null,null,null,null,null,null,null,null,null,284.22000000000003,250.15,34.07,0,0,284.22000000000003,null,{"$f":"VLOOKUP(A534,'личные рез-ты по гонкам списком'!$J$1:$N$1645,2,FALSE)","v":"Ж"},2]
["Марчук Александр / Marchuk Aleksandr / 1986",null,null,null,null,null,null,null,null,299.88,null,null,null,null,null,null,null,null,null,null,null,null,null,null,null,null,null,null,299.88,299.88,0,0,0,299.88,null,{"$f":"VLOOKUP(A535,'личные рез-ты по гонкам списком'!$J$1:$N$1645,2,FALSE)","v":"М"},1]
["Марчук Михаил / Marchuk Mihail / 1996",null,null,null,null,null,null,null,null,null,null,null,null,null,null,null,null,null,null,null,null,null,null,92.38,null,null,null,null,92.38,92.38,0,0,0,92.38,null,{"$f":"VLOOKUP(A536,'личные рез-ты по гонкам списком'!$J$1:$N$1645,2,FALSE)","v":"М"},1]
["Матвийчук Вадим / Matvijchuk Vadim / 1976",null,null,null,null,null,null,null,null,null,null,null,null,null,null,null,null,null,null,null,226.27,null,325.75,null,null,null,null,null,552.02,325.75,226.27,0,0,552.02,null,{"$f":"VLOOKUP(A537,'личные рез-ты по гонкам списком'!$J$1:$N$1645,2,FALSE)","v":"М"},2]
["Матейчик Юрий / Matejchik Yurij / 1983",null,null,null,null,null,null,null,null,null,null,null,null,null,null,null,null,null,null,null,null,null,null,null,null,54.5,null,null,54.5,54.5,0,0,0,54.5,null,{"$f":"VLOOKUP(A538,'личные рез-ты по гонкам списком'!$J$1:$N$1645,2,FALSE)","v":"М"},1]
["Маторова Анна / Matorova Anna / 1981",null,null,null,null,null,null,null,null,null,null,null,null,null,null,null,null,null,null,null,null,null,null,null,null,22.71,null,null,22.71,22.71,0,0,0,22.71,null,{"$f":"VLOOKUP(A539,'личные рез-ты по гонкам списком'!$J$1:$N$1645,2,FALSE)","v":"Ж"},1]
["Маханьков Александр / Mahankov Aleksandr / 1983",null,null,null,null,null,null,null,null,null,null,null,null,null,null,null,316.52,null,null,null,null,null,null,null,null,null,null,null,316.52,316.52,0,0,0,316.52,null,{"$f":"VLOOKUP(A540,'личные рез-ты по гонкам списком'!$J$1:$N$1645,2,FALSE)","v":"М"},1]
["Мацко Сергей / Matsko Sergej / 1991",null,null,null,null,null,null,null,null,null,257.8,null,null,null,null,null,null,null,null,null,null,null,null,null,null,null,null,null,257.8,257.8,0,0,0,257.8,null,{"$f":"VLOOKUP(A541,'личные рез-ты по гонкам списком'!$J$1:$N$1645,2,FALSE)","v":"М"},1]
["Медведев Константин / Medvedev Konstantin / 1990",null,null,null,null,null,null,null,null,null,null,null,null,null,null,null,null,null,390.91,null,null,null,null,null,null,null,null,null,390.91,390.91,0,0,0,390.91,null,{"$f":"VLOOKUP(A542,'личные рез-ты по гонкам списком'!$J$1:$N$1645,2,FALSE)","v":"М"},1]
["Медведева Ольга / Medvedeva Olga / 1991",null,387.73,null,null,null,null,null,null,null,null,null,null,null,null,null,null,null,null,null,null,null,null,null,null,null,null,null,387.73,387.73,0,0,0,387.73,null,{"$f":"VLOOKUP(A543,'личные рез-ты по гонкам списком'!$J$1:$N$1645,2,FALSE)","v":"Ж"},1]
["Медвецкий Денис / Medvetskij Denis / 1986",null,null,null,null,null,null,null,null,null,146.08000000000001,239.5,null,null,null,null,153.47,null,null,null,null,null,null,null,null,null,null,65.02,604.07000000000005,239.5,153.47,146.08000000000001,65.02,604.07000000000005,null,{"$f":"VLOOKUP(A544,'личные рез-ты по гонкам списком'!$J$1:$N$1645,2,FALSE)","v":"М"},4]
["Мейсак Александр / Mejsak Aleksandr / 1989",null,null,null,null,null,null,null,null,null,null,null,43.89,null,null,null,null,null,null,null,null,null,null,null,null,null,null,null,43.89,43.89,0,0,0,43.89,null,{"$f":"VLOOKUP(A545,'личные рез-ты по гонкам списком'!$J$1:$N$1645,2,FALSE)","v":"М"},1]
["Мельник Сергей / Melnik Sergej / 1975",null,null,null,null,null,null,null,null,null,null,null,null,null,null,null,null,null,218.18,null,null,null,null,null,null,null,null,null,218.18,218.18,0,0,0,218.18,null,{"$f":"VLOOKUP(A546,'личные рез-ты по гонкам списком'!$J$1:$N$1645,2,FALSE)","v":"М"},1]
["Мельник Станислав / Melnik Stanislav / 1991",null,null,null,null,null,null,null,null,null,null,null,null,null,null,null,null,null,null,null,null,null,132.34,null,null,null,null,null,132.34,132.34,0,0,0,132.34,null,{"$f":"VLOOKUP(A547,'личные рез-ты по гонкам списком'!$J$1:$N$1645,2,FALSE)","v":"М"},1]
["Мельников Павел / Melnikov Pavel / 1998",null,null,null,null,null,null,null,null,null,null,null,null,null,null,244.75,null,null,null,null,null,null,null,null,null,null,null,null,244.75,244.75,0,0,0,244.75,null,{"$f":"VLOOKUP(A548,'личные рез-ты по гонкам списком'!$J$1:$N$1645,2,FALSE)","v":"М"},1]
["Мельников Роман / Melnikov Roman / 1983",null,null,null,null,null,null,null,null,null,null,null,null,null,null,null,null,null,null,null,188.56,null,null,null,null,null,null,null,188.56,188.56,0,0,0,188.56,null,{"$f":"VLOOKUP(A549,'личные рез-ты по гонкам списком'!$J$1:$N$1645,2,FALSE)","v":"М"},1]
["Мертенс Андрей / Mertens Andrej / 1992",null,null,null,null,null,null,null,180.14,null,null,73.180000000000007,null,null,null,61.19,null,null,null,null,null,null,null,null,null,null,null,null,314.51,180.14,73.180000000000007,61.19,0,314.51,null,{"$f":"VLOOKUP(A550,'личные рез-ты по гонкам списком'!$J$1:$N$1645,2,FALSE)","v":"М"},3]
["Метелица Антон / Metelitsa Anton / 1989",null,null,null,null,null,null,null,null,null,111.71,null,null,null,null,null,null,null,null,null,null,null,null,null,null,null,null,null,111.71,111.71,0,0,0,111.71,null,{"$f":"VLOOKUP(A551,'личные рез-ты по гонкам списком'!$J$1:$N$1645,2,FALSE)","v":"М"},1]
["Мигас Александр / Migas Aleksandr / 1984",null,null,null,null,null,null,null,null,null,null,null,null,null,null,null,null,null,null,null,null,null,180.69,null,null,null,null,null,180.69,180.69,0,0,0,180.69,null,{"$f":"VLOOKUP(A552,'личные рез-ты по гонкам списком'!$J$1:$N$1645,2,FALSE)","v":"М"},1]
["Миканович Антон / Mikanovich Anton / 1990",null,null,421.3,null,null,null,null,171.57,null,null,212.89,null,null,null,null,null,null,null,null,null,null,null,null,null,133.22,null,null,938.98,421.3,212.89,171.57,133.22,938.98,null,{"$f":"VLOOKUP(A553,'личные рез-ты по гонкам списком'!$J$1:$N$1645,2,FALSE)","v":"М"},4]
["Милинкевич Елена / Milinkevich Elena / 1977",null,null,null,null,null,null,null,437.49,null,null,372.56,null,null,null,297.67,null,null,null,null,null,null,null,null,null,null,null,null,1107.72,437.49,372.56,297.67,0,1107.72,null,{"$f":"VLOOKUP(A554,'личные рез-ты по гонкам списком'!$J$1:$N$1645,2,FALSE)","v":"Ж"},3]
["Минич Ольга / Minich Olga / 1989",null,null,null,null,null,null,null,null,null,null,null,null,null,null,null,null,161.72,null,null,null,null,null,null,null,null,null,null,161.72,161.72,0,0,0,161.72,null,{"$f":"VLOOKUP(A555,'личные рез-ты по гонкам списком'!$J$1:$N$1645,2,FALSE)","v":"Ж"},1]
["Минков Сергей / Minkov Sergej / 1985",null,null,null,null,182.53,null,null,null,null,null,null,null,null,null,null,null,null,null,null,null,null,null,85.78,null,null,null,null,268.31,182.53,85.78,0,0,268.31,null,{"$f":"VLOOKUP(A556,'личные рез-ты по гонкам списком'!$J$1:$N$1645,2,FALSE)","v":"М"},2]
["Минчук Александр / Minchuk Aleksandr / 1974",null,27.29,null,null,null,null,null,null,null,null,null,null,null,null,null,null,null,null,null,null,null,null,null,null,null,null,null,27.29,27.29,0,0,0,27.29,null,{"$f":"VLOOKUP(A557,'личные рез-ты по гонкам списком'!$J$1:$N$1645,2,FALSE)","v":"М"},1]
["Минько Алексей / Minko Aleksej / 1997",null,null,544.17999999999995,null,null,null,null,null,null,null,null,null,null,null,null,null,null,null,null,null,null,null,null,null,null,null,null,544.17999999999995,544.17999999999995,0,0,0,544.17999999999995,null,{"$f":"VLOOKUP(A558,'личные рез-ты по гонкам списком'!$J$1:$N$1645,2,FALSE)","v":"М"},1]
["Миранович Павел / Miranovich Pavel / 1986",null,null,null,null,null,null,null,null,null,null,null,null,null,null,null,null,null,null,null,null,null,155.24,null,null,null,null,null,155.24,155.24,0,0,0,155.24,null,{"$f":"VLOOKUP(A559,'личные рез-ты по гонкам списком'!$J$1:$N$1645,2,FALSE)","v":"М"},1]
["Миронов Юрий / Mironov Yurij / 1982",null,null,null,null,null,null,null,null,null,null,null,null,null,null,null,null,null,null,null,null,null,null,null,null,151.38,null,null,151.38,151.38,0,0,0,151.38,null,{"$f":"VLOOKUP(A560,'личные рез-ты по гонкам списком'!$J$1:$N$1645,2,FALSE)","v":"М"},1]
["Михайлова Марина / Mihajlova Marina / 1988",null,null,null,null,null,null,null,null,null,null,null,null,null,null,57.88,null,null,null,null,null,null,null,null,null,null,null,null,57.88,57.88,0,0,0,57.88,null,{"$f":"VLOOKUP(A561,'личные рез-ты по гонкам списком'!$J$1:$N$1645,2,FALSE)","v":"Ж"},1]
["Михалкин Сергей / Mihalkin Sergej / 1989",null,null,null,null,null,null,null,null,516.82000000000005,null,null,null,null,null,null,null,null,null,null,null,null,null,null,null,null,null,null,516.82000000000005,516.82000000000005,0,0,0,516.82000000000005,null,{"$f":"VLOOKUP(A562,'личные рез-ты по гонкам списком'!$J$1:$N$1645,2,FALSE)","v":"Ж"},1]
["Михальков Ян / Mihalkov Yan / ",null,null,null,211.73,null,null,null,null,null,null,null,null,null,null,null,null,null,null,null,null,null,null,null,null,null,null,null,211.73,211.73,0,0,0,211.73,null,{"$f":"VLOOKUP(A563,'личные рез-ты по гонкам списком'!$J$1:$N$1645,2,FALSE)","v":"М"},1]
["Михальчук Евгения / Mihalchuk Evgeniya / ",null,null,null,276.95999999999998,null,null,null,null,null,null,null,null,null,null,null,null,null,null,null,null,null,null,null,null,null,null,null,276.95999999999998,276.95999999999998,0,0,0,276.95999999999998,null,{"$f":"VLOOKUP(A564,'личные рез-ты по гонкам списком'!$J$1:$N$1645,2,FALSE)","v":"Ж"},1]
["Михеенко Ольга / Miheenko Olga / 1992",null,null,null,null,null,null,null,null,null,null,null,null,null,null,null,null,null,null,null,null,null,null,null,null,119.21,null,null,119.21,119.21,0,0,0,119.21,null,{"$f":"VLOOKUP(A565,'личные рез-ты по гонкам списком'!$J$1:$N$1645,2,FALSE)","v":"Ж"},1]
["Михно Алла / Mihno Alla / 1979",null,null,null,null,null,null,null,null,140.94999999999999,null,null,null,476.19,null,null,null,null,null,null,null,null,null,null,null,null,null,526.35,1143.49,526.35,476.19,140.94999999999999,0,1143.49,null,{"$f":"VLOOKUP(A566,'личные рез-ты по гонкам списком'!$J$1:$N$1645,2,FALSE)","v":"Ж"},3]
["Михно Борис / Mihno Boris / 1982",null,null,null,null,null,null,null,null,102.09,null,null,null,142.86000000000001,null,null,null,null,null,null,null,null,null,32.99,null,null,null,325.10000000000002,603.04,325.10000000000002,142.86000000000001,102.09,32.99,603.04000000000008,null,{"$f":"VLOOKUP(A567,'личные рез-ты по гонкам списком'!$J$1:$N$1645,2,FALSE)","v":"М"},4]
["Михнович Владимир / Mihnovich Vladimir / 1969",null,null,null,null,null,null,null,null,null,null,null,null,null,null,null,null,null,null,null,null,null,null,59.38,null,null,null,null,59.38,59.38,0,0,0,59.38,null,{"$f":"VLOOKUP(A568,'личные рез-ты по гонкам списком'!$J$1:$N$1645,2,FALSE)","v":"М"},1]
["Михнюк Виктор / Mihnyuk Viktor / 1990",null,null,null,null,null,null,null,386.02,null,null,null,null,null,null,null,null,null,null,null,null,null,null,null,null,null,null,null,386.02,386.02,0,0,0,386.02,null,{"$f":"VLOOKUP(A569,'личные рез-ты по гонкам списком'!$J$1:$N$1645,2,FALSE)","v":"М"},1]
["Млынарчик Николай / Mlynarchik Nikolaj / 1998",null,null,null,null,null,null,null,null,null,null,null,null,null,null,null,null,null,null,null,null,null,208.68,null,null,null,null,null,208.68,208.68,0,0,0,208.68,null,{"$f":"VLOOKUP(A570,'личные рез-ты по гонкам списком'!$J$1:$N$1645,2,FALSE)","v":"М"},1]
["Млынарчик Сергей / Mlynarchik Sergej / 1990",null,null,null,null,null,null,null,null,null,null,null,null,null,null,null,null,null,null,null,null,null,35.630000000000003,null,null,null,null,null,35.630000000000003,35.630000000000003,0,0,0,35.630000000000003,null,{"$f":"VLOOKUP(A571,'личные рез-ты по гонкам списком'!$J$1:$N$1645,2,FALSE)","v":"М"},1]
["Моисеева Вероника / Moiseeva Veronika / 1983",null,null,null,null,null,null,null,null,null,null,null,null,null,null,null,null,136.19,null,null,117.28,null,null,null,null,124.89,null,null,378.36,136.19,124.89,117.28,0,378.36,null,{"$f":"VLOOKUP(A572,'личные рез-ты по гонкам списком'!$J$1:$N$1645,2,FALSE)","v":"Ж"},3]
["Моисеева Елена / Moiseeva Elena / 1990",null,null,null,null,null,null,null,null,null,null,null,null,null,null,null,null,null,null,null,null,null,363.92,null,null,null,null,null,363.92,363.92,0,0,0,363.92,null,{"$f":"VLOOKUP(A573,'личные рез-ты по гонкам списком'!$J$1:$N$1645,2,FALSE)","v":"Ж"},1]
["Молочко Александр / Molochko Aleksandr / 1981",925.47,null,null,null,null,null,987.09,null,446.63,null,null,null,null,775.22,null,211.02,null,null,230.67,null,117.58,null,null,620.09,null,null,null,4313.7699999999995,987.09,925.47,775.22,620.09,3307.87,null,{"$f":"VLOOKUP(A574,'личные рез-ты по гонкам списком'!$J$1:$N$1645,2,FALSE)","v":"М"},8]
["Молочко Анна / Molochko Anna / 2006",null,null,null,null,null,null,null,null,null,null,null,null,null,null,null,null,204.28,null,null,null,null,null,null,null,null,null,null,204.28,204.28,0,0,0,204.28,null,{"$f":"VLOOKUP(A575,'личные рез-ты по гонкам списком'!$J$1:$N$1645,2,FALSE)","v":"Ж"},1]
["Молочко Николай / Molochko Nikolaj / 2004",null,null,null,null,null,null,null,null,null,null,null,null,null,null,null,null,31.09,null,null,null,null,null,null,null,null,null,null,31.09,31.09,0,0,0,31.09,null,{"$f":"VLOOKUP(A576,'личные рез-ты по гонкам списком'!$J$1:$N$1645,2,FALSE)","v":"М"},1]
["Молочников Дмитрий / Molochnikov Dmitrij / 1984",null,null,null,202.11,null,null,null,null,null,null,null,null,null,null,null,null,null,null,null,null,null,145.06,null,null,null,null,null,347.17,202.11,145.06,0,0,347.17,null,{"$f":"VLOOKUP(A577,'личные рез-ты по гонкам списком'!$J$1:$N$1645,2,FALSE)","v":"М"},2]
["Молчан Александр / Molchan Aleksandr / 1988",null,418.43,null,null,419.81,null,null,null,null,null,null,373.06,null,null,null,335.71,null,null,327.79,null,null,null,329.91,null,null,null,null,2204.71,419.81,418.43,373.06,335.71,1547.01,null,{"$f":"VLOOKUP(A578,'личные рез-ты по гонкам списком'!$J$1:$N$1645,2,FALSE)","v":"М"},6]
["Моргачев Андрей / Morgachev Andrej / 1981",null,null,null,null,null,null,null,null,null,42.97,null,null,null,null,null,null,null,null,null,null,null,null,null,null,null,null,null,42.97,42.97,0,0,0,42.97,null,{"$f":"VLOOKUP(A579,'личные рез-ты по гонкам списком'!$J$1:$N$1645,2,FALSE)","v":"М"},1]
["Мороз Евгений / Moroz Evgenij / 1985",null,null,null,null,null,null,null,null,null,null,79.83,null,null,null,null,null,null,null,null,null,null,null,null,null,null,null,null,79.83,79.83,0,0,0,79.83,null,{"$f":"VLOOKUP(A580,'личные рез-ты по гонкам списком'!$J$1:$N$1645,2,FALSE)","v":"М"},1]
["Мороз Чеслав / Moroz Cheslav / 1959",null,null,null,null,null,null,null,null,null,null,null,null,null,null,null,null,null,null,null,null,null,null,39.590000000000003,null,null,null,null,39.590000000000003,39.590000000000003,0,0,0,39.590000000000003,null,{"$f":"VLOOKUP(A581,'личные рез-ты по гонкам списком'!$J$1:$N$1645,2,FALSE)","v":"М"},1]
["Морозик Юлия / Morozik Yuliya / 1993",null,null,null,null,null,null,null,null,null,null,null,null,null,null,null,null,null,273.68,null,null,null,null,null,null,null,null,null,273.68,{"$f":"LARGE(B582:AB582,1)","v":273.68},{"$f":"IF(COUNT(B582:AB582)=1,0,LARGE(B582:AB582,2))","v":0},{"$f":"IF(COUNT(B582:AB582)<3,0,LARGE(B582:AB582,3))","v":0},{"$f":"IF(COUNT(B582:AB582)<4,0,LARGE(B582:AB582,4))","v":0},{"$f":"SUM(AD582:AG582)","v":273.68},null,{"$f":"VLOOKUP(A582,'личные рез-ты по гонкам списком'!$J$1:$N$1645,2,FALSE)","v":"Ж"},{"$f":"COUNT(B582:AB582)","v":1}]
["Морозова Екатерина / Morozova Ekaterina / 1978",null,125.07,null,null,null,null,null,null,null,null,null,null,null,null,null,null,null,null,null,null,null,null,null,null,null,null,null,125.07,125.07,0,0,0,125.07,null,{"$f":"VLOOKUP(A583,'личные рез-ты по гонкам списком'!$J$1:$N$1645,2,FALSE)","v":"Ж"},1]
["Мосийчук Максим / Mosijchuk Maksim / 1984",null,473.01,null,null,492.82,null,null,null,null,null,null,null,null,null,null,326.12,null,null,null,null,null,376.65,null,null,null,null,null,1668.6,492.82,473.01,376.65,326.12,1668.6,null,{"$f":"VLOOKUP(A584,'личные рез-ты по гонкам списком'!$J$1:$N$1645,2,FALSE)","v":"М"},4]
["Мурашкин Виктор / Murashkin Viktor / 1989",null,null,null,null,null,null,null,null,null,null,null,null,null,null,null,null,null,null,null,null,null,null,356.31,null,null,null,null,356.31,356.31,0,0,0,356.31,null,{"$f":"VLOOKUP(A585,'личные рез-ты по гонкам списком'!$J$1:$N$1645,2,FALSE)","v":"М"},1]
["Мурашкина Галина / Murashkina Galina / 1988",null,300.18,null,null,null,null,null,129.63,null,null,null,null,null,null,null,null,null,null,null,null,null,null,null,null,null,null,null,429.81,300.18,129.63,0,0,429.81,null,{"$f":"VLOOKUP(A586,'личные рез-ты по гонкам списком'!$J$1:$N$1645,2,FALSE)","v":"Ж"},2]
["Мурашов Владимир / Murashov Vladimir / 1983",null,null,null,null,null,null,null,null,108.47,null,null,null,null,null,null,null,null,null,null,null,null,null,null,null,null,null,368.44,476.90999999999997,368.44,108.47,0,0,476.90999999999997,null,{"$f":"VLOOKUP(A587,'личные рез-ты по гонкам списком'!$J$1:$N$1645,2,FALSE)","v":"М"},2]
["Мышковец Василий  / Myshkovets Vasilij  / 1980",null,null,null,null,118.64,null,null,null,null,null,null,null,null,null,null,null,null,null,null,null,null,null,null,null,199.82,null,null,318.45999999999998,199.82,118.64,0,0,318.45999999999998,null,{"$f":"VLOOKUP(A588,'личные рез-ты по гонкам списком'!$J$1:$N$1645,2,FALSE)","v":"М"},2]
["Набоков Дмитрий / Nabokov Dmitrij / 1998",null,null,null,null,null,null,null,null,null,null,null,null,null,null,275.35000000000002,null,null,null,null,null,null,null,null,null,null,null,null,275.35000000000002,275.35000000000002,0,0,0,275.35000000000002,null,{"$f":"VLOOKUP(A589,'личные рез-ты по гонкам списком'!$J$1:$N$1645,2,FALSE)","v":"М"},1]
["Нагорнюк Михаил / Nagornyuk Mihail / 1984",null,null,null,null,null,593.22,null,null,null,null,null,null,null,null,null,null,null,null,null,null,null,null,null,null,null,null,null,593.22,593.22,0,0,0,593.22,null,{"$f":"VLOOKUP(A590,'личные рез-ты по гонкам списком'!$J$1:$N$1645,2,FALSE)","v":"М"},1]
["Насвит Дмитрий / Nasvit Dmitrij / 1986",null,null,null,null,null,null,null,null,null,null,null,427.93,null,null,null,null,null,null,null,null,null,null,null,null,null,null,null,427.93,427.93,0,0,0,427.93,null,{"$f":"VLOOKUP(A591,'личные рез-ты по гонкам списком'!$J$1:$N$1645,2,FALSE)","v":"М"},1]
["Невмержицкая Анна / Nevmerzhitskaya Anna / 1997",null,null,498.27,null,null,194.6,null,307.87,null,null,null,null,null,null,null,null,null,null,null,null,null,null,138.56,null,null,null,null,1139.3,498.27,307.87,194.6,138.56,1139.3,null,{"$f":"VLOOKUP(A592,'личные рез-ты по гонкам списком'!$J$1:$N$1645,2,FALSE)","v":"Ж"},4]
["Недведская Елена / Nedvedskaya Elena / 1986",null,null,null,null,null,null,null,null,null,null,272.25,null,null,null,null,null,195.77,null,null,null,null,null,null,null,null,null,null,468.02,272.25,195.77,0,0,468.02,null,{"$f":"VLOOKUP(A593,'личные рез-ты по гонкам списком'!$J$1:$N$1645,2,FALSE)","v":"Ж"},2]
["Недень Виталий / Neden Vitalij / 1974",null,null,null,null,null,null,null,null,null,null,null,null,null,null,null,null,null,null,null,null,null,null,369.5,null,null,null,null,369.5,369.5,0,0,0,369.5,null,{"$f":"VLOOKUP(A594,'личные рез-ты по гонкам списком'!$J$1:$N$1645,2,FALSE)","v":"М"},1]
["Нежаветс Сергей / Nezhavets Sergej / 1989",null,null,null,null,null,null,null,null,null,180.46,null,null,null,null,null,null,null,null,null,null,null,null,null,null,null,null,null,180.46,180.46,0,0,0,180.46,null,{"$f":"VLOOKUP(A595,'личные рез-ты по гонкам списком'!$J$1:$N$1645,2,FALSE)","v":"М"},1]
["Незнанов Михаил / Neznanov Mihail / 1982",null,null,null,144.36000000000001,null,null,null,null,null,null,106.45,null,null,null,null,null,null,null,null,null,null,139.97,null,null,null,null,null,390.78,144.36000000000001,139.97,106.45,0,390.78000000000003,null,{"$f":"VLOOKUP(A596,'личные рез-ты по гонкам списком'!$J$1:$N$1645,2,FALSE)","v":"М"},3]
["Некрасов Василий / Nekrasov Vasilij / 1986",null,null,null,null,null,null,null,null,null,null,null,null,null,null,null,null,null,null,null,null,null,null,null,null,null,null,715.21,715.21,715.21,0,0,0,715.21,null,{"$f":"VLOOKUP(A597,'личные рез-ты по гонкам списком'!$J$1:$N$1645,2,FALSE)","v":"М"},1]
["Необердина Мария / Neoberdina Mariya / 1987",null,null,null,null,null,null,null,null,null,null,null,null,null,null,165.37,null,null,null,null,213.86,null,null,null,null,null,null,null,379.23,213.86,165.37,0,0,379.23,null,{"$f":"VLOOKUP(A598,'личные рез-ты по гонкам списком'!$J$1:$N$1645,2,FALSE)","v":"Ж"},2]
["Нестеров Андрей / Nesterov Andrej / 1981",null,null,null,230.98,null,null,null,null,null,null,null,null,null,null,null,null,null,null,null,null,null,null,null,null,null,null,null,230.98,230.98,0,0,0,230.98,null,{"$f":"VLOOKUP(A599,'личные рез-ты по гонкам списком'!$J$1:$N$1645,2,FALSE)","v":"М"},1]
["Нестерович Сергей / Nesterovich Sergej / 1994",null,null,null,null,null,null,null,null,null,null,null,null,null,null,null,null,null,null,null,197.99,null,null,null,null,null,640.05999999999995,null,838.05,640.05999999999995,197.99,0,0,838.05,null,{"$f":"VLOOKUP(A600,'личные рез-ты по гонкам списком'!$J$1:$N$1645,2,FALSE)","v":"М"},2]
["Нефедова Оксана / Nefedova Oksana / 1979",null,237.64,null,null,null,null,null,null,null,null,null,null,null,null,null,null,null,null,null,null,null,null,null,null,null,null,null,237.64,237.64,0,0,0,237.64,null,{"$f":"VLOOKUP(A601,'личные рез-ты по гонкам списком'!$J$1:$N$1645,2,FALSE)","v":"Ж"},1]
["Нехайчик Артур / Nehajchik Artur / 1995",null,null,null,null,null,null,null,null,null,null,null,null,null,null,null,null,null,null,null,null,null,201.05,null,null,null,null,null,201.05,201.05,0,0,0,201.05,null,{"$f":"VLOOKUP(A602,'личные рез-ты по гонкам списком'!$J$1:$N$1645,2,FALSE)","v":"М"},1]
["Нехайчик Артур  / Nehajchik Artur  / 1995",null,null,null,null,209.91,null,null,null,null,null,null,null,null,null,null,null,null,null,null,null,null,null,null,null,null,null,null,209.91,209.91,0,0,0,209.91,null,{"$f":"VLOOKUP(A603,'личные рез-ты по гонкам списком'!$J$1:$N$1645,2,FALSE)","v":"М"},1]
["Нехайчик Мария / Nehajchik Mariya / 1995",null,null,null,null,null,null,null,null,null,null,null,null,null,null,107.49,null,null,null,null,null,null,null,null,null,null,null,null,107.49,107.49,0,0,0,107.49,null,{"$f":"VLOOKUP(A604,'личные рез-ты по гонкам списком'!$J$1:$N$1645,2,FALSE)","v":"Ж"},1]
["Нечаев Владимир / Nechaev Vladimir / 1995",null,null,null,null,null,null,null,368.87,null,null,null,null,null,null,249.85,null,null,null,null,null,null,341.02,null,null,null,null,null,959.74,368.87,341.02,249.85,0,959.74,null,{"$f":"VLOOKUP(A605,'личные рез-ты по гонкам списком'!$J$1:$N$1645,2,FALSE)","v":"М"},3]
["Нечай Алексей / Nechaj Aleksej / 1980",null,null,null,null,null,null,null,null,null,null,null,null,null,null,null,null,null,null,null,null,null,null,118.77,null,null,null,null,118.77,118.77,0,0,0,118.77,null,{"$f":"VLOOKUP(A606,'личные рез-ты по гонкам списком'!$J$1:$N$1645,2,FALSE)","v":"М"},1]
["Нещик Алексей / Neschik Aleksej / 1983",null,null,null,null,null,null,null,null,null,null,null,null,null,null,178.47,null,null,null,null,null,null,null,null,null,null,null,null,178.47,178.47,0,0,0,178.47,null,{"$f":"VLOOKUP(A607,'личные рез-ты по гонкам списком'!$J$1:$N$1645,2,FALSE)","v":"М"},1]
["Никеенко Вита / Nikeenko Vita / 1984",null,null,null,null,null,null,null,null,null,null,null,null,null,null,null,null,null,null,null,null,null,null,304.83999999999997,null,null,null,null,304.83999999999997,304.83999999999997,0,0,0,304.83999999999997,null,{"$f":"VLOOKUP(A608,'личные рез-ты по гонкам списком'!$J$1:$N$1645,2,FALSE)","v":"Ж"},1]
["Никитюк Алексей / Nikityuk Aleksej / 1985",null,null,386.19,null,null,null,null,null,null,null,null,null,null,null,null,null,null,null,null,null,null,183.23,null,null,null,null,null,569.41999999999996,386.19,183.23,0,0,569.41999999999996,null,{"$f":"VLOOKUP(A609,'личные рез-ты по гонкам списком'!$J$1:$N$1645,2,FALSE)","v":"М"},2]
["Никифоров Дмитрий / Nikiforov Dmitrij / 1989",null,null,null,null,355.93,null,null,null,null,null,null,null,null,null,null,null,null,209.09,null,null,null,null,null,null,null,null,null,565.02,355.93,209.09,0,0,565.02,null,{"$f":"VLOOKUP(A610,'личные рез-ты по гонкам списком'!$J$1:$N$1645,2,FALSE)","v":"М"},2]
["Николаевич Дмитрий / Nikolaevich Dmitrij / 1999",null,null,null,null,null,null,null,null,null,null,null,null,null,null,295.74,null,null,null,null,null,null,null,null,null,null,null,null,295.74,295.74,0,0,0,295.74,null,{"$f":"VLOOKUP(A611,'личные рез-ты по гонкам списком'!$J$1:$N$1645,2,FALSE)","v":"М"},1]
["Николаевский Станислав / Nikolaevskij Stanislav / 1985",null,null,473.96,null,null,null,null,null,null,null,null,null,null,null,null,null,null,null,null,null,null,null,null,null,null,null,null,473.96,473.96,0,0,0,473.96,null,{"$f":"VLOOKUP(A612,'личные рез-ты по гонкам списком'!$J$1:$N$1645,2,FALSE)","v":"М"},1]
["Никоненко Сергей / Nikonenko Sergej / 1984",null,null,null,null,219.03,null,null,null,null,null,null,null,null,null,null,null,null,null,null,null,null,null,null,null,null,null,null,219.03,219.03,0,0,0,219.03,null,{"$f":"VLOOKUP(A613,'личные рез-ты по гонкам списком'!$J$1:$N$1645,2,FALSE)","v":"М"},1]
["Никонов Максим / Nikonov Maksim / 1979",null,null,null,null,null,null,null,null,null,null,null,438.9,null,null,null,null,null,null,388.5,null,null,369.01,null,null,null,null,null,1196.4099999999999,438.9,388.5,369.01,0,1196.4099999999999,null,{"$f":"VLOOKUP(A614,'личные рез-ты по гонкам списком'!$J$1:$N$1645,2,FALSE)","v":"М"},3]
["Никрашевич Сергей / Nikrashevich Sergej / 1985",null,null,null,null,null,null,null,128.66999999999999,null,null,null,null,null,null,null,null,null,null,null,null,null,null,null,null,null,null,null,128.66999999999999,128.66999999999999,0,0,0,128.66999999999999,null,{"$f":"VLOOKUP(A615,'личные рез-ты по гонкам списком'!$J$1:$N$1645,2,FALSE)","v":"М"},1]
["Новик Анастасия / Novik Anastasiya / 1985",null,null,null,null,272.57,null,null,null,null,null,null,427.93,null,null,null,null,null,null,null,null,null,null,415.69,null,null,null,null,1116.19,427.93,415.69,272.57,0,1116.19,null,{"$f":"VLOOKUP(A616,'личные рез-ты по гонкам списком'!$J$1:$N$1645,2,FALSE)","v":"Ж"},3]
["Новик Олег / Novik Oleg / 1987",null,null,null,null,null,null,null,null,null,null,null,null,null,null,null,null,null,null,null,null,null,173.05,null,null,null,null,null,173.05,173.05,0,0,0,173.05,null,{"$f":"VLOOKUP(A617,'личные рез-ты по гонкам списком'!$J$1:$N$1645,2,FALSE)","v":"М"},1]
["Новиков Денис / Novikov Denis / 1989",null,null,null,null,null,null,null,null,null,null,null,null,null,null,173.37,null,null,327.27,null,null,null,null,null,null,null,null,null,500.64,327.27,173.37,0,0,500.64,null,{"$f":"VLOOKUP(A618,'личные рез-ты по гонкам списком'!$J$1:$N$1645,2,FALSE)","v":"М"},2]
["Новиков Евгений / Novikov Evgenij / 1988",null,null,null,null,null,null,null,null,null,null,null,null,null,null,null,null,null,null,null,141.41999999999999,null,null,null,null,null,null,null,141.41999999999999,141.41999999999999,0,0,0,141.41999999999999,null,{"$f":"VLOOKUP(A619,'личные рез-ты по гонкам списком'!$J$1:$N$1645,2,FALSE)","v":"М"},1]
["Новиков Максим / Novikov Maksim / 1988",null,null,null,null,null,null,null,null,null,null,null,null,null,null,null,null,null,null,null,null,null,null,null,null,169.55,null,null,169.55,169.55,0,0,0,169.55,null,{"$f":"VLOOKUP(A620,'личные рез-ты по гонкам списком'!$J$1:$N$1645,2,FALSE)","v":"М"},1]
["Новикова Анастасия / Novikova Anastasiya / 1992",null,null,null,null,null,null,null,null,null,null,null,null,null,null,null,null,null,null,null,227.65,null,null,null,null,null,null,null,227.65,227.65,0,0,0,227.65,null,{"$f":"VLOOKUP(A621,'личные рез-ты по гонкам списком'!$J$1:$N$1645,2,FALSE)","v":"Ж"},1]
["Новикова Галина  / Novikova Galina  / 1975",null,null,null,null,374.79,null,null,null,null,null,null,null,null,null,null,null,null,null,null,null,null,null,null,null,null,null,null,374.79,374.79,0,0,0,374.79,null,{"$f":"VLOOKUP(A622,'личные рез-ты по гонкам списком'!$J$1:$N$1645,2,FALSE)","v":"Ж"},1]
["Новиченко Антон / Novichenko Anton / 1997",null,null,null,null,null,null,null,null,null,null,null,null,null,null,null,383.67,null,null,null,null,null,null,null,null,null,null,null,383.67,383.67,0,0,0,383.67,null,{"$f":"VLOOKUP(A623,'личные рез-ты по гонкам списком'!$J$1:$N$1645,2,FALSE)","v":"М"},1]
["Новичкова Екатерина  / Novichkova Ekaterina  / 1997",null,null,null,108.81,null,null,null,null,null,null,null,null,null,null,null,null,null,null,null,null,null,null,null,null,null,null,null,108.81,108.81,0,0,0,108.81,null,{"$f":"VLOOKUP(A624,'личные рез-ты по гонкам списком'!$J$1:$N$1645,2,FALSE)","v":"Ж"},1]
["Новікаў Анатоль / Novіkau Anatol / 1984",694.1,null,null,null,null,null,null,null,null,null,null,null,null,null,null,null,null,null,null,null,null,null,null,null,null,null,null,694.1,694.1,0,0,0,694.1,null,{"$f":"VLOOKUP(A625,'личные рез-ты по гонкам списком'!$J$1:$N$1645,2,FALSE)","v":"М"},1]
["Новосяд Владимир / Novosyad Vladimir / 1968",null,54.58,null,null,null,null,null,null,null,null,null,null,null,null,null,null,null,null,null,null,null,null,null,null,null,null,null,54.58,54.58,0,0,0,54.58,null,{"$f":"VLOOKUP(A626,'личные рез-ты по гонкам списком'!$J$1:$N$1645,2,FALSE)","v":"М"},1]
["Обухов Артём / Obuhov Artjom / 1985",null,null,null,null,45.63,null,null,null,null,null,null,null,null,null,null,null,null,27.27,null,null,null,null,null,null,null,null,null,72.900000000000006,45.63,27.27,0,0,72.900000000000006,null,{"$f":"VLOOKUP(A627,'личные рез-ты по гонкам списком'!$J$1:$N$1645,2,FALSE)","v":"М"},2]
["Обухова Екатерина / Obuhova Ekaterina / 1978",null,null,null,null,null,null,null,null,null,null,null,null,null,null,null,null,null,null,null,null,null,null,null,null,null,null,631.62,631.62,631.62,0,0,0,631.62,null,{"$f":"VLOOKUP(A628,'личные рез-ты по гонкам списком'!$J$1:$N$1645,2,FALSE)","v":"Ж"},1]
["Овсиюк Богдан / Ovsiyuk Bogdan / 1993",null,null,null,null,501.95,null,null,null,472.15,null,null,482.79,null,null,null,null,null,null,null,null,null,null,null,null,null,null,null,1456.8899999999999,501.95,482.79,472.15,0,1456.8899999999999,null,{"$f":"VLOOKUP(A629,'личные рез-ты по гонкам списком'!$J$1:$N$1645,2,FALSE)","v":"М"},3]
["Окромешко Антон / Okromeshko Anton / 1990",809.79,null,null,null,null,null,null,null,null,null,null,null,null,null,null,null,null,null,null,null,null,null,null,null,null,null,null,809.79,809.79,0,0,0,809.79,null,{"$f":"VLOOKUP(A630,'личные рез-ты по гонкам списком'!$J$1:$N$1645,2,FALSE)","v":"М"},1]
["Олин Денис / Olin Denis / 1976",null,null,null,null,null,null,null,145.83000000000001,null,null,null,null,null,null,null,null,null,null,null,null,null,null,null,null,null,512.04999999999995,null,657.88,512.04999999999995,145.83000000000001,0,0,657.88,null,{"$f":"VLOOKUP(A631,'личные рез-ты по гонкам списком'!$J$1:$N$1645,2,FALSE)","v":"М"},2]
["Ольгин Василий / Olgin Vasilij / ",null,null,null,96.24,null,null,null,null,null,null,null,null,null,null,null,null,null,null,null,null,null,null,null,null,null,null,null,96.24,96.24,0,0,0,96.24,null,{"$f":"VLOOKUP(A632,'личные рез-ты по гонкам списком'!$J$1:$N$1645,2,FALSE)","v":"М"},1]
["Ольшевский Александр / Olshevskij Aleksandr / 1984",null,null,null,null,null,null,null,null,null,null,null,null,null,null,null,null,null,null,null,null,null,353.74,null,null,null,null,null,353.74,353.74,0,0,0,353.74,null,{"$f":"VLOOKUP(A633,'личные рез-ты по гонкам списком'!$J$1:$N$1645,2,FALSE)","v":"М"},1]
["Орлов Алексей / Orlov Aleksej / 1981",null,null,null,null,null,null,null,null,null,null,null,null,null,null,null,null,null,181.82,null,null,null,null,null,null,null,null,null,181.82,181.82,0,0,0,181.82,null,{"$f":"VLOOKUP(A634,'личные рез-ты по гонкам списком'!$J$1:$N$1645,2,FALSE)","v":"М"},1]
["Орлов Максим / Orlov Maksim / 1990",null,null,null,null,null,null,null,null,null,null,null,null,null,null,null,91.12,null,null,null,null,null,null,null,null,null,null,null,91.12,91.12,0,0,0,91.12,null,{"$f":"VLOOKUP(A635,'личные рез-ты по гонкам списком'!$J$1:$N$1645,2,FALSE)","v":"М"},1]
["Орлова Татьяна / Orlova Tatyana / 1990",null,null,null,null,null,null,null,null,null,null,null,null,null,null,null,null,76.61,null,null,null,null,null,null,null,null,null,null,76.61,76.61,0,0,0,76.61,null,{"$f":"VLOOKUP(A636,'личные рез-ты по гонкам списком'!$J$1:$N$1645,2,FALSE)","v":"Ж"},1]
["Орловский Павел / Orlovskij Pavel / 1989",null,null,null,null,null,null,null,null,350.93,null,319.33999999999997,null,null,null,null,null,null,null,364.22,null,null,null,null,null,null,null,null,1034.49,364.22,350.93,319.33999999999997,0,1034.49,null,{"$f":"VLOOKUP(A637,'личные рез-ты по гонкам списком'!$J$1:$N$1645,2,FALSE)","v":"М"},3]
["Осадчий Константин / Osadchij Konstantin / 1985",null,null,null,null,null,null,921.29,null,null,null,null,null,null,null,null,null,null,null,null,null,null,null,null,null,null,null,null,921.29,921.29,0,0,0,921.29,null,{"$f":"VLOOKUP(A638,'личные рез-ты по гонкам списком'!$J$1:$N$1645,2,FALSE)","v":"М"},1]
["Осипенко Александр / Osipenko Aleksandr / 1977",null,null,null,null,383.31,null,null,null,null,null,null,null,null,null,null,null,null,null,null,null,null,null,null,null,null,null,null,383.31,383.31,0,0,0,383.31,null,{"$f":"VLOOKUP(A639,'личные рез-ты по гонкам списком'!$J$1:$N$1645,2,FALSE)","v":"М"},1]
["Осипук Дмитрий / Osipuk Dmitrij / 1980",null,null,null,null,null,null,null,null,null,null,null,null,null,null,null,null,null,null,null,null,248.21,null,null,null,null,null,null,248.21,248.21,0,0,0,248.21,null,{"$f":"VLOOKUP(A640,'личные рез-ты по гонкам списком'!$J$1:$N$1645,2,FALSE)","v":"М"},1]
["Осокина Наталья / Osokina Natalya / 1982",null,null,null,98.91,null,null,null,null,null,null,null,null,null,null,null,null,null,null,null,null,null,null,null,null,null,null,null,98.91,98.91,0,0,0,98.91,null,{"$f":"VLOOKUP(A641,'личные рез-ты по гонкам списком'!$J$1:$N$1645,2,FALSE)","v":"Ж"},1]
["Остапов Владимир / Ostapov Vladimir / 1977",null,null,null,null,null,null,null,null,370.07,null,null,null,null,null,null,null,null,null,null,null,null,null,null,447.85,null,null,null,817.92000000000007,447.85,370.07,0,0,817.92000000000007,null,{"$f":"VLOOKUP(A642,'личные рез-ты по гонкам списком'!$J$1:$N$1645,2,FALSE)","v":"М"},2]
["Остаповец Евгений / Ostapovets Evgenij / 1990",null,null,null,null,null,null,null,null,395.59,null,null,null,null,null,239.65,null,null,null,null,null,null,null,349.71,null,null,null,null,984.95,395.59,349.71,239.65,0,984.94999999999993,null,{"$f":"VLOOKUP(A643,'личные рез-ты по гонкам списком'!$J$1:$N$1645,2,FALSE)","v":"М"},3]
["Остапюк Андрей / Ostapyuk Andrej / 1990",null,null,null,null,null,null,null,null,null,null,null,null,null,null,null,null,null,null,null,null,null,328.3,null,null,null,null,null,328.3,328.3,0,0,0,328.3,null,{"$f":"VLOOKUP(A644,'личные рез-ты по гонкам списком'!$J$1:$N$1645,2,FALSE)","v":"М"},1]
["Остапюк Анна / Ostapyuk Anna / 2000",null,null,null,null,null,null,null,null,null,null,null,null,null,null,null,null,null,null,null,null,null,null,null,null,181.66,null,null,181.66,181.66,0,0,0,181.66,null,{"$f":"VLOOKUP(A645,'личные рез-ты по гонкам списком'!$J$1:$N$1645,2,FALSE)","v":"Ж"},1]
["Островцов Александр / Ostrovtsov Aleksandr / 1988",null,36.39,null,null,null,null,null,null,null,null,null,null,null,null,null,null,null,null,null,null,null,null,null,null,null,null,null,36.39,{"$f":"LARGE(B646:AB646,1)","v":36.39},{"$f":"IF(COUNT(B646:AB646)=1,0,LARGE(B646:AB646,2))","v":0},{"$f":"IF(COUNT(B646:AB646)<3,0,LARGE(B646:AB646,3))","v":0},{"$f":"IF(COUNT(B646:AB646)<4,0,LARGE(B646:AB646,4))","v":0},{"$f":"SUM(AD646:AG646)","v":36.39},null,{"$f":"VLOOKUP(A646,'личные рез-ты по гонкам списком'!$J$1:$N$1645,2,FALSE)","v":"М"},{"$f":"COUNT(B646:AB646)","v":1}]
["Островцова Марина / Ostrovtsova Marina / 1987",null,187.61,null,null,null,null,null,null,null,null,null,null,null,null,null,null,null,null,null,null,null,null,null,null,null,null,null,187.61,187.61,0,0,0,187.61,null,{"$f":"VLOOKUP(A647,'личные рез-ты по гонкам списком'!$J$1:$N$1645,2,FALSE)","v":"Ж"},1]
["Охотникова Екатерина  / Ohotnikova Ekaterina  / 1968",null,null,null,9.89,null,null,null,null,null,null,null,null,null,null,null,null,null,null,null,null,null,null,null,null,null,null,null,9.89,9.89,0,0,0,9.89,null,{"$f":"VLOOKUP(A648,'личные рез-ты по гонкам списком'!$J$1:$N$1645,2,FALSE)","v":"Ж"},1]
["Павленко Юрий / Pavlenko Yurij / 1983",null,null,null,null,null,null,null,325.98,null,null,null,null,null,null,null,null,null,null,null,null,null,null,422.29,null,null,null,null,748.27,422.29,325.98,0,0,748.27,null,{"$f":"VLOOKUP(A649,'личные рез-ты по гонкам списком'!$J$1:$N$1645,2,FALSE)","v":"М"},2]
["Павлов Александр / Pavlov Aleksandr / 1992",null,null,null,null,null,null,null,null,null,null,6.65,null,null,null,null,null,null,null,null,null,null,null,null,null,null,null,null,6.65,6.65,0,0,0,6.65,null,{"$f":"VLOOKUP(A650,'личные рез-ты по гонкам списком'!$J$1:$N$1645,2,FALSE)","v":"М"},1]
["Павлова Анна / Pavlova Anna / 1992",null,null,null,null,null,null,null,null,null,null,null,null,null,null,198.45,null,null,null,null,null,null,null,null,null,null,null,null,198.45,198.45,0,0,0,198.45,null,{"$f":"VLOOKUP(A651,'личные рез-ты по гонкам списком'!$J$1:$N$1645,2,FALSE)","v":"Ж"},1]
["Павловская Светлана / Pavlovskaya Svetlana / 1984",null,null,null,null,null,null,null,null,null,null,300.91000000000003,null,null,null,173.64,null,null,null,null,null,null,186.63,null,null,null,null,null,661.18000000000006,300.91000000000003,186.63,173.64,0,661.18000000000006,null,{"$f":"VLOOKUP(A652,'личные рез-ты по гонкам списком'!$J$1:$N$1645,2,FALSE)","v":"Ж"},3]
["Пак Олег / Pak Oleg / 1977",null,null,null,null,346.8,null,null,null,null,null,null,null,null,null,null,null,null,null,null,null,null,null,263.93,null,null,null,null,610.73,346.8,263.93,0,0,610.73,null,{"$f":"VLOOKUP(A653,'личные рез-ты по гонкам списком'!$J$1:$N$1645,2,FALSE)","v":"М"},2]
["Пак Юлия  / Pak Yuliya  / 1984",null,null,null,39.57,null,null,null,null,null,null,null,null,null,null,null,null,null,null,null,null,null,null,null,null,null,null,null,39.57,39.57,0,0,0,39.57,null,{"$f":"VLOOKUP(A654,'личные рез-ты по гонкам списком'!$J$1:$N$1645,2,FALSE)","v":"Ж"},1]
["Палий Андрей / Palij Andrej / 1984",null,363.85,null,null,null,175.77,null,null,null,171.86,null,null,null,null,null,215.81,null,null,206.39,null,104.51,null,217.74,null,null,null,null,1455.9299999999998,363.85,217.74,215.81,206.39,1003.7900000000001,null,{"$f":"VLOOKUP(A655,'личные рез-ты по гонкам списком'!$J$1:$N$1645,2,FALSE)","v":"М"},7]
["Пальвинская Валерия / Palvinskaya Valeriya / 1996",null,null,221.45,null,null,null,null,null,null,null,null,null,null,null,null,null,null,null,null,null,null,null,null,null,null,null,null,221.45,221.45,0,0,0,221.45,null,{"$f":"VLOOKUP(A656,'личные рез-ты по гонкам списком'!$J$1:$N$1645,2,FALSE)","v":"Ж"},1]
["Панковец Николай / Pankovets Nikolaj / 1979",null,null,null,null,null,null,null,162.99,null,null,null,null,null,null,null,null,null,null,null,null,null,null,null,null,null,null,null,162.99,162.99,0,0,0,162.99,null,{"$f":"VLOOKUP(A657,'личные рез-ты по гонкам списком'!$J$1:$N$1645,2,FALSE)","v":"М"},1]
["Панфилов Сергей  / Panfilov Sergej  / 1975",null,null,null,null,109.52,null,null,null,null,null,null,null,null,null,null,null,null,null,null,null,null,null,null,null,null,null,null,109.52,109.52,0,0,0,109.52,null,{"$f":"VLOOKUP(A658,'личные рез-ты по гонкам списком'!$J$1:$N$1645,2,FALSE)","v":"М"},1]
["Паплёвка Иван / Papljovka Ivan / 1990",null,null,null,336.84,null,null,null,null,null,null,null,null,null,null,null,null,null,null,null,null,null,null,null,null,272.49,null,null,609.32999999999993,336.84,272.49,0,0,609.32999999999993,null,{"$f":"VLOOKUP(A659,'личные рез-ты по гонкам списком'!$J$1:$N$1645,2,FALSE)","v":"М"},2]
["Паранок Полина / Paranok Polina / 1984",null,null,null,null,null,null,null,null,null,null,null,null,null,null,null,null,null,null,null,null,null,null,null,null,158.94999999999999,null,null,158.94999999999999,158.94999999999999,0,0,0,158.94999999999999,null,{"$f":"VLOOKUP(A660,'личные рез-ты по гонкам списком'!$J$1:$N$1645,2,FALSE)","v":"Ж"},1]
["Пархимович Ирина / Parhimovich Irina / 1988",null,null,null,null,null,null,null,null,null,null,null,null,null,null,214.99,null,null,null,null,null,null,null,null,null,null,null,null,214.99,214.99,0,0,0,214.99,null,{"$f":"VLOOKUP(A661,'личные рез-ты по гонкам списком'!$J$1:$N$1645,2,FALSE)","v":"Ж"},1]
["Пашкевич Павел / Pashkevich Pavel / 1984",null,null,null,null,null,null,null,null,null,null,null,null,null,null,null,null,null,null,null,null,null,30.54,null,null,null,null,null,30.54,30.54,0,0,0,30.54,null,{"$f":"VLOOKUP(A662,'личные рез-ты по гонкам списком'!$J$1:$N$1645,2,FALSE)","v":"М"},1]
["Пенько Фёдор / Penko Fjodor / 1987",null,null,null,null,null,null,null,null,null,null,null,null,null,null,null,null,null,null,null,null,null,null,296.92,null,null,null,null,296.92,296.92,0,0,0,296.92,null,{"$f":"VLOOKUP(A663,'личные рез-ты по гонкам списком'!$J$1:$N$1645,2,FALSE)","v":"М"},1]
["Переходько Виктор / Perehodko Viktor / 1969",null,null,null,null,null,null,null,null,null,null,null,null,null,null,null,null,null,null,null,null,null,null,null,null,181.66,null,null,181.66,181.66,0,0,0,181.66,null,{"$f":"VLOOKUP(A664,'личные рез-ты по гонкам списком'!$J$1:$N$1645,2,FALSE)","v":"М"},1]
["Петкевич Лилия / Petkevich Liliya / 1990",null,null,null,null,null,null,null,81.02,null,null,null,null,null,null,null,null,null,null,null,null,null,null,null,null,17.03,null,null,98.05,81.02,17.03,0,0,98.05,null,{"$f":"VLOOKUP(A665,'личные рез-ты по гонкам списком'!$J$1:$N$1645,2,FALSE)","v":"Ж"},2]
["Петкевич Юлия / Petkevich Yuliya / 1968",null,null,null,null,null,null,null,null,null,null,null,null,null,null,null,null,null,null,null,null,null,null,null,null,11.35,null,null,11.35,11.35,0,0,0,11.35,null,{"$f":"VLOOKUP(A666,'личные рез-ты по гонкам списком'!$J$1:$N$1645,2,FALSE)","v":"Ж"},1]
["Петров Андрей / Petrov Andrej / 1970",null,null,null,null,null,null,null,null,null,null,null,null,null,null,null,null,null,null,null,null,null,17.809999999999999,null,null,null,null,null,17.809999999999999,17.809999999999999,0,0,0,17.809999999999999,null,{"$f":"VLOOKUP(A667,'личные рез-ты по гонкам списком'!$J$1:$N$1645,2,FALSE)","v":"М"},1]
["Пехтерев Сергей / Pehterev Sergej / 1979",null,null,null,86.62,null,null,null,null,null,94.52,null,null,null,null,null,null,null,null,null,null,null,78.89,null,null,null,null,null,260.02999999999997,94.52,86.62,78.89,0,260.02999999999997,null,{"$f":"VLOOKUP(A668,'личные рез-ты по гонкам списком'!$J$1:$N$1645,2,FALSE)","v":"М"},3]
["Пехтерева Татьяна / Pehtereva Tatyana / 1987",null,null,null,178.04,null,null,null,null,null,309.35000000000002,null,null,null,null,null,null,null,400,null,null,null,391.92,null,null,null,null,null,1279.31,400,391.92,309.35000000000002,178.04,1279.31,null,{"$f":"VLOOKUP(A669,'личные рез-ты по гонкам списком'!$J$1:$N$1645,2,FALSE)","v":"Ж"},4]
["Печёнов Георгий / Pechjonov Georgij / 1975",null,null,null,null,374.18,null,null,291.66000000000003,null,null,null,241.39,null,null,null,null,null,null,null,null,null,null,null,null,null,null,130.04,1037.27,374.18,291.66000000000003,241.39,130.04,1037.27,null,{"$f":"VLOOKUP(A670,'личные рез-ты по гонкам списком'!$J$1:$N$1645,2,FALSE)","v":"М"},4]
["Пешков Кирилл / Peshkov Kirill / 1989",null,null,null,null,410.69,null,null,null,null,null,null,null,null,null,null,null,null,null,null,null,null,null,null,null,null,null,null,410.69,410.69,0,0,0,410.69,null,{"$f":"VLOOKUP(A671,'личные рез-ты по гонкам списком'!$J$1:$N$1645,2,FALSE)","v":"М"},1]
["Пивень Андрей / Piven Andrej / 1992",null,null,null,null,null,null,null,null,null,null,null,null,null,null,null,null,null,null,null,null,null,null,null,null,null,1066.77,null,1066.77,1066.77,0,0,0,1066.77,null,{"$f":"VLOOKUP(A672,'личные рез-ты по гонкам списком'!$J$1:$N$1645,2,FALSE)","v":"М"},1]
["Пигулевский Денис / Pigulevskij Denis / 1990",null,null,null,null,null,null,null,null,null,null,null,null,null,null,null,null,null,null,null,null,null,226.5,null,null,null,null,null,226.5,226.5,0,0,0,226.5,null,{"$f":"VLOOKUP(A673,'личные рез-ты по гонкам списком'!$J$1:$N$1645,2,FALSE)","v":"М"},1]
["Пилецкий Максим / Piletskij Maksim / 1991",null,null,null,null,null,null,null,null,null,null,null,null,null,null,40.79,null,null,36.36,null,null,null,63.62,null,null,null,null,null,140.77000000000001,63.62,40.79,36.36,0,140.76999999999998,null,{"$f":"VLOOKUP(A674,'личные рез-ты по гонкам списком'!$J$1:$N$1645,2,FALSE)","v":"М"},3]
["Пилипейко Дарья / Pilipejko Darya / 1999",null,null,null,null,null,null,null,null,null,null,null,null,null,null,null,null,null,null,null,null,null,null,null,null,249.78,null,null,249.78,249.78,0,0,0,249.78,null,{"$f":"VLOOKUP(A675,'личные рез-ты по гонкам списком'!$J$1:$N$1645,2,FALSE)","v":"Ж"},1]
["Пиньковская Ирина / Pinkovskaya Irina / 1986",null,null,null,null,null,null,null,null,null,null,null,null,null,null,null,null,229.82,null,null,null,null,null,null,null,null,null,null,229.82,229.82,0,0,0,229.82,null,{"$f":"VLOOKUP(A676,'личные рез-ты по гонкам списком'!$J$1:$N$1645,2,FALSE)","v":"Ж"},1]
["Писаренко Андрей / Pisarenko Andrej / 1957",null,null,null,null,null,null,null,null,216.94,null,null,null,null,null,null,null,null,null,null,null,null,null,null,null,null,null,null,216.94,216.94,0,0,0,216.94,null,{"$f":"VLOOKUP(A677,'личные рез-ты по гонкам списком'!$J$1:$N$1645,2,FALSE)","v":"М"},1]
["Писарик Маргарита  / Pisarik Margarita  / 1988",null,null,null,148.37,null,null,null,null,null,null,null,null,null,null,null,null,null,null,null,null,null,null,null,null,null,null,null,148.37,148.37,0,0,0,148.37,null,{"$f":"VLOOKUP(A678,'личные рез-ты по гонкам списком'!$J$1:$N$1645,2,FALSE)","v":"Ж"},1]
["Питкевич Екатерина / Pitkevich Ekaterina / 1984",null,null,null,null,null,null,null,null,null,null,null,null,null,null,null,null,null,null,null,262.14999999999998,null,null,null,null,null,null,null,262.14999999999998,262.14999999999998,0,0,0,262.14999999999998,null,{"$f":"VLOOKUP(A679,'личные рез-ты по гонкам списком'!$J$1:$N$1645,2,FALSE)","v":"Ж"},1]
["Пісарчык Сяргей / Pіsarchyk Syargej / 1980",null,null,null,null,null,null,null,null,null,null,null,null,null,null,null,374.07,null,null,null,null,null,null,null,null,null,null,null,374.07,374.07,0,0,0,374.07,null,{"$f":"VLOOKUP(A680,'личные рез-ты по гонкам списком'!$J$1:$N$1645,2,FALSE)","v":"М"},1]
["Плодунов Захар / Plodunov Zahar / 1993",null,491.2,null,346.47,null,null,null,null,null,null,null,null,null,null,null,null,null,null,null,null,null,null,null,null,null,null,null,837.67000000000007,491.2,346.47,0,0,837.67000000000007,null,{"$f":"VLOOKUP(A681,'личные рез-ты по гонкам списком'!$J$1:$N$1645,2,FALSE)","v":"М"},2]
["Побединский Александр / Pobedinskij Aleksandr / 1983",867.63,null,null,null,null,null,855.48,null,null,null,null,null,null,null,null,null,null,null,null,null,null,null,null,null,null,null,null,1723.1100000000001,867.63,855.48,0,0,1723.1100000000001,null,{"$f":"VLOOKUP(A682,'личные рез-ты по гонкам списком'!$J$1:$N$1645,2,FALSE)","v":"М"},2]
["Поволоцкая Кристина / Povolotskaya Kristina / 1990",null,25.01,null,null,null,null,null,null,null,null,null,null,null,null,null,null,null,null,null,null,null,null,null,null,null,null,null,25.01,25.01,0,0,0,25.01,null,{"$f":"VLOOKUP(A683,'личные рез-ты по гонкам списком'!$J$1:$N$1645,2,FALSE)","v":"Ж"},1]
["Поволоцкий Даниил / Povolotskij Daniil / 1990",null,9.1,null,null,null,null,null,null,null,null,null,null,null,null,null,null,null,null,null,null,null,null,null,null,null,null,null,9.1,9.1,0,0,0,9.1,null,{"$f":"VLOOKUP(A684,'личные рез-ты по гонкам списком'!$J$1:$N$1645,2,FALSE)","v":"М"},1]
["Подайко Владимир / Podajko Vladimir / 1994",null,null,null,null,null,null,null,null,null,null,null,null,null,null,null,null,null,null,null,null,null,null,230.94,null,null,null,null,230.94,230.94,0,0,0,230.94,null,{"$f":"VLOOKUP(A685,'личные рез-ты по гонкам списком'!$J$1:$N$1645,2,FALSE)","v":"М"},1]
["Подосетников Андрей / Podosetnikov Andrej / 1976",null,null,null,null,null,null,null,null,null,null,null,null,null,null,null,null,null,127.27,null,null,null,null,409.09,null,null,null,null,536.36,409.09,127.27,0,0,536.36,null,{"$f":"VLOOKUP(A686,'личные рез-ты по гонкам списком'!$J$1:$N$1645,2,FALSE)","v":"М"},2]
["Подрез Ярослав / Podrez Yaroslav / 1996",null,null,null,null,null,null,null,null,242.46,null,null,null,null,null,null,254.18,null,null,null,null,null,null,null,null,null,853.42,null,1350.06,853.42,254.18,242.46,0,1350.06,null,{"$f":"VLOOKUP(A687,'личные рез-ты по гонкам списком'!$J$1:$N$1645,2,FALSE)","v":"М"},3]
["Позднева Мария / Pozdneva Mariya / 2001",null,null,null,null,null,null,null,null,null,null,null,null,null,null,null,null,null,null,null,144.87,null,null,null,null,198.69,null,null,343.56,198.69,144.87,0,0,343.56,null,{"$f":"VLOOKUP(A688,'личные рез-ты по гонкам списком'!$J$1:$N$1645,2,FALSE)","v":"Ж"},2]
["Позняк Анна / Poznyak Anna / 2000",null,null,null,null,null,null,null,null,null,null,null,null,null,null,null,null,null,null,null,null,null,null,null,null,62.45,null,null,62.45,62.45,0,0,0,62.45,null,{"$f":"VLOOKUP(A689,'личные рез-ты по гонкам списком'!$J$1:$N$1645,2,FALSE)","v":"Ж"},1]
["Позняк Лидия / Poznyak Lidiya / 2002",null,null,null,null,null,null,null,null,null,null,null,null,null,null,null,null,null,null,null,27.59,null,null,null,null,null,null,null,27.59,27.59,0,0,0,27.59,null,{"$f":"VLOOKUP(A690,'личные рез-ты по гонкам списком'!$J$1:$N$1645,2,FALSE)","v":"Ж"},1]
["Покульницкий Алексей / Pokulnitskij Aleksej / 1988",null,null,175.54,null,null,null,null,null,null,null,null,null,null,null,null,23.98,null,null,null,null,null,null,null,null,null,null,null,199.51999999999998,175.54,23.98,0,0,199.51999999999998,null,{"$f":"VLOOKUP(A691,'личные рез-ты по гонкам списком'!$J$1:$N$1645,2,FALSE)","v":"М"},2]
["Полещук Татьяна / Poleschuk Tatyana / 1988",694.1,null,null,null,null,null,null,null,null,null,null,null,null,null,null,null,null,null,null,null,null,null,null,null,null,null,null,694.1,694.1,0,0,0,694.1,null,{"$f":"VLOOKUP(A692,'личные рез-ты по гонкам списком'!$J$1:$N$1645,2,FALSE)","v":"Ж"},1]
["Полторан Валерий / Poltoran Valerij / 1988",null,null,null,null,null,null,null,null,null,null,null,null,null,null,null,null,null,null,null,null,null,379.19,null,null,null,null,null,379.19,379.19,0,0,0,379.19,null,{"$f":"VLOOKUP(A693,'личные рез-ты по гонкам списком'!$J$1:$N$1645,2,FALSE)","v":"М"},1]
["Полякова Анна / Polyakova Anna / 1987",null,312.69,null,89.02,null,null,null,null,null,244.91,229.27,null,null,null,190.18,null,null,null,null,null,null,null,null,null,null,null,null,1066.07,312.69,244.91,229.27,190.18,977.05,null,{"$f":"VLOOKUP(A694,'личные рез-ты по гонкам списком'!$J$1:$N$1645,2,FALSE)","v":"Ж"},5]
["Попадюк Виктория  / Popadyuk Viktoriya  / 1985",null,null,null,217.61,null,null,null,null,null,null,null,null,null,null,null,null,null,null,null,null,null,null,null,null,null,null,null,217.61,217.61,0,0,0,217.61,null,{"$f":"VLOOKUP(A695,'личные рез-ты по гонкам списком'!$J$1:$N$1645,2,FALSE)","v":"Ж"},1]
["Попадюк Игорь / Popadyuk Igor / 1982",null,null,631.95000000000005,null,null,549.28,null,null,344.54,null,null,null,535.71,null,null,196.63,null,null,267.08999999999997,null,null,null,null,null,null,null,null,2525.2000000000003,631.95000000000005,549.28,535.71,344.54,2061.48,null,{"$f":"VLOOKUP(A696,'личные рез-ты по гонкам списком'!$J$1:$N$1645,2,FALSE)","v":"М"},6]
["Попков Виталий / Popkov Vitalij / 1981",null,null,null,null,null,null,null,null,null,null,null,null,null,null,null,null,null,null,null,null,null,43.26,null,null,null,null,null,43.26,43.26,0,0,0,43.26,null,{"$f":"VLOOKUP(A697,'личные рез-ты по гонкам списком'!$J$1:$N$1645,2,FALSE)","v":"М"},1]
["Попов Александр / Popov Aleksandr / 1986",null,null,null,null,null,null,null,null,null,null,null,null,null,null,null,302.14,null,null,null,null,null,null,534.46,null,null,null,null,836.6,534.46,302.14,0,0,836.6,null,{"$f":"VLOOKUP(A698,'личные рез-ты по гонкам списком'!$J$1:$N$1645,2,FALSE)","v":"М"},2]
["Попов Юрий / Popov Yurij / 1969",null,null,702.17,null,null,null,null,null,null,null,null,null,null,null,null,null,null,null,null,null,null,null,null,516.74,null,null,null,1218.9099999999999,702.17,516.74,0,0,1218.9099999999999,null,{"$f":"VLOOKUP(A699,'личные рез-ты по гонкам списком'!$J$1:$N$1645,2,FALSE)","v":"М"},2]
["Постников Михаил / Postnikov Mihail / 1984",null,null,null,null,null,null,null,null,null,null,null,null,null,null,null,null,null,null,null,28.28,null,null,null,null,null,null,null,28.28,28.28,0,0,0,28.28,null,{"$f":"VLOOKUP(A700,'личные рез-ты по гонкам списком'!$J$1:$N$1645,2,FALSE)","v":"М"},1]
["Постникова Ольга / Postnikova Olga / 1990",null,null,null,null,null,null,null,null,null,null,null,null,null,null,null,null,null,null,null,48.29,null,null,null,null,null,null,null,48.29,48.29,0,0,0,48.29,null,{"$f":"VLOOKUP(A701,'личные рез-ты по гонкам списком'!$J$1:$N$1645,2,FALSE)","v":"Ж"},1]
["Потапов Сергей / Potapov Sergej / 1988",null,null,null,null,null,null,null,null,null,240.61,null,null,null,null,null,null,null,null,null,null,null,null,null,null,null,null,null,240.61,240.61,0,0,0,240.61,null,{"$f":"VLOOKUP(A702,'личные рез-ты по гонкам списком'!$J$1:$N$1645,2,FALSE)","v":"М"},1]
["Похолкин Александр / Poholkin Aleksandr / 1988",null,null,null,null,null,null,null,null,null,null,null,null,null,null,null,null,null,null,null,null,null,175.6,null,null,null,null,null,175.6,175.6,0,0,0,175.6,null,{"$f":"VLOOKUP(A703,'личные рез-ты по гонкам списком'!$J$1:$N$1645,2,FALSE)","v":"М"},1]
["Поцелуев Сергей / Potseluev Sergej / 1973",null,null,null,null,null,null,null,null,null,null,null,null,null,null,null,null,null,null,null,null,null,null,null,null,null,null,433.46,433.46,433.46,0,0,0,433.46,null,{"$f":"VLOOKUP(A704,'личные рез-ты по гонкам списком'!$J$1:$N$1645,2,FALSE)","v":"М"},1]
["Почиковский Павел / Pochikovskij Pavel / 1985",null,null,null,null,null,null,null,null,null,null,null,null,null,null,null,null,null,null,null,null,null,348.65,null,null,null,null,null,348.65,348.65,0,0,0,348.65,null,{"$f":"VLOOKUP(A705,'личные рез-ты по гонкам списком'!$J$1:$N$1645,2,FALSE)","v":"М"},1]
["Прищепа Сергей / Prischepa Sergej / 1985",null,null,null,null,91.26,null,null,null,null,null,null,null,null,null,null,null,null,null,null,null,null,null,null,null,null,null,null,91.26,91.26,0,0,0,91.26,null,{"$f":"VLOOKUP(A706,'личные рез-ты по гонкам списком'!$J$1:$N$1645,2,FALSE)","v":"М"},1]
["Прокопенко Анна / Prokopenko Anna / 1980",null,50.03,null,null,null,null,null,null,null,null,null,null,null,null,null,null,null,null,null,null,null,null,null,null,null,null,null,50.03,50.03,0,0,0,50.03,null,{"$f":"VLOOKUP(A707,'личные рез-ты по гонкам списком'!$J$1:$N$1645,2,FALSE)","v":"Ж"},1]
["Прокопович Ростислав / Prokopovich Rostislav / 1982",null,null,596.84,null,null,null,null,null,null,null,null,null,null,null,null,null,null,null,null,null,null,null,null,null,null,null,null,596.84,596.84,0,0,0,596.84,null,{"$f":"VLOOKUP(A708,'личные рез-ты по гонкам списком'!$J$1:$N$1645,2,FALSE)","v":"М"},1]
["Прохоренко Дмитрий / Prohorenko Dmitrij / 1981",null,null,null,240.6,null,null,null,null,null,null,null,null,null,null,null,null,null,null,null,null,null,206.14,null,null,null,null,null,446.74,240.6,206.14,0,0,446.74,null,{"$f":"VLOOKUP(A709,'личные рез-ты по гонкам списком'!$J$1:$N$1645,2,FALSE)","v":"М"},2]
["Птицына Оксана / Ptitsyna Oksana / 1976",null,null,null,null,null,null,null,null,null,null,null,null,null,null,null,null,null,null,null,null,null,null,null,null,5.68,null,null,5.68,{"$f":"LARGE(B710:AB710,1)","v":5.68},{"$f":"IF(COUNT(B710:AB710)=1,0,LARGE(B710:AB710,2))","v":0},{"$f":"IF(COUNT(B710:AB710)<3,0,LARGE(B710:AB710,3))","v":0},{"$f":"IF(COUNT(B710:AB710)<4,0,LARGE(B710:AB710,4))","v":0},{"$f":"SUM(AD710:AG710)","v":5.68},null,{"$f":"VLOOKUP(A710,'личные рез-ты по гонкам списком'!$J$1:$N$1645,2,FALSE)","v":"Ж"},{"$f":"COUNT(B710:AB710)","v":1}]
["Пугач Вадим / Pugach Vadim / 1985",null,null,null,null,null,null,null,205.88,null,null,null,null,null,null,null,null,null,null,null,null,null,null,null,null,null,null,null,205.88,205.88,0,0,0,205.88,null,{"$f":"VLOOKUP(A711,'личные рез-ты по гонкам списком'!$J$1:$N$1645,2,FALSE)","v":"М"},1]
["Пузаревский Роман / Puzarevskij Roman / 1994",null,null,null,null,null,null,null,360.29,null,null,null,null,null,null,null,null,null,null,null,null,null,null,null,null,null,null,null,360.29,360.29,0,0,0,360.29,null,{"$f":"VLOOKUP(A712,'личные рез-ты по гонкам списком'!$J$1:$N$1645,2,FALSE)","v":"М"},1]
["Пухаева Светлана / Puhaeva Svetlana / 1980",null,325.19,null,null,null,null,null,372.68,null,null,null,null,null,null,null,null,null,null,null,null,null,null,249.42,null,null,null,null,947.29,372.68,325.19,249.42,0,947.29,null,{"$f":"VLOOKUP(A713,'личные рез-ты по гонкам списком'!$J$1:$N$1645,2,FALSE)","v":"Ж"},3]
["Пучик Александр / Puchik Aleksandr / 1983",null,null,509.07,null,null,null,null,null,null,null,null,null,null,null,null,null,null,null,null,null,null,null,null,null,null,null,null,509.07,509.07,0,0,0,509.07,null,{"$f":"VLOOKUP(A714,'личные рез-ты по гонкам списком'!$J$1:$N$1645,2,FALSE)","v":"М"},1]
["Пыжик Антон / Pyzhik Anton / 1991",null,null,null,null,null,null,null,null,null,null,null,null,null,null,null,null,null,null,null,null,null,251.95,null,null,null,null,null,251.95,251.95,0,0,0,251.95,null,{"$f":"VLOOKUP(A715,'личные рез-ты по гонкам списком'!$J$1:$N$1645,2,FALSE)","v":"М"},1]
["Рагойша Пётр / Ragojsha Pjotr / 1976",null,null,null,null,null,null,null,null,null,null,null,null,null,834.85,null,206.22,null,null,null,null,null,null,null,null,null,null,null,1041.07,834.85,206.22,0,0,1041.07,null,{"$f":"VLOOKUP(A716,'личные рез-ты по гонкам списком'!$J$1:$N$1645,2,FALSE)","v":"М"},2]
["Радиончик Александр / Radionchik Aleksandr / 1971",null,null,null,null,null,null,null,null,null,null,null,null,null,null,null,null,null,null,null,null,null,109.43,null,null,null,null,null,109.43,109.43,0,0,0,109.43,null,{"$f":"VLOOKUP(A717,'личные рез-ты по гонкам списком'!$J$1:$N$1645,2,FALSE)","v":"М"},1]
["Радиончик Александр / Radionchik Aleksandr / 1985",null,null,315.98,null,null,null,null,null,null,null,null,164.59,null,null,null,62.35,null,null,null,null,null,null,null,null,null,null,null,542.92000000000007,315.98,164.59,62.35,0,542.92000000000007,null,{"$f":"VLOOKUP(A718,'личные рез-ты по гонкам списком'!$J$1:$N$1645,2,FALSE)","v":"М"},3]
["Радчук Алеся / Radchuk Alesya / 1996",null,null,null,null,null,null,null,null,null,null,null,null,null,null,null,null,null,null,null,null,null,null,null,null,null,null,473.71,473.71,473.71,0,0,0,473.71,null,{"$f":"VLOOKUP(A719,'личные рез-ты по гонкам списком'!$J$1:$N$1645,2,FALSE)","v":"Ж"},1]
["Рак Дмитрий / Rak Dmitrij / 1992",null,null,null,null,null,null,null,null,null,null,null,null,null,null,null,null,null,145.44999999999999,null,null,null,null,null,null,null,null,null,145.44999999999999,145.44999999999999,0,0,0,145.44999999999999,null,{"$f":"VLOOKUP(A720,'личные рез-ты по гонкам списком'!$J$1:$N$1645,2,FALSE)","v":"М"},1]
["Ракомсин Юрий / Rakomsin Yurij / 1983",null,null,null,null,null,null,null,null,null,null,null,null,null,null,null,null,null,54.55,null,null,null,null,null,null,null,null,null,54.55,54.55,0,0,0,54.55,null,{"$f":"VLOOKUP(A721,'личные рез-ты по гонкам списком'!$J$1:$N$1645,2,FALSE)","v":"М"},1]
["Рачковский Николай / Rachkovskij Nikolaj / 1985",318.13,null,null,null,null,null,null,null,null,null,null,null,null,null,null,null,null,null,null,null,null,null,null,null,null,null,null,318.13,318.13,0,0,0,318.13,null,{"$f":"VLOOKUP(A722,'личные рез-ты по гонкам списком'!$J$1:$N$1645,2,FALSE)","v":"М"},1]
["Рачковский Сергей / Rachkovskij Sergej / 1988",null,null,null,null,null,null,null,null,null,null,null,null,null,null,null,null,null,null,null,null,null,null,null,null,null,null,541.83000000000004,541.83000000000004,541.83000000000004,0,0,0,541.83000000000004,null,{"$f":"VLOOKUP(A723,'личные рез-ты по гонкам списком'!$J$1:$N$1645,2,FALSE)","v":"М"},1]
["Ращинский Александр / Raschinskij Aleksandr / 1990",null,null,null,null,null,null,null,null,null,null,null,null,null,null,101.98,null,null,null,null,null,null,null,null,null,null,null,null,101.98,101.98,0,0,0,101.98,null,{"$f":"VLOOKUP(A724,'личные рез-ты по гонкам списком'!$J$1:$N$1645,2,FALSE)","v":"М"},1]
["Резвицкая Елена / Rezvitskaya Elena / ",null,null,null,null,null,null,null,null,null,null,null,null,null,null,null,null,null,null,null,null,null,null,null,null,68.12,null,null,68.12,68.12,0,0,0,68.12,null,{"$f":"VLOOKUP(A725,'личные рез-ты по гонкам списком'!$J$1:$N$1645,2,FALSE)","v":"Ж"},1]
["Ремизевич Вадим / Remizevich Vadim / 1980",null,null,null,null,null,null,null,null,null,null,113.1,null,null,null,null,null,null,null,null,null,null,null,null,null,null,null,null,113.1,113.1,0,0,0,113.1,null,{"$f":"VLOOKUP(A726,'личные рез-ты по гонкам списком'!$J$1:$N$1645,2,FALSE)","v":"М"},1]
["Ремизевич Роман / Remizevich Roman / 1982",null,null,null,null,null,null,null,null,null,null,null,null,null,null,null,null,null,null,null,null,null,null,310.12,null,null,null,null,310.12,310.12,0,0,0,310.12,null,{"$f":"VLOOKUP(A727,'личные рез-ты по гонкам списком'!$J$1:$N$1645,2,FALSE)","v":"М"},1]
["Рингевич Александр  / Ringevich Aleksandr  / 1983",null,null,null,null,null,241.68,null,null,null,null,null,null,null,null,null,null,null,null,null,null,null,null,null,null,null,null,null,241.68,241.68,0,0,0,241.68,null,{"$f":"VLOOKUP(A728,'личные рез-ты по гонкам списком'!$J$1:$N$1645,2,FALSE)","v":"М"},1]
["Робова Марина / Robova Marina / 1960",null,null,null,null,null,null,null,null,null,null,null,null,null,null,null,null,null,null,null,null,null,9.33,null,null,null,null,null,9.33,9.33,0,0,0,9.33,null,{"$f":"VLOOKUP(A729,'личные рез-ты по гонкам списком'!$J$1:$N$1645,2,FALSE)","v":"Ж"},1]
["Родионова Светлана / Rodionova Svetlana / 1981",null,null,null,null,null,null,null,null,null,null,null,null,null,null,null,null,42.56,null,null,55.19,null,null,null,null,null,null,null,97.75,55.19,42.56,0,0,97.75,null,{"$f":"VLOOKUP(A730,'личные рез-ты по гонкам списком'!$J$1:$N$1645,2,FALSE)","v":"Ж"},2]
["Ролдугин Михаил / Roldugin Mihail / 1987",null,null,null,null,null,null,null,257.35000000000002,null,null,null,null,null,null,null,null,null,null,null,null,null,null,null,null,null,null,null,257.35000000000002,257.35000000000002,0,0,0,257.35000000000002,null,{"$f":"VLOOKUP(A731,'личные рез-ты по гонкам списком'!$J$1:$N$1645,2,FALSE)","v":"М"},1]
["Романовская Ольга / Romanovskaya Olga / 1988",null,null,null,null,null,null,null,null,null,null,null,null,null,null,null,null,null,null,null,null,null,null,null,null,141.91999999999999,null,null,141.91999999999999,141.91999999999999,0,0,0,141.91999999999999,null,{"$f":"VLOOKUP(A732,'личные рез-ты по гонкам списком'!$J$1:$N$1645,2,FALSE)","v":"Ж"},1]
["Романцевич Илья / Romantsevich Ilya / 1990",null,null,null,null,null,null,null,null,null,null,null,null,null,null,null,null,null,null,null,null,null,null,488.27,null,null,null,null,488.27,488.27,0,0,0,488.27,null,{"$f":"VLOOKUP(A733,'личные рез-ты по гонкам списком'!$J$1:$N$1645,2,FALSE)","v":"М"},1]
["Рудковская Татьяна / Rudkovskaya Tatyana / 1997",null,null,null,null,null,null,null,null,null,null,null,null,null,null,181.91,null,null,null,null,null,null,null,null,null,null,null,null,181.91,181.91,0,0,0,181.91,null,{"$f":"VLOOKUP(A734,'личные рез-ты по гонкам списком'!$J$1:$N$1645,2,FALSE)","v":"Ж"},1]
["Рудницкий Сергей / Rudnitskij Sergej / 1979",null,null,null,null,null,null,null,null,null,null,null,null,null,null,null,null,null,null,null,null,null,188.32,null,null,null,null,null,188.32,188.32,0,0,0,188.32,null,{"$f":"VLOOKUP(A735,'личные рез-ты по гонкам списком'!$J$1:$N$1645,2,FALSE)","v":"М"},1]
["Рудович Александр / Rudovich Aleksandr / 1990",null,null,null,null,null,null,null,null,null,null,126.4,null,null,null,null,null,null,null,null,null,null,null,null,null,null,null,null,126.4,126.4,0,0,0,126.4,null,{"$f":"VLOOKUP(A736,'личные рез-ты по гонкам списком'!$J$1:$N$1645,2,FALSE)","v":"М"},1]
["Ружицкая Елена / Ruzhitskaya Elena / 1983",null,null,null,null,null,null,null,null,null,null,null,null,null,null,99.22,null,null,null,null,null,null,null,null,null,null,null,null,99.22,99.22,0,0,0,99.22,null,{"$f":"VLOOKUP(A737,'личные рез-ты по гонкам списком'!$J$1:$N$1645,2,FALSE)","v":"Ж"},1]
["Русакова Татьяна / Rusakova Tatyana / 1979",null,null,null,null,null,null,null,null,null,null,null,null,null,null,148.84,null,null,null,null,null,null,167.97,null,null,null,null,null,316.81,167.97,148.84,0,0,316.81,null,{"$f":"VLOOKUP(A738,'личные рез-ты по гонкам списком'!$J$1:$N$1645,2,FALSE)","v":"Ж"},2]
["Рускевич Максим / Ruskevich Maksim / 1990",null,null,null,null,null,null,null,null,null,51.56,null,null,null,null,null,null,null,null,null,null,null,117.07,null,null,null,null,null,168.63,117.07,51.56,0,0,168.63,null,{"$f":"VLOOKUP(A739,'личные рез-ты по гонкам списком'!$J$1:$N$1645,2,FALSE)","v":"М"},2]
["Руссинов Сергей / Russinov Sergej / 1989",null,null,null,null,null,null,null,null,null,null,null,null,null,null,null,null,null,null,null,null,null,333.39,null,null,null,null,null,333.39,333.39,0,0,0,333.39,null,{"$f":"VLOOKUP(A740,'личные рез-ты по гонкам списком'!$J$1:$N$1645,2,FALSE)","v":"М"},1]
["Рыжков Алексей / Ryzhkov Aleksej / 1992",null,null,null,125.11,null,null,null,null,null,null,null,null,null,null,null,null,null,null,null,null,null,null,null,null,null,null,null,125.11,125.11,0,0,0,125.11,null,{"$f":"VLOOKUP(A741,'личные рез-ты по гонкам списком'!$J$1:$N$1645,2,FALSE)","v":"М"},1]
["Рябцева Инна / Ryabtseva Inna / 1974",null,null,null,null,null,null,null,null,null,null,null,null,null,null,null,null,null,null,null,20.7,null,null,null,null,null,null,null,20.7,20.7,0,0,0,20.7,null,{"$f":"VLOOKUP(A742,'личные рез-ты по гонкам списком'!$J$1:$N$1645,2,FALSE)","v":"Ж"},1]
["Савич Евгений / Savich Evgenij / 1980",null,null,null,null,null,null,null,300.24,null,null,null,null,null,null,168.27,null,null,null,null,null,null,null,null,null,null,null,null,468.51,300.24,168.27,0,0,468.51,null,{"$f":"VLOOKUP(A743,'личные рез-ты по гонкам списком'!$J$1:$N$1645,2,FALSE)","v":"М"},2]
["Савостеня Виктор / Savostenya Viktor / 1989",null,null,null,null,null,null,null,null,null,null,null,null,null,null,219.26,null,null,null,null,null,null,null,null,null,null,null,null,219.26,219.26,0,0,0,219.26,null,{"$f":"VLOOKUP(A744,'личные рез-ты по гонкам списком'!$J$1:$N$1645,2,FALSE)","v":"М"},1]
["Савченко Марина / Savchenko Marina / 1983",null,null,null,null,null,null,null,null,null,null,null,null,null,null,null,null,null,null,null,6.9,null,null,null,null,null,null,null,6.9,6.9,0,0,0,6.9,null,{"$f":"VLOOKUP(A745,'личные рез-ты по гонкам списком'!$J$1:$N$1645,2,FALSE)","v":"Ж"},1]
["Сакович Андрей / Sakovich Andrej / 1990",null,null,null,null,null,null,null,null,null,null,null,null,null,null,null,null,null,null,null,null,null,null,435.49,null,null,null,null,435.49,435.49,0,0,0,435.49,null,{"$f":"VLOOKUP(A746,'личные рез-ты по гонкам списком'!$J$1:$N$1645,2,FALSE)","v":"М"},1]
["Салодкин Сергей / Salodkin Sergej / 1984",null,null,null,null,null,null,null,null,null,null,null,null,null,null,null,364.48,null,null,null,null,null,null,null,null,null,null,null,364.48,364.48,0,0,0,364.48,null,{"$f":"VLOOKUP(A747,'личные рез-ты по гонкам списком'!$J$1:$N$1645,2,FALSE)","v":"М"},1]
["Самсонов Никита / Samsonov Nikita / 1989",null,null,null,null,null,null,null,null,null,null,null,32.92,null,null,56.09,null,null,null,null,null,null,null,null,null,null,null,null,89.01,56.09,32.92,0,0,89.01,null,{"$f":"VLOOKUP(A748,'личные рез-ты по гонкам списком'!$J$1:$N$1645,2,FALSE)","v":"М"},2]
["Самусик Елена / Samusik Elena / 1992",null,null,null,null,null,null,null,null,null,null,null,null,null,null,null,null,85.12,null,null,null,null,null,null,null,null,null,null,85.12,85.12,0,0,0,85.12,null,{"$f":"VLOOKUP(A749,'личные рез-ты по гонкам списком'!$J$1:$N$1645,2,FALSE)","v":"Ж"},1]
["Саскевич Алексей / Saskevich Aleksej / 1992",null,null,null,null,null,null,null,null,null,null,null,null,null,null,null,null,null,null,null,null,287.41000000000003,null,null,null,null,null,null,287.41000000000003,287.41000000000003,0,0,0,287.41000000000003,null,{"$f":"VLOOKUP(A750,'личные рез-ты по гонкам списком'!$J$1:$N$1645,2,FALSE)","v":"М"},1]
["Сафонов Юрий / Safonov Yurij / 1983",null,null,298.42,null,null,null,null,null,null,null,null,null,null,null,null,null,null,null,null,null,null,null,null,null,null,null,null,298.42,298.42,0,0,0,298.42,null,{"$f":"VLOOKUP(A751,'личные рез-ты по гонкам списком'!$J$1:$N$1645,2,FALSE)","v":"М"},1]
["Сафроненко Андрей / Safronenko Andrej / 1984",null,null,null,null,null,505.33,null,null,null,null,null,null,null,null,null,null,null,null,null,null,null,null,382.7,null,null,null,null,888.03,505.33,382.7,0,0,888.03,null,{"$f":"VLOOKUP(A752,'личные рез-ты по гонкам списком'!$J$1:$N$1645,2,FALSE)","v":"М"},2]
["Сверчков Сергей / Sverchkov Sergej / 1988",null,null,null,null,null,null,null,null,null,null,null,null,null,null,null,null,null,227.27,null,null,null,null,null,null,null,null,null,227.27,227.27,0,0,0,227.27,null,{"$f":"VLOOKUP(A753,'личные рез-ты по гонкам списком'!$J$1:$N$1645,2,FALSE)","v":"М"},1]
["Свечников Антон / Svechnikov Anton / 1991",null,null,null,null,null,null,null,null,312.64,null,null,null,null,null,null,321.32,null,336.36,null,null,null,374.1,null,null,null,null,null,1344.42,374.1,336.36,321.32,312.64,1344.42,null,{"$f":"VLOOKUP(A754,'личные рез-ты по гонкам списком'!$J$1:$N$1645,2,FALSE)","v":"М"},4]
["Свиридов Максим / Sviridov Maksim / 1989",null,null,null,null,null,null,null,null,null,null,null,null,null,null,null,null,null,null,null,null,null,170.51,null,null,null,null,null,170.51,170.51,0,0,0,170.51,null,{"$f":"VLOOKUP(A755,'личные рез-ты по гонкам списком'!$J$1:$N$1645,2,FALSE)","v":"М"},1]
["Свирков Сергей / Svirkov Sergej / 1987",null,null,null,null,null,null,null,null,null,null,null,null,null,null,null,null,null,null,null,null,null,null,null,null,12.11,null,null,12.11,12.11,0,0,0,12.11,null,{"$f":"VLOOKUP(A756,'личные рез-ты по гонкам списком'!$J$1:$N$1645,2,FALSE)","v":"М"},1]
["Свиркова Татьяна / Svirkova Tatyana / 1987",null,null,null,null,null,null,null,null,null,null,null,null,null,null,null,null,null,null,null,null,null,null,null,null,28.38,null,null,28.38,28.38,0,0,0,28.38,null,{"$f":"VLOOKUP(A757,'личные рез-ты по гонкам списком'!$J$1:$N$1645,2,FALSE)","v":"Ж"},1]
["Селиванов Алексавндр / Selivanov Aleksavndr / 1970",null,null,null,null,null,null,null,null,223.32,null,null,null,null,null,null,null,null,null,null,null,null,null,null,null,null,null,null,223.32,223.32,0,0,0,223.32,null,{"$f":"VLOOKUP(A758,'личные рез-ты по гонкам списком'!$J$1:$N$1645,2,FALSE)","v":"М"},1]
["Селиванов Максим / Selivanov Maksim / 1981",null,null,null,null,null,null,null,null,null,null,null,null,null,null,null,null,null,null,null,null,null,null,191.35,null,null,null,null,191.35,191.35,0,0,0,191.35,null,{"$f":"VLOOKUP(A759,'личные рез-ты по гонкам списком'!$J$1:$N$1645,2,FALSE)","v":"М"},1]
["Селищева Ирина / Selischeva Irina / 1983",null,null,null,null,null,null,null,null,null,167.57,null,null,null,null,null,null,null,null,null,null,null,null,null,null,null,null,null,167.57,167.57,0,0,0,167.57,null,{"$f":"VLOOKUP(A760,'личные рез-ты по гонкам списком'!$J$1:$N$1645,2,FALSE)","v":"Ж"},1]
["Селютин Владимир / Selyutin Vladimir / 1990",null,null,null,327.22000000000003,null,null,null,null,376.45,null,312.68,null,null,null,254.95,null,null,null,null,263.99,365.79,null,null,null,254.32,810.75,null,2966.15,810.75,376.45,365.79,327.22000000000003,1880.21,null,{"$f":"VLOOKUP(A761,'личные рез-ты по гонкам списком'!$J$1:$N$1645,2,FALSE)","v":"М"},8]
["Сенникова Светлана / Sennikova Svetlana / 1980",null,null,null,207.72,null,null,null,null,null,null,null,null,null,null,null,null,null,null,null,null,null,null,null,null,204.37,null,null,412.09000000000003,207.72,204.37,0,0,412.09000000000003,null,{"$f":"VLOOKUP(A762,'личные рез-ты по гонкам списком'!$J$1:$N$1645,2,FALSE)","v":"Ж"},2]
["Сеннікаў Ілья / Sennіkau Іlya / 1984",null,null,null,null,237.29,null,null,null,null,null,null,null,null,null,null,null,null,null,null,null,null,198.5,null,null,null,null,null,435.78999999999996,237.29,198.5,0,0,435.78999999999996,null,{"$f":"VLOOKUP(A763,'личные рез-ты по гонкам списком'!$J$1:$N$1645,2,FALSE)","v":"М"},2]
["Сенько Вероника / Senko Veronika / 1990",null,null,null,null,null,null,null,null,null,null,null,null,null,null,null,null,null,null,null,null,null,null,null,null,193.01,null,null,193.01,193.01,0,0,0,193.01,null,{"$f":"VLOOKUP(A764,'личные рез-ты по гонкам списком'!$J$1:$N$1645,2,FALSE)","v":"Ж"},1]
["Сербаев Виталий / Serbaev Vitalij / 1979",null,null,null,null,null,null,null,null,null,null,null,null,null,null,null,110.3,null,null,null,null,null,165.42,null,null,null,null,null,275.71999999999997,165.42,110.3,0,0,275.71999999999997,null,{"$f":"VLOOKUP(A765,'личные рез-ты по гонкам списком'!$J$1:$N$1645,2,FALSE)","v":"М"},2]
["Сердитов Вадим / Serditov Vadim / 1993",null,null,null,null,null,null,null,null,510.44,null,null,null,null,null,null,null,null,null,485.62,null,null,null,null,null,null,null,null,996.06,510.44,485.62,0,0,996.06,null,{"$f":"VLOOKUP(A766,'личные рез-ты по гонкам списком'!$J$1:$N$1645,2,FALSE)","v":"М"},2]
["Середа Александр / Sereda Aleksandr / 1986",null,null,null,null,null,null,null,null,null,null,null,null,null,null,null,null,null,null,null,null,null,null,null,482.29,null,null,null,482.29,482.29,0,0,0,482.29,null,{"$f":"VLOOKUP(A767,'личные рез-ты по гонкам списком'!$J$1:$N$1645,2,FALSE)","v":"М"},1]
["Сечко Евгений / Sechko Evgenij / 1980",null,null,null,null,null,null,null,null,null,null,null,null,null,null,null,null,null,null,null,null,null,363.92,null,null,null,null,null,363.92,363.92,0,0,0,363.92,null,{"$f":"VLOOKUP(A768,'личные рез-ты по гонкам списком'!$J$1:$N$1645,2,FALSE)","v":"М"},1]
["Сидоревич Александр / Sidorevich Aleksandr / 1985",null,null,null,null,null,null,null,394.6,null,null,null,null,null,null,null,330.91,null,null,null,null,null,371.56,null,null,null,null,671.87,1768.94,671.87,394.6,371.56,330.91,1768.94,null,{"$f":"VLOOKUP(A769,'личные рез-ты по гонкам списком'!$J$1:$N$1645,2,FALSE)","v":"М"},4]
["Сикорская Настя / Sikorskaya Nastya / 1983",null,null,null,null,306.64999999999998,null,null,324.07,null,null,null,null,null,null,null,null,null,null,null,null,null,null,null,null,null,null,null,630.72,324.07,306.64999999999998,0,0,630.72,null,{"$f":"VLOOKUP(A770,'личные рез-ты по гонкам списком'!$J$1:$N$1645,2,FALSE)","v":"Ж"},2]
["Сикорский Сергей / Sikorskij Sergej / 1982",null,null,null,null,null,null,null,null,null,null,null,null,null,null,null,null,null,null,null,null,null,313.02999999999997,null,null,null,null,null,313.02999999999997,313.02999999999997,0,0,0,313.02999999999997,null,{"$f":"VLOOKUP(A771,'личные рез-ты по гонкам списком'!$J$1:$N$1645,2,FALSE)","v":"М"},1]
["Силивонова Виктория / Silivonova Viktoriya / 1994",null,null,null,69.239999999999995,null,null,null,null,null,null,null,null,null,null,null,null,187.26,null,null,null,null,null,null,null,null,null,null,256.5,187.26,69.239999999999995,0,0,256.5,null,{"$f":"VLOOKUP(A772,'личные рез-ты по гонкам списком'!$J$1:$N$1645,2,FALSE)","v":"Ж"},2]
["Сильванович Валерия / Silvanovich Valeriya / 1998",null,null,null,null,null,null,null,null,null,null,null,329.17,null,null,null,82.21,null,null,null,null,null,null,null,null,null,null,null,411.38,329.17,82.21,0,0,411.38,null,{"$f":"VLOOKUP(A773,'личные рез-ты по гонкам списком'!$J$1:$N$1645,2,FALSE)","v":"Ж"},2]
["Сильченко Наталья / Silchenko Natalya / ",null,null,null,null,null,null,null,145.83000000000001,null,null,null,null,null,null,null,null,null,null,null,null,null,null,null,null,null,null,null,145.83000000000001,{"$f":"LARGE(B774:AB774,1)","v":145.83000000000001},{"$f":"IF(COUNT(B774:AB774)=1,0,LARGE(B774:AB774,2))","v":0},{"$f":"IF(COUNT(B774:AB774)<3,0,LARGE(B774:AB774,3))","v":0},{"$f":"IF(COUNT(B774:AB774)<4,0,LARGE(B774:AB774,4))","v":0},{"$f":"SUM(AD774:AG774)","v":145.83000000000001},null,{"$f":"VLOOKUP(A774,'личные рез-ты по гонкам списком'!$J$1:$N$1645,2,FALSE)","v":"Ж"},{"$f":"COUNT(B774:AB774)","v":1}]
["Сим Игорь / Sim Igor / 1989",null,null,null,null,null,null,null,null,null,null,66.53,null,null,null,null,null,null,null,null,null,null,null,null,null,null,null,null,66.53,66.53,0,0,0,66.53,null,{"$f":"VLOOKUP(A775,'личные рез-ты по гонкам списком'!$J$1:$N$1645,2,FALSE)","v":"М"},1]
["Симогостицкий Александр / Simogostitskij Aleksandr / 1987",null,null,null,null,null,null,null,null,null,266.39,133.06,null,null,null,null,null,null,null,null,null,null,335.93,null,null,null,null,null,735.38,335.93,266.39,133.06,0,735.37999999999988,null,{"$f":"VLOOKUP(A776,'личные рез-ты по гонкам списком'!$J$1:$N$1645,2,FALSE)","v":"М"},3]
["Симонов Александр / Simonov Aleksandr / 1999",null,null,null,null,null,null,null,null,null,null,null,null,null,null,260.05,null,null,null,null,null,null,null,null,null,null,null,null,260.05,260.05,0,0,0,260.05,null,{"$f":"VLOOKUP(A777,'личные рез-ты по гонкам списком'!$J$1:$N$1645,2,FALSE)","v":"М"},1]
["Симонов Вадим / Simonov Vadim / 1985",null,null,null,null,null,null,null,null,255.22,null,null,null,null,null,null,115.1,null,null,null,null,null,71.260000000000005,null,null,null,null,null,441.58,255.22,115.1,71.260000000000005,0,441.58,null,{"$f":"VLOOKUP(A778,'личные рез-ты по гонкам списком'!$J$1:$N$1645,2,FALSE)","v":"М"},3]
["Синица Кирилл / Sinitsa Kirill / 1981",1012.23,null,null,null,null,null,1052.9000000000001,null,null,249.2,null,null,null,894.48,null,354.89,null,354.55,null,null,235.15,null,null,654.54,null,981.43,null,5789.37,1052.9000000000001,1012.23,981.43,{"$f":"IF(COUNT(B779:AB779)<4,0,LARGE(B779:AB779,4))","v":894.48},3941.04,null,{"$f":"VLOOKUP(A779,'личные рез-ты по гонкам списком'!$J$1:$N$1645,2,FALSE)","v":"М"},9]
["Сичкарь Игорь / Sichkar Igor / 1975",null,null,null,null,null,131.83000000000001,null,null,null,null,null,null,null,null,null,null,null,null,null,null,null,null,null,null,null,null,null,131.83000000000001,131.83000000000001,0,0,0,131.83000000000001,null,{"$f":"VLOOKUP(A780,'личные рез-ты по гонкам списком'!$J$1:$N$1645,2,FALSE)","v":"М"},1]
["Сіпачоў Аляксей / Sіpachou Alyaksej / 1979",null,null,null,null,438.07,null,null,null,null,null,259.45999999999998,null,null,null,null,null,null,null,null,null,null,null,237.54,null,null,null,null,935.06999999999994,438.07,259.45999999999998,237.54,0,935.06999999999994,null,{"$f":"VLOOKUP(A781,'личные рез-ты по гонкам списком'!$J$1:$N$1645,2,FALSE)","v":"М"},3]
["Скабицкая Анна / Skabitskaya Anna / 1987",null,null,null,null,null,null,null,null,null,null,null,null,null,null,null,null,178.75,null,null,null,null,null,null,null,null,null,null,178.75,178.75,0,0,0,178.75,null,{"$f":"VLOOKUP(A782,'личные рез-ты по гонкам списком'!$J$1:$N$1645,2,FALSE)","v":"Ж"},1]
["Скадорва Алексей / Skadorva Aleksej / 1994",null,null,null,null,null,null,null,null,null,null,null,null,null,null,null,null,null,null,null,null,274.33999999999997,null,null,null,null,null,null,274.33999999999997,274.33999999999997,0,0,0,274.33999999999997,null,{"$f":"VLOOKUP(A783,'личные рез-ты по гонкам списком'!$J$1:$N$1645,2,FALSE)","v":"М"},1]
["Скирук Юлия / Skiruk Yuliya / 1988",null,500.3,null,null,null,null,null,null,422.85,null,null,null,null,596.32000000000005,null,null,238.33,null,null,null,null,null,null,757.89,null,null,736.89,3252.58,757.89,736.89,596.32000000000005,500.3,2591.4,null,{"$f":"VLOOKUP(A784,'личные рез-ты по гонкам списком'!$J$1:$N$1645,2,FALSE)","v":"Ж"},6]
["Скляр Антон / Sklyar Anton / 1983",null,null,null,null,null,null,null,214.46,null,null,null,null,null,null,null,null,null,null,null,null,null,null,null,null,null,null,null,214.46,214.46,0,0,0,214.46,null,{"$f":"VLOOKUP(A785,'личные рез-ты по гонкам списком'!$J$1:$N$1645,2,FALSE)","v":"М"},1]
["Скобло Елена / Skoblo Elena / 1984",null,null,null,null,null,null,null,null,null,null,null,null,null,null,null,null,null,null,null,null,null,null,null,null,147.6,null,null,147.6,147.6,0,0,0,147.6,null,{"$f":"VLOOKUP(A786,'личные рез-ты по гонкам списком'!$J$1:$N$1645,2,FALSE)","v":"Ж"},1]
["Сковорода Инна / Skovoroda Inna / 1995",null,null,null,null,null,null,null,null,null,null,null,null,null,null,null,null,null,null,null,null,null,null,null,null,261.13,null,null,261.13,261.13,0,0,0,261.13,null,{"$f":"VLOOKUP(A787,'личные рез-ты по гонкам списком'!$J$1:$N$1645,2,FALSE)","v":"Ж"},1]
["Скребец Артур  / Skrebets Artur  / 1991",null,null,null,null,191.65,null,null,null,null,null,null,null,null,null,null,null,null,null,null,null,null,null,null,null,null,null,null,191.65,191.65,0,0,0,191.65,null,{"$f":"VLOOKUP(A788,'личные рез-ты по гонкам списком'!$J$1:$N$1645,2,FALSE)","v":"М"},1]
["Скребец Сергей / Skrebets Sergej / 1963",null,45.48,null,null,null,null,null,null,null,null,null,null,null,null,null,null,null,null,null,null,null,null,null,null,null,null,null,45.48,45.48,0,0,0,45.48,null,{"$f":"VLOOKUP(A789,'личные рез-ты по гонкам списком'!$J$1:$N$1645,2,FALSE)","v":"М"},1]
["Скуратович Андрей  / Skuratovich Andrej  / 1963",null,null,null,38.5,null,null,null,null,null,null,null,null,null,null,null,null,null,null,null,null,null,null,null,null,null,null,null,38.5,38.5,0,0,0,38.5,null,{"$f":"VLOOKUP(A790,'личные рез-ты по гонкам списком'!$J$1:$N$1645,2,FALSE)","v":"М"},1]
["Скуратович Антон / Skuratovich Anton / 1985",null,null,null,307.97000000000003,null,null,null,null,459.39,null,null,405.98,null,null,null,311.73,null,null,339.93,null,null,null,389.3,null,null,null,650.19000000000005,2864.4900000000002,650.19000000000005,459.39,405.98,389.3,1904.86,null,{"$f":"VLOOKUP(A791,'личные рез-ты по гонкам списком'!$J$1:$N$1645,2,FALSE)","v":"М"},7]
["Скуратович Герман / Skuratovich German / 1990",null,null,null,null,264.67,null,null,null,null,null,null,null,null,null,null,null,null,null,null,null,null,null,null,null,null,null,null,264.67,264.67,0,0,0,264.67,null,{"$f":"VLOOKUP(A792,'личные рез-ты по гонкам списком'!$J$1:$N$1645,2,FALSE)","v":"М"},1]
["Славинский Дмитрий / Slavinskij Dmitrij / 1986",null,null,null,null,null,null,null,null,261.60000000000002,null,null,21.94,null,null,null,null,null,null,null,null,null,null,null,null,null,null,null,283.54000000000002,261.60000000000002,21.94,0,0,283.54000000000002,null,{"$f":"VLOOKUP(A793,'личные рез-ты по гонкам списком'!$J$1:$N$1645,2,FALSE)","v":"М"},2]
["Слеменева Евгения / Slemeneva Evgeniya / 1993",null,null,null,null,null,null,null,null,null,null,null,null,null,null,null,null,null,null,null,null,null,null,null,null,34.06,null,null,34.06,34.06,0,0,0,34.06,null,{"$f":"VLOOKUP(A794,'личные рез-ты по гонкам списком'!$J$1:$N$1645,2,FALSE)","v":"Ж"},1]
["Сливинский Вадим / Slivinskij Vadim / 1984",null,null,null,null,null,null,null,null,null,null,null,null,null,null,null,null,null,null,null,null,null,null,112.17,null,null,null,null,112.17,112.17,0,0,0,112.17,null,{"$f":"VLOOKUP(A795,'личные рез-ты по гонкам списком'!$J$1:$N$1645,2,FALSE)","v":"М"},1]
["Слободько Дмитрий / Slobodko Dmitrij / 1984",null,null,null,null,null,null,null,317.39999999999998,null,null,null,null,null,null,null,null,null,null,null,null,null,null,461.88,null,null,null,null,779.28,461.88,317.39999999999998,0,0,779.28,null,{"$f":"VLOOKUP(A796,'личные рез-ты по гонкам списком'!$J$1:$N$1645,2,FALSE)","v":"М"},2]
["Смолко Николай / Smolko Nikolaj / 1987",null,null,null,null,null,285.62,null,null,null,null,null,null,null,null,null,null,null,null,null,null,null,null,null,688.99,null,null,null,974.61,688.99,285.62,0,0,974.61,null,{"$f":"VLOOKUP(A797,'личные рез-ты по гонкам списком'!$J$1:$N$1645,2,FALSE)","v":"М"},2]
["Совпель Максим / Sovpel Maksim / 1993",null,null,null,null,null,null,null,null,null,null,null,null,null,null,null,null,null,372.73,null,null,391.92,null,null,null,266.43,null,null,1031.0800000000002,391.92,372.73,266.43,0,1031.0800000000002,null,{"$f":"VLOOKUP(A798,'личные рез-ты по гонкам списком'!$J$1:$N$1645,2,FALSE)","v":"М"},3]
["Соколов Артем / Sokolov Artem / 1986",null,null,null,28.87,null,null,null,null,null,null,null,null,null,null,null,null,93.26,null,null,66,null,53.44,null,null,null,null,null,241.57,93.26,66,53.44,28.87,241.57,null,{"$f":"VLOOKUP(A799,'личные рез-ты по гонкам списком'!$J$1:$N$1645,2,FALSE)","v":"М"},4]
["Солодкин Сергей / Solodkin Sergej / 1984",null,null,null,null,null,null,null,null,453.01,null,null,null,null,null,null,null,null,345.45,null,null,null,null,null,null,null,null,null,798.46,453.01,345.45,0,0,798.46,null,{"$f":"VLOOKUP(A800,'личные рез-ты по гонкам списком'!$J$1:$N$1645,2,FALSE)","v":"М"},2]
["Сопот Александр / Sopot Aleksandr / ",null,null,null,134.74,null,null,null,null,null,null,null,null,null,null,null,null,null,null,null,null,null,null,null,null,null,null,null,134.74,134.74,0,0,0,134.74,null,{"$f":"VLOOKUP(A801,'личные рез-ты по гонкам списком'!$J$1:$N$1645,2,FALSE)","v":"М"},1]
["Сорока Эдуард / Soroka Eduard / 1991",null,null,null,null,null,null,null,null,null,null,null,null,null,null,null,null,null,null,null,null,null,null,336.51,null,null,null,null,336.51,336.51,0,0,0,336.51,null,{"$f":"VLOOKUP(A802,'личные рез-ты по гонкам списком'!$J$1:$N$1645,2,FALSE)","v":"М"},1]
["Сорокин Денис / Sorokin Denis / 1998",null,null,null,null,null,null,null,null,null,null,null,null,null,null,null,null,null,null,null,null,null,null,null,null,null,597.39,null,597.39,597.39,0,0,0,597.39,null,{"$f":"VLOOKUP(A803,'личные рез-ты по гонкам списком'!$J$1:$N$1645,2,FALSE)","v":"М"},1]
["Сорокина Марина  / Sorokina Marina  / 1981",null,null,null,null,340.72,null,null,null,null,null,null,null,null,null,null,null,null,null,null,null,null,null,null,null,null,null,null,340.72,340.72,0,0,0,340.72,null,{"$f":"VLOOKUP(A804,'личные рез-ты по гонкам списком'!$J$1:$N$1645,2,FALSE)","v":"Ж"},1]
["Соц Василий / Sots Vasilij / 1966",null,null,null,null,null,null,null,null,null,null,null,null,null,null,null,null,null,null,null,null,null,null,244.14,null,null,null,null,244.14,244.14,0,0,0,244.14,null,{"$f":"VLOOKUP(A805,'личные рез-ты по гонкам списком'!$J$1:$N$1645,2,FALSE)","v":"М"},1]
["Станкевич Владимир / Stankevich Vladimir / 1982",null,null,null,null,null,null,null,null,null,null,null,null,null,null,142.77000000000001,null,null,null,null,null,null,null,null,null,null,null,null,142.77000000000001,142.77000000000001,0,0,0,142.77000000000001,null,{"$f":"VLOOKUP(A806,'личные рез-ты по гонкам списком'!$J$1:$N$1645,2,FALSE)","v":"М"},1]
["Старастенко Виктор / Starastenko Viktor / 1994",null,null,null,null,null,null,null,null,null,null,null,null,null,null,null,null,null,null,null,null,null,33.08,null,null,null,null,null,33.08,33.08,0,0,0,33.08,null,{"$f":"VLOOKUP(A807,'личные рез-ты по гонкам списком'!$J$1:$N$1645,2,FALSE)","v":"М"},1]
["Старикевич Максим / Starikevich Maksim / 1995",null,null,null,null,null,null,null,null,null,null,null,null,null,null,null,null,null,null,null,null,null,40.72,null,null,null,null,null,40.72,40.72,0,0,0,40.72,null,{"$f":"VLOOKUP(A808,'личные рез-ты по гонкам списком'!$J$1:$N$1645,2,FALSE)","v":"М"},1]
["Старовойтова Евгения / Starovojtova Evgeniya / 1996",null,null,null,null,null,null,null,null,null,null,null,null,null,null,null,191.83,null,null,null,null,null,null,null,null,null,null,null,191.83,191.83,0,0,0,191.83,null,{"$f":"VLOOKUP(A809,'личные рез-ты по гонкам списком'!$J$1:$N$1645,2,FALSE)","v":"Ж"},1]
["Стародуб Евгений / Starodub Evgenij / 2000",null,null,null,null,null,null,null,null,null,null,null,null,null,null,270.25,null,null,null,null,null,null,null,null,null,null,null,null,270.25,270.25,0,0,0,270.25,null,{"$f":"VLOOKUP(A810,'личные рез-ты по гонкам списком'!$J$1:$N$1645,2,FALSE)","v":"М"},1]
["Стасевич Александр / Stasevich Aleksandr / 1987",null,null,null,null,null,null,null,437.49,null,null,null,null,null,null,null,null,null,null,null,null,null,null,null,null,null,null,null,437.49,437.49,0,0,0,437.49,null,{"$f":"VLOOKUP(A811,'личные рез-ты по гонкам списком'!$J$1:$N$1645,2,FALSE)","v":"М"},1]
["Стасилович Виктор  / Stasilovich Viktor  / 1993",null,null,null,null,9.1300000000000008,null,null,null,null,null,null,null,null,null,null,null,null,null,null,null,null,null,null,null,null,null,null,9.1300000000000008,9.1300000000000008,0,0,0,9.1300000000000008,null,{"$f":"VLOOKUP(A812,'личные рез-ты по гонкам списком'!$J$1:$N$1645,2,FALSE)","v":"М"},1]
["Стельмах Юрий / Stelmah Yurij / 1982",null,null,null,null,null,null,null,137.25,null,null,null,null,null,null,null,null,null,null,null,null,null,157.79,null,null,null,null,null,295.03999999999996,157.79,137.25,0,0,295.03999999999996,null,{"$f":"VLOOKUP(A813,'личные рез-ты по гонкам списком'!$J$1:$N$1645,2,FALSE)","v":"М"},2]
["Степук Наталья / Stepuk Natalya / 1984",null,null,null,null,null,null,null,null,null,null,null,null,null,null,null,null,null,null,null,131.07,null,null,null,null,null,null,null,131.07,131.07,0,0,0,131.07,null,{"$f":"VLOOKUP(A814,'личные рез-ты по гонкам списком'!$J$1:$N$1645,2,FALSE)","v":"Ж"},1]
["Стешко Фёдор / Steshko Fjodor / 1990",null,null,null,null,null,null,null,null,null,null,null,null,null,null,null,null,72.53,null,null,null,null,null,null,null,null,null,null,72.53,72.53,0,0,0,72.53,null,{"$f":"VLOOKUP(A815,'личные рез-ты по гонкам списком'!$J$1:$N$1645,2,FALSE)","v":"М"},1]
["Стойчикова Ксения / Stojchikova Kseniya / 1997",null,null,null,null,null,389.2,null,null,null,null,null,null,null,null,null,null,null,336.84,null,null,null,null,360.27,null,null,null,null,1086.31,389.2,360.27,336.84,0,1086.31,null,{"$f":"VLOOKUP(A816,'личные рез-ты по гонкам списком'!$J$1:$N$1645,2,FALSE)","v":"Ж"},3]
["Стоненис Игорь / Stonenis Igor / 1996",null,null,null,null,null,null,null,null,null,null,null,null,null,null,null,null,null,null,null,null,null,null,null,null,90.83,null,null,90.83,90.83,0,0,0,90.83,null,{"$f":"VLOOKUP(A817,'личные рез-ты по гонкам списком'!$J$1:$N$1645,2,FALSE)","v":"М"},1]
["Стош Роман / Stosh Roman / 2000",null,null,null,null,null,null,null,null,null,null,null,null,null,null,null,null,null,null,null,null,null,null,null,null,78.72,null,null,78.72,78.72,0,0,0,78.72,null,{"$f":"VLOOKUP(A818,'личные рез-ты по гонкам списком'!$J$1:$N$1645,2,FALSE)","v":"М"},1]
["Стракович Екатерина / Strakovich Ekaterina / 1991",null,null,null,null,null,null,null,null,null,null,null,null,null,null,null,null,153.21,null,null,null,78.38,null,null,null,90.83,null,null,322.42,153.21,90.83,78.38,0,322.42,null,{"$f":"VLOOKUP(A819,'личные рез-ты по гонкам списком'!$J$1:$N$1645,2,FALSE)","v":"Ж"},3]
["Струщенко Светлана / Struschenko Svetlana / 1986",null,null,null,null,204.43,null,null,null,null,null,null,null,null,null,null,null,null,147.37,null,null,null,177.3,null,null,null,null,null,529.1,204.43,177.3,147.37,0,529.1,null,{"$f":"VLOOKUP(A820,'личные рез-ты по гонкам списком'!$J$1:$N$1645,2,FALSE)","v":"Ж"},3]
["Студенков Александр / Studenkov Aleksandr / 1984",null,null,280.87,null,null,null,null,null,null,null,null,null,null,null,null,null,null,null,null,null,null,323.20999999999998,null,null,null,null,null,604.07999999999993,323.20999999999998,280.87,0,0,604.07999999999993,null,{"$f":"VLOOKUP(A821,'личные рез-ты по гонкам списком'!$J$1:$N$1645,2,FALSE)","v":"М"},2]
["Ступяк Андрей / Stupyak Andrej / 1979",null,null,null,null,null,null,null,null,null,null,null,109.72,null,null,null,null,null,null,null,null,null,null,null,null,null,null,null,109.72,109.72,0,0,0,109.72,null,{"$f":"VLOOKUP(A822,'личные рез-ты по гонкам списком'!$J$1:$N$1645,2,FALSE)","v":"М"},1]
["Суворов Александр / Suvorov Aleksandr / 1983",null,null,null,null,null,null,null,null,null,null,null,null,null,null,117.28,null,null,100,null,null,null,167.97,null,null,null,null,null,385.25,167.97,117.28,100,0,385.25,null,{"$f":"VLOOKUP(A823,'личные рез-ты по гонкам списком'!$J$1:$N$1645,2,FALSE)","v":"М"},3]
["Сулимчик Оксана / Sulimchik Oksana / 1986",null,null,null,null,null,null,1052.9000000000001,null,null,null,null,null,null,894.48,null,301.45,null,null,null,null,null,null,null,null,null,null,null,2248.83,1052.9000000000001,894.48,301.45,0,2248.83,null,{"$f":"VLOOKUP(A824,'личные рез-ты по гонкам списком'!$J$1:$N$1645,2,FALSE)","v":"Ж"},3]
["Суматохин Виталий / Sumatohin Vitalij / 1989",null,null,null,null,null,null,null,null,null,null,null,null,null,null,158.07,null,null,null,null,null,null,null,null,null,null,null,null,158.07,158.07,0,0,0,158.07,null,{"$f":"VLOOKUP(A825,'личные рез-ты по гонкам списком'!$J$1:$N$1645,2,FALSE)","v":"М"},1]
["Суровцев Максим / Surovtsev Maksim / 1993",null,null,null,null,null,null,null,null,null,null,null,null,null,null,null,null,null,null,null,null,null,119.61,null,null,null,null,null,119.61,119.61,0,0,0,119.61,null,{"$f":"VLOOKUP(A826,'личные рез-ты по гонкам списком'!$J$1:$N$1645,2,FALSE)","v":"М"},1]
["Суханова Надежда / Suhanova Nadezhda / 1994",null,null,null,null,511.08,null,null,null,null,null,null,null,null,null,null,null,null,null,null,null,null,null,526.54,null,null,null,null,1037.6199999999999,526.54,511.08,0,0,1037.6199999999999,null,{"$f":"VLOOKUP(A827,'личные рез-ты по гонкам списком'!$J$1:$N$1645,2,FALSE)","v":"Ж"},2]
["Сухобаевский Николай / Suhobaevskij Nikolaj / 1986",null,null,null,null,null,null,null,null,null,214.83,null,null,null,null,null,null,null,null,null,null,null,null,null,null,null,null,null,214.83,214.83,0,0,0,214.83,null,{"$f":"VLOOKUP(A828,'личные рез-ты по гонкам списком'!$J$1:$N$1645,2,FALSE)","v":"М"},1]
["Суховей Михаил / Suhovej Mihail / 1991",462.73,null,null,null,null,null,null,null,null,null,null,null,null,655.95,null,null,null,null,null,null,null,null,null,null,null,null,null,1118.68,655.95,462.73,0,0,1118.68,null,{"$f":"VLOOKUP(A829,'личные рез-ты по гонкам списком'!$J$1:$N$1645,2,FALSE)","v":"М"},2]
["Суховерхая Татьяна / Suhoverhaya Tatyana / 1986",null,null,null,null,null,null,null,null,234.92,null,null,null,null,null,null,54.81,null,null,null,null,null,null,null,null,null,1066.77,null,1356.5,1066.77,234.92,54.81,0,1356.5,null,{"$f":"VLOOKUP(A830,'личные рез-ты по гонкам списком'!$J$1:$N$1645,2,FALSE)","v":"Ж"},3]
["Сушко Александра / Sushko Aleksandra / 1995",null,null,null,null,null,null,null,null,null,null,null,null,null,null,null,null,null,null,null,null,null,null,null,null,221.4,null,null,221.4,221.4,0,0,0,221.4,null,{"$f":"VLOOKUP(A831,'личные рез-ты по гонкам списком'!$J$1:$N$1645,2,FALSE)","v":"Ж"},1]
["Сысков Никита / Syskov Nikita / 1985",null,null,null,28.87,null,null,null,null,null,null,null,null,null,null,null,null,20.72,null,null,9.43,null,null,null,null,null,null,null,59.02,28.87,20.72,9.43,0,59.02,null,{"$f":"VLOOKUP(A832,'личные рез-ты по гонкам списком'!$J$1:$N$1645,2,FALSE)","v":"М"},3]
["Сыченко Евгения / Sychenko Evgeniya / 1992",null,null,null,null,null,null,null,null,null,null,null,null,null,null,null,null,null,null,null,null,null,null,null,null,215.72,null,null,215.72,215.72,0,0,0,215.72,null,{"$f":"VLOOKUP(A833,'личные рез-ты по гонкам списком'!$J$1:$N$1645,2,FALSE)","v":"Ж"},1]
["Сяба Александр / Syaba Aleksandr / 1982",null,null,null,null,27.38,null,null,null,null,null,null,null,null,null,null,null,null,null,null,null,null,null,null,null,null,null,null,27.38,27.38,0,0,0,27.38,null,{"$f":"VLOOKUP(A834,'личные рез-ты по гонкам списком'!$J$1:$N$1645,2,FALSE)","v":"М"},1]
["Табала Андрей / Tabala Andrej / 1992",null,null,null,null,null,null,null,null,null,null,null,null,null,null,null,null,null,null,null,null,null,null,null,null,109,null,null,109,109,0,0,0,109,null,{"$f":"VLOOKUP(A835,'личные рез-ты по гонкам списком'!$J$1:$N$1645,2,FALSE)","v":"М"},1]
["Танасейчук Анна / Tanasejchuk Anna / 1983",null,null,null,null,null,null,null,388.88,null,null,null,null,null,null,null,null,null,null,null,null,null,null,null,null,null,null,null,388.88,388.88,0,0,0,388.88,null,{"$f":"VLOOKUP(A836,'личные рез-ты по гонкам списком'!$J$1:$N$1645,2,FALSE)","v":"Ж"},1]
["Танковид Евгений / Tankovid Evgenij / 1985",null,null,null,null,null,null,null,null,null,null,null,null,null,null,null,null,null,null,null,null,null,351.2,null,null,null,null,null,351.2,351.2,0,0,0,351.2,null,{"$f":"VLOOKUP(A837,'личные рез-ты по гонкам списком'!$J$1:$N$1645,2,FALSE)","v":"М"},1]
["Таран Виталий / Taran Vitalij / 1983",null,null,null,null,null,null,null,null,338.16,null,null,null,null,null,null,47.96,null,null,null,null,null,null,null,null,null,null,null,386.12,{"$f":"LARGE(B838:AB838,1)","v":338.16},{"$f":"IF(COUNT(B838:AB838)=1,0,LARGE(B838:AB838,2))","v":47.96},{"$f":"IF(COUNT(B838:AB838)<3,0,LARGE(B838:AB838,3))","v":0},{"$f":"IF(COUNT(B838:AB838)<4,0,LARGE(B838:AB838,4))","v":0},{"$f":"SUM(AD838:AG838)","v":386.12},null,{"$f":"VLOOKUP(A838,'личные рез-ты по гонкам списком'!$J$1:$N$1645,2,FALSE)","v":"М"},{"$f":"COUNT(B838:AB838)","v":2}]
["Таранко Марта / Taranko Marta / 1990",null,null,null,null,null,null,null,291.66000000000003,null,null,null,null,null,null,null,null,127.68,null,null,null,null,233.28,null,null,null,null,null,652.62,291.66000000000003,233.28,127.68,0,652.62000000000012,null,{"$f":"VLOOKUP(A839,'личные рез-ты по гонкам списком'!$J$1:$N$1645,2,FALSE)","v":"Ж"},3]
["Тарасевич Алёна / Tarasevich Aljona / 1991",null,null,null,247.28,null,null,null,null,null,null,null,null,null,null,null,null,null,null,null,null,null,null,null,null,null,null,null,247.28,247.28,0,0,0,247.28,null,{"$f":"VLOOKUP(A840,'личные рез-ты по гонкам списком'!$J$1:$N$1645,2,FALSE)","v":"Ж"},1]
["Тарасенко Павел / Tarasenko Pavel / 1983",null,null,667.06,null,null,null,null,null,null,null,null,null,571.42999999999995,null,null,71.94,null,null,218.53,null,null,null,343.11,null,null,null,null,1872.0699999999997,667.06,571.42999999999995,343.11,218.53,1800.1299999999999,null,{"$f":"VLOOKUP(A841,'личные рез-ты по гонкам списком'!$J$1:$N$1645,2,FALSE)","v":"М"},5]
["Тарасик Владимир / Tarasik Vladimir / 1977",null,null,null,null,null,null,null,null,null,null,null,null,null,null,null,null,null,null,null,null,null,356.29,null,null,null,null,null,356.29,356.29,0,0,0,356.29,null,{"$f":"VLOOKUP(A842,'личные рез-ты по гонкам списком'!$J$1:$N$1645,2,FALSE)","v":"М"},1]
["Тарлецкий Валерий / Tarletskij Valerij / 1982",null,null,null,null,null,null,null,null,null,null,null,null,null,null,null,null,null,null,null,null,null,81.44,null,null,null,null,null,81.44,81.44,0,0,0,81.44,null,{"$f":"VLOOKUP(A843,'личные рез-ты по гонкам списком'!$J$1:$N$1645,2,FALSE)","v":"М"},1]
["Татарицкий Виталий / Tataritskij Vitalij / 1971",null,null,null,null,null,null,null,null,null,null,null,null,null,null,null,null,null,null,null,null,182.9,null,null,null,null,null,null,182.9,182.9,0,0,0,182.9,null,{"$f":"VLOOKUP(A844,'личные рез-ты по гонкам списком'!$J$1:$N$1645,2,FALSE)","v":"М"},1]
["Тебинский Александр / Tebinskij Aleksandr / 1987",null,null,null,null,null,null,null,null,null,null,null,null,null,null,null,null,null,null,null,null,null,null,null,null,66.61,null,null,66.61,66.61,0,0,0,66.61,null,{"$f":"VLOOKUP(A845,'личные рез-ты по гонкам списком'!$J$1:$N$1645,2,FALSE)","v":"М"},1]
["Телегина София / Telegina Sofiya / 1991",null,null,null,null,null,null,null,null,null,null,286.58,null,null,null,null,null,null,null,null,null,null,null,null,null,null,null,null,286.58,286.58,0,0,0,286.58,null,{"$f":"VLOOKUP(A846,'личные рез-ты по гонкам списком'!$J$1:$N$1645,2,FALSE)","v":"Ж"},1]
["Тенюго Татьяна / Tenyugo Tatyana / 1978",null,null,null,null,null,null,null,null,null,null,null,null,null,null,null,null,null,null,null,124.17,null,null,null,null,null,null,null,124.17,124.17,0,0,0,124.17,null,{"$f":"VLOOKUP(A847,'личные рез-ты по гонкам списком'!$J$1:$N$1645,2,FALSE)","v":"Ж"},1]
["Теребенин Владислав / Terebenin Vladislav / 2001",null,null,null,null,null,null,null,null,null,null,null,null,null,null,null,null,null,null,null,null,null,195.96,null,null,null,null,null,195.96,195.96,0,0,0,195.96,null,{"$f":"VLOOKUP(A848,'личные рез-ты по гонкам списком'!$J$1:$N$1645,2,FALSE)","v":"М"},1]
["Терехова Татьяна / Terehova Tatyana / 1982",null,null,null,null,null,null,null,null,null,null,null,null,null,null,115.76,null,null,null,null,null,null,null,null,null,null,null,null,115.76,115.76,0,0,0,115.76,null,{"$f":"VLOOKUP(A849,'личные рез-ты по гонкам списком'!$J$1:$N$1645,2,FALSE)","v":"Ж"},1]
["Тимкина Наталья / Timkina Natalya / 1982",null,100.06,null,null,null,null,null,null,null,null,null,null,null,null,null,null,null,null,null,null,null,null,null,null,null,null,null,100.06,100.06,0,0,0,100.06,null,{"$f":"VLOOKUP(A850,'личные рез-ты по гонкам списком'!$J$1:$N$1645,2,FALSE)","v":"Ж"},1]
["Тимофеев Алексей / Timofeev Aleksej / 1990",null,null,null,null,null,null,null,null,null,null,null,null,null,null,null,null,null,null,null,160.28,null,null,null,null,null,null,null,160.28,160.28,0,0,0,160.28,null,{"$f":"VLOOKUP(A851,'личные рез-ты по гонкам списком'!$J$1:$N$1645,2,FALSE)","v":"М"},1]
["Тимошенко Алёна / Timoshenko Aljona / 1982",null,null,null,null,null,null,null,null,null,null,343.9,null,null,null,null,null,null,null,339.93,null,null,null,null,null,null,null,null,683.82999999999993,343.9,339.93,0,0,683.82999999999993,null,{"$f":"VLOOKUP(A852,'личные рез-ты по гонкам списком'!$J$1:$N$1645,2,FALSE)","v":"Ж"},2]
["Титова Инна / Titova Inna / 1986",null,null,null,null,null,null,null,null,null,null,null,null,null,null,281.14,null,null,null,null,null,null,null,null,null,null,null,null,281.14,281.14,0,0,0,281.14,null,{"$f":"VLOOKUP(A853,'личные рез-ты по гонкам списком'!$J$1:$N$1645,2,FALSE)","v":"Ж"},1]
["Титуленко Егор / Titulenko Egor / 1983",347.05,null,null,null,null,373.51,null,null,null,null,null,null,null,null,null,null,null,null,null,null,null,null,null,null,null,null,null,720.56,373.51,347.05,0,0,720.56,null,{"$f":"VLOOKUP(A854,'личные рез-ты по гонкам списком'!$J$1:$N$1645,2,FALSE)","v":"М"},2]
["Тиханович Елена / Tihanovich Elena / 1989",null,null,null,null,null,null,null,null,null,null,null,null,null,null,null,null,null,null,null,null,null,382.59,null,null,null,null,null,382.59,382.59,0,0,0,382.59,null,{"$f":"VLOOKUP(A855,'личные рез-ты по гонкам списком'!$J$1:$N$1645,2,FALSE)","v":"Ж"},1]
["Тихонов Василий / Tihonov Vasilij / 1993",null,null,null,null,null,null,null,null,408.35,null,null,null,678.57,null,null,null,null,null,null,null,null,null,null,null,null,null,null,1086.92,678.57,408.35,0,0,1086.92,null,{"$f":"VLOOKUP(A856,'личные рез-ты по гонкам списком'!$J$1:$N$1645,2,FALSE)","v":"М"},2]
["Тишковец Анастасия / Tishkovets Anastasiya / 1988",null,null,null,null,null,null,null,null,null,null,null,null,null,null,null,null,null,null,null,null,null,null,null,null,210.04,null,null,210.04,210.04,0,0,0,210.04,null,{"$f":"VLOOKUP(A857,'личные рез-ты по гонкам списком'!$J$1:$N$1645,2,FALSE)","v":"Ж"},1]
["Ткачук Дарья / Tkachuk Darya / 1981",null,null,387.54,null,null,null,null,null,null,null,null,null,null,null,null,null,null,null,null,null,null,null,null,null,null,null,null,387.54,387.54,0,0,0,387.54,null,{"$f":"VLOOKUP(A858,'личные рез-ты по гонкам списком'!$J$1:$N$1645,2,FALSE)","v":"Ж"},1]
["Тмофеева Александр / Tmofeeva Aleksandr / 1990",null,null,null,null,null,null,null,null,null,null,null,null,null,null,null,null,null,null,null,186.26,null,null,null,null,null,null,null,186.26,186.26,0,0,0,186.26,null,{"$f":"VLOOKUP(A859,'личные рез-ты по гонкам списком'!$J$1:$N$1645,2,FALSE)","v":"Ж"},1]
["Толкачев Дмитрий / Tolkachev Dmitrij / 1971",null,500.3,null,null,null,null,null,null,null,null,null,null,null,null,null,null,null,null,null,null,null,null,null,null,null,null,null,500.3,500.3,0,0,0,500.3,null,{"$f":"VLOOKUP(A860,'личные рез-ты по гонкам списком'!$J$1:$N$1645,2,FALSE)","v":"М"},1]
["Томашев Игорь / Tomashev Igor / 1965",null,18.190000000000001,null,null,null,null,null,null,null,null,null,null,null,null,null,null,null,null,null,null,null,null,null,null,null,null,null,18.190000000000001,18.190000000000001,0,0,0,18.190000000000001,null,{"$f":"VLOOKUP(A861,'личные рез-ты по гонкам списком'!$J$1:$N$1645,2,FALSE)","v":"М"},1]
["Торопова Мария / Toropova Mariya / 1989",null,null,null,null,null,null,null,null,null,null,186.28,null,null,null,null,null,null,null,null,null,null,null,null,null,null,null,null,186.28,186.28,0,0,0,186.28,null,{"$f":"VLOOKUP(A862,'личные рез-ты по гонкам списком'!$J$1:$N$1645,2,FALSE)","v":"Ж"},1]
["Торубарова Татьяна / Torubarova Tatyana / 1983",null,null,719.72,null,null,583.79999999999995,null,null,null,null,null,null,null,null,null,null,null,null,509.9,null,null,null,null,631.58000000000004,null,null,null,2445,719.72,631.58000000000004,583.79999999999995,509.9,2445,null,{"$f":"VLOOKUP(A863,'личные рез-ты по гонкам списком'!$J$1:$N$1645,2,FALSE)","v":"Ж"},4]
["Тофоров Дмитрий / Toforov Dmitrij / 1991",null,null,null,null,null,null,null,null,null,null,null,null,null,536.69000000000005,null,null,null,null,null,null,null,null,null,null,null,null,null,536.69000000000005,536.69000000000005,0,0,0,536.69000000000005,null,{"$f":"VLOOKUP(A864,'личные рез-ты по гонкам списком'!$J$1:$N$1645,2,FALSE)","v":"М"},1]
["Трасковский Геннадий / Traskovskij Gennadij / 1961",260.29000000000002,null,null,null,null,null,null,null,null,null,null,null,null,null,null,null,null,null,null,null,null,null,null,null,null,null,null,260.29000000000002,260.29000000000002,0,0,0,260.29000000000002,null,{"$f":"VLOOKUP(A865,'личные рез-ты по гонкам списком'!$J$1:$N$1645,2,FALSE)","v":"М"},1]
["Трасковский Дмитрий / Traskovskij Dmitrij / 1986",549.5,null,null,null,null,null,null,null,null,null,null,null,null,null,null,null,null,null,null,null,null,null,null,null,null,null,null,549.5,549.5,0,0,0,549.5,null,{"$f":"VLOOKUP(A866,'личные рез-ты по гонкам списком'!$J$1:$N$1645,2,FALSE)","v":"М"},1]
["Третьяк Екатерина / Tretyak Ekaterina / 1985",null,null,null,326.42,null,null,null,null,null,null,null,null,null,null,null,null,null,null,null,null,null,261.27999999999997,null,null,null,null,null,587.70000000000005,326.42,261.27999999999997,0,0,587.70000000000005,null,{"$f":"VLOOKUP(A867,'личные рез-ты по гонкам списком'!$J$1:$N$1645,2,FALSE)","v":"Ж"},2]
["Тривашкевич Евгений / Trivashkevich Evgenij / 1996",null,null,null,null,null,null,null,null,382.83,null,null,null,null,null,null,null,null,null,null,null,null,384.28,null,null,null,null,null,767.1099999999999,384.28,382.83,0,0,767.1099999999999,null,{"$f":"VLOOKUP(A868,'личные рез-ты по гонкам списком'!$J$1:$N$1645,2,FALSE)","v":"М"},2]
["Троцкий Игнат / Trotskij Ignat / 2002",null,null,null,null,null,null,null,null,null,null,null,null,null,null,30.59,null,null,null,null,null,null,61.08,null,null,null,null,null,91.67,61.08,30.59,0,0,91.67,null,{"$f":"VLOOKUP(A869,'личные рез-ты по гонкам списком'!$J$1:$N$1645,2,FALSE)","v":"М"},2]
["Трубкина Анастасия / Trubkina Anastasiya / 1989",null,null,null,null,477.01,null,null,null,null,null,null,460.84,null,null,null,null,null,null,396.59,null,null,null,498.83,null,null,null,null,1833.2699999999998,498.83,477.01,460.84,396.59,1833.2699999999998,null,{"$f":"VLOOKUP(A870,'личные рез-ты по гонкам списком'!$J$1:$N$1645,2,FALSE)","v":"Ж"},4]
["Трубкина Инна / Trubkina Inna / 1972",null,null,null,null,null,null,null,162.03,null,null,null,null,null,null,null,null,null,null,null,null,null,null,null,null,null,null,null,162.03,162.03,0,0,0,162.03,null,{"$f":"VLOOKUP(A871,'личные рез-ты по гонкам списком'!$J$1:$N$1645,2,FALSE)","v":"Ж"},1]
["Труханов Сергей / Truhanov Sergej / 1987",null,null,368.64,null,null,null,null,null,null,null,null,null,null,null,null,null,null,null,null,null,null,null,null,null,null,null,null,368.64,368.64,0,0,0,368.64,null,{"$f":"VLOOKUP(A872,'личные рез-ты по гонкам списком'!$J$1:$N$1645,2,FALSE)","v":"М"},1]
["Трухтанова Елена / Truhtanova Elena / 1985",null,null,442.91,null,null,null,null,null,null,null,null,null,null,null,null,null,null,null,null,null,null,null,null,null,null,null,null,442.91,442.91,0,0,0,442.91,null,{"$f":"VLOOKUP(A873,'личные рез-ты по гонкам списком'!$J$1:$N$1645,2,FALSE)","v":"Ж"},1]
["Тудакова Людмила  / Tudakova Lyudmila  / 1981",null,null,null,19.78,null,null,null,null,null,null,null,null,null,null,null,null,null,null,null,null,null,null,null,null,null,null,null,19.78,19.78,0,0,0,19.78,null,{"$f":"VLOOKUP(A874,'личные рез-ты по гонкам списком'!$J$1:$N$1645,2,FALSE)","v":"Ж"},1]
["Тумашик Екатерина / Tumashik Ekaterina / 1984",null,null,null,null,null,null,null,null,null,null,200.61,null,null,null,null,null,null,null,null,null,null,null,null,null,null,null,null,200.61,200.61,0,0,0,200.61,null,{"$f":"VLOOKUP(A875,'личные рез-ты по гонкам списком'!$J$1:$N$1645,2,FALSE)","v":"Ж"},1]
["Тумащик Александр / Tumaschik Aleksandr / 1972",null,null,null,null,null,null,null,null,null,null,null,null,null,null,null,null,null,null,null,null,null,264.67,null,null,null,null,null,264.67,264.67,0,0,0,264.67,null,{"$f":"VLOOKUP(A876,'личные рез-ты по гонкам списком'!$J$1:$N$1645,2,FALSE)","v":"М"},1]
["Туровец Ольга / Turovets Olga / 1979",null,null,null,null,null,null,null,113.42,null,null,214.94,null,null,null,null,109.62,null,null,null,null,null,93.31,null,null,null,null,null,531.29,214.94,113.42,109.62,93.31,531.29,null,{"$f":"VLOOKUP(A877,'личные рез-ты по гонкам списком'!$J$1:$N$1645,2,FALSE)","v":"Ж"},4]
["Туцкий Юрий / Tutskij Yurij / 1992",null,null,null,null,null,null,null,null,null,null,null,null,null,null,null,null,null,null,null,null,null,null,null,null,193.77,null,null,193.77,193.77,0,0,0,193.77,null,{"$f":"VLOOKUP(A878,'личные рез-ты по гонкам списком'!$J$1:$N$1645,2,FALSE)","v":"М"},1]
["Тылиндус Александр / Tylindus Aleksandr / 1984",null,null,null,null,null,null,null,null,null,null,null,null,null,null,null,null,null,null,null,null,null,239.22,null,null,null,null,null,239.22,239.22,0,0,0,239.22,null,{"$f":"VLOOKUP(A879,'личные рез-ты по гонкам списком'!$J$1:$N$1645,2,FALSE)","v":"М"},1]
["Тюев Даниил / Tyuev Daniil / 1977",607.34,null,null,null,null,null,723.87,null,127.61,null,null,null,null,715.59,null,206.22,null,null,145.69,null,null,null,null,378.95,null,null,498.48,3403.7499999999995,723.87,715.59,607.34,498.48,2545.2800000000002,null,{"$f":"VLOOKUP(A880,'личные рез-ты по гонкам списком'!$J$1:$N$1645,2,FALSE)","v":"М"},8]
["Устинович Игорь / Ustinovich Igor / 1970",null,null,null,null,null,null,null,null,null,null,null,null,null,null,null,null,null,null,null,null,null,12.72,null,null,null,null,null,12.72,12.72,0,0,0,12.72,null,{"$f":"VLOOKUP(A881,'личные рез-ты по гонкам списком'!$J$1:$N$1645,2,FALSE)","v":"М"},1]
["Утлик Максим / Utlik Maksim / 1985",null,null,null,null,null,null,null,null,null,null,null,null,null,null,null,172.65,null,null,null,null,null,null,null,null,null,null,null,172.65,172.65,0,0,0,172.65,null,{"$f":"VLOOKUP(A882,'личные рез-ты по гонкам списком'!$J$1:$N$1645,2,FALSE)","v":"М"},1]
["Фадеева Светлана / Fadeeva Svetlana / 1980",null,null,null,null,null,null,null,null,null,null,null,null,null,null,null,null,null,null,null,193.16,null,null,null,null,null,null,null,193.16,193.16,0,0,0,193.16,null,{"$f":"VLOOKUP(A883,'личные рез-ты по гонкам списком'!$J$1:$N$1645,2,FALSE)","v":"Ж"},1]
["Фалинский Кирилл / Falinskij Kirill / 1983",null,null,null,null,null,null,null,null,null,null,null,null,null,null,null,null,null,null,null,null,209.02,null,null,null,null,null,null,209.02,209.02,0,0,0,209.02,null,{"$f":"VLOOKUP(A884,'личные рез-ты по гонкам списком'!$J$1:$N$1645,2,FALSE)","v":"М"},1]
["Фам Вероника / Fam Veronika / 1982",null,112.57,null,null,null,null,null,null,null,null,null,null,null,null,null,null,null,null,null,null,null,null,null,null,null,null,null,112.57,112.57,0,0,0,112.57,null,{"$f":"VLOOKUP(A885,'личные рез-ты по гонкам списком'!$J$1:$N$1645,2,FALSE)","v":"Ж"},1]
["Фамичёва Елена / Famichjova Elena / 1993",null,null,null,null,null,null,null,null,null,null,85.98,null,null,null,null,null,null,null,null,null,null,null,null,null,null,null,null,85.98,85.98,0,0,0,85.98,null,{"$f":"VLOOKUP(A886,'личные рез-ты по гонкам списком'!$J$1:$N$1645,2,FALSE)","v":"Ж"},1]
["Фастовец Евгений / Fastovets Evgenij / 1979",null,null,null,null,null,null,null,null,null,null,null,null,null,null,null,null,null,null,null,null,null,null,26.39,null,null,null,null,26.39,26.39,0,0,0,26.39,null,{"$f":"VLOOKUP(A887,'личные рез-ты по гонкам списком'!$J$1:$N$1645,2,FALSE)","v":"М"},1]
["Федоренко Александр / Fedorenko Aleksandr / 1990",null,null,null,null,null,null,null,null,null,null,null,null,null,null,null,null,null,null,null,null,null,null,290.32,null,null,null,null,290.32,290.32,0,0,0,290.32,null,{"$f":"VLOOKUP(A888,'личные рез-ты по гонкам списком'!$J$1:$N$1645,2,FALSE)","v":"М"},1]
["Федоринчик Дмитрий / Fedorinchik Dmitrij / 1988",null,null,null,null,null,null,null,null,null,null,null,null,null,null,null,null,51.81,null,null,null,null,null,null,null,null,null,null,51.81,51.81,0,0,0,51.81,null,{"$f":"VLOOKUP(A889,'личные рез-ты по гонкам списком'!$J$1:$N$1645,2,FALSE)","v":"М"},1]
["Федоров Федор / Fedorov Fedor / 1977",null,null,null,null,155.15,null,null,null,null,null,null,null,null,null,null,null,null,null,null,null,null,null,145.16,null,null,null,null,300.31,155.15,145.16,0,0,300.31,null,{"$f":"VLOOKUP(A890,'личные рез-ты по гонкам списком'!$J$1:$N$1645,2,FALSE)","v":"М"},2]
["Федорович Николай / Fedorovich Nikolaj / 1959",665.18,null,null,null,null,null,658.06,null,280.74,null,null,null,428.57,null,null,139.08000000000001,null,null,121.41,null,null,null,null,null,null,null,null,2293.0399999999995,665.18,658.06,428.57,280.74,2032.5499999999997,null,{"$f":"VLOOKUP(A891,'личные рез-ты по гонкам списком'!$J$1:$N$1645,2,FALSE)","v":"М"},6]
["Федченко Олеся / Fedchenko Olesya / 1977",null,null,null,null,null,null,null,null,null,null,null,32.92,null,null,null,null,null,null,null,null,null,null,null,null,null,null,null,32.92,32.92,0,0,0,32.92,null,{"$f":"VLOOKUP(A892,'личные рез-ты по гонкам списком'!$J$1:$N$1645,2,FALSE)","v":"Ж"},1]
["Федченко Ярослава / Fedchenko Yaroslava / 2002",null,null,null,null,null,null,null,null,null,38.67,null,131.66999999999999,null,null,null,null,null,null,null,200.06,null,null,null,null,null,null,null,370.4,200.06,131.66999999999999,38.67,0,370.40000000000003,null,{"$f":"VLOOKUP(A893,'личные рез-ты по гонкам списком'!$J$1:$N$1645,2,FALSE)","v":"Ж"},3]
["Федькович Виталий / Fedkovich Vitalij / 1995",null,null,null,null,null,null,null,null,null,null,null,null,null,null,234.55,null,null,null,null,null,null,null,null,null,null,null,null,234.55,234.55,0,0,0,234.55,null,{"$f":"VLOOKUP(A894,'личные рез-ты по гонкам списком'!$J$1:$N$1645,2,FALSE)","v":"М"},1]
["Фенченко Алексей / Fenchenko Aleksej / 1989",null,null,null,null,null,null,null,null,null,null,null,null,null,null,null,null,null,null,null,null,null,null,null,null,null,768.07,null,768.07,768.07,0,0,0,768.07,null,{"$f":"VLOOKUP(A895,'личные рез-ты по гонкам списком'!$J$1:$N$1645,2,FALSE)","v":"М"},1]
["Фигурин Дмитрий / Figurin Dmitrij / 1982",null,null,null,null,null,null,null,null,null,163.27000000000001,null,null,null,null,null,null,null,null,null,null,null,null,null,null,null,null,null,163.27000000000001,163.27000000000001,0,0,0,163.27000000000001,null,{"$f":"VLOOKUP(A896,'личные рез-ты по гонкам списком'!$J$1:$N$1645,2,FALSE)","v":"М"},1]
["Фидек Виталий / Fidek Vitalij / 1966",null,null,122.88,null,null,null,null,null,null,null,null,null,null,null,null,null,null,null,null,null,null,null,null,null,null,null,null,122.88,122.88,0,0,0,122.88,null,{"$f":"VLOOKUP(A897,'личные рез-ты по гонкам списком'!$J$1:$N$1645,2,FALSE)","v":"М"},1]
["Филипович Никита / Filipovich Nikita / 1993",null,136.44999999999999,null,null,null,null,null,null,null,null,null,null,null,null,null,null,null,null,null,null,null,null,null,null,null,null,null,136.44999999999999,136.44999999999999,0,0,0,136.44999999999999,null,{"$f":"VLOOKUP(A898,'личные рез-ты по гонкам списком'!$J$1:$N$1645,2,FALSE)","v":"М"},1]
["Филитарин Дмитрий / Filitarin Dmitrij / 1987",null,null,null,null,null,null,null,null,421.11,null,null,null,null,null,null,null,null,null,null,null,null,null,null,null,null,null,null,421.11,421.11,0,0,0,421.11,null,{"$f":"VLOOKUP(A899,'личные рез-ты по гонкам списком'!$J$1:$N$1645,2,FALSE)","v":"М"},1]
["Флерчук Евгений / Flerchuk Evgenij / 1992",null,null,null,null,null,null,null,null,null,null,null,null,null,null,null,null,null,null,null,84.85,null,101.8,null,null,null,null,null,186.64999999999998,101.8,84.85,0,0,186.64999999999998,null,{"$f":"VLOOKUP(A900,'личные рез-ты по гонкам списком'!$J$1:$N$1645,2,FALSE)","v":"М"},2]
["Фомин Леонид / Fomin Leonid / 1983",231.37,null,null,null,164.27,null,null,null,null,null,null,null,null,null,null,null,null,null,null,null,null,null,null,null,null,null,null,395.64,231.37,164.27,0,0,395.64,null,{"$f":"VLOOKUP(A901,'личные рез-ты по гонкам списком'!$J$1:$N$1645,2,FALSE)","v":"М"},2]
["Фомина Ирина / Fomina Irina / 1986",null,null,null,257.18,null,null,null,null,null,null,null,null,null,null,null,null,null,null,null,282.83999999999997,null,null,null,null,266.81,null,null,806.82999999999993,{"$f":"LARGE(B902:AB902,1)","v":282.83999999999997},{"$f":"IF(COUNT(B902:AB902)=1,0,LARGE(B902:AB902,2))","v":266.81},{"$f":"IF(COUNT(B902:AB902)<3,0,LARGE(B902:AB902,3))","v":257.18},{"$f":"IF(COUNT(B902:AB902)<4,0,LARGE(B902:AB902,4))","v":0},{"$f":"SUM(AD902:AG902)","v":806.82999999999993},null,{"$f":"VLOOKUP(A902,'личные рез-ты по гонкам списком'!$J$1:$N$1645,2,FALSE)","v":"Ж"},{"$f":"COUNT(B902:AB902)","v":3}]
["Фомичёва Елена / Fomichjova Elena / 1993",null,null,null,null,null,null,null,null,null,null,null,null,null,null,null,null,null,null,null,96.58,null,null,null,null,null,null,null,96.58,96.58,0,0,0,96.58,null,{"$f":"VLOOKUP(A903,'личные рез-ты по гонкам списком'!$J$1:$N$1645,2,FALSE)","v":"Ж"},1]
["Фузейников Алексей / Fuzejnikov Aleksej / 1984",null,null,null,null,null,null,null,null,null,null,null,null,null,null,null,null,null,null,null,null,null,25.45,null,null,null,null,null,25.45,25.45,0,0,0,25.45,null,{"$f":"VLOOKUP(A904,'личные рез-ты по гонкам списком'!$J$1:$N$1645,2,FALSE)","v":"М"},1]
["Фурсевич Павел / Fursevich Pavel / 1983",null,null,null,null,null,null,null,null,null,null,null,null,null,null,null,null,null,null,null,null,null,null,null,null,36.33,null,null,36.33,36.33,0,0,0,36.33,null,{"$f":"VLOOKUP(A905,'личные рез-ты по гонкам списком'!$J$1:$N$1645,2,FALSE)","v":"М"},1]
["Хадорик Владимир / Hadorik Vladimir / 1986",null,null,null,null,null,329.57,null,null,null,null,null,null,null,null,null,134.28,null,null,null,null,null,null,null,null,null,null,null,463.85,329.57,134.28,0,0,463.85,null,{"$f":"VLOOKUP(A906,'личные рез-ты по гонкам списком'!$J$1:$N$1645,2,FALSE)","v":"М"},2]
["Халомзик Дмитрий / Halomzik Dmitrij / 1972",null,null,null,null,null,null,null,null,null,null,null,null,null,null,45.89,null,null,null,null,null,null,null,null,null,null,null,null,45.89,45.89,0,0,0,45.89,null,{"$f":"VLOOKUP(A907,'личные рез-ты по гонкам списком'!$J$1:$N$1645,2,FALSE)","v":"М"},1]
["Хамицевич Андрей / Hamitsevich Andrej / 1983",null,null,null,null,null,null,null,null,null,null,226.2,null,null,null,null,null,null,null,null,null,null,134.88,null,null,null,null,null,361.08,226.2,134.88,0,0,361.08,null,{"$f":"VLOOKUP(A908,'личные рез-ты по гонкам списком'!$J$1:$N$1645,2,FALSE)","v":"М"},2]
["Хамицевич Михаил / Hamitsevich Mihail / 1980",null,null,403.75,null,200.78,null,null,null,null,null,null,null,null,null,null,119.9,null,null,null,null,null,null,125.37,null,null,null,null,849.8,403.75,200.78,125.37,119.9,849.8,null,{"$f":"VLOOKUP(A909,'личные рез-ты по гонкам списком'!$J$1:$N$1645,2,FALSE)","v":"М"},4]
["Хандогин Николай / Handogin Nikolaj / 1955",null,null,null,null,null,null,null,null,null,null,null,null,null,null,null,null,null,null,null,null,null,66.17,null,null,null,null,null,66.17,66.17,0,0,0,66.17,null,{"$f":"VLOOKUP(A910,'личные рез-ты по гонкам списком'!$J$1:$N$1645,2,FALSE)","v":"М"},1]
["Харик Анна / Harik Anna / 1986",null,225.13,null,null,null,null,null,null,null,null,null,null,null,null,null,null,null,null,null,null,null,null,null,null,null,null,null,225.13,225.13,0,0,0,225.13,null,{"$f":"VLOOKUP(A911,'личные рез-ты по гонкам списком'!$J$1:$N$1645,2,FALSE)","v":"Ж"},1]
["Харитонов Иван / Haritonov Ivan / 1973",636.26,null,null,null,null,null,null,null,133.99,null,null,null,null,417.43,null,187.04,null,null,null,null,null,null,null,null,null,725.4,null,2100.12,725.4,636.26,417.43,187.04,1966.1299999999999,null,{"$f":"VLOOKUP(A912,'личные рез-ты по гонкам списком'!$J$1:$N$1645,2,FALSE)","v":"М"},5]
["Харитонов Илья / Haritonov Ilya / 1973",null,null,null,null,null,null,null,null,null,null,null,null,null,null,null,null,null,null,null,null,235.15,null,null,null,null,null,null,235.15,235.15,0,0,0,235.15,null,{"$f":"VLOOKUP(A913,'личные рез-ты по гонкам списком'!$J$1:$N$1645,2,FALSE)","v":"М"},1]
["Хатуницкий Евгений / Hatunitskij Evgenij / 1886",null,null,null,null,null,null,null,null,null,null,null,null,null,null,null,null,null,null,null,null,null,381.74,null,null,null,null,null,381.74,381.74,0,0,0,381.74,null,{"$f":"VLOOKUP(A914,'личные рез-ты по гонкам списком'!$J$1:$N$1645,2,FALSE)","v":"М"},1]
["Хацкевич Дмитрий / Hatskevich Dmitrij / 1985",null,null,null,null,null,null,null,188.72,null,null,null,null,null,null,null,null,null,null,null,null,null,null,null,null,null,null,null,188.72,188.72,0,0,0,188.72,null,{"$f":"VLOOKUP(A915,'личные рез-ты по гонкам списком'!$J$1:$N$1645,2,FALSE)","v":"М"},1]
["Херзен Андрей / Herzen Andrej / 1984",null,null,null,null,null,null,null,null,114.85,null,null,null,null,null,null,null,null,null,null,null,null,null,null,null,null,null,null,114.85,114.85,0,0,0,114.85,null,{"$f":"VLOOKUP(A916,'личные рез-ты по гонкам списком'!$J$1:$N$1645,2,FALSE)","v":"М"},1]
["Хинец Анна / Hinets Anna / 1986",null,150.09,null,null,null,null,null,null,null,null,null,null,null,null,null,null,null,null,null,null,null,null,null,null,null,null,null,150.09,150.09,0,0,0,150.09,null,{"$f":"VLOOKUP(A917,'личные рез-ты по гонкам списком'!$J$1:$N$1645,2,FALSE)","v":"Ж"},1]
["Хлопцева Инга / Hloptseva Inga / 1982",null,null,null,null,null,null,null,null,null,283.57,null,null,null,null,null,null,null,null,null,null,null,270.61,null,null,null,null,null,554.18000000000006,283.57,270.61,0,0,554.18000000000006,null,{"$f":"VLOOKUP(A918,'личные рез-ты по гонкам списком'!$J$1:$N$1645,2,FALSE)","v":"Ж"},2]
["Хмелевская Ольга / Hmelevskaya Olga / 1988",null,null,null,null,null,null,null,null,null,null,null,null,null,null,null,null,null,105.26,null,null,null,null,null,null,187.34,null,null,292.60000000000002,187.34,105.26,0,0,292.60000000000002,null,{"$f":"VLOOKUP(A919,'личные рез-ты по гонкам списком'!$J$1:$N$1645,2,FALSE)","v":"Ж"},2]
["Хмелевский Антон / Hmelevskij Anton / 1984",null,null,null,null,428.94,null,null,null,null,null,null,null,null,null,null,null,null,null,null,null,null,null,null,null,null,null,null,428.94,428.94,0,0,0,428.94,null,{"$f":"VLOOKUP(A920,'личные рез-ты по гонкам списком'!$J$1:$N$1645,2,FALSE)","v":"М"},1]
["Хмелевский Юрий / Hmelevskij Yurij / 1974",null,null,null,null,null,null,null,null,null,null,null,null,null,null,null,null,null,null,null,null,null,190.87,null,null,null,null,null,190.87,190.87,0,0,0,190.87,null,{"$f":"VLOOKUP(A921,'личные рез-ты по гонкам списком'!$J$1:$N$1645,2,FALSE)","v":"М"},1]
["Ходан Александр / Hodan Aleksandr / 1988",null,null,null,null,511.08,null,null,null,504.06,null,null,null,null,null,null,null,null,null,473.48,null,null,null,554.26,null,null,null,null,2042.8799999999999,554.26,511.08,504.06,473.48,2042.8799999999999,null,{"$f":"VLOOKUP(A922,'личные рез-ты по гонкам списком'!$J$1:$N$1645,2,FALSE)","v":"М"},4]
["Хомич Юрий / Homich Yurij / 1970",null,null,null,null,null,null,null,null,null,null,172.97,null,null,null,null,null,null,null,null,null,null,null,null,null,null,null,null,172.97,172.97,0,0,0,172.97,null,{"$f":"VLOOKUP(A923,'личные рез-ты по гонкам списком'!$J$1:$N$1645,2,FALSE)","v":"М"},1]
["Хорольский Александр / Horolskij Aleksandr / 1985",null,null,null,57.74,null,null,null,null,null,null,null,null,null,null,null,null,null,null,null,null,null,58.53,null,null,null,null,null,116.27000000000001,58.53,57.74,0,0,116.27000000000001,null,{"$f":"VLOOKUP(A924,'личные рез-ты по гонкам списком'!$J$1:$N$1645,2,FALSE)","v":"М"},2]
["Хорошавин Вячеслав / Horoshavin Vyacheslav / 1985",null,482.11,null,null,465.45,null,null,null,null,292.17,345.95,null,null,null,300.83999999999997,null,null,null,null,null,null,null,null,551.19000000000005,null,null,null,2437.71,551.19000000000005,482.11,465.45,345.95,1844.7000000000003,null,{"$f":"VLOOKUP(A925,'личные рез-ты по гонкам списком'!$J$1:$N$1645,2,FALSE)","v":"М"},6]
["Храмов Антон / Hramov Anton / 1991",751.94,null,null,null,null,null,null,null,414.73,null,null,null,642.85,null,null,null,null,null,315.64999999999998,null,null,null,null,null,null,null,390.12,2515.29,751.94,642.85,414.73,390.12,2199.64,null,{"$f":"VLOOKUP(A926,'личные рез-ты по гонкам списком'!$J$1:$N$1645,2,FALSE)","v":"М"},{"$f":"COUNT(B926:AB926)","v":5}]
["Храмов Иван / Hramov Ivan / 2001",null,null,null,null,null,null,null,null,null,null,null,null,null,null,null,null,null,null,242.81,null,null,null,null,null,null,null,null,242.81,242.81,0,0,0,242.81,null,{"$f":"VLOOKUP(A927,'личные рез-ты по гонкам списком'!$J$1:$N$1645,2,FALSE)","v":"М"},1]
["Храмченко Татьяна / Hramchenko Tatyana / 1982",null,null,null,null,null,null,null,null,null,null,null,null,null,null,null,null,null,null,null,null,null,65.319999999999993,null,null,null,null,null,65.319999999999993,65.319999999999993,0,0,0,65.319999999999993,null,{"$f":"VLOOKUP(A928,'личные рез-ты по гонкам списком'!$J$1:$N$1645,2,FALSE)","v":"Ж"},1]
["Хромов Вадим / Hromov Vadim / 1994",null,null,null,null,null,null,null,null,null,null,null,null,null,null,null,null,null,null,null,null,null,216.32,null,null,null,null,null,216.32,216.32,0,0,0,216.32,null,{"$f":"VLOOKUP(A929,'личные рез-ты по гонкам списком'!$J$1:$N$1645,2,FALSE)","v":"М"},1]
["Хурс Елена / Hurs Elena / 1989",null,null,null,null,null,null,null,null,null,null,null,null,null,null,null,null,null,null,null,179.36,null,null,null,null,null,null,null,179.36,179.36,0,0,0,179.36,null,{"$f":"VLOOKUP(A930,'личные рез-ты по гонкам списком'!$J$1:$N$1645,2,FALSE)","v":"Ж"},1]
["Цветкова Мария / Tsvetkova Mariya / 1994",null,null,null,null,null,null,null,null,null,null,null,null,null,null,null,null,null,189.47,null,null,null,null,null,null,null,null,null,189.47,189.47,0,0,0,189.47,null,{"$f":"VLOOKUP(A931,'личные рез-ты по гонкам списком'!$J$1:$N$1645,2,FALSE)","v":"Ж"},1]
["Цвирбут Юлия / Tsvirbut Yuliya / 1992",null,475.28,null,null,null,null,null,null,null,null,null,493.76,null,null,null,383.67,null,null,null,null,null,null,null,null,null,null,null,1352.71,493.76,475.28,383.67,0,1352.71,null,{"$f":"VLOOKUP(A932,'личные рез-ты по гонкам списком'!$J$1:$N$1645,2,FALSE)","v":"Ж"},3]
["Цвирко Артур / Tsvirko Artur / 1991",null,null,null,null,null,615.19000000000005,null,null,null,null,null,null,null,null,null,null,null,null,null,null,null,null,null,null,null,null,null,615.19000000000005,615.19000000000005,0,0,0,615.19000000000005,null,{"$f":"VLOOKUP(A933,'личные рез-ты по гонкам списком'!$J$1:$N$1645,2,FALSE)","v":"М"},1]
["Чабор Максим / Chabor Maksim / 1991",null,null,null,null,null,null,null,null,null,null,null,null,null,null,null,null,null,null,null,null,339.66,null,null,null,null,null,null,339.66,339.66,0,0,0,339.66,null,{"$f":"VLOOKUP(A934,'личные рез-ты по гонкам списком'!$J$1:$N$1645,2,FALSE)","v":"М"},1]
["Чалый Николай / Chalyj Nikolaj / 1980",null,null,null,null,null,null,null,null,null,25.78,null,null,null,null,null,null,null,null,null,null,null,null,null,null,null,null,null,25.78,25.78,0,0,0,25.78,null,{"$f":"VLOOKUP(A935,'личные рез-ты по гонкам списком'!$J$1:$N$1645,2,FALSE)","v":"М"},1]
["Чеберяк Сергей / Cheberyak Sergej / 1987",null,null,null,null,null,null,null,null,null,null,null,null,null,null,null,null,null,null,null,null,null,null,547.66,null,null,null,null,547.66,547.66,0,0,0,547.66,null,{"$f":"VLOOKUP(A936,'личные рез-ты по гонкам списком'!$J$1:$N$1645,2,FALSE)","v":"М"},1]
["Чеботаев Сергей / Chebotaev Sergej / 1989",null,null,null,null,null,null,null,411.76,null,null,null,null,null,null,null,null,null,null,null,null,null,null,null,null,null,null,null,411.76,411.76,0,0,0,411.76,null,{"$f":"VLOOKUP(A937,'личные рез-ты по гонкам списком'!$J$1:$N$1645,2,FALSE)","v":"М"},1]
["Чеботаева Валерия / Chebotaeva Valeriya / 1993",null,null,null,null,null,null,null,259.26,null,null,null,null,null,null,null,null,null,null,null,null,null,null,null,null,null,null,null,259.26,259.26,0,0,0,259.26,null,{"$f":"VLOOKUP(A938,'личные рез-ты по гонкам списком'!$J$1:$N$1645,2,FALSE)","v":"Ж"},1]
["Челышев Сергей / Chelyshev Sergej / 1967",null,null,null,null,null,null,null,null,null,null,null,null,null,null,null,null,null,null,null,null,null,272.31,null,null,null,null,null,272.31,272.31,0,0,0,272.31,null,{"$f":"VLOOKUP(A939,'личные рез-ты по гонкам списком'!$J$1:$N$1645,2,FALSE)","v":"М"},1]
["Чембрович Марта / Chembrovich Marta / 1995",null,null,null,null,null,null,null,null,null,null,null,null,null,null,null,null,null,null,null,null,null,null,null,null,73.8,null,null,73.8,73.8,0,0,0,73.8,null,{"$f":"VLOOKUP(A940,'личные рез-ты по гонкам списком'!$J$1:$N$1645,2,FALSE)","v":"Ж"},1]
["Черкас Александра / Cherkas Aleksandra / 1992",null,462.78,null,null,null,681.1,null,null,null,296.45999999999998,315.24,null,null,null,null,356.26,null,null,453.25,null,null,null,554.26,null,null,null,null,3119.3500000000004,681.1,554.26,462.78,453.25,2151.3900000000003,null,{"$f":"VLOOKUP(A941,'личные рез-ты по гонкам списком'!$J$1:$N$1645,2,FALSE)","v":"Ж"},7]
["Черкас Сергей / Cherkas Sergej / 1985",null,null,null,null,null,null,null,null,null,null,null,null,null,null,null,null,null,null,null,null,39.19,null,null,null,null,null,null,39.19,39.19,0,0,0,39.19,null,{"$f":"VLOOKUP(A942,'личные рез-ты по гонкам списком'!$J$1:$N$1645,2,FALSE)","v":"М"},1]
["Чернель Татьяна / Chernel Tatyana / 1982",null,null,null,null,null,null,null,null,null,null,null,395.01,null,null,null,null,null,null,null,null,null,null,null,null,null,null,315.81,710.81999999999994,395.01,315.81,0,0,710.81999999999994,null,{"$f":"VLOOKUP(A943,'личные рез-ты по гонкам списком'!$J$1:$N$1645,2,FALSE)","v":"Ж"},2]
["Чернышев Дмитрий / Chernyshev Dmitrij / 1987",null,null,null,null,null,null,null,null,null,null,null,null,null,null,null,278.16000000000003,null,null,254.95,null,null,null,null,null,null,null,null,533.11,278.16000000000003,254.95,0,0,533.11,null,{"$f":"VLOOKUP(A944,'личные рез-ты по гонкам списком'!$J$1:$N$1645,2,FALSE)","v":"М"},2]
["Чернявский Артем / Chernyavskij Artem / 1987",null,181.93,null,null,null,null,null,null,null,null,null,null,null,null,null,null,null,null,null,null,null,null,null,null,null,null,null,181.93,181.93,0,0,0,181.93,null,{"$f":"VLOOKUP(A945,'личные рез-ты по гонкам списком'!$J$1:$N$1645,2,FALSE)","v":"М"},1]
["Чернявский Евгений / Chernyavskij Evgenij / 1988",null,null,null,null,null,null,null,null,null,null,null,null,null,null,null,null,null,null,null,null,null,292.67,null,null,null,null,null,292.67,292.67,0,0,0,292.67,null,{"$f":"VLOOKUP(A946,'личные рез-ты по гонкам списком'!$J$1:$N$1645,2,FALSE)","v":"М"},1]
["Чеснокова Надежда / Chesnokova Nadezhda / 1988",null,null,null,null,null,null,null,null,null,270.68,null,null,null,null,null,null,null,null,null,null,null,null,null,null,null,null,null,270.68,270.68,0,0,0,270.68,null,{"$f":"VLOOKUP(A947,'личные рез-ты по гонкам списком'!$J$1:$N$1645,2,FALSE)","v":"Ж"},1]
["Чигорская Татьяна / Chigorskaya Tatyana / 1977",null,null,null,null,null,null,null,null,null,null,null,null,null,null,null,null,null,null,null,null,null,205.29,null,null,null,null,null,205.29,205.29,0,0,0,205.29,null,{"$f":"VLOOKUP(A948,'личные рез-ты по гонкам списком'!$J$1:$N$1645,2,FALSE)","v":"Ж"},1]
["Чигорская Татьяна  / Chigorskaya Tatyana  / 1977",null,null,null,187.94,null,null,null,null,null,null,null,null,null,null,null,null,null,null,null,null,null,null,null,null,null,null,null,187.94,187.94,0,0,0,187.94,null,{"$f":"VLOOKUP(A949,'личные рез-ты по гонкам списком'!$J$1:$N$1645,2,FALSE)","v":"Ж"},1]
["Чиж Сергей / Chizh Sergej / 1993",null,null,null,null,null,null,null,null,null,null,null,null,null,null,null,null,null,null,null,null,null,null,448.68,null,null,null,null,448.68,448.68,0,0,0,448.68,null,{"$f":"VLOOKUP(A950,'личные рез-ты по гонкам списком'!$J$1:$N$1645,2,FALSE)","v":"М"},1]
["Чирская Юлия / Chirskaya Yuliya / 1992",null,null,null,null,null,null,null,null,null,null,null,null,null,null,null,null,145.07,null,null,null,null,null,null,null,null,null,null,145.07,145.07,0,0,0,145.07,null,{"$f":"VLOOKUP(A951,'личные рез-ты по гонкам списком'!$J$1:$N$1645,2,FALSE)","v":"М"},1]
["Чичин Юрий / Chichin Yurij / 1979",null,null,null,null,null,null,null,null,null,null,null,120.7,null,null,null,null,null,null,null,131.99,null,null,null,null,null,null,260.08,512.77,260.08,131.99,120.7,0,512.77,null,{"$f":"VLOOKUP(A952,'личные рез-ты по гонкам списком'!$J$1:$N$1645,2,FALSE)","v":"М"},3]
["Чудаков Владислав / Chudakov Vladislav / 1977",null,291.08,null,null,null,null,null,null,null,null,null,null,null,null,122.38,null,null,136.36000000000001,null,null,null,null,null,null,null,null,null,549.81999999999994,291.08,136.36000000000001,122.38,0,549.81999999999994,null,{"$f":"VLOOKUP(A953,'личные рез-ты по гонкам списком'!$J$1:$N$1645,2,FALSE)","v":"М"},3]
["Шабалов Вячеслав / Shabalov Vyacheslav / 1982",null,null,null,null,null,null,null,null,null,null,null,null,null,null,null,null,null,null,null,null,null,297.76,null,null,null,null,null,297.76,297.76,0,0,0,297.76,null,{"$f":"VLOOKUP(A954,'личные рез-ты по гонкам списком'!$J$1:$N$1645,2,FALSE)","v":"М"},1]
["Шабанов Олег / Shabanov Oleg / 1971",null,254.7,null,null,null,null,null,null,null,null,null,null,null,null,null,71.94,null,null,null,null,null,null,null,null,null,null,null,326.64,254.7,71.94,0,0,326.64,null,{"$f":"VLOOKUP(A955,'личные рез-ты по гонкам списком'!$J$1:$N$1645,2,FALSE)","v":"М"},2]
["Шавель Татьяна / Shavel Tatyana / 1986",null,null,null,null,null,null,null,null,null,null,null,null,null,null,null,null,null,84.21,null,null,null,null,null,null,null,null,null,84.21,84.21,0,0,0,84.21,null,{"$f":"VLOOKUP(A956,'личные рез-ты по гонкам списком'!$J$1:$N$1645,2,FALSE)","v":"Ж"},1]
["Шалайко Дмитрий / Shalajko Dmitrij / 1993",null,null,null,null,null,null,null,null,null,null,null,null,null,null,null,null,null,null,null,null,null,null,481.68,null,null,null,null,481.68,481.68,0,0,0,481.68,null,{"$f":"VLOOKUP(A957,'личные рез-ты по гонкам списком'!$J$1:$N$1645,2,FALSE)","v":"М"},1]
["Шаметько Роман / Shametko Roman / 1991",null,null,null,null,null,null,null,null,null,null,null,null,null,null,null,null,null,null,null,null,null,null,null,null,24.22,null,null,24.22,24.22,0,0,0,24.22,null,{"$f":"VLOOKUP(A958,'личные рез-ты по гонкам списком'!$J$1:$N$1645,2,FALSE)","v":"М"},1]
["Шапелевич Максим / Shapelevich Maksim / 1987",null,null,null,null,null,null,null,null,153.13,null,null,null,285.70999999999998,null,null,105.51,null,null,null,null,null,null,null,null,null,null,null,544.35,285.70999999999998,153.13,105.51,0,544.35,null,{"$f":"VLOOKUP(A959,'личные рез-ты по гонкам списком'!$J$1:$N$1645,2,FALSE)","v":"М"},3]
["Шаповалова Ирина / Shapovalova Irina / 1993",null,null,null,null,null,null,null,null,null,257.8,null,null,null,null,null,null,null,null,null,null,null,223.95,null,null,null,null,null,481.75,257.8,223.95,0,0,481.75,null,{"$f":"VLOOKUP(A960,'личные рез-ты по гонкам списком'!$J$1:$N$1645,2,FALSE)","v":"Ж"},2]
["Шапотковский Алексей / Shapotkovskij Aleksej / 1982",null,null,null,null,null,null,null,null,null,null,null,null,null,null,null,null,null,null,null,null,null,48.35,null,null,null,null,null,48.35,48.35,0,0,0,48.35,null,{"$f":"VLOOKUP(A961,'личные рез-ты по гонкам списком'!$J$1:$N$1645,2,FALSE)","v":"М"},1]
["Шаров Александр / Sharov Aleksandr / 1983",null,null,null,null,null,null,null,null,null,null,null,null,null,null,null,null,null,null,null,null,null,68.709999999999994,null,null,null,null,null,68.709999999999994,68.709999999999994,0,0,0,68.709999999999994,null,{"$f":"VLOOKUP(A962,'личные рез-ты по гонкам списком'!$J$1:$N$1645,2,FALSE)","v":"М"},1]
["Шатерник Евгений / Shaternik Evgenij / 1980",null,null,null,null,null,null,null,null,null,null,null,null,null,null,null,null,null,null,null,null,null,129.79,null,null,null,null,null,129.79,129.79,0,0,0,129.79,null,{"$f":"VLOOKUP(A963,'личные рез-ты по гонкам списком'!$J$1:$N$1645,2,FALSE)","v":"М"},1]
["Шахметова Наталья / Shahmetova Natalya / 1992",null,null,null,null,null,null,null,null,null,null,null,null,null,null,272.87,null,null,357.89,null,null,null,null,null,null,255.46,null,null,886.22,357.89,272.87,255.46,0,886.22,null,{"$f":"VLOOKUP(A964,'личные рез-ты по гонкам списком'!$J$1:$N$1645,2,FALSE)","v":"Ж"},3]
["Шахненко Павел / Shahnenko Pavel / 1976",null,null,null,null,null,null,null,null,null,null,null,null,null,null,null,null,null,null,null,null,null,38.17,null,null,null,null,null,38.17,38.17,0,0,0,38.17,null,{"$f":"VLOOKUP(A965,'личные рез-ты по гонкам списком'!$J$1:$N$1645,2,FALSE)","v":"М"},1]
["Шашков Егор / Shashkov Egor / 1983",null,null,null,null,null,null,null,null,null,null,null,null,null,null,null,null,null,null,null,null,null,122.16,null,null,null,null,null,122.16,{"$f":"LARGE(B966:AB966,1)","v":122.16},{"$f":"IF(COUNT(B966:AB966)=1,0,LARGE(B966:AB966,2))","v":0},{"$f":"IF(COUNT(B966:AB966)<3,0,LARGE(B966:AB966,3))","v":0},{"$f":"IF(COUNT(B966:AB966)<4,0,LARGE(B966:AB966,4))","v":0},{"$f":"SUM(AD966:AG966)","v":122.16},null,{"$f":"VLOOKUP(A966,'личные рез-ты по гонкам списком'!$J$1:$N$1645,2,FALSE)","v":"М"},{"$f":"COUNT(B966:AB966)","v":1}]
["Швайковская Ольга / Shvajkovskaya Olga / 1979",null,null,null,null,null,null,null,null,null,null,null,263.33999999999997,null,null,null,null,null,null,null,null,null,null,null,null,null,null,null,263.33999999999997,263.33999999999997,0,0,0,263.33999999999997,null,{"$f":"VLOOKUP(A967,'личные рез-ты по гонкам списком'!$J$1:$N$1645,2,FALSE)","v":"Ж"},1]
["Шванц Алексей / Shvants Aleksej / 1991",null,null,null,null,null,null,null,null,null,null,null,null,null,null,null,null,null,null,null,null,null,null,null,585.64,null,null,null,585.64,585.64,0,0,0,585.64,null,{"$f":"VLOOKUP(A968,'личные рез-ты по гонкам списком'!$J$1:$N$1645,2,FALSE)","v":"М"},1]
["Шевченко Алёна / Shevchenko Aljona / ",null,null,null,168.15,null,null,null,null,null,null,null,null,null,null,null,null,null,null,null,null,null,null,null,null,null,null,null,168.15,168.15,0,0,0,168.15,null,{"$f":"VLOOKUP(A969,'личные рез-ты по гонкам списком'!$J$1:$N$1645,2,FALSE)","v":"Ж"},1]
["Шевченко Анатолий / Shevchenko Anatolij / 1981",null,null,null,null,null,null,null,null,null,null,null,null,null,null,null,null,null,null,null,null,143.69999999999999,null,null,null,null,null,null,143.69999999999999,143.69999999999999,0,0,0,143.69999999999999,null,{"$f":"VLOOKUP(A970,'личные рез-ты по гонкам списком'!$J$1:$N$1645,2,FALSE)","v":"М"},1]
["Шевчук Максим  / Shevchuk Maksim  / 1994",null,null,null,null,null,197.74,null,null,null,null,null,null,null,null,null,null,null,null,null,null,null,null,null,null,null,null,null,197.74,197.74,0,0,0,197.74,null,{"$f":"VLOOKUP(A971,'личные рез-ты по гонкам списком'!$J$1:$N$1645,2,FALSE)","v":"М"},1]
["Шепетько Сергей / Shepetko Sergej / 1987",null,318.37,null,48.12,null,null,null,null,172.27,null,null,252.37,null,null,null,177.45,null,null,194.25,null,null,null,283.73,null,null,null,null,1446.56,318.37,283.73,252.37,194.25,1048.72,null,{"$f":"VLOOKUP(A972,'личные рез-ты по гонкам списком'!$J$1:$N$1645,2,FALSE)","v":"М"},7]
["Шеремет Евгения / Sheremet Evgeniya / 1981",null,null,null,null,null,null,null,null,null,null,null,null,null,null,null,null,null,null,null,75.88,null,null,null,null,null,null,null,75.88,75.88,0,0,0,75.88,null,{"$f":"VLOOKUP(A973,'личные рез-ты по гонкам списком'!$J$1:$N$1645,2,FALSE)","v":"Ж"},1]
["Шестаков Геннадий / Shestakov Gennadij / 1962",491.66,null,null,null,null,null,null,null,null,null,null,null,null,null,null,null,null,null,null,null,null,null,null,null,null,null,null,491.66,491.66,0,0,0,491.66,null,{"$f":"VLOOKUP(A974,'личные рез-ты по гонкам списком'!$J$1:$N$1645,2,FALSE)","v":"М"},1]
["Шестеров Андрей / Shesterov Andrej / 1986",null,209.22,null,null,null,null,null,null,null,null,null,null,null,null,null,null,null,null,null,null,null,null,null,null,null,null,null,209.22,209.22,0,0,0,209.22,null,{"$f":"VLOOKUP(A975,'личные рез-ты по гонкам списком'!$J$1:$N$1645,2,FALSE)","v":"М"},1]
["Шибаева Светлана / Shibaeva Svetlana / 1995",null,null,null,null,null,null,null,null,null,null,null,null,null,null,null,null,null,null,null,null,null,null,387.98,null,null,null,null,387.98,387.98,0,0,0,387.98,null,{"$f":"VLOOKUP(A976,'личные рез-ты по гонкам списком'!$J$1:$N$1645,2,FALSE)","v":"Ж"},1]
["Шило Руслан / Shilo Ruslan / 1993",null,null,null,null,null,null,null,null,159.51,null,null,null,464.28,null,null,null,null,null,null,null,null,null,null,null,null,null,null,623.79,464.28,159.51,0,0,623.79,null,{"$f":"VLOOKUP(A977,'личные рез-ты по гонкам списком'!$J$1:$N$1645,2,FALSE)","v":"М"},2]
["Шиман Руслан / Shiman Ruslan / 1993",null,null,null,null,null,null,null,null,null,null,null,null,null,null,null,null,null,null,null,null,null,null,null,null,175.6,null,null,175.6,175.6,0,0,0,175.6,null,{"$f":"VLOOKUP(A978,'личные рез-ты по гонкам списком'!$J$1:$N$1645,2,FALSE)","v":"М"},1]
["Шипунов Олег / Shipunov Oleg / 1992",null,null,null,null,null,null,null,null,null,300.76,null,null,null,null,null,null,null,null,null,null,null,null,null,null,null,null,null,300.76,300.76,0,0,0,300.76,null,{"$f":"VLOOKUP(A979,'личные рез-ты по гонкам списком'!$J$1:$N$1645,2,FALSE)","v":"М"},1]
["Шир Алисия / Shir Alisiya / 1982",null,null,null,306.63,null,null,null,null,null,null,null,null,null,null,null,null,null,null,null,null,null,null,null,null,null,null,null,306.63,306.63,0,0,0,306.63,null,{"$f":"VLOOKUP(A980,'личные рез-ты по гонкам списком'!$J$1:$N$1645,2,FALSE)","v":"Ж"},1]
["Шир Джордан / Shir Dzhordan / 1980",null,null,null,105.86,null,null,null,null,null,null,null,null,null,null,null,null,null,null,null,null,null,null,null,null,null,null,null,105.86,105.86,0,0,0,105.86,null,{"$f":"VLOOKUP(A981,'личные рез-ты по гонкам списком'!$J$1:$N$1645,2,FALSE)","v":"М"},1]
["Широкова Анастасия / Shirokova Anastasiya / 1988",null,287.67,null,null,null,null,null,null,null,180.46,null,null,null,null,null,null,null,null,null,null,null,null,null,null,null,null,null,468.13,287.67,180.46,0,0,468.13,null,{"$f":"VLOOKUP(A982,'личные рез-ты по гонкам списком'!$J$1:$N$1645,2,FALSE)","v":"Ж"},2]
["Шклярик Олег / Shklyarik Oleg / 1970",null,null,null,null,null,263.64999999999998,null,null,325.39999999999998,null,null,null,250,null,null,null,null,null,null,null,null,null,null,null,null,null,null,839.05,325.39999999999998,263.64999999999998,250,0,839.05,null,{"$f":"VLOOKUP(A983,'личные рез-ты по гонкам списком'!$J$1:$N$1645,2,FALSE)","v":"М"},3]
["Шкрабо Ольга / Shkrabo Olga / 1985",null,null,null,null,null,null,null,null,null,77.34,null,null,null,null,null,null,null,null,null,null,null,null,null,null,null,null,null,77.34,77.34,0,0,0,77.34,null,{"$f":"VLOOKUP(A984,'личные рез-ты по гонкам списком'!$J$1:$N$1645,2,FALSE)","v":"Ж"},1]
["Шкурко Людмила / Shkurko Lyudmila / 1988",null,null,null,null,null,null,null,null,null,null,null,null,null,null,null,null,null,null,null,null,null,null,null,505.26,null,null,null,505.26,505.26,0,0,0,505.26,null,{"$f":"VLOOKUP(A985,'личные рез-ты по гонкам списком'!$J$1:$N$1645,2,FALSE)","v":"Ж"},1]
["Шлеёв Денис / Shlejov Denis / 2001",null,null,null,null,null,null,null,null,null,null,null,null,null,null,null,null,null,null,null,null,null,null,null,null,242.21,null,null,242.21,242.21,0,0,0,242.21,null,{"$f":"VLOOKUP(A986,'личные рез-ты по гонкам списком'!$J$1:$N$1645,2,FALSE)","v":"М"},1]
["Шнитко Светлана / Shnitko Svetlana / 1981",null,null,null,null,null,null,null,null,null,null,null,null,null,null,null,null,null,null,null,null,null,null,332.55,null,null,null,null,332.55,332.55,0,0,0,332.55,null,{"$f":"VLOOKUP(A987,'личные рез-ты по гонкам списком'!$J$1:$N$1645,2,FALSE)","v":"Ж"},1]
["Шукайлов Максим / Shukajlov Maksim / 1988",null,null,null,null,null,87.88,null,null,null,null,null,null,null,null,null,null,null,null,null,null,null,null,null,null,null,null,null,87.88,87.88,0,0,0,87.88,null,{"$f":"VLOOKUP(A988,'личные рез-ты по гонкам списком'!$J$1:$N$1645,2,FALSE)","v":"М"},1]
["Шуленков Роман / Shulenkov Roman / 1990",null,127.35,null,null,63.88,null,null,null,null,null,null,null,null,null,null,null,null,null,null,null,null,null,null,null,null,null,null,191.23,127.35,63.88,0,0,191.23,null,{"$f":"VLOOKUP(A989,'личные рез-ты по гонкам списком'!$J$1:$N$1645,2,FALSE)","v":"М"},2]
["Шульпенков Александр / Shulpenkov Aleksandr / 1986",null,null,null,null,null,null,null,null,null,60.15,null,null,null,null,null,null,62.17,null,null,null,null,null,null,null,null,null,null,122.32,62.17,60.15,0,0,122.32,null,{"$f":"VLOOKUP(A990,'личные рез-ты по гонкам списком'!$J$1:$N$1645,2,FALSE)","v":"М"},2]
["Шуминский Александр / Shuminskij Aleksandr / 1984",null,null,null,null,null,null,null,null,null,null,null,null,null,null,null,null,null,null,null,null,null,111.98,null,null,null,null,null,111.98,111.98,0,0,0,111.98,null,{"$f":"VLOOKUP(A991,'личные рез-ты по гонкам списком'!$J$1:$N$1645,2,FALSE)","v":"М"},1]
["Шупленков Клим  / Shuplenkov Klim  / 1996",null,null,null,173.23,null,null,null,null,null,null,null,null,null,null,null,null,null,null,null,null,null,null,null,null,null,null,null,173.23,173.23,0,0,0,173.23,null,{"$f":"VLOOKUP(A992,'личные рез-ты по гонкам списком'!$J$1:$N$1645,2,FALSE)","v":"М"},1]
["Щербаков Илья / Scherbakov Ilya / 1989",null,null,null,null,null,null,null,null,null,null,246.15,null,null,null,147.87,null,null,null,null,null,null,null,null,null,null,null,null,394.02,246.15,147.87,0,0,394.02,null,{"$f":"VLOOKUP(A993,'личные рез-ты по гонкам списком'!$J$1:$N$1645,2,FALSE)","v":"М"},2]
["Щербина Максим / Scherbina Maksim / 1976",null,null,null,null,null,21.97,null,null,null,null,null,54.86,null,null,null,null,null,null,null,null,null,null,null,null,null,null,null,76.83,54.86,21.97,0,0,76.83,null,{"$f":"VLOOKUP(A994,'личные рез-ты по гонкам списком'!$J$1:$N$1645,2,FALSE)","v":"М"},2]
["Щербо Виктор / Scherbo Viktor / 1961",null,null,null,null,null,null,null,null,null,null,null,null,null,null,null,null,196.88,null,null,122.57,null,null,null,null,145.33000000000001,null,null,464.78,196.88,145.33000000000001,122.57,0,464.78000000000003,null,{"$f":"VLOOKUP(A995,'личные рез-ты по гонкам списком'!$J$1:$N$1645,2,FALSE)","v":"М"},3]
["Щукин Макс / Schukin Maks / 1992",null,null,null,null,null,null,null,null,null,null,null,null,null,null,86.68,null,null,null,null,null,null,null,null,null,null,null,null,86.68,86.68,0,0,0,86.68,null,{"$f":"VLOOKUP(A996,'личные рез-ты по гонкам списком'!$J$1:$N$1645,2,FALSE)","v":"М"},1]
["Щур Илья / Schur Ilya / 1991",null,null,null,null,null,null,null,null,null,null,null,null,null,null,null,null,null,null,null,null,null,null,151.76,null,null,null,null,151.76,151.76,0,0,0,151.76,null,{"$f":"VLOOKUP(A997,'личные рез-ты по гонкам списком'!$J$1:$N$1645,2,FALSE)","v":"М"},1]
["Юкевич Александр / Yukevich Aleksandr / 1983",null,null,null,null,null,null,null,334.55,null,null,null,340.15,null,null,null,null,null,null,null,null,null,338.47,null,null,null,null,null,1013.1700000000001,340.15,338.47,334.55,0,1013.1700000000001,null,{"$f":"VLOOKUP(A998,'личные рез-ты по гонкам списком'!$J$1:$N$1645,2,FALSE)","v":"М"},3]
["Юкевич Андрей / Yukevich Andrej / 1990",null,null,null,null,null,null,null,null,null,null,null,219.45,null,null,null,null,null,null,null,null,null,null,null,null,null,null,null,219.45,219.45,0,0,0,219.45,null,{"$f":"VLOOKUP(A999,'личные рез-ты по гонкам списком'!$J$1:$N$1645,2,FALSE)","v":"М"},1]
["Юлов Герман / Yulov German / 1993",null,null,333.53,null,null,null,null,null,null,null,null,null,null,null,null,null,null,null,null,null,null,null,277.13,null,null,null,null,610.66,333.53,277.13,0,0,610.66,null,{"$f":"VLOOKUP(A1000,'личные рез-ты по гонкам списком'!$J$1:$N$1645,2,FALSE)","v":"М"},2]
["Юлов Герман  / Yulov German  / 1993",null,null,null,null,null,417.45,null,null,null,null,null,null,null,null,null,null,null,null,null,null,null,null,null,null,null,null,null,417.45,417.45,0,0,0,417.45,null,{"$f":"VLOOKUP(A1001,'личные рез-ты по гонкам списком'!$J$1:$N$1645,2,FALSE)","v":"М"},1]
["Явтушенко Вадим / Yavtushenko Vadim / 1981",null,null,null,null,null,null,null,null,null,154.68,159.66999999999999,null,null,null,null,null,null,81.819999999999993,null,null,null,218.86,null,null,null,null,null,615.03,218.86,159.66999999999999,154.68,81.819999999999993,615.03,null,{"$f":"VLOOKUP(A1002,'личные рез-ты по гонкам списком'!$J$1:$N$1645,2,FALSE)","v":"М"},4]
["Якименко Римма / Yakimenko Rimma / 1975",null,null,null,null,null,null,null,null,null,null,null,null,null,null,null,null,null,null,null,null,null,27.99,null,null,null,null,null,27.99,27.99,0,0,0,27.99,null,{"$f":"VLOOKUP(A1003,'личные рез-ты по гонкам списком'!$J$1:$N$1645,2,FALSE)","v":"Ж"},1]
["Якимченко Анатолий / Yakimchenko Anatolij / 1967",null,null,null,null,null,null,null,68.63,null,null,null,null,null,null,null,33.57,null,null,null,null,null,5.09,null,null,null,null,null,107.28999999999999,68.63,33.57,5.09,0,107.28999999999999,null,{"$f":"VLOOKUP(A1004,'личные рез-ты по гонкам списком'!$J$1:$N$1645,2,FALSE)","v":"М"},3]
["Якимчук Надежда / Yakimchuk Nadezhda / 1986",null,null,null,null,null,null,null,null,null,null,null,65.83,null,null,null,null,null,null,null,null,null,null,null,null,null,null,null,65.83,65.83,0,0,0,65.83,null,{"$f":"VLOOKUP(A1005,'личные рез-ты по гонкам списком'!$J$1:$N$1645,2,FALSE)","v":"Ж"},1]
["Яковлев Евгений / Yakovlev Evgenij / 1988",null,null,null,null,null,null,null,null,null,null,null,null,null,null,null,null,null,null,null,113.14,null,null,null,null,null,null,null,113.14,113.14,0,0,0,113.14,null,{"$f":"VLOOKUP(A1006,'личные рез-ты по гонкам списком'!$J$1:$N$1645,2,FALSE)","v":"М"},1]
["Якубовская Виктория / Yakubovskaya Viktoriya / 1984",null,null,null,null,null,null,null,null,null,null,null,null,null,null,null,null,102.14,null,null,null,null,null,null,null,null,null,null,102.14,102.14,0,0,0,102.14,null,{"$f":"VLOOKUP(A1007,'личные рез-ты по гонкам списком'!$J$1:$N$1645,2,FALSE)","v":"Ж"},1]
["Якубовский Игорь / Yakubovskij Igor / 1984",null,null,null,null,310.3,null,null,null,146.75,null,null,186.53,null,null,null,null,82.9,90.91,null,null,null,null,null,null,null,null,null,817.39,310.3,186.53,146.75,90.91,734.49,null,{"$f":"VLOOKUP(A1008,'личные рез-ты по гонкам списком'!$J$1:$N$1645,2,FALSE)","v":"М"},5]
["Ямбушева Катерина / Yambusheva Katerina / 1987",null,null,null,null,null,null,null,356.48,null,null,null,null,null,null,null,null,null,null,null,null,null,null,null,null,null,null,null,356.48,356.48,0,0,0,356.48,null,{"$f":"VLOOKUP(A1009,'личные рез-ты по гонкам списком'!$J$1:$N$1645,2,FALSE)","v":"Ж"},1]
["Янович Лена / Yanovich Lena / 1996",null,null,null,null,null,null,null,null,null,null,null,null,null,null,null,null,null,null,null,null,null,null,null,null,null,null,421.08,421.08,421.08,0,0,0,421.08,null,{"$f":"VLOOKUP(A1010,'личные рез-ты по гонкам списком'!$J$1:$N$1645,2,FALSE)","v":"Ж"},1]
["Янченко Ксения / Yanchenko Kseniya / 1997",null,375.22,null,null,null,null,null,null,null,null,null,null,null,null,null,null,null,null,null,null,null,null,null,null,null,null,null,375.22,375.22,0,0,0,375.22,null,{"$f":"VLOOKUP(A1011,'личные рез-ты по гонкам списком'!$J$1:$N$1645,2,FALSE)","v":"Ж"},1]
["Ярмончик Игорь / Yarmonchik Igor / 1985",null,null,null,298.35000000000002,null,null,null,223.04,null,null,null,null,null,null,null,null,null,null,null,null,null,320.66000000000003,null,null,null,null,null,842.05,320.66000000000003,298.35000000000002,223.04,0,842.05,null,{"$f":"VLOOKUP(A1012,'личные рез-ты по гонкам списком'!$J$1:$N$1645,2,FALSE)","v":"М"},3]
["Яроцкий Евгений / Yarotskij Evgenij / 1987",null,null,null,null,null,null,null,null,null,null,null,null,null,null,null,null,null,254.55,null,null,null,274.85000000000002,null,null,null,null,null,529.40000000000009,274.85000000000002,254.55,0,0,529.40000000000009,null,{"$f":"VLOOKUP(A1013,'личные рез-ты по гонкам списком'!$J$1:$N$1645,2,FALSE)","v":"М"},2]
["Яцкевич Кирилл / Yatskevich Kirill / 2001",null,382.05,null,null,null,null,null,null,null,null,null,null,null,null,null,null,null,null,null,null,null,null,null,null,null,null,null,382.05,382.05,0,0,0,382.05,null,{"$f":"VLOOKUP(A1014,'личные рез-ты по гонкам списком'!$J$1:$N$1645,2,FALSE)","v":"М"},1]
["Яцкевич Ольга / Yatskevich Olga / 1988",null,null,null,null,null,null,null,null,null,null,null,null,null,null,null,null,null,315.79000000000002,null,null,null,null,null,null,null,null,null,315.79000000000002,315.79000000000002,0,0,0,315.79000000000002,null,{"$f":"VLOOKUP(A1015,'личные рез-ты по гонкам списком'!$J$1:$N$1645,2,FALSE)","v":"Ж"},1]
["Общий итог",20389.239999999994,24264.499999999989,19968.580000000009,13373.150000000003,18663.46,13568.670000000002,7041.27,17097.490000000002,23383.8,9590.0099999999984,15654.140000000001,15306.560000000005,8928.5300000000007,8706.2999999999993,15044.160000000002,18415.969999999994,6315.7000000000007,12936.840000000002,12735.420000000002,10330.66,7250.48,38804.989999999991,29058.869999999992,8715.74,12948.869999999999,12118.51,18084.670000000006,418696.57999999984,38804.989999999991,29058.869999999992,24264.499999999989,23383.8,115512.15999999997]

{"sheet":"Рейтинг 2018_абс","index":5,"n_rows":1013,"n_cols":5,"rows_kept":1013,"cut":false,"hidden":false,"merged":[]}
[]
["№ п/п","Фамилия, Имя, Год рождения","Пол","Сумма баллов","Кол-во гонок в 2018 году"]
[1,"Синица Кирилл / Sinitsa Kirill / 1981","М",3941.04,9]
[2,"Молочко Александр / Molochko Aleksandr / 1981","М",3307.87,8]
[3,"Скирук Юлия / Skiruk Yuliya / 1988","Ж",2591.4,6]
[4,"Тюев Даниил / Tyuev Daniil / 1977","М",2545.2800000000002,8]
[5,"Торубарова Татьяна / Torubarova Tatyana / 1983","Ж",2445,4]
[6,"Крисенков Алексей / Krisenkov Aleksej / 1983","М",2426.5,8]
[7,"Мальков Валентин / Malkov Valentin / 1988","М",2387.5700000000002,6]
[8,"Леонов Иван / Leonov Ivan / 1986","М",2329.4500000000003,5]
[9,"Сулимчик Оксана / Sulimchik Oksana / 1986","Ж",2248.83,3]
[10,"Храмов Антон / Hramov Anton / 1991","М",2199.64,5]
[11,"Вагин Андрей / Vagin Andrej / 1989","М",2193.12,4]
[12,"Черкас Александра / Cherkas Aleksandra / 1992","Ж",2151.3900000000003,7]
[13,"Попадюк Игорь / Popadyuk Igor / 1982","М",2061.48,6]
[14,"Ходан Александр / Hodan Aleksandr / 1988","М",2042.8799999999999,4]
[15,"Федорович Николай / Fedorovich Nikolaj / 1959","М",2032.5499999999997,6]
[16,"Харитонов Иван / Haritonov Ivan / 1973","М",1966.1299999999999,5]
[17,"Березовский Андрей / Berezovskij Andrej / 1973","М",1914.52,5]
[18,"Скуратович Антон / Skuratovich Anton / 1985","М",1904.86,7]
[19,"Ласюк Юрий / Lasyuk Yurij / 1987","М",1903.13,6]
[20,"Селютин Владимир / Selyutin Vladimir / 1990","М",1880.21,8]
[21,"Исаев Антон / Isaev Anton / 1979","М",1862.81,2]
[22,"Хорошавин Вячеслав / Horoshavin Vyacheslav / 1985","М",1844.7000000000003,6]
[23,"Лысенко Павел / Lysenko Pavel / 1966","М",1835.31,2]
[24,"Трубкина Анастасия / Trubkina Anastasiya / 1989","Ж",1833.2699999999998,4]
[25,"Тарасенко Павел / Tarasenko Pavel / 1983","М",1800.1299999999999,5]
[26,"Сидоревич Александр / Sidorevich Aleksandr / 1985","М",1768.94,4]
[27,"Побединский Александр / Pobedinskij Aleksandr / 1983","М",1723.1100000000001,2]
[28,"Бузо Александр / Buzo Aleksandr / 1982","М",1698.13,6]
[29,"Мосийчук Максим / Mosijchuk Maksim / 1984","М",1668.6,4]
[30,"Коровец Богдан / Korovets Bogdan / 1976","М",1653.04,6]
[31,"Герасимук Юрий / Gerasimuk Yurij / 1992","М",1604.5099999999998,4]
[32,"Маркевич Денис / Markevich Denis / 1981","М",1592.5,5]
[33,"Борисевич Леонид / Borisevich Leonid / 1969","М",1590.61,3]
[34,"Лойко Сергей / Lojko Sergej / 1985","М",1559.17,6]
[35,"Молчан Александр / Molchan Aleksandr / 1988","М",1547.01,6]
[36,"Володько Андрей / Volodko Andrej / 1986","М",1536.54,6]
[37,"Алексеев Алексей / Alekseev Aleksej / 1980","М",1492.9199999999998,5]
[38,"Лисовский Виктор / Lisovskij Viktor / 1964","М",1492.06,5]
[39,"Евсюченя Александр / Evsyuchenya Aleksandr / 1991","М",1466.7,3]
[40,"Овсиюк Богдан / Ovsiyuk Bogdan / 1993","М",1456.8899999999999,3]
[41,"Белая Юлия / Belaya Yuliya / 1988","Ж",1450.57,4]
[42,"Лавник Игорь / Lavnik Igor / 1983","М",1409.23,5]
[43,"Глушков Александр / Glushkov Aleksandr / 1980","М",1390.12,3]
[44,"Суховерхая Татьяна / Suhoverhaya Tatyana / 1986","Ж",1356.5,3]
[45,"Цвирбут Юлия / Tsvirbut Yuliya / 1992","Ж",1352.71,3]
[46,"Подрез Ярослав / Podrez Yaroslav / 1996","М",1350.06,3]
[47,"Свечников Антон / Svechnikov Anton / 1991","М",1344.42,4]
[48,"Едомская Вольга / Edomskaya Volga / 1987","Ж",1322.29,6]
[49,"Лесковец Александр / Leskovets Aleksandr / 1990","М",1321.3200000000002,3]
[50,"Кликун Татьяна / Klikun Tatyana / 1989","Ж",1295.3499999999999,5]
[51,"Пехтерева Татьяна / Pehtereva Tatyana / 1987","Ж",1279.31,4]
[52,"Католиков Роман / Katolikov Roman / 1985","М",1257.0800000000002,5]
[53,"Дегтярев Сергей / Degtyarev Sergej / 1983","М",1235.23,4]
[54,"Журавлёв Андрей / Zhuravljov Andrej / 1978","М",1226.42,3]
[55,"Попов Юрий / Popov Yurij / 1969","М",1218.9099999999999,2]
[56,"Мартысевич Роман / Martysevich Roman / 1993","М",1200.08,2]
[57,"Гилевич Кристина / Gilevich Kristina / 1994","Ж",1198.06,3]
[58,"Никонов Максим / Nikonov Maksim / 1979","М",1196.4099999999999,3]
[59,"Брытько Роман / Brytko Roman / 1995","М",1185.56,6]
[60,"Гилевич Диана / Gilevich Diana / 1993","Ж",1178.8500000000001,3]
[61,"Михно Алла / Mihno Alla / 1979","Ж",1143.49,3]
[62,"Невмержицкая Анна / Nevmerzhitskaya Anna / 1997","Ж",1139.3,4]
[63,"Маковский Дмитрий / Makovskij Dmitrij / 1981","М",1121.6699999999998,3]
[64,"Суховей Михаил / Suhovej Mihail / 1991","М",1118.68,2]
[65,"Новик Анастасия / Novik Anastasiya / 1985","Ж",1116.19,3]
[66,"Милинкевич Елена / Milinkevich Elena / 1977","Ж",1107.72,3]
[67,"Тихонов Василий / Tihonov Vasilij / 1993","М",1086.92,2]
[68,"Стойчикова Ксения / Stojchikova Kseniya / 1997","Ж",1086.31,3]
[69,"Карпович Владимир / Karpovich Vladimir / 1983","М",1070.08,5]
[70,"Пивень Андрей / Piven Andrej / 1992","М",1066.77,1]
[71,"Жидович Вадим / Zhidovich Vadim / 1984","М",1063.58,6]
[72,"Шепетько Сергей / Shepetko Sergej / 1987","М",1048.72,7]
[73,"Мартынов Дмитрий / Martynov Dmitrij / 1984","М",1042.33,3]
[74,"Генсировский Павел / Gensirovskij Pavel / 1979","М",1041.1500000000001,1]
[75,"Гурская Татьяна / Gurskaya Tatyana / 1980","Ж",1041.1500000000001,1]
[76,"Рагойша Пётр / Ragojsha Pjotr / 1976","М",1041.07,2]
[77,"Суханова Надежда / Suhanova Nadezhda / 1994","Ж",1037.6199999999999,2]
[78,"Печёнов Георгий / Pechjonov Georgij / 1975","М",1037.27,4]
[79,"Орловский Павел / Orlovskij Pavel / 1989","М",1034.49,3]
[80,"Совпель Максим / Sovpel Maksim / 1993","М",1031.0800000000002,3]
[81,"Жучин Алексей / Zhuchin Aleksej / 1983","М",1018.71,3]
[82,"Юкевич Александр / Yukevich Aleksandr / 1983","М",1013.1700000000001,3]
[83,"Палий Андрей / Palij Andrej / 1984","М",1003.7900000000001,7]
[84,"Сердитов Вадим / Serditov Vadim / 1993","М",996.06,2]
[85,"Остаповец Евгений / Ostapovets Evgenij / 1990","М",984.94999999999993,3]
[86,"Казарин Дмитрий / Kazarin Dmitrij / 1994","М",983.7299999999999,7]
[87,"Козич Андрей / Kozich Andrej / 1986","М",983.31,1]
[88,"Полякова Анна / Polyakova Anna / 1987","Ж",977.05,5]
[89,"Смолко Николай / Smolko Nikolaj / 1987","М",974.61,2]
[90,"Грек Илья / Grek Ilya / 1992","М",974.28,3]
[91,"Нечаев Владимир / Nechaev Vladimir / 1995","М",959.74,3]
[92,"Грабовец Павел / Grabovets Pavel / 1981","М",954.39,1]
[93,"Куцун Надежда / Kutsun Nadezhda / 1982","Ж",952.24,2]
[94,"Жданович Александра / Zhdanovich Aleksandra / 1985","Ж",951.89,4]
[95,"Пухаева Светлана / Puhaeva Svetlana / 1980","Ж",947.29,3]
[96,"Журавлёва Оксана / Zhuravljova Oksana / 1980","Ж",945.63,3]
[97,"Миканович Антон / Mikanovich Anton / 1990","М",938.98,4]
[98,"Бегун Егор / Begun Egor / 1988","М",935.40000000000009,4]
[99,"Сіпачоў Аляксей / Sіpachou Alyaksej / 1979","М",935.06999999999994,3]
[100,"Осадчий Константин / Osadchij Konstantin / 1985","М",921.29,1]
[101,"Веремейчик Елена / Veremejchik Elena / 1986","Ж",917.61,3]
[102,"Борисевич Анастасия / Borisevich Anastasiya / 1985","Ж",915.02,3]
[103,"Дальниченко Юрий / Dalnichenko Yurij / 1985","М",914.25,2]
[104,"Лукьяненко Александр / Lukyanenko Aleksandr / 1984","М",914.2,2]
[105,"Казакевич Ирина / Kazakevich Irina / 1969","Ж",892.41000000000008,2]
[106,"Сафроненко Андрей / Safronenko Andrej / 1984","М",888.03,2]
[107,"Шахметова Наталья / Shahmetova Natalya / 1992","Ж",886.22,3]
[108,"Зеленко Дмитрий / Zelenko Dmitrij / 1987","М",875.55000000000007,3]
[109,"Леденёв Андрей / Ledenjov Andrej / 1971","М",874.72,2]
[110,"Астапов Владимир / Astapov Vladimir / 1977","М",859.33,2]
[111,"Хамицевич Михаил / Hamitsevich Mihail / 1980","М",849.8,4]
[112,"Крус Виктор / Krus Viktor / 1980","М",849.72000000000014,4]
[113,"Ярмончик Игорь / Yarmonchik Igor / 1985","М",842.05,3]
[114,"Королёв Максим / Koroljov Maksim / 1989","М",839.98,3]
[115,"Шклярик Олег / Shklyarik Oleg / 1970","М",839.05,3]
[116,"Нестерович Сергей / Nesterovich Sergej / 1994","М",838.05,2]
[117,"Плодунов Захар / Plodunov Zahar / 1993","М",837.67000000000007,2]
[118,"Попов Александр / Popov Aleksandr / 1986","М",836.6,2]
[119,"Казак Дмитрий / Kazak Dmitrij / 1979","М",835.01,2]
[120,"Остапов Владимир / Ostapov Vladimir / 1977","М",817.92000000000007,2]
[121,"Ермохин Максим / Ermohin Maksim / 1975","М",817.91000000000008,2]
[122,"Жила Анастасия / Zhila Anastasiya / 1994","Ж",813.31,3]
[123,"McTavish John / McTavish John / 1987","М",811.57999999999993,2]
[124,"Окромешко Антон / Okromeshko Anton / 1990","М",809.79,1]
[125,"Фомина Ирина / Fomina Irina / 1986","Ж",806.82999999999993,3]
[126,"Солодкин Сергей / Solodkin Sergej / 1984","М",798.46,2]
[127,"Кирcанов Алексей / Kircanov Aleksej / 1981","М",795.25,2]
[128,"Дашин Михаил / Dashin Mihail / 1986","М",785.64,4]
[129,"Волков Николай / Volkov Nikolaj / 1989","М",780.99,2]
[130,"Величко Павел / Velichko Pavel / 1982","М",779.55000000000007,2]
[131,"Слободько Дмитрий / Slobodko Dmitrij / 1984","М",779.28,2]
[132,"Зятиков Евгений / Zyatikov Evgenij / 1982","М",769.49,5]
[133,"Фенченко Алексей / Fenchenko Aleksej / 1989","М",768.07,1]
[134,"Тривашкевич Евгений / Trivashkevich Evgenij / 1996","М",767.1099999999999,2]
[135,"Делендик Надежда / Delendik Nadezhda / 1987","Ж",766.62,2]
[136,"Лисовский Павел / Lisovskij Pavel / 1986","М",761.40000000000009,2]
[137,"Павленко Юрий / Pavlenko Yurij / 1983","М",748.27,2]
[138,"Симогостицкий Александр / Simogostitskij Aleksandr / 1987","М",735.37999999999988,3]
[139,"Якубовский Игорь / Yakubovskij Igor / 1984","М",734.49,5]
[140,"Кордунская Екатерина / Kordunskaya Ekaterina / 1983","Ж",730.53,2]
[141,"Титуленко Егор / Titulenko Egor / 1983","М",720.56,2]
[142,"Некрасов Василий / Nekrasov Vasilij / 1986","М",715.21,1]
[143,"Брагин Иван / Bragin Ivan / 1986","М",714.28,1]
[144,"Чернель Татьяна / Chernel Tatyana / 1982","Ж",710.81999999999994,2]
[145,"Адамович Ирина / Adamovich Irina / 1973","Ж",708.53,2]
[146,"Кшановская Ирина / Kshanovskaya Irina / 1977","Ж",698.53,3]
[147,"Ключеня Виталий / Klyuchenya Vitalij / 1982","М",696.06,3]
[148,"Новікаў Анатоль / Novіkau Anatol / 1984","М",694.1,1]
[149,"Полещук Татьяна / Poleschuk Tatyana / 1988","Ж",694.1,1]
[150,"Белинская Галина / Belinskaya Galina / 1980","Ж",684.25,1]
[151,"Тимошенко Алёна / Timoshenko Aljona / 1982","Ж",683.82999999999993,2]
[152,"Балашов Никита / Balashov Nikita / 1983","М",682.06999999999994,2]
[153,"Гидлевский Дмитрий / Gidlevskij Dmitrij / 1986","М",668.6,2]
[154,"Павловская Светлана / Pavlovskaya Svetlana / 1984","Ж",661.18000000000006,3]
[155,"Выборный Александр / Vybornyj Aleksandr / 1985","М",658.05,2]
[156,"Олин Денис / Olin Denis / 1976","М",657.88,2]
[157,"Лещевич Валерий / Leschevich Valerij / 1989","М",655.4,2]
[158,"Таранко Марта / Taranko Marta / 1990","Ж",652.62000000000012,3]
[159,"Заяц Александр / Zayats Aleksandr / 1978","М",644.08000000000004,2]
[160,"Арзамасов Илья / Arzamasov Ilya / 1987","М",637.16,1]
[161,"Обухова Екатерина / Obuhova Ekaterina / 1978","Ж",631.62,1]
[162,"Сикорская Настя / Sikorskaya Nastya / 1983","Ж",630.72,2]
[163,"Липницкая Виктория / Lipnitskaya Viktoriya / 1987","Ж",629.83999999999992,3]
[164,"Бабицкий Кирилл / Babitskij Kirill / 1998","М",628.52,1]
[165,"Шило Руслан / Shilo Ruslan / 1993","М",623.79,2]
[166,"Жучков Алексей / Zhuchkov Aleksej / 1985","М",621.9,5]
[167,"Барановский Алексей / Baranovskij Aleksej / 1981","М",619.65,2]
[168,"Кондяр Павел / Kondyar Pavel / 1993","М",616.63,2]
[169,"Цвирко Артур / Tsvirko Artur / 1991","М",615.19000000000005,1]
[170,"Явтушенко Вадим / Yavtushenko Vadim / 1981","М",615.03,4]
[171,"Пак Олег / Pak Oleg / 1977","М",610.73,2]
[172,"Юлов Герман / Yulov German / 1993","М",610.66,2]
[173,"Заречанский Юрий / Zarechanskij Yurij / 1980","М",609.41,3]
[174,"Паплёвка Иван / Papljovka Ivan / 1990","М",609.32999999999993,2]
[175,"Арабиенко Татьяна / Arabienko Tatyana / 1986","Ж",609,1]
[176,"Коротких Елена / Korotkih Elena / 1984","Ж",604.20000000000005,2]
[177,"Студенков Александр / Studenkov Aleksandr / 1984","М",604.07999999999993,2]
[178,"Медвецкий Денис / Medvetskij Denis / 1986","М",604.07000000000005,4]
[179,"Михно Борис / Mihno Boris / 1982","М",603.04000000000008,4]
[180,"Сорокин Денис / Sorokin Denis / 1998","М",597.39,1]
[181,"Прокопович Ростислав / Prokopovich Rostislav / 1982","М",596.84,1]
[182,"Кислицын Артем / Kislitsyn Artem / 1992","М",596.32000000000005,1]
[183,"Нагорнюк Михаил / Nagornyuk Mihail / 1984","М",593.22,1]
[184,"Григорьева Светлана / Grigoreva Svetlana / 1984","Ж",591.18999999999994,3]
[185,"Герасимук Дмитрий / Gerasimuk Dmitrij / 1993","М",588.69000000000005,2]
[186,"Иванов Денис / Ivanov Denis / 1990","М",588.38,3]
[187,"Третьяк Екатерина / Tretyak Ekaterina / 1985","Ж",587.70000000000005,2]
[188,"Акулич Владимир / Akulich Vladimir / 1986","М",587.04,2]
[189,"Шванц Алексей / Shvants Aleksej / 1991","М",585.64,1]
[190,"Верещако Павел / Vereschako Pavel / 1988","М",583.38,2]
[191,"Лещинский Владимир / Leschinskij Vladimir / 1983","М",579.29,1]
[192,"Кукобникова Вита / Kukobnikova Vita / 1993","Ж",579,4]
[193,"Гусаревич Денис / Gusarevich Denis / 1983","М",578.41999999999996,1]
[194,"Костров Александр / Kostrov Aleksandr / 1982","М",572.32000000000005,2]
[195,"Никитюк Алексей / Nikityuk Aleksej / 1985","М",569.41999999999996,2]
[196,"Веремейчик Юрий / Veremejchik Yurij / 1979","М",567.80999999999995,2]
[197,"Никифоров Дмитрий / Nikiforov Dmitrij / 1989","М",565.02,2]
[198,"Жданович Максим / Zhdanovich Maksim / 1987","М",561.73,1]
[199,"Макарский Сергей / Makarskij Sergej / 1987","М",554.26,2]
[200,"Хлопцева Инга / Hloptseva Inga / 1982","Ж",554.18000000000006,2]
[201,"Колташова Елена / Koltashova Elena / 1984","Ж",553.63,1]
[202,"Матвийчук Вадим / Matvijchuk Vadim / 1976","М",552.02,2]
[203,"Иванчик Константин / Ivanchik Konstantin / 1983","М",550.69000000000005,2]
[204,"Чудаков Владислав / Chudakov Vladislav / 1977","М",549.81999999999994,3]
[205,"Трасковский Дмитрий / Traskovskij Dmitrij / 1986","М",549.5,1]
[206,"Чеберяк Сергей / Cheberyak Sergej / 1987","М",547.66,1]
[207,"Драгун Борис / Dragun Boris / 1970","М",547,2]
[208,"Малькевич Елена / Malkevich Elena / 1984","Ж",545.59999999999991,2]
[209,"Шапелевич Максим / Shapelevich Maksim / 1987","М",544.35,3]
[210,"Минько Алексей / Minko Aleksej / 1997","М",544.17999999999995,1]
[211,"Радиончик Александр / Radionchik Aleksandr / 1985","М",542.92000000000007,3]
[212,"Рачковский Сергей / Rachkovskij Sergej / 1988","М",541.83000000000004,1]
[213,"Кучук Андрей / Kuchuk Andrej / 1994","М",541.05999999999995,1]
[214,"Гребенчук Максим / Grebenchuk Maksim / 1989","М",540.80999999999995,2]
[215,"Тофоров Дмитрий / Toforov Dmitrij / 1991","М",536.69000000000005,1]
[216,"Подосетников Андрей / Podosetnikov Andrej / 1976","М",536.36,2]
[217,"Гайдуков Александр / Gajdukov Aleksandr / 1989","М",535.07999999999993,2]
[218,"Чернышев Дмитрий / Chernyshev Dmitrij / 1987","М",533.11,2]
[219,"Туровец Ольга / Turovets Olga / 1979","Ж",531.29,4]
[220,"Баронов Роман / Baronov Roman / 1993","М",530.39,2]
[221,"Яроцкий Евгений / Yarotskij Evgenij / 1987","М",529.40000000000009,2]
[222,"Струщенко Светлана / Struschenko Svetlana / 1986","Ж",529.1,3]
[223,"Горбач Максим / Gorbach Maksim / 1983","М",527.29999999999995,1]
[224,"Гриб Екатерина / Grib Ekaterina / 1981","Ж",518.72,3]
[225,"Михалкин Сергей / Mihalkin Sergej / 1989","Ж",516.82000000000005,1]
[226,"Дундуков Андрей / Dundukov Andrej / 1985","М",515.9,3]
[227,"Домбровский Евгений / Dombrovskij Evgenij / 1987","М",515.58000000000004,2]
[228,"Заверач Денис / Zaverach Denis / 1985","М",514.66999999999996,1]
[229,"Чичин Юрий / Chichin Yurij / 1979","М",512.77,3]
[230,"Григорьев Никита / Grigorev Nikita / 1990","М",509.9,1]
[231,"Пучик Александр / Puchik Aleksandr / 1983","М",509.07,1]
[232,"Шкурко Людмила / Shkurko Lyudmila / 1988","Ж",505.26,1]
[233,"Аржаников Евгений / Arzhanikov Evgenij / 1976","М",503.18000000000006,3]
[234,"Ланин Иван / Lanin Ivan / 1989","М",500.96999999999997,2]
[235,"Новиков Денис / Novikov Denis / 1989","М",500.64,2]
[236,"Толкачев Дмитрий / Tolkachev Dmitrij / 1971","М",500.3,1]
[237,"Злобин Денис / Zlobin Denis / 1982","М",497.76,1]
[238,"Кушель Максим / Kushel Maksim / 1998","М",494.87,1]
[239,"Арловская Кристина / Arlovskaya Kristina / 1989","Ж",493.59000000000003,2]
[240,"Голубева Елена / Golubeva Elena / 1987","Ж",493.31,2]
[241,"Шестаков Геннадий / Shestakov Gennadij / 1962","М",491.66,1]
[242,"Кожан Михаил / Kozhan Mihail / 1946","М",489.44999999999993,2]
[243,"Романцевич Илья / Romantsevich Ilya / 1990","М",488.27,1]
[244,"Зеленкевич Валентина / Zelenkevich Valentina / 1999","Ж",487.79,1]
[245,"Диксон Катерина  / Dikson Katerina  / 1993","Ж",486.5,1]
[246,"Середа Александр / Sereda Aleksandr / 1986","М",482.29,1]
[247,"Шаповалова Ирина / Shapovalova Irina / 1993","Ж",481.75,2]
[248,"Шалайко Дмитрий / Shalajko Dmitrij / 1993","М",481.68,1]
[249,"Мурашов Владимир / Murashov Vladimir / 1983","М",476.90999999999997,2]
[250,"Зарицкий Сергей / Zaritskij Sergej / 1975","М",475.08,1]
[251,"Мактавиш Джон / Maktavish Dzhon / 1987","М",474.57,1]
[252,"Николаевский Станислав / Nikolaevskij Stanislav / 1985","М",473.96,1]
[253,"Радчук Алеся / Radchuk Alesya / 1996","Ж",473.71,1]
[254,"Зданович Андрей / Zdanovich Andrej / 1973","М",471.53000000000003,3]
[255,"Жевняк Андрей / Zhevnyak Andrej / 1986","М",471.15999999999997,2]
[256,"Кохан Виталий / Kohan Vitalij / 1982","М",470.69000000000005,2]
[257,"Савич Евгений / Savich Evgenij / 1980","М",468.51,2]
[258,"Ладеев Дмитрий / Ladeev Dmitrij / 1981","М",468.31,2]
[259,"Широкова Анастасия / Shirokova Anastasiya / 1988","Ж",468.13,2]
[260,"Недведская Елена / Nedvedskaya Elena / 1986","Ж",468.02,2]
[261,"Ларионов Андрей / Larionov Andrej / 1981","М",464.84000000000003,2]
[262,"Щербо Виктор / Scherbo Viktor / 1961","М",464.78000000000003,3]
[263,"Хадорик Владимир / Hadorik Vladimir / 1986","М",463.85,2]
[264,"Крюков Дима / Kryukov Dima / 1988","М",461.34,1]
[265,"Иванцов Вячеслав / Ivantsov Vyacheslav / 1986","М",459.61,2]
[266,"Леверовский Александр / Leverovskij Aleksandr / 1988","М",457.31,2]
[267,"Богомаз Владимир / Bogomaz Vladimir / 1982","М",455.28,1]
[268,"Конопацкая Юлия / Konopatskaya Yuliya / 1998","Ж",454.57,2]
[269,"Бокша Сергей / Boksha Sergej / 1988","М",452.57,2]
[270,"Литвинская Людмила / Litvinskaya Lyudmila / 1977","Ж",452.26,2]
[271,"Калвинковская Ольга / Kalvinkovskaya Olga / 1994","Ж",450.27,1]
[272,"Горелик Юрий / Gorelik Yurij / 1987","М",450.08000000000004,2]
[273,"Чиж Сергей / Chizh Sergej / 1993","М",448.68,1]
[274,"Прохоренко Дмитрий / Prohorenko Dmitrij / 1981","М",446.74,2]
[275,"Зюзина Алёна / Zyuzina Aljona / 1978","Ж",443.41,1]
[276,"Трухтанова Елена / Truhtanova Elena / 1985","Ж",442.91,1]
[277,"Крыленко Дмитрий / Krylenko Dmitrij / 1975","М",442.09,1]
[278,"Симонов Вадим / Simonov Vadim / 1985","М",441.58,3]
[279,"Лукашенок Алексей / Lukashenok Aleksej / 1978","М",440.25,1]
[280,"Стасевич Александр / Stasevich Aleksandr / 1987","М",437.49,1]
[281,"Куликовский Ян / Kulikovskij Yan / 1992","М",437.08,4]
[282,"Богачев Борис / Bogachev Boris / 1991","М",437.06,1]
[283,"Куратник Юрий / Kuratnik Yurij / 1987","М",436.63,1]
[284,"Гринько Анастасия / Grinko Anastasiya / 1993","Ж",436.17,2]
[285,"Сеннікаў Ілья / Sennіkau Іlya / 1984","М",435.78999999999996,2]
[286,"Сакович Андрей / Sakovich Andrej / 1990","М",435.49,1]
[287,"Комин Игорь / Komin Igor / 1959","М",433.81,1]
[288,"Поцелуев Сергей / Potseluev Sergej / 1973","М",433.46,1]
[289,"Войтович Татьяна / Vojtovich Tatyana / 1986","Ж",432.72,4]
[290,"Мурашкина Галина / Murashkina Galina / 1988","Ж",429.81,2]
[291,"Хмелевский Антон / Hmelevskij Anton / 1984","М",428.94,1]
[292,"Калацей Роман / Kalatsej Roman / 1997","М",428.89,1]
[293,"Насвит Дмитрий / Nasvit Dmitrij / 1986","М",427.93,1]
[294,"Камышкайло Анатолий / Kamyshkajlo Anatolij / 1981","М",427.49,1]
[295,"Филитарин Дмитрий / Filitarin Dmitrij / 1987","М",421.11,1]
[296,"Янович Лена / Yanovich Lena / 1996","Ж",421.08,1]
[297,"Захаркин Сергей / Zaharkin Sergej / 1976","М",420.34,1]
[298,"Дышлевич Сергей / Dyshlevich Sergej / 1982","М",417.7,2]
[299,"Юлов Герман  / Yulov German  / 1993","М",417.45,1]
[300,"Драгун Алина / Dragun Alina / 1993","Ж",412.75,1]
[301,"Сенникова Светлана / Sennikova Svetlana / 1980","Ж",412.09000000000003,2]
[302,"Малалетников Павел / Malaletnikov Pavel / 1982","М",411.79,1]
[303,"Чеботаев Сергей / Chebotaev Sergej / 1989","М",411.76,1]
[304,"Сильванович Валерия / Silvanovich Valeriya / 1998","Ж",411.38,2]
[305,"Пешков Кирилл / Peshkov Kirill / 1989","М",410.69,1]
[306,"Tan Burak / Tan Burak / 1983","М",406.25,2]
[307,"Копоть Александр / Kopot Aleksandr / 1992","М",404.89,1]
[308,"Искорцев Алексей / Iskortsev Aleksej / 1980","М",404,2]
[309,"Коледа Татьяна / Koleda Tatyana / 1990","Ж",400.24,1]
[310,"Греков Игорь / Grekov Igor / 1970","М",400.21000000000004,2]
[311,"Курилович Дмитрий / Kurilovich Dmitrij / 1998","М",400,1]
[312,"Кравченко Александр / Kravchenko Aleksandr / 1981","М",395.9,1]
[313,"Фомин Леонид / Fomin Leonid / 1983","М",395.64,2]
[314,"Щербаков Илья / Scherbakov Ilya / 1989","М",394.02,2]
[315,"Вирский Константин / Virskij Konstantin / 1977","М",393,2]
[316,"Бокунович Дмитрий  / Bokunovich Dmitrij  / 1982","М",392.43,1]
[317,"Жилан Павел / Zhilan Pavel / 1990","М",391.92,1]
[318,"Медведев Константин / Medvedev Konstantin / 1990","М",390.91,1]
[319,"Незнанов Михаил / Neznanov Mihail / 1982","М",390.78000000000003,3]
[320,"Вайдо Андрей / Vajdo Andrej / 1995","М",389.37,1]
[321,"Танасейчук Анна / Tanasejchuk Anna / 1983","Ж",388.88,1]
[322,"Демчук Ростислав / Demchuk Rostislav / 1978","М",388.49,2]
[323,"Шибаева Светлана / Shibaeva Svetlana / 1995","Ж",387.98,1]
[324,"Медведева Ольга / Medvedeva Olga / 1991","Ж",387.73,1]
[325,"Ткачук Дарья / Tkachuk Darya / 1981","Ж",387.54,1]
[326,"Таран Виталий / Taran Vitalij / 1983","М",386.12,2]
[327,"Михнюк Виктор / Mihnyuk Viktor / 1990","М",386.02,1]
[328,"Суворов Александр / Suvorov Aleksandr / 1983","М",385.25,3]
[329,"Иолтуховский Владислав / Ioltuhovskij Vladislav / 1971","М",384.57,2]
[330,"Кузьменок Денис / Kuzmenok Denis / 1979","М",383.72,4]
[331,"Новиченко Антон / Novichenko Anton / 1997","М",383.67,1]
[332,"Осипенко Александр / Osipenko Aleksandr / 1977","М",383.31,1]
[333,"Тиханович Елена / Tihanovich Elena / 1989","Ж",382.59,1]
[334,"Яцкевич Кирилл / Yatskevich Kirill / 2001","М",382.05,1]
[335,"Хатуницкий Евгений / Hatunitskij Evgenij / 1886","М",381.74,1]
[336,"Василевич Валентина / Vasilevich Valentina / 1998","Ж",381.61,3]
[337,"Необердина Мария / Neoberdina Mariya / 1987","Ж",379.23,2]
[338,"Полторан Валерий / Poltoran Valerij / 1988","М",379.19,1]
[339,"Крюкова Наталья / Kryukova Natalya / 1987","Ж",378.95,1]
[340,"Моисеева Вероника / Moiseeva Veronika / 1983","Ж",378.36,3]
[341,"Янченко Ксения / Yanchenko Kseniya / 1997","Ж",375.22,1]
[342,"Новикова Галина  / Novikova Galina  / 1975","Ж",374.79,1]
[343,"Пісарчык Сяргей / Pіsarchyk Syargej / 1980","М",374.07,1]
[344,"Комар Артем / Komar Artem / 1998","М",373.72,3]
[345,"Дубков Алексей  / Dubkov Aleksej  / 1984","М",373.51,1]
[346,"Кошур Александр / Koshur Aleksandr / 1988","М",372.95,1]
[347,"Федченко Ярослава / Fedchenko Yaroslava / 2002","Ж",370.40000000000003,3]
[348,"Недень Виталий / Neden Vitalij / 1974","М",369.5,1]
[349,"Аноничев Александр / Anonichev Aleksandr / 1982","М",369.28,1]
[350,"Горшков Игорь / Gorshkov Igor / 1977","М",369.27,3]
[351,"Труханов Сергей / Truhanov Sergej / 1987","М",368.64,1]
[352,"Костя Юрий / Kostya Yurij / 1985","М",365.06,1]
[353,"Салодкин Сергей / Salodkin Sergej / 1984","М",364.48,1]
[354,"Моисеева Елена / Moiseeva Elena / 1990","Ж",363.92,1]
[355,"Сечко Евгений / Sechko Evgenij / 1980","М",363.92,1]
[356,"Коляда Юрий / Kolyada Yurij / 1980","М",362.25,2]
[357,"Кусов Иван / Kusov Ivan / 1993","М",362.09,1]
[358,"Хамицевич Андрей / Hamitsevich Andrej / 1983","М",361.08,2]
[359,"Пузаревский Роман / Puzarevskij Roman / 1994","М",360.29,1]
[360,"Жукович Артем / Zhukovich Artem / 1988","М",360.10999999999996,4]
[361,"Грейд Юлия / Grejd Yuliya / 1986","Ж",359.03,2]
[362,"Куцакова Татьяна / Kutsakova Tatyana / 1987","Ж",358.23,1]
[363,"Дельянов Одиссей / Delyanov Odissej / 1979","М",357.31,1]
[364,"Зятикова Наталья / Zyatikova Natalya / 1983","Ж",356.69,3]
[365,"Ямбушева Катерина / Yambusheva Katerina / 1987","Ж",356.48,1]
[366,"Мурашкин Виктор / Murashkin Viktor / 1989","М",356.31,1]
[367,"Тарасик Владимир / Tarasik Vladimir / 1977","М",356.29,1]
[368,"Гладковский Владислав / Gladkovskij Vladislav / 1990","М",354.76,1]
[369,"Емельянова Анна / Emelyanova Anna / 1995","Ж",354.59,1]
[370,"Ольшевский Александр / Olshevskij Aleksandr / 1984","М",353.74,1]
[371,"Танковид Евгений / Tankovid Evgenij / 1985","М",351.2,1]
[372,"Асаевич Роман / Asaevich Roman / 1964","М",351.08,1]
[373,"Варданян Кристина / Vardanyan Kristina / 1981","Ж",350.21,1]
[374,"Почиковский Павел / Pochikovskij Pavel / 1985","М",348.65,1]
[375,"Молочников Дмитрий / Molochnikov Dmitrij / 1984","М",347.17,2]
[376,"Быков Владимир / Bykov Vladimir / 1977","М",346.77,1]
[377,"Замахаева Мария  / Zamahaeva Mariya  / 1985","Ж",346.2,1]
[378,"Лозюк Алексей / Lozyuk Aleksej / 1976","М",346.11,1]
[379,"Гамидов Тимур / Gamidov Timur / 1996","М",345.95,1]
[380,"Бабич Виталий / Babich Vitalij / 1981","М",345.66,1]
[381,"Левонюк Анна / Levonyuk Anna / 1986","Ж",345.26,1]
[382,"Позднева Мария / Pozdneva Mariya / 2001","Ж",343.56,2]
[383,"Борисевич Александр / Borisevich Aleksandr / 1989","М",343,2]
[384,"Сорокина Марина  / Sorokina Marina  / 1981","Ж",340.72,1]
[385,"Зуйков Антон / Zujkov Anton / 1995","М",340.5,1]
[386,"Лазаренок Глеб / Lazarenok Gleb / 1982","М",339.9,6]
[387,"Чабор Максим / Chabor Maksim / 1991","М",339.66,1]
[388,"Кальвинковская Екатерина / Kalvinkovskaya Ekaterina / 1993","Ж",337.7,1]
[389,"Корожан Александр / Korozhan Aleksandr / 1971","М",336.57,1]
[390,"Сорока Эдуард / Soroka Eduard / 1991","М",336.51,1]
[391,"Завалова Анастасия / Zavalova Anastasiya / 1994","Ж",335.32,2]
[392,"Руссинов Сергей / Russinov Sergej / 1989","М",333.39,1]
[393,"Шнитко Светлана / Shnitko Svetlana / 1981","Ж",332.55,1]
[394,"Лавриченок Светлана / Lavrichenok Svetlana / 1971","Ж",332.18,1]
[395,"Вайтешонок Сергей / Vajteshonok Sergej / 1981","М",331.53,2]
[396,"Березин Артём / Berezin Artjom / 1986","М",330.78,2]
[397,"Воробьёв Дмитрий / Vorobjov Dmitrij / 1988","М",329.18,2]
[398,"Давыдов Андрей / Davydov Andrej / 1980","М",328.55,1]
[399,"Остапюк Андрей / Ostapyuk Andrej / 1990","М",328.3,1]
[400,"Коледа Константин / Koleda Konstantin / 1976","М",327.47000000000003,1]
[401,"Шабанов Олег / Shabanov Oleg / 1971","М",326.64,2]
[402,"Кизик Валерия / Kizik Valeriya / 1990","Ж",326.60000000000002,1]
[403,"Дуван Дмитрий / Duvan Dmitrij / 1985","М",323.32,1]
[404,"Стракович Екатерина / Strakovich Ekaterina / 1991","Ж",322.42,3]
[405,"Мышковец Василий  / Myshkovets Vasilij  / 1980","М",318.45999999999998,2]
[406,"Левчук Александр / Levchuk Aleksandr / 1970","М",318.2,1]
[407,"Рачковский Николай / Rachkovskij Nikolaj / 1985","М",318.13,1]
[408,"Лаврецкая Елена / Lavretskaya Elena / 1986","Ж",317.27,1]
[409,"Русакова Татьяна / Rusakova Tatyana / 1979","Ж",316.81,2]
[410,"Гончаров Игорь / Goncharov Igor / 1981","М",316.72000000000003,1]
[411,"Маханьков Александр / Mahankov Aleksandr / 1983","М",316.52,1]
[412,"Яцкевич Ольга / Yatskevich Olga / 1988","Ж",315.79000000000002,1]
[413,"Мертенс Андрей / Mertens Andrej / 1992","М",314.51,3]
[414,"Лапухин Андрей / Lapuhin Andrej / 1989","М",313.73,2]
[415,"Марозик Юлия / Marozik Yuliya / 1993","Ж",313.52999999999997,1]
[416,"Сикорский Сергей / Sikorskij Sergej / 1982","М",313.02999999999997,1]
[417,"Анацко Леонид / Anatsko Leonid / 1961","М",312.55,2]
[418,"Кимстач Валерий / Kimstach Valerij / 1984","М",310.48,1]
[419,"Ремизевич Роман / Remizevich Roman / 1982","М",310.12,1]
[420,"Бунос Анатолий / Bunos Anatolij / 1956","М",308.82,1]
[421,"Андуро Сергей / Anduro Sergej / 1986","М",307.23,1]
[422,"Шир Алисия / Shir Alisiya / 1982","Ж",306.63,1]
[423,"Львовский Андрей / Lvovskij Andrej / 1991","М",306.26,1]
[424,"Афанасьев Иван / Afanasev Ivan / 1979","М",305.94,1]
[425,"Иванюта Дмитрий / Ivanyuta Dmitrij / 1982","М",305.39,1]
[426,"Никеенко Вита / Nikeenko Vita / 1984","Ж",304.83999999999997,1]
[427,"Агеев Константин / Ageev Konstantin / 1995","М",303.52,1]
[428,"Иванчик Александр / Ivanchik Aleksandr / 1990","М",303.42,1]
[429,"Шипунов Олег / Shipunov Oleg / 1992","М",300.76,1]
[430,"Вадим Лукин / Vadim Lukin / 1993","М",300.47000000000003,1]
[431,"Федоров Федор / Fedorov Fedor / 1977","М",300.31,2]
[432,"Буховецкий Андрей / Buhovetskij Andrej / 1987","М",300.18,1]
[433,"Барановский Александр / Baranovskij Aleksandr / 1984","М",300,1]
[434,"Марчук Александр / Marchuk Aleksandr / 1986","М",299.88,1]
[435,"Денисик Светлана / Denisik Svetlana / 1998","Ж",298.60000000000002,1]
[436,"Сафонов Юрий / Safonov Yurij / 1983","М",298.42,1]
[437,"Шабалов Вячеслав / Shabalov Vyacheslav / 1982","М",297.76,1]
[438,"Пенько Фёдор / Penko Fjodor / 1987","М",296.92,1]
[439,"Александрова Дарья / Aleksandrova Darya / 1995","Ж",296.74,1]
[440,"Николаевич Дмитрий / Nikolaevich Dmitrij / 1999","М",295.74,1]
[441,"Керножицкий Андрей / Kernozhitskij Andrej / 1981","М",295.20999999999998,1]
[442,"Стельмах Юрий / Stelmah Yurij / 1982","М",295.03999999999996,2]
[443,"Чернявский Евгений / Chernyavskij Evgenij / 1988","М",292.67,1]
[444,"Хмелевская Ольга / Hmelevskaya Olga / 1988","Ж",292.60000000000002,2]
[445,"Лопатик Юрий / Lopatik Yurij / 1984","М",291.84000000000003,2]
[446,"Дрофа Виталий / Drofa Vitalij / 1970","М",290.91000000000003,1]
[447,"Федоренко Александр / Fedorenko Aleksandr / 1990","М",290.32,1]
[448,"Козич Галина / Kozich Galina / 1990","Ж",289.39999999999998,1]
[449,"Ковеня Андрей / Kovenya Andrej / 1962","М",289.20999999999998,1]
[450,"Астапеня Андрей / Astapenya Andrej / 1985","М",287.58,1]
[451,"Саскевич Алексей / Saskevich Aleksej / 1992","М",287.41000000000003,1]
[452,"Жданович Андрей / Zhdanovich Andrej / 1973","М",287.12,1]
[453,"Зарубина Наталья / Zarubina Natalya / 1989","Ж",286.85000000000002,1]
[454,"Телегина София / Telegina Sofiya / 1991","Ж",286.58,1]
[455,"Кузьмич Дмитрий / Kuzmich Dmitrij / 1975","М",286.54000000000002,6]
[456,"Данченко Глеб / Danchenko Gleb / 1986","М",286.07,1]
[457,"Марченко Людмила / Marchenko Lyudmila / 1972","Ж",284.22000000000003,2]
[458,"Жучина Катерина / Zhuchina Katerina / 1986","Ж",283.64,2]
[459,"Славинский Дмитрий / Slavinskij Dmitrij / 1986","М",283.54000000000002,2]
[460,"Галка Дмитрий / Galka Dmitrij / 1988","М",281.99,1]
[461,"Титова Инна / Titova Inna / 1986","Ж",281.14,1]
[462,"Зиновенко Павел / Zinovenko Pavel / 1997","М",280.45,1]
[463,"Горевцова Евгения / Gorevtsova Evgeniya / 1989","Ж",280.39999999999998,2]
[464,"Артихович Александр / Artihovich Aleksandr / 1972","М",277.36,3]
[465,"Михальчук Евгения / Mihalchuk Evgeniya / ","Ж",276.95999999999998,1]
[466,"Грицук Татьяна / Gritsuk Tatyana / 1973","Ж",276.82,1]
[467,"Кожемякина Анна / Kozhemyakina Anna / 1991","Ж",276.77999999999997,2]
[468,"Сербаев Виталий / Serbaev Vitalij / 1979","М",275.71999999999997,2]
[469,"Набоков Дмитрий / Nabokov Dmitrij / 1998","М",275.35000000000002,1]
[470,"Бондарь Юлия / Bondar Yuliya / 1993","Ж",275.16000000000003,1]
[471,"Скадорва Алексей / Skadorva Aleksej / 1994","М",274.33999999999997,1]
[472,"Морозик Юлия / Morozik Yuliya / 1993","Ж",273.68,1]
[473,"Забабуро Сергей / Zababuro Sergej / 1978","М",273.36,1]
[474,"Бурак Анжелика / Burak Anzhelika / 1994","Ж",273.28999999999996,2]
[475,"Костян Денис / Kostyan Denis / 1977","М",272.89,1]
[476,"Балицкая Ольга / Balitskaya Olga / 1981","Ж",272.49,1]
[477,"Челышев Сергей / Chelyshev Sergej / 1967","М",272.31,1]
[478,"Чеснокова Надежда / Chesnokova Nadezhda / 1988","Ж",270.68,1]
[479,"Адасик Вячеслав / Adasik Vyacheslav / 1975","М",270.52999999999997,1]
[480,"Стародуб Евгений / Starodub Evgenij / 2000","М",270.25,1]
[481,"Мартынчук Ян / Martynchuk Yan / 1987","М",269.76,1]
[482,"Захарьев Алексей / Zaharev Aleksej / 1984","М",268.57,1]
[483,"Минков Сергей / Minkov Sergej / 1985","М",268.31,2]
[484,"Казимирская Надежда  / Kazimirskaya Nadezhda  / 1983","Ж",267.07,1]
[485,"Костев Евгений / Kostev Evgenij / 1990","М",266.11,1]
[486,"Игнатович Александр / Ignatovich Aleksandr / 1992","М",265.93,1]
[487,"Скуратович Герман / Skuratovich German / 1990","М",264.67,1]
[488,"Тумащик Александр / Tumaschik Aleksandr / 1972","М",264.67,1]
[489,"Гумбар Илья / Gumbar Ilya / 1989","М",263.77,1]
[490,"Веремич Юрий / Veremich Yurij / 1979","М",263.64,1]
[491,"Швайковская Ольга / Shvajkovskaya Olga / 1979","Ж",263.33999999999997,1]
[492,"Кузеева Марина / Kuzeeva Marina / 1986","Ж",262.66000000000003,1]
[493,"Питкевич Екатерина / Pitkevich Ekaterina / 1984","Ж",262.14999999999998,1]
[494,"Дадалев Алексей / Dadalev Aleksej / 1995","М",262.13,1]
[495,"Бобровский Максим / Bobrovskij Maksim / 1991","М",261.27999999999997,1]
[496,"Сковорода Инна / Skovoroda Inna / 1995","Ж",261.13,1]
[497,"Беляй Владимир / Belyaj Vladimir / 1989","М",260.38,1]
[498,"Трасковский Геннадий / Traskovskij Gennadij / 1961","М",260.29000000000002,1]
[499,"Симонов Александр / Simonov Aleksandr / 1999","М",260.05,1]
[500,"Пехтерев Сергей / Pehterev Sergej / 1979","М",260.02999999999997,3]
[501,"Чеботаева Валерия / Chebotaeva Valeriya / 1993","Ж",259.26,1]
[502,"Мацко Сергей / Matsko Sergej / 1991","М",257.8,1]
[503,"Ролдугин Михаил / Roldugin Mihail / 1987","М",257.35000000000002,1]
[504,"Буто Дмитрий / Buto Dmitrij / 1988","М",257.04000000000002,1]
[505,"Силивонова Виктория / Silivonova Viktoriya / 1994","Ж",256.5,2]
[506,"Бахтизин Павел / Bahtizin Pavel / 1980","М",255.54,1]
[507,"Костеневич Ольга / Kostenevich Olga / 1990","Ж",255.25,1]
[508,"Герман Кирилл / German Kirill / 1999","М",254.49,1]
[509,"Дедкова Ирина / Dedkova Irina / 1981","Ж",251.95,1]
[510,"Пыжик Антон / Pyzhik Anton / 1991","М",251.95,1]
[511,"Пилипейко Дарья / Pilipejko Darya / 1999","Ж",249.78,1]
[512,"Капытов Александр / Kapytov Aleksandr / 1978","М",249.4,1]
[513,"Жукова Елизавета / Zhukova Elizaveta / 1989","Ж",248.35,1]
[514,"Осипук Дмитрий / Osipuk Dmitrij / 1980","М",248.21,1]
[515,"Зарубина Ульяна / Zarubina Ulyana / ","Ж",247.28,1]
[516,"Тарасевич Алёна / Tarasevich Aljona / 1991","Ж",247.28,1]
[517,"Бушковский Максим / Bushkovskij Maksim / 1989","М",246.07,2]
[518,"Куцуха Александр / Kutsuha Aleksandr / 1992","М",245.76,1]
[519,"Князев Родион / Knyazev Rodion / 1995","М",245.6,1]
[520,"Мельников Павел / Melnikov Pavel / 1998","М",244.75,1]
[521,"Даник Даниил / Danik Daniil / 1982","М",244.48,2]
[522,"Алексейчик Павел / Aleksejchik Pavel / 1994","М",244.31,1]
[523,"Соц Василий / Sots Vasilij / 1966","М",244.14,1]
[524,"Малаховская Татьяна / Malahovskaya Tatyana / 1989","Ж",243.05,1]
[525,"Храмов Иван / Hramov Ivan / 2001","М",242.81,1]
[526,"Алесиюк Татьяна / Alesiyuk Tatyana / 1987","Ж",242.62,1]
[527,"Шлеёв Денис / Shlejov Denis / 2001","М",242.21,1]
[528,"Косціна Вікторыя / Kostsіna Vіktoryya / 1992","Ж",242.19,2]
[529,"Кульбацкий Владислав / Kulbatskij Vladislav / 1989","М",241.77,1]
[530,"Рингевич Александр  / Ringevich Aleksandr  / 1983","М",241.68,1]
[531,"Соколов Артем / Sokolov Artem / 1986","М",241.57,4]
[532,"Гецман Мила / Getsman Mila / 1988","Ж",241.45,1]
[533,"Потапов Сергей / Potapov Sergej / 1988","М",240.61,1]
[534,"Лукьянов Александр / Lukyanov Aleksandr / 1979","М",240.19,1]
[535,"Будрик Юлия / Budrik Yuliya / 1995","Ж",239.79,1]
[536,"Тылиндус Александр / Tylindus Aleksandr / 1984","М",239.22,1]
[537,"Зарецкая Оксана / Zaretskaya Oksana / 1982","Ж",238.5,1]
[538,"Аленова Анастасия / Alenova Anastasiya / 1993","Ж",238.43,1]
[539,"Бачища Николай / Bachischa Nikolaj / 1988","М",238.4,1]
[540,"Нефедова Оксана / Nefedova Oksana / 1979","Ж",237.64,1]
[541,"Винтергрин Андрей / Vintergrin Andrej / 1981","М",236.51,1]
[542,"Карпович Алексей / Karpovich Aleksej / 1991","М",236.36,1]
[543,"Кожемякин Владимир / Kozhemyakin Vladimir / 1970","М",236.08,1]
[544,"Королёва Виктория / Koroljova Viktoriya / 1977","Ж",235.15,1]
[545,"Харитонов Илья / Haritonov Ilya / 1973","М",235.15,1]
[546,"Богдевич Анатолий / Bogdevich Anatolij / 1999","М",234.55,1]
[547,"Купреева Татьяна / Kupreeva Tatyana / 1990","Ж",234.55,1]
[548,"Федькович Виталий / Fedkovich Vitalij / 1995","М",234.55,1]
[549,"Ладутько Наталья / Ladutko Natalya / 1974","Ж",233.59,5]
[550,"Зубкевич Анжелика / Zubkevich Anzhelika / 1992","Ж",232.75,1]
[551,"Григорович Руслан / Grigorovich Ruslan / 1987","М",232.02,1]
[552,"Кудрявец Валерий / Kudryavets Valerij / 1975","М",231.85999999999999,2]
[553,"Калинка Руслан / Kalinka Ruslan / 1978","М",231.59,1]
[554,"Егорова Дарина / Egorova Darina / 1994","Ж",231.58,1]
[555,"Лесникович Лиана / Lesnikovich Liana / 1988","Ж",231.52,1]
[556,"Нестеров Андрей / Nesterov Andrej / 1981","М",230.98,1]
[557,"Подайко Владимир / Podajko Vladimir / 1994","М",230.94,1]
[558,"Желнов Анатолий / Zhelnov Anatolij / 1993","М",230.1,1]
[559,"Пиньковская Ирина / Pinkovskaya Irina / 1986","Ж",229.82,1]
[560,"Новикова Анастасия / Novikova Anastasiya / 1992","Ж",227.65,1]
[561,"Сверчков Сергей / Sverchkov Sergej / 1988","М",227.27,1]
[562,"Булеева Наталья / Buleeva Natalya / 1969","Ж",226.85,1]
[563,"Пигулевский Денис / Pigulevskij Denis / 1990","М",226.5,1]
[564,"Харик Анна / Harik Anna / 1986","Ж",225.13,1]
[565,"Кулаев Алексей / Kulaev Aleksej / 1980","М",224.05,1]
[566,"user 4931 dan / user 4931 dan / 1989","М",223.95,1]
[567,"Селиванов Алексавндр / Selivanov Aleksavndr / 1970","М",223.32,1]
[568,"Пальвинская Валерия / Palvinskaya Valeriya / 1996","Ж",221.45,1]
[569,"Декевич Сергей / Dekevich Sergej / 1989","М",221.41,1]
[570,"Сушко Александра / Sushko Aleksandra / 1995","Ж",221.4,1]
[571,"Зеленцова Галина / Zelentsova Galina / 1988","Ж",221.3,1]
[572,"Беганский Иван  / Beganskij Ivan  / 1984","М",219.71,1]
[573,"Юкевич Андрей / Yukevich Andrej / 1990","М",219.45,1]
[574,"Савостеня Виктор / Savostenya Viktor / 1989","М",219.26,1]
[575,"Лисовская Наталья / Lisovskaya Natalya / 1998","Ж",219.24,1]
[576,"Никоненко Сергей / Nikonenko Sergej / 1984","М",219.03,1]
[577,"Мельник Сергей / Melnik Sergej / 1975","М",218.18,1]
[578,"Врублевский Кирилл / Vrublevskij Kirill / 1995","М",217.99,1]
[579,"Попадюк Виктория  / Popadyuk Viktoriya  / 1985","Ж",217.61,1]
[580,"Писаренко Андрей / Pisarenko Andrej / 1957","М",216.94,1]
[581,"Хромов Вадим / Hromov Vadim / 1994","М",216.32,1]
[582,"Сыченко Евгения / Sychenko Evgeniya / 1992","Ж",215.72,1]
[583,"Пархимович Ирина / Parhimovich Irina / 1988","Ж",214.99,1]
[584,"Сухобаевский Николай / Suhobaevskij Nikolaj / 1986","М",214.83,1]
[585,"Жукова Марина / Zhukova Marina / 1985","Ж",214.62,1]
[586,"Скляр Антон / Sklyar Anton / 1983","М",214.46,1]
[587,"Герасевич Максим / Gerasevich Maksim / ","М",213.25000000000003,3]
[588,"Корожан Наталья / Korozhan Natalya / 1974","Ж",212.63,1]
[589,"Гайдукович Максим / Gajdukovich Maksim / 1988","М",211.94,1]
[590,"Михальков Ян / Mihalkov Yan / ","М",211.73,1]
[591,"Кравченко Марина / Kravchenko Marina / 1990","Ж",211.72,3]
[592,"Елесин Иван / Elesin Ivan / 1992","М",211.15,1]
[593,"Волостных Сергей / Volostnyh Sergej / 1989","М",210.65,1]
[594,"Глушаков Сергей / Glushakov Sergej / 1958","М",210.56,1]
[595,"Литвинка Нина / Litvinka Nina / 1991","Ж",210.54,1]
[596,"Тишковец Анастасия / Tishkovets Anastasiya / 1988","Ж",210.04,1]
[597,"Нехайчик Артур  / Nehajchik Artur  / 1995","М",209.91,1]
[598,"Васильченко Вадим / Vasilchenko Vadim / 1987","М",209.66000000000003,2]
[599,"Шестеров Андрей / Shesterov Andrej / 1986","М",209.22,1]
[600,"Фалинский Кирилл / Falinskij Kirill / 1983","М",209.02,1]
[601,"Млынарчик Николай / Mlynarchik Nikolaj / 1998","М",208.68,1]
[602,"Геранин Дмитрий / Geranin Dmitrij / ","М",207.24,1]
[603,"Бычинский Владислав / Bychinskij Vladislav / 1992","М",206.24,1]
[604,"Малышко Татьяна / Malyshko Tatyana / 1983","Ж",206.24,1]
[605,"Горнов Антон / Gornov Anton / 1992","М",205.88,1]
[606,"Пугач Вадим / Pugach Vadim / 1985","М",205.88,1]
[607,"Чигорская Татьяна / Chigorskaya Tatyana / 1977","Ж",205.29,1]
[608,"Войтехович Максим / Vojtehovich Maksim / 1990","М",204.55,1]
[609,"Молочко Анна / Molochko Anna / 2006","Ж",204.28,1]
[610,"Коваленко Леонид / Kovalenko Leonid / 1999","М",203.96,1]
[611,"Липский Андрей / Lipskij Andrej / 1985","М",203.59,1]
[612,"Гомон Сергей / Gomon Sergej / 1990","М",202.45,1]
[613,"Галец Константин / Galets Konstantin / 1988","М",201.17000000000002,2]
[614,"Нехайчик Артур / Nehajchik Artur / 1995","М",201.05,1]
[615,"Тумашик Екатерина / Tumashik Ekaterina / 1984","Ж",200.61,1]
[616,"Данілаў Віктар / Danіlau Vіktar / 1987","М",200.58999999999997,2]
[617,"Красовская Инна / Krasovskaya Inna / 1975","Ж",200.12,1]
[618,"Покульницкий Алексей / Pokulnitskij Aleksej / 1988","М",199.51999999999998,2]
[619,"Дедков Никита / Dedkov Nikita / 1998","М",198.86,1]
[620,"Дашкевич Павел / Dashkevich Pavel / 1999","М",198.67000000000002,2]
[621,"Павлова Анна / Pavlova Anna / 1992","Ж",198.45,1]
[622,"Илатовский Дмитрий / Ilatovskij Dmitrij / 1974","М",197.79,1]
[623,"Шевчук Максим  / Shevchuk Maksim  / 1994","М",197.74,1]
[624,"Зайчук Кирилл / Zajchuk Kirill / 1990","М",197.3,1]
[625,"Лакустов Алексей / Lakustov Aleksej / 1986","М",196.94,2]
[626,"Вдовиченко Ирина / Vdovichenko Irina / 1989","Ж",195.97,2]
[627,"Жегуло Ольга / Zhegulo Olga / 1983","Ж",195.96,1]
[628,"Теребенин Владислав / Terebenin Vladislav / 2001","М",195.96,1]
[629,"Лупин Сергей / Lupin Sergej / 1985","М",195.09,2]
[630,"Лялеко Сергей / Lyaleko Sergej / 1986","М",195.06,1]
[631,"Воротникова Татьяна / Vorotnikova Tatyana / 1989","Ж",193.99,1]
[632,"Туцкий Юрий / Tutskij Yurij / 1992","М",193.77,1]
[633,"Коновалова Елена / Konovalova Elena / 1975","Ж",193.35,1]
[634,"Фадеева Светлана / Fadeeva Svetlana / 1980","Ж",193.16,1]
[635,"Сенько Вероника / Senko Veronika / 1990","Ж",193.01,1]
[636,"Старовойтова Евгения / Starovojtova Evgeniya / 1996","Ж",191.83,1]
[637,"Скребец Артур  / Skrebets Artur  / 1991","М",191.65,1]
[638,"Селиванов Максим / Selivanov Maksim / 1981","М",191.35,1]
[639,"Шуленков Роман / Shulenkov Roman / 1990","М",191.23,2]
[640,"Кулак Александр / Kulak Aleksandr / 1989","М",191.02,1]
[641,"Хмелевский Юрий / Hmelevskij Yurij / 1974","М",190.87,1]
[642,"Цветкова Мария / Tsvetkova Mariya / 1994","Ж",189.47,1]
[643,"Барсумян Артур / Barsumyan Artur / 1992","М",189.05,1]
[644,"Хацкевич Дмитрий / Hatskevich Dmitrij / 1985","М",188.72,1]
[645,"Мельников Роман / Melnikov Roman / 1983","М",188.56,1]
[646,"Рудницкий Сергей / Rudnitskij Sergej / 1979","М",188.32,1]
[647,"Чигорская Татьяна  / Chigorskaya Tatyana  / 1977","Ж",187.94,1]
[648,"Глатанков Пётр / Glatankov Pjotr / 1978","М",187.71,1]
[649,"Островцова Марина / Ostrovtsova Marina / 1987","Ж",187.61,1]
[650,"Флерчук Евгений / Flerchuk Evgenij / 1992","М",186.64999999999998,2]
[651,"Володько Владимир / Volodko Vladimir / 2001","М",186.52,1]
[652,"Зуевский Роман / Zuevskij Roman / 1986","М",186.28,1]
[653,"Торопова Мария / Toropova Mariya / 1989","Ж",186.28,1]
[654,"Тмофеева Александр / Tmofeeva Aleksandr / 1990","Ж",186.26,1]
[655,"Коляев Антон / Kolyaev Anton / 1980","М",185.78,1]
[656,"Капустин Егор / Kapustin Egor / 2004","М",185.72000000000003,2]
[657,"Зуй Александр / Zuj Aleksandr / 1980","М",184.07999999999998,2]
[658,"Легчеков Дмитрий / Legchekov Dmitrij / 1984","М",183.56,1]
[659,"Татарицкий Виталий / Tataritskij Vitalij / 1971","М",182.9,1]
[660,"Ковалюк Вадим / Kovalyuk Vadim / 1987","М",182.53,1]
[661,"Бажанский Виталий / Bazhanskij Vitalij / 1982","М",182.24,1]
[662,"Чернявский Артем / Chernyavskij Artem / 1987","М",181.93,1]
[663,"Рудковская Татьяна / Rudkovskaya Tatyana / 1997","Ж",181.91,1]
[664,"Орлов Алексей / Orlov Aleksej / 1981","М",181.82,1]
[665,"Остапюк Анна / Ostapyuk Anna / 2000","Ж",181.66,1]
[666,"Переходько Виктор / Perehodko Viktor / 1969","М",181.66,1]
[667,"Мигас Александр / Migas Aleksandr / 1984","М",180.69,1]
[668,"Нежаветс Сергей / Nezhavets Sergej / 1989","М",180.46,1]
[669,"Гамидов Нариман / Gamidov Nariman / 1972","М",179.63,1]
[670,"Хурс Елена / Hurs Elena / 1989","Ж",179.36,1]
[671,"Гончаров Николай / Goncharov Nikolaj / 1984","М",179.13,1]
[672,"Скабицкая Анна / Skabitskaya Anna / 1987","Ж",178.75,1]
[673,"Нещик Алексей / Neschik Aleksej / 1983","М",178.47,1]
[674,"Каволюнас Андрюс / Kavolyunas Andryus / 1984","М",178.15,1]
[675,"Белов Александр / Belov Aleksandr / 1991","М",178.14,1]
[676,"Казак Наталья / Kazak Natalya / 1979","Ж",176.92999999999998,3]
[677,"Климова Вера / Klimova Vera / 1992","Ж",175.98,1]
[678,"Похолкин Александр / Poholkin Aleksandr / 1988","М",175.6,1]
[679,"Шиман Руслан / Shiman Ruslan / 1993","М",175.6,1]
[680,"Куликовских Иванна / Kulikovskih Ivanna / 1974","Ж",175.1,1]
[681,"Лучкин Олег / Luchkin Oleg / 1983","М",173.38,1]
[682,"Шупленков Клим  / Shuplenkov Klim  / 1996","М",173.23,1]
[683,"Новик Олег / Novik Oleg / 1987","М",173.05,1]
[684,"Хомич Юрий / Homich Yurij / 1970","М",172.97,1]
[685,"Будник Владимир / Budnik Vladimir / 1987","М",172.83,1]
[686,"Варава Андрей / Varava Andrej / 1994","М",172.73,1]
[687,"Утлик Максим / Utlik Maksim / 1985","М",172.65,1]
[688,"Косач Надежда / Kosach Nadezhda / 1981","Ж",172.47,1]
[689,"Дунаева Мария / Dunaeva Mariya / 1983","Ж",171.95,1]
[690,"Зенченко Александр / Zenchenko Aleksandr / 1992","М",171.56,1]
[691,"Свиридов Максим / Sviridov Maksim / 1989","М",170.51,1]
[692,"Лира Дина / Lira Dina / 1980","Ж",170.31,1]
[693,"Крипа Светлана / Kripa Svetlana / 1989","Ж",170.23,1]
[694,"Мананков Дмитрий / Manankov Dmitrij / 1988","М",169.71,1]
[695,"Новиков Максим / Novikov Maksim / 1988","М",169.55,1]
[696,"Рускевич Максим / Ruskevich Maksim / 1990","М",168.63,2]
[697,"Шевченко Алёна / Shevchenko Aljona / ","Ж",168.15,1]
[698,"Зеленский Александр / Zelenskij Aleksandr / 1978","М",167.85,1]
[699,"Селищева Ирина / Selischeva Irina / 1983","Ж",167.57,1]
[700,"Кукареко Екатерина / Kukareko Ekaterina / 1986","Ж",166.09,1]
[701,"Ермак Алексей / Ermak Aleksej / 1984","М",165.89,1]
[702,"Бойко Евгений / Bojko Evgenij / 1985","М",165.79,1]
[703,"Даниленко Инесса / Danilenko Inessa / 1984","Ж",165.57,1]
[704,"Бурый Евгений / Buryj Evgenij / 1984","М",164.96,1]
[705,"Борздыко Виктория / Borzdyko Viktoriya / 1994","Ж",164.63,1]
[706,"Леончик Владимир  / Leonchik Vladimir  / 1985","М",163.61000000000001,1]
[707,"Варивода Сергей / Varivoda Sergej / 1964","М",163.49,1]
[708,"Фигурин Дмитрий / Figurin Dmitrij / 1982","М",163.27000000000001,1]
[709,"Малявко Сергей / Malyavko Sergej / 1990","М",163.16999999999999,1]
[710,"Леонов Алексей / Leonov Aleksej / 1986","М",163.06,1]
[711,"Панковец Николай / Pankovets Nikolaj / 1979","М",162.99,1]
[712,"Кузнецова Наталья / Kuznetsova Natalya / 1984","Ж",162.6,1]
[713,"Трубкина Инна / Trubkina Inna / 1972","Ж",162.03,1]
[714,"Минич Ольга / Minich Olga / 1989","Ж",161.72,1]
[715,"Тимофеев Алексей / Timofeev Aleksej / 1990","М",160.28,1]
[716,"Клюшин Олег / Klyushin Oleg / 1972","М",160.19,2]
[717,"Паранок Полина / Paranok Polina / 1984","Ж",158.94999999999999,1]
[718,"Лаханич Мария / Lahanich Mariya / 1991","Ж",158.66999999999999,1]
[719,"Занеуская Ганна / Zaneuskaya Ganna / 1994","Ж",158.26,1]
[720,"Суматохин Виталий / Sumatohin Vitalij / 1989","М",158.07,1]
[721,"Бизюк Игорь / Bizyuk Igor / 1956","М",157.99,1]
[722,"Ждамиров Эдуард / Zhdamirov Eduard / 1987","М",157.44,1]
[723,"Круглик Алексей / Kruglik Aleksej / 1987","М",156.77000000000001,1]
[724,"Кукса Юлия / Kuksa Yuliya / 1978","Ж",156.77000000000001,1]
[725,"Круглик Игорь / Kruglik Igor / 1985","М",155.43,1]
[726,"Миранович Павел / Miranovich Pavel / 1986","М",155.24,1]
[727,"Гладкова Анна / Gladkova Anna / 1985","Ж",154.19,2]
[728,"Акулова Виктория / Akulova Viktoriya / 1980","Ж",153.27000000000001,1]
[729,"Делендик Максим / Delendik Maksim / 1992","М",152.97,1]
[730,"Грушевская Виктория / Grushevskaya Viktoriya / 1992","Ж",151.77000000000001,1]
[731,"Щур Илья / Schur Ilya / 1991","М",151.76,1]
[732,"Занько Юрий / Zanko Yurij / 1982","М",151.71,1]
[733,"Миронов Юрий / Mironov Yurij / 1982","М",151.38,1]
[734,"Хинец Анна / Hinets Anna / 1986","Ж",150.09,1]
[735,"Ванькова Светлана / Vankova Svetlana / 1984","Ж",149.30000000000001,1]
[736,"Ильюшенок Юлия  / Ilyushenok Yuliya  / 1987","Ж",148.37,1]
[737,"Писарик Маргарита  / Pisarik Margarita  / 1988","Ж",148.37,1]
[738,"Зайцев Александр / Zajtsev Aleksandr / 1986","М",147.61000000000001,1]
[739,"Скобло Елена / Skoblo Elena / 1984","Ж",147.6,1]
[740,"Грицевич Виталий / Gritsevich Vitalij / 1987","М",146.36000000000001,1]
[741,"Сильченко Наталья / Silchenko Natalya / ","Ж",145.83000000000001,1]
[742,"Рак Дмитрий / Rak Dmitrij / 1992","М",145.44999999999999,1]
[743,"Чирская Юлия / Chirskaya Yuliya / 1992","М",145.07,1]
[744,"Шевченко Анатолий / Shevchenko Anatolij / 1981","М",143.69999999999999,1]
[745,"Станкевич Владимир / Stankevich Vladimir / 1982","М",142.77000000000001,1]
[746,"Лобач Павел / Lobach Pavel / 1989","М",142.52000000000001,1]
[747,"Романовская Ольга / Romanovskaya Olga / 1988","Ж",141.91999999999999,1]
[748,"Новиков Евгений / Novikov Evgenij / 1988","М",141.41999999999999,1]
[749,"Пилецкий Максим / Piletskij Maksim / 1991","М",140.76999999999998,3]
[750,"Гарбар Екатерина / Garbar Ekaterina / 1989","Ж",140.57,1]
[751,"Загорнов Александр / Zagornov Aleksandr / 1966","М",140.43,1]
[752,"Абаркина Елена / Abarkina Elena / 1983","Ж",140.32,2]
[753,"Бортник Александр / Bortnik Aleksandr / 1994","М",139.71,1]
[754,"Гославская Анастасия / Goslavskaya Anastasiya / 1991","Ж",137.97,1]
[755,"Агаев Руслан / Agaev Ruslan / 1995","М",137.66999999999999,1]
[756,"Кравчук Александр / Kravchuk Aleksandr / 1983","М",137.49,1]
[757,"Лапко Оля / Lapko Olya / 1992","Ж",137.02000000000001,1]
[758,"Филипович Никита / Filipovich Nikita / 1993","М",136.44999999999999,1]
[759,"Бураковская Ульяна / Burakovskaya Ulyana / 1996","Ж",136.24,1]
[760,"Кулеш Кристина / Kulesh Kristina / 1984","Ж",136.24,1]
[761,"Сопот Александр / Sopot Aleksandr / ","М",134.74,1]
[762,"Казак Константин / Kazak Konstantin / 2004","М",134.71,1]
[763,"Белицкий Денис / Belitskij Denis / 1990","М",134.12,2]
[764,"Белоусов Александр / Belousov Aleksandr / 1981","М",132.57,1]
[765,"Мельник Станислав / Melnik Stanislav / 1991","М",132.34,1]
[766,"Ковалёва Катерина / Kovaljova Katerina / 1987","Ж",132.30000000000001,1]
[767,"Бубликов Александр / Bublikov Aleksandr / 1986","М",132.10999999999999,3]
[768,"Сичкарь Игорь / Sichkar Igor / 1975","М",131.83000000000001,1]
[769,"Зеленко Алексей / Zelenko Aleksej / 1980","М",131.66999999999999,1]
[770,"Степук Наталья / Stepuk Natalya / 1984","Ж",131.07,1]
[771,"Жигало Ольга / Zhigalo Olga / 1993","Ж",130.63999999999999,1]
[772,"Колабышев Антон / Kolabyshev Anton / 1986","М",130.63999999999999,1]
[773,"Шатерник Евгений / Shaternik Evgenij / 1980","М",129.79,1]
[774,"Зеленко Диана / Zelenko Diana / 1988","Ж",128.9,1]
[775,"Никрашевич Сергей / Nikrashevich Sergej / 1985","М",128.66999999999999,1]
[776,"Леонович Виталий / Leonovich Vitalij / 1984","М",127.48,1]
[777,"Болотов Илья / Bolotov Ilya / 1988","М",127.25,1]
[778,"Крыворот Руслан / Kryvorot Ruslan / 1991","М",127.16,1]
[779,"Рудович Александр / Rudovich Aleksandr / 1990","М",126.4,1]
[780,"Рыжков Алексей / Ryzhkov Aleksej / 1992","М",125.11,1]
[781,"Морозова Екатерина / Morozova Ekaterina / 1978","Ж",125.07,1]
[782,"Маклаков Максим / Maklakov Maksim / 1987","М",124.7,1]
[783,"Тенюго Татьяна / Tenyugo Tatyana / 1978","Ж",124.17,1]
[784,"Фидек Виталий / Fidek Vitalij / 1966","М",122.88,1]
[785,"Шульпенков Александр / Shulpenkov Aleksandr / 1986","М",122.32,2]
[786,"Шашков Егор / Shashkov Egor / 1983","М",122.16,1]
[787,"Курышка Марына / Kuryshka Maryna / 1991","Ж",121.31,1]
[788,"Малофей Глеб / Malofej Gleb / 1995","М",121.11,1]
[789,"Логиновский Михаил / Loginovskij Mihail / 1976","М",119.75,1]
[790,"Суровцев Максим / Surovtsev Maksim / 1993","М",119.61,1]
[791,"Михеенко Ольга / Miheenko Olga / 1992","Ж",119.21,1]
[792,"Нечай Алексей / Nechaj Aleksej / 1980","М",118.77,1]
[793,"Антонова Мария  / Antonova Mariya  / 1980","Ж",118.7,1]
[794,"Кравчук Артём / Kravchuk Artjom / 1992","М",118.18,1]
[795,"Хорольский Александр / Horolskij Aleksandr / 1985","М",116.27000000000001,2]
[796,"Белоцкая Елена / Belotskaya Elena / 1987","Ж",116.01,1]
[797,"Терехова Татьяна / Terehova Tatyana / 1982","Ж",115.76,1]
[798,"Каханович Илья / Kahanovich Ilya / 1982","М",115.05,1]
[799,"Херзен Андрей / Herzen Andrej / 1984","М",114.85,1]
[800,"Левчук Ирина / Levchuk Irina / 1974","Ж",114.63,1]
[801,"Бутурля Александр / Buturlya Aleksandr / 1981","М",113.98,1]
[802,"Ежелева Светлана / Ezheleva Svetlana / 1989","Ж",113.54,1]
[803,"Яковлев Евгений / Yakovlev Evgenij / 1988","М",113.14,1]
[804,"Ремизевич Вадим / Remizevich Vadim / 1980","М",113.1,1]
[805,"Фам Вероника / Fam Veronika / 1982","Ж",112.57,1]
[806,"Сливинский Вадим / Slivinskij Vadim / 1984","М",112.17,1]
[807,"Шуминский Александр / Shuminskij Aleksandr / 1984","М",111.98,1]
[808,"Метелица Антон / Metelitsa Anton / 1989","М",111.71,1]
[809,"Каленская Наталия / Kalenskaya Nataliya / 1986","Ж",110.38,1]
[810,"Ступяк Андрей / Stupyak Andrej / 1979","М",109.72,1]
[811,"Панфилов Сергей  / Panfilov Sergej  / 1975","М",109.52,1]
[812,"Радиончик Александр / Radionchik Aleksandr / 1971","М",109.43,1]
[813,"Табала Андрей / Tabala Andrej / 1992","М",109,1]
[814,"Новичкова Екатерина  / Novichkova Ekaterina  / 1997","Ж",108.81,1]
[815,"Ананич Александр / Ananich Aleksandr / 1979","М",108.37,1]
[816,"Богомаз Екатерина / Bogomaz Ekaterina / 1981","Ж",107.86,1]
[817,"Нехайчик Мария / Nehajchik Mariya / 1995","Ж",107.49,1]
[818,"Якимченко Анатолий / Yakimchenko Anatolij / 1967","М",107.28999999999999,3]
[819,"Шир Джордан / Shir Dzhordan / 1980","М",105.86,1]
[820,"Дубровский Виктор / Dubrovskij Viktor / 1961","М",105.33,1]
[821,"Княжевич Алеся / Knyazhevich Alesya / 1992","Ж",103.48,1]
[822,"Кузьменко Иван / Kuzmenko Ivan / 1981","М",103.12,1]
[823,"Глебко Сергей / Glebko Sergej / 1985","М",102.94,1]
[824,"Здитовецкая Ирина / Zditovetskaya Irina / 1980","Ж",102.18,1]
[825,"Якубовская Виктория / Yakubovskaya Viktoriya / 1984","Ж",102.14,1]
[826,"Ращинский Александр / Raschinskij Aleksandr / 1990","М",101.98,1]
[827,"Волков Алексей  / Volkov Aleksej  / 1990","М",100.39,1]
[828,"Лунский Сергей / Lunskij Sergej / 1995","М",100.06,1]
[829,"Тимкина Наталья / Timkina Natalya / 1982","Ж",100.06,1]
[830,"Адамович Денис / Adamovich Denis / 1986","М",99.25,1]
[831,"Ружицкая Елена / Ruzhitskaya Elena / 1983","Ж",99.22,1]
[832,"Волков Алексей / Volkov Aleksej / 1990","М",98.97,1]
[833,"Осокина Наталья / Osokina Natalya / 1982","Ж",98.91,1]
[834,"Петкевич Лилия / Petkevich Liliya / 1990","Ж",98.05,2]
[835,"Родионова Светлана / Rodionova Svetlana / 1981","Ж",97.75,2]
[836,"Майхерский Андрей / Majherskij Andrej / 1995","М",96.71,1]
[837,"Фомичёва Елена / Fomichjova Elena / 1993","Ж",96.58,1]
[838,"Кубышкина Татьяна / Kubyshkina Tatyana / 1975","Ж",96.51,1]
[839,"Ольгин Василий / Olgin Vasilij / ","М",96.24,1]
[840,"Гарбуз Алла / Garbuz Alla / 1969","Ж",95.59,3]
[841,"Андрюшенко Андрей / Andryushenko Andrej / 1980","М",94.16,1]
[842,"Адаменко Виталий / Adamenko Vitalij / 1985","М",93.91,3]
[843,"Марчук Михаил / Marchuk Mihail / 1996","М",92.38,1]
[844,"Троцкий Игнат / Trotskij Ignat / 2002","М",91.67,2]
[845,"Прищепа Сергей / Prischepa Sergej / 1985","М",91.26,1]
[846,"Орлов Максим / Orlov Maksim / 1990","М",91.12,1]
[847,"Гракович Ольга / Grakovich Olga / 1994","Ж",90.96,1]
[848,"Стоненис Игорь / Stonenis Igor / 1996","М",90.83,1]
[849,"Когалёнок Елена / Kogaljonok Elena / 1979","Ж",90.23,1]
[850,"Мамонтова Марина / Mamontova Marina / 1992","Ж",89.68,1]
[851,"Журавлёв Илья / Zhuravljov Ilya / 1987","М",89.07,1]
[852,"Самсонов Никита / Samsonov Nikita / 1989","М",89.01,2]
[853,"Шукайлов Максим / Shukajlov Maksim / 1988","М",87.88,1]
[854,"Дубровский Евгений / Dubrovskij Evgenij / 1984","М",87.77,1]
[855,"Забелова Юлия / Zabelova Yuliya / 1978","Ж",87.55,1]
[856,"Курата Кеннет / Kurata Kennet / 1978","М",87.330000000000013,2]
[857,"Катонов Василий / Katonov Vasilij / 1985","М",86.69,1]
[858,"Щукин Макс / Schukin Maks / 1992","М",86.68,1]
[859,"Жамойдзін Яўген / Zhamojdzіn Yaugen / 1985","М",86.53,1]
[860,"Фамичёва Елена / Famichjova Elena / 1993","Ж",85.98,1]
[861,"Гаслова Ольга / Gaslova Olga / 1981","Ж",85.15,1]
[862,"Самусик Елена / Samusik Elena / 1992","Ж",85.12,1]
[863,"Шавель Татьяна / Shavel Tatyana / 1986","Ж",84.21,1]
[864,"Авсянский Федор / Avsyanskij Fedor / 1988","М",83.98,1]
[865,"Бритов Максим / Britov Maksim / 1974","М",82.14,1]
[866,"Бычков Александр / Bychkov Aleksandr / 1990","М",81.87,1]
[867,"Кислов Михаил / Kislov Mihail / 1992","М",81.58,1]
[868,"Тарлецкий Валерий / Tarletskij Valerij / 1982","М",81.44,1]
[869,"Мороз Евгений / Moroz Evgenij / 1985","М",79.83,1]
[870,"Ковалюк Вадим / Kovalyuk Vadim / 1978","М",79.180000000000007,1]
[871,"Стош Роман / Stosh Roman / 2000","М",78.72,1]
[872,"Захаров Иван / Zaharov Ivan / 1979","М",77.34,1]
[873,"Шкрабо Ольга / Shkrabo Olga / 1985","Ж",77.34,1]
[874,"Косяков Максим / Kosyakov Maksim / ","М",76.989999999999995,1]
[875,"Щербина Максим / Scherbina Maksim / 1976","М",76.83,2]
[876,"Орлова Татьяна / Orlova Tatyana / 1990","Ж",76.61,1]
[877,"Липский Александр / Lipskij Aleksandr / 1977","М",76.489999999999995,1]
[878,"Дедуль Дмитрий / Dedul Dmitrij / 1994","М",76.349999999999994,1]
[879,"Шеремет Евгения / Sheremet Evgeniya / 1981","Ж",75.88,1]
[880,"Жук Лия / Zhuk Liya / 1980","Ж",75.040000000000006,1]
[881,"Лысенко Ольга / Lysenko Olga / 1989","Ж",74.650000000000006,1]
[882,"Ковальчук Екатерина / Kovalchuk Ekaterina / 1987","Ж",74.42,1]
[883,"Кривальцевич Валентина / Krivaltsevich Valentina / 1984","Ж",74.42,1]
[884,"Чембрович Марта / Chembrovich Marta / 1995","Ж",73.8,1]
[885,"Обухов Артём / Obuhov Artjom / 1985","М",72.900000000000006,2]
[886,"Городко Игорь / Gorodko Igor / 1970","М",72.77,1]
[887,"Гандзюк Всеволод / Gandzyuk Vsevolod / ","М",72.73,1]
[888,"Кривошей Леонид / Krivoshej Leonid / 1980","М",72.66,1]
[889,"Зуй Алексей / Zuj Aleksej / 1980","М",72.58,1]
[890,"Стешко Фёдор / Steshko Fjodor / 1990","М",72.53,1]
[891,"Гончарик Наталья / Goncharik Natalya / 1991","Ж",71.650000000000006,1]
[892,"Ben Bilel / Ben Bilel / 1981","М",71.430000000000007,1]
[893,"Кудрейко Михаил / Kudrejko Mihail / 1981","М",70.22,1]
[894,"Шаров Александр / Sharov Aleksandr / 1983","М",68.709999999999994,1]
[895,"Александронец Ганна / Aleksandronets Ganna / 1991","Ж",68.14,1]
[896,"Резвицкая Елена / Rezvitskaya Elena / ","Ж",68.12,1]
[897,"Липская Яна / Lipskaya Yana / 2007","Ж",68.09,1]
[898,"Тебинский Александр / Tebinskij Aleksandr / 1987","М",66.61,1]
[899,"Сим Игорь / Sim Igor / 1989","М",66.53,1]
[900,"Бердников Дмитрий / Berdnikov Dmitrij / ","М",66.290000000000006,1]
[901,"Хандогин Николай / Handogin Nikolaj / 1955","М",66.17,1]
[902,"Якимчук Надежда / Yakimchuk Nadezhda / 1986","Ж",65.83,1]
[903,"Коньшин Андрей / Konshin Andrej / 1988","М",65.73,2]
[904,"Храмченко Татьяна / Hramchenko Tatyana / 1982","Ж",65.319999999999993,1]
[905,"Круглова Александра / Kruglova Aleksandra / 1989","Ж",64.45,1]
[906,"Вирт Олег / Virt Oleg / 1980","М",63.67,1]
[907,"Иванова Екатерина / Ivanova Ekaterina / 1989","Ж",62.54,1]
[908,"Позняк Анна / Poznyak Anna / 2000","Ж",62.45,1]
[909,"Кликун Алла / Klikun Alla / 1961","Ж",62.09,1]
[910,"Ждамиров Виталий / Zhdamirov Vitalij / 1983","М",60.55,1]
[911,"Ковалев Никита / Kovalev Nikita / 2001","М",59.88,1]
[912,"Липская Наталья / Lipskaya Natalya / 1977","Ж",59.58,1]
[913,"Михнович Владимир / Mihnovich Vladimir / 1969","М",59.38,1]
[914,"Грошева Елена  / Grosheva Elena  / 1994","Ж",59.35,1]
[915,"Сысков Никита / Syskov Nikita / 1985","М",59.02,3]
[916,"Михайлова Марина / Mihajlova Marina / 1988","Ж",57.88,1]
[917,"Лучинович Сергей / Luchinovich Sergej / 1979","М",57.55,1]
[918,"Зуй Марина / Zuj Marina / 1984","Ж",57.32,1]
[919,"Вишневская Анастасия / Vishnevskaya Anastasiya / 1995","Ж",56.77,1]
[920,"Косач Антон / Kosach Anton / 1983","М",56.57,1]
[921,"Корень Дмитрий / Koren Dmitrij / 1975","М",55.99,1]
[922,"Карабанькова Марина / Karabankova Marina / 1989","Ж",55.67,2]
[923,"Новосяд Владимир / Novosyad Vladimir / 1968","М",54.58,1]
[924,"Ракомсин Юрий / Rakomsin Yurij / 1983","М",54.55,1]
[925,"Матейчик Юрий / Matejchik Yurij / 1983","М",54.5,1]
[926,"Ковалев Михаил / Kovalev Mihail / 1970","М",53.22,1]
[927,"Зеньков Александр / Zenkov Aleksandr / 1993","М",52.79,1]
[928,"Луцевич Eвгений / Lutsevich Evgenij / 1964","М",52.66,1]
[929,"Голомзик Дмитрий / Golomzik Dmitrij / 1972","М",52.26,1]
[930,"Федоринчик Дмитрий / Fedorinchik Dmitrij / 1988","М",51.81,1]
[931,"Йоцюс Виталий / Jotsyus Vitalij / ","М",50.99,1]
[932,"Коляда Максим / Kolyada Maksim / 1978","М",50.9,1]
[933,"Прокопенко Анна / Prokopenko Anna / 1980","Ж",50.03,1]
[934,"Шапотковский Алексей / Shapotkovskij Aleksej / 1982","М",48.35,1]
[935,"Постникова Ольга / Postnikova Olga / 1990","Ж",48.29,1]
[936,"Лобанова Елена / Lobanova Elena / 1984","Ж",46.66,1]
[937,"Ковриго Сергей / Kovrigo Sergej / 1981","М",46.57,1]
[938,"Гурский Олег / Gurskij Oleg / 1988","М",46.19,1]
[939,"Халомзик Дмитрий / Halomzik Dmitrij / 1972","М",45.89,1]
[940,"Воробьев Дмитрий / Vorobev Dmitrij / 1988","М",45.81,1]
[941,"Скребец Сергей / Skrebets Sergej / 1963","М",45.48,1]
[942,"Мейсак Александр / Mejsak Aleksandr / 1989","М",43.89,1]
[943,"Малаховский Александр / Malahovskij Aleksandr / 1985","М",43.35,1]
[944,"Попков Виталий / Popkov Vitalij / 1981","М",43.26,1]
[945,"Моргачев Андрей / Morgachev Andrej / 1981","М",42.97,1]
[946,"Адамов Юрий / Adamov Yurij / 1976","М",42.39,1]
[947,"Ветохин Иван / Vetohin Ivan / 1987","М",41.45,1]
[948,"Старикевич Максим / Starikevich Maksim / 1995","М",40.72,1]
[949,"Дашкевич Сергей / Dashkevich Sergej / 1996","М",39.92,1]
[950,"Гладкая Ольга / Gladkaya Olga / 1986","Ж",39.74,1]
[951,"Мороз Чеслав / Moroz Cheslav / 1959","М",39.590000000000003,1]
[952,"Пак Юлия  / Pak Yuliya  / 1984","Ж",39.57,1]
[953,"Черкас Сергей / Cherkas Sergej / 1985","М",39.19,1]
[954,"Скуратович Андрей  / Skuratovich Andrej  / 1963","М",38.5,1]
[955,"Шахненко Павел / Shahnenko Pavel / 1976","М",38.17,1]
[956,"Будыхина Татьяна / Budyhina Tatyana / 1985","Ж",37.520000000000003,1]
[957,"Агеева Катерина / Ageeva Katerina / 1986","Ж",37.33,1]
[958,"Островцов Александр / Ostrovtsov Aleksandr / 1988","М",36.39,1]
[959,"Фурсевич Павел / Fursevich Pavel / 1983","М",36.33,1]
[960,"Калюжный Дмитрий / Kalyuzhnyj Dmitrij / 1986","М",35.69,1]
[961,"Млынарчик Сергей / Mlynarchik Sergej / 1990","М",35.630000000000003,1]
[962,"Манкевич Алексей / Mankevich Aleksej / 1972","М",35.36,2]
[963,"Зументс Роберт / Zuments Robert / 1979","М",35.11,1]
[964,"Выробов Дмитрий / Vyrobov Dmitrij / 1988","М",34.369999999999997,1]
[965,"Слеменева Евгения / Slemeneva Evgeniya / 1993","Ж",34.06,1]
[966,"Ветохина София / Vetohina Sofiya / 2010","Ж",34.049999999999997,1]
[967,"Старастенко Виктор / Starastenko Viktor / 1994","М",33.08,1]
[968,"Федченко Олеся / Fedchenko Olesya / 1977","Ж",32.92,1]
[969,"Молочко Николай / Molochko Nikolaj / 2004","М",31.09,1]
[970,"Пашкевич Павел / Pashkevich Pavel / 1984","М",30.54,1]
[971,"Свиркова Татьяна / Svirkova Tatyana / 1987","Ж",28.38,1]
[972,"Постников Михаил / Postnikov Mihail / 1984","М",28.28,1]
[973,"Ворончук Алексей / Voronchuk Aleksej / 1987","М",27.99,1]
[974,"Якименко Римма / Yakimenko Rimma / 1975","Ж",27.99,1]
[975,"Позняк Лидия / Poznyak Lidiya / 2002","Ж",27.59,1]
[976,"Сяба Александр / Syaba Aleksandr / 1982","М",27.38,1]
[977,"Минчук Александр / Minchuk Aleksandr / 1974","М",27.29,1]
[978,"Фастовец Евгений / Fastovets Evgenij / 1979","М",26.39,1]
[979,"Лабунская Ирина / Labunskaya Irina / 1983","Ж",25.78,1]
[980,"Чалый Николай / Chalyj Nikolaj / 1980","М",25.78,1]
[981,"Фузейников Алексей / Fuzejnikov Aleksej / 1984","М",25.45,1]
[982,"Поволоцкая Кристина / Povolotskaya Kristina / 1990","Ж",25.01,1]
[983,"Шаметько Роман / Shametko Roman / 1991","М",24.22,1]
[984,"Макась Алексей / Makas Aleksej / 1986","М",22.9,1]
[985,"Маторова Анна / Matorova Anna / 1981","Ж",22.71,1]
[986,"Рябцева Инна / Ryabtseva Inna / 1974","Ж",20.7,1]
[987,"Гречишкин Алексей / Grechishkin Aleksej / 1983","М",20.399999999999999,1]
[988,"Лукин Василий / Lukin Vasilij / 1951","М",20.36,1]
[989,"Тудакова Людмила  / Tudakova Lyudmila  / 1981","Ж",19.78,1]
[990,"Грачева Анастасия / Gracheva Anastasiya / 1995","Ж",18.66,1]
[991,"Горбиков Кирилл  / Gorbikov Kirill  / 1982","М",18.25,1]
[992,"Томашев Игорь / Tomashev Igor / 1965","М",18.190000000000001,1]
[993,"Петров Андрей / Petrov Andrej / 1970","М",17.809999999999999,1]
[994,"Бортняк Екатерина / Bortnyak Ekaterina / 1994","Ж",13.8,1]
[995,"Клауч Екатерина / Klauch Ekaterina / 1987","Ж",12.89,1]
[996,"Устинович Игорь / Ustinovich Igor / 1970","М",12.72,1]
[997,"Дурейко Анна / Durejko Anna / 1987","Ж",12.51,1]
[998,"Свирков Сергей / Svirkov Sergej / 1987","М",12.11,1]
[999,"Петкевич Юлия / Petkevich Yuliya / 1968","Ж",11.35,1]
[1000,"Кожемякин Алексей / Kozhemyakin Aleksej / 1986","М",10.36,1]
[1001,"Летунович Егор / Letunovich Egor / 1984","М",10.18,1]
[1002,"Охотникова Екатерина  / Ohotnikova Ekaterina  / 1968","Ж",9.89,1]
[1003,"Робова Марина / Robova Marina / 1960","Ж",9.33,1]
[1004,"Стасилович Виктор  / Stasilovich Viktor  / 1993","М",9.1300000000000008,1]
[1005,"Поволоцкий Даниил / Povolotskij Daniil / 1990","М",9.1,1]
[1006,"Клауч Виктор / Klauch Viktor / 1988","М",8.59,1]
[1007,"Савченко Марина / Savchenko Marina / 1983","Ж",6.9,1]
[1008,"Павлов Александр / Pavlov Aleksandr / 1992","М",6.65,1]
[1009,"Лукин Павел / Lukin Pavel / 1978","М",6.06,1]
[1010,"Птицына Оксана / Ptitsyna Oksana / 1976","Ж",5.68,1]
[1011,"Гришко Руслан / Grishko Ruslan / 1974","М",2.54,1]

{"sheet":"Рейтинг 2018_М1","index":6,"n_rows":694,"n_cols":5,"rows_kept":694,"cut":false,"hidden":false,"merged":[]}
[]
["№ п/п","Фамилия, Имя, Год рождения","Пол","Сумма баллов","Кол-во гонок в 2018 году"]
[1,"Синица Кирилл / Sinitsa Kirill / 1981","М",3941.04,9]
[2,"Молочко Александр / Molochko Aleksandr / 1981","М",3307.87,8]
[3,"Тюев Даниил / Tyuev Daniil / 1977","М",2545.2800000000002,8]
[4,"Крисенков Алексей / Krisenkov Aleksej / 1983","М",2426.5,8]
[5,"Мальков Валентин / Malkov Valentin / 1988","М",2387.5700000000002,6]
[6,"Леонов Иван / Leonov Ivan / 1986","М",2329.4500000000003,5]
[7,"Храмов Антон / Hramov Anton / 1991","М",2199.64,5]
[8,"Вагин Андрей / Vagin Andrej / 1989","М",2193.12,4]
[9,"Попадюк Игорь / Popadyuk Igor / 1982","М",2061.48,6]
[10,"Ходан Александр / Hodan Aleksandr / 1988","М",2042.8799999999999,4]
[11,"Федорович Николай / Fedorovich Nikolaj / 1959","М",2032.5499999999997,6]
[12,"Харитонов Иван / Haritonov Ivan / 1973","М",1966.1299999999999,5]
[13,"Березовский Андрей / Berezovskij Andrej / 1973","М",1914.52,5]
[14,"Скуратович Антон / Skuratovich Anton / 1985","М",1904.86,7]
[15,"Ласюк Юрий / Lasyuk Yurij / 1987","М",1903.13,6]
[16,"Селютин Владимир / Selyutin Vladimir / 1990","М",1880.21,8]
[17,"Исаев Антон / Isaev Anton / 1979","М",1862.81,2]
[18,"Хорошавин Вячеслав / Horoshavin Vyacheslav / 1985","М",1844.7000000000003,6]
[19,"Лысенко Павел / Lysenko Pavel / 1966","М",1835.31,2]
[20,"Тарасенко Павел / Tarasenko Pavel / 1983","М",1800.1299999999999,5]
[21,"Сидоревич Александр / Sidorevich Aleksandr / 1985","М",1768.94,4]
[22,"Побединский Александр / Pobedinskij Aleksandr / 1983","М",1723.1100000000001,2]
[23,"Бузо Александр / Buzo Aleksandr / 1982","М",1698.13,6]
[24,"Мосийчук Максим / Mosijchuk Maksim / 1984","М",1668.6,4]
[25,"Коровец Богдан / Korovets Bogdan / 1976","М",1653.04,6]
[26,"Герасимук Юрий / Gerasimuk Yurij / 1992","М",1604.5099999999998,4]
[27,"Маркевич Денис / Markevich Denis / 1981","М",1592.5,5]
[28,"Борисевич Леонид / Borisevich Leonid / 1969","М",1590.61,3]
[29,"Лойко Сергей / Lojko Sergej / 1985","М",1559.17,6]
[30,"Молчан Александр / Molchan Aleksandr / 1988","М",1547.01,6]
[31,"Володько Андрей / Volodko Andrej / 1986","М",1536.54,6]
[32,"Алексеев Алексей / Alekseev Aleksej / 1980","М",1492.9199999999998,5]
[33,"Лисовский Виктор / Lisovskij Viktor / 1964","М",1492.06,5]
[34,"Евсюченя Александр / Evsyuchenya Aleksandr / 1991","М",1466.7,3]
[35,"Овсиюк Богдан / Ovsiyuk Bogdan / 1993","М",1456.8899999999999,3]
[36,"Лавник Игорь / Lavnik Igor / 1983","М",1409.23,5]
[37,"Глушков Александр / Glushkov Aleksandr / 1980","М",1390.12,3]
[38,"Подрез Ярослав / Podrez Yaroslav / 1996","М",1350.06,3]
[39,"Свечников Антон / Svechnikov Anton / 1991","М",1344.42,4]
[40,"Лесковец Александр / Leskovets Aleksandr / 1990","М",1321.3200000000002,3]
[41,"Католиков Роман / Katolikov Roman / 1985","М",1257.0800000000002,5]
[42,"Дегтярев Сергей / Degtyarev Sergej / 1983","М",1235.23,4]
[43,"Журавлёв Андрей / Zhuravljov Andrej / 1978","М",1226.42,3]
[44,"Попов Юрий / Popov Yurij / 1969","М",1218.9099999999999,2]
[45,"Мартысевич Роман / Martysevich Roman / 1993","М",1200.08,2]
[46,"Никонов Максим / Nikonov Maksim / 1979","М",1196.4099999999999,3]
[47,"Брытько Роман / Brytko Roman / 1995","М",1185.56,6]
[48,"Маковский Дмитрий / Makovskij Dmitrij / 1981","М",1121.6699999999998,3]
[49,"Суховей Михаил / Suhovej Mihail / 1991","М",1118.68,2]
[50,"Тихонов Василий / Tihonov Vasilij / 1993","М",1086.92,2]
[51,"Карпович Владимир / Karpovich Vladimir / 1983","М",1070.08,5]
[52,"Пивень Андрей / Piven Andrej / 1992","М",1066.77,1]
[53,"Жидович Вадим / Zhidovich Vadim / 1984","М",1063.58,6]
[54,"Шепетько Сергей / Shepetko Sergej / 1987","М",1048.72,7]
[55,"Мартынов Дмитрий / Martynov Dmitrij / 1984","М",1042.33,3]
[56,"Генсировский Павел / Gensirovskij Pavel / 1979","М",1041.1500000000001,1]
[57,"Рагойша Пётр / Ragojsha Pjotr / 1976","М",1041.07,2]
[58,"Печёнов Георгий / Pechjonov Georgij / 1975","М",1037.27,4]
[59,"Орловский Павел / Orlovskij Pavel / 1989","М",1034.49,3]
[60,"Совпель Максим / Sovpel Maksim / 1993","М",1031.0800000000002,3]
[61,"Жучин Алексей / Zhuchin Aleksej / 1983","М",1018.71,3]
[62,"Юкевич Александр / Yukevich Aleksandr / 1983","М",1013.1700000000001,3]
[63,"Палий Андрей / Palij Andrej / 1984","М",1003.7900000000001,7]
[64,"Сердитов Вадим / Serditov Vadim / 1993","М",996.06,2]
[65,"Остаповец Евгений / Ostapovets Evgenij / 1990","М",984.94999999999993,3]
[66,"Казарин Дмитрий / Kazarin Dmitrij / 1994","М",983.7299999999999,7]
[67,"Козич Андрей / Kozich Andrej / 1986","М",983.31,1]
[68,"Смолко Николай / Smolko Nikolaj / 1987","М",974.61,2]
[69,"Грек Илья / Grek Ilya / 1992","М",974.28,3]
[70,"Нечаев Владимир / Nechaev Vladimir / 1995","М",959.74,3]
[71,"Грабовец Павел / Grabovets Pavel / 1981","М",954.39,1]
[72,"Миканович Антон / Mikanovich Anton / 1990","М",938.98,4]
[73,"Бегун Егор / Begun Egor / 1988","М",935.40000000000009,4]
[74,"Сіпачоў Аляксей / Sіpachou Alyaksej / 1979","М",935.06999999999994,3]
[75,"Осадчий Константин / Osadchij Konstantin / 1985","М",921.29,1]
[76,"Дальниченко Юрий / Dalnichenko Yurij / 1985","М",914.25,2]
[77,"Лукьяненко Александр / Lukyanenko Aleksandr / 1984","М",914.2,2]
[78,"Сафроненко Андрей / Safronenko Andrej / 1984","М",888.03,2]
[79,"Зеленко Дмитрий / Zelenko Dmitrij / 1987","М",875.55000000000007,3]
[80,"Леденёв Андрей / Ledenjov Andrej / 1971","М",874.72,2]
[81,"Астапов Владимир / Astapov Vladimir / 1977","М",859.33,2]
[82,"Хамицевич Михаил / Hamitsevich Mihail / 1980","М",849.8,4]
[83,"Крус Виктор / Krus Viktor / 1980","М",849.72000000000014,4]
[84,"Ярмончик Игорь / Yarmonchik Igor / 1985","М",842.05,3]
[85,"Королёв Максим / Koroljov Maksim / 1989","М",839.98,3]
[86,"Шклярик Олег / Shklyarik Oleg / 1970","М",839.05,3]
[87,"Нестерович Сергей / Nesterovich Sergej / 1994","М",838.05,2]
[88,"Плодунов Захар / Plodunov Zahar / 1993","М",837.67000000000007,2]
[89,"Попов Александр / Popov Aleksandr / 1986","М",836.6,2]
[90,"Казак Дмитрий / Kazak Dmitrij / 1979","М",835.01,2]
[91,"Остапов Владимир / Ostapov Vladimir / 1977","М",817.92000000000007,2]
[92,"Ермохин Максим / Ermohin Maksim / 1975","М",817.91000000000008,2]
[93,"McTavish John / McTavish John / 1987","М",811.57999999999993,2]
[94,"Окромешко Антон / Okromeshko Anton / 1990","М",809.79,1]
[95,"Солодкин Сергей / Solodkin Sergej / 1984","М",798.46,2]
[96,"Кирcанов Алексей / Kircanov Aleksej / 1981","М",795.25,2]
[97,"Дашин Михаил / Dashin Mihail / 1986","М",785.64,4]
[98,"Волков Николай / Volkov Nikolaj / 1989","М",780.99,2]
[99,"Величко Павел / Velichko Pavel / 1982","М",779.55000000000007,2]
[100,"Слободько Дмитрий / Slobodko Dmitrij / 1984","М",779.28,2]
[101,"Зятиков Евгений / Zyatikov Evgenij / 1982","М",769.49,5]
[102,"Фенченко Алексей / Fenchenko Aleksej / 1989","М",768.07,1]
[103,"Тривашкевич Евгений / Trivashkevich Evgenij / 1996","М",767.1099999999999,2]
[104,"Лисовский Павел / Lisovskij Pavel / 1986","М",761.40000000000009,2]
[105,"Павленко Юрий / Pavlenko Yurij / 1983","М",748.27,2]
[106,"Симогостицкий Александр / Simogostitskij Aleksandr / 1987","М",735.37999999999988,3]
[107,"Якубовский Игорь / Yakubovskij Igor / 1984","М",734.49,5]
[108,"Титуленко Егор / Titulenko Egor / 1983","М",720.56,2]
[109,"Некрасов Василий / Nekrasov Vasilij / 1986","М",715.21,1]
[110,"Брагин Иван / Bragin Ivan / 1986","М",714.28,1]
[111,"Ключеня Виталий / Klyuchenya Vitalij / 1982","М",696.06,3]
[112,"Новікаў Анатоль / Novіkau Anatol / 1984","М",694.1,1]
[113,"Балашов Никита / Balashov Nikita / 1983","М",682.06999999999994,2]
[114,"Гидлевский Дмитрий / Gidlevskij Dmitrij / 1986","М",668.6,2]
[115,"Выборный Александр / Vybornyj Aleksandr / 1985","М",658.05,2]
[116,"Олин Денис / Olin Denis / 1976","М",657.88,2]
[117,"Лещевич Валерий / Leschevich Valerij / 1989","М",655.4,2]
[118,"Заяц Александр / Zayats Aleksandr / 1978","М",644.08000000000004,2]
[119,"Арзамасов Илья / Arzamasov Ilya / 1987","М",637.16,1]
[120,"Бабицкий Кирилл / Babitskij Kirill / 1998","М",628.52,1]
[121,"Шило Руслан / Shilo Ruslan / 1993","М",623.79,2]
[122,"Жучков Алексей / Zhuchkov Aleksej / 1985","М",621.9,5]
[123,"Барановский Алексей / Baranovskij Aleksej / 1981","М",619.65,2]
[124,"Кондяр Павел / Kondyar Pavel / 1993","М",616.63,2]
[125,"Цвирко Артур / Tsvirko Artur / 1991","М",615.19000000000005,1]
[126,"Явтушенко Вадим / Yavtushenko Vadim / 1981","М",615.03,4]
[127,"Пак Олег / Pak Oleg / 1977","М",610.73,2]
[128,"Юлов Герман / Yulov German / 1993","М",610.66,2]
[129,"Заречанский Юрий / Zarechanskij Yurij / 1980","М",609.41,3]
[130,"Паплёвка Иван / Papljovka Ivan / 1990","М",609.32999999999993,2]
[131,"Студенков Александр / Studenkov Aleksandr / 1984","М",604.07999999999993,2]
[132,"Медвецкий Денис / Medvetskij Denis / 1986","М",604.07000000000005,4]
[133,"Михно Борис / Mihno Boris / 1982","М",603.04000000000008,4]
[134,"Сорокин Денис / Sorokin Denis / 1998","М",597.39,1]
[135,"Прокопович Ростислав / Prokopovich Rostislav / 1982","М",596.84,1]
[136,"Кислицын Артем / Kislitsyn Artem / 1992","М",596.32000000000005,1]
[137,"Нагорнюк Михаил / Nagornyuk Mihail / 1984","М",593.22,1]
[138,"Герасимук Дмитрий / Gerasimuk Dmitrij / 1993","М",588.69000000000005,2]
[139,"Иванов Денис / Ivanov Denis / 1990","М",588.38,3]
[140,"Акулич Владимир / Akulich Vladimir / 1986","М",587.04,2]
[141,"Шванц Алексей / Shvants Aleksej / 1991","М",585.64,1]
[142,"Верещако Павел / Vereschako Pavel / 1988","М",583.38,2]
[143,"Лещинский Владимир / Leschinskij Vladimir / 1983","М",579.29,1]
[144,"Гусаревич Денис / Gusarevich Denis / 1983","М",578.41999999999996,1]
[145,"Костров Александр / Kostrov Aleksandr / 1982","М",572.32000000000005,2]
[146,"Никитюк Алексей / Nikityuk Aleksej / 1985","М",569.41999999999996,2]
[147,"Веремейчик Юрий / Veremejchik Yurij / 1979","М",567.80999999999995,2]
[148,"Никифоров Дмитрий / Nikiforov Dmitrij / 1989","М",565.02,2]
[149,"Жданович Максим / Zhdanovich Maksim / 1987","М",561.73,1]
[150,"Макарский Сергей / Makarskij Sergej / 1987","М",554.26,2]
[151,"Матвийчук Вадим / Matvijchuk Vadim / 1976","М",552.02,2]
[152,"Иванчик Константин / Ivanchik Konstantin / 1983","М",550.69000000000005,2]
[153,"Чудаков Владислав / Chudakov Vladislav / 1977","М",549.81999999999994,3]
[154,"Трасковский Дмитрий / Traskovskij Dmitrij / 1986","М",549.5,1]
[155,"Чеберяк Сергей / Cheberyak Sergej / 1987","М",547.66,1]
[156,"Драгун Борис / Dragun Boris / 1970","М",547,2]
[157,"Шапелевич Максим / Shapelevich Maksim / 1987","М",544.35,3]
[158,"Минько Алексей / Minko Aleksej / 1997","М",544.17999999999995,1]
[159,"Радиончик Александр / Radionchik Aleksandr / 1985","М",542.92000000000007,3]
[160,"Рачковский Сергей / Rachkovskij Sergej / 1988","М",541.83000000000004,1]
[161,"Кучук Андрей / Kuchuk Andrej / 1994","М",541.05999999999995,1]
[162,"Гребенчук Максим / Grebenchuk Maksim / 1989","М",540.80999999999995,2]
[163,"Тофоров Дмитрий / Toforov Dmitrij / 1991","М",536.69000000000005,1]
[164,"Подосетников Андрей / Podosetnikov Andrej / 1976","М",536.36,2]
[165,"Гайдуков Александр / Gajdukov Aleksandr / 1989","М",535.07999999999993,2]
[166,"Чернышев Дмитрий / Chernyshev Dmitrij / 1987","М",533.11,2]
[167,"Баронов Роман / Baronov Roman / 1993","М",530.39,2]
[168,"Яроцкий Евгений / Yarotskij Evgenij / 1987","М",529.40000000000009,2]
[169,"Горбач Максим / Gorbach Maksim / 1983","М",527.29999999999995,1]
[170,"Дундуков Андрей / Dundukov Andrej / 1985","М",515.9,3]
[171,"Домбровский Евгений / Dombrovskij Evgenij / 1987","М",515.58000000000004,2]
[172,"Заверач Денис / Zaverach Denis / 1985","М",514.66999999999996,1]
[173,"Чичин Юрий / Chichin Yurij / 1979","М",512.77,3]
[174,"Григорьев Никита / Grigorev Nikita / 1990","М",509.9,1]
[175,"Пучик Александр / Puchik Aleksandr / 1983","М",509.07,1]
[176,"Аржаников Евгений / Arzhanikov Evgenij / 1976","М",503.18000000000006,3]
[177,"Ланин Иван / Lanin Ivan / 1989","М",500.96999999999997,2]
[178,"Новиков Денис / Novikov Denis / 1989","М",500.64,2]
[179,"Толкачев Дмитрий / Tolkachev Dmitrij / 1971","М",500.3,1]
[180,"Злобин Денис / Zlobin Denis / 1982","М",497.76,1]
[181,"Кушель Максим / Kushel Maksim / 1998","М",494.87,1]
[182,"Шестаков Геннадий / Shestakov Gennadij / 1962","М",491.66,1]
[183,"Кожан Михаил / Kozhan Mihail / 1946","М",489.44999999999993,2]
[184,"Романцевич Илья / Romantsevich Ilya / 1990","М",488.27,1]
[185,"Середа Александр / Sereda Aleksandr / 1986","М",482.29,1]
[186,"Шалайко Дмитрий / Shalajko Dmitrij / 1993","М",481.68,1]
[187,"Мурашов Владимир / Murashov Vladimir / 1983","М",476.90999999999997,2]
[188,"Зарицкий Сергей / Zaritskij Sergej / 1975","М",475.08,1]
[189,"Мактавиш Джон / Maktavish Dzhon / 1987","М",474.57,1]
[190,"Николаевский Станислав / Nikolaevskij Stanislav / 1985","М",473.96,1]
[191,"Зданович Андрей / Zdanovich Andrej / 1973","М",471.53000000000003,3]
[192,"Жевняк Андрей / Zhevnyak Andrej / 1986","М",471.15999999999997,2]
[193,"Кохан Виталий / Kohan Vitalij / 1982","М",470.69000000000005,2]
[194,"Савич Евгений / Savich Evgenij / 1980","М",468.51,2]
[195,"Ладеев Дмитрий / Ladeev Dmitrij / 1981","М",468.31,2]
[196,"Ларионов Андрей / Larionov Andrej / 1981","М",464.84000000000003,2]
[197,"Щербо Виктор / Scherbo Viktor / 1961","М",464.78000000000003,3]
[198,"Хадорик Владимир / Hadorik Vladimir / 1986","М",463.85,2]
[199,"Крюков Дима / Kryukov Dima / 1988","М",461.34,1]
[200,"Иванцов Вячеслав / Ivantsov Vyacheslav / 1986","М",459.61,2]
[201,"Леверовский Александр / Leverovskij Aleksandr / 1988","М",457.31,2]
[202,"Богомаз Владимир / Bogomaz Vladimir / 1982","М",455.28,1]
[203,"Бокша Сергей / Boksha Sergej / 1988","М",452.57,2]
[204,"Горелик Юрий / Gorelik Yurij / 1987","М",450.08000000000004,2]
[205,"Чиж Сергей / Chizh Sergej / 1993","М",448.68,1]
[206,"Прохоренко Дмитрий / Prohorenko Dmitrij / 1981","М",446.74,2]
[207,"Крыленко Дмитрий / Krylenko Dmitrij / 1975","М",442.09,1]
[208,"Симонов Вадим / Simonov Vadim / 1985","М",441.58,3]
[209,"Лукашенок Алексей / Lukashenok Aleksej / 1978","М",440.25,1]
[210,"Стасевич Александр / Stasevich Aleksandr / 1987","М",437.49,1]
[211,"Куликовский Ян / Kulikovskij Yan / 1992","М",437.08,4]
[212,"Богачев Борис / Bogachev Boris / 1991","М",437.06,1]
[213,"Куратник Юрий / Kuratnik Yurij / 1987","М",436.63,1]
[214,"Сеннікаў Ілья / Sennіkau Іlya / 1984","М",435.78999999999996,2]
[215,"Сакович Андрей / Sakovich Andrej / 1990","М",435.49,1]
[216,"Комин Игорь / Komin Igor / 1959","М",433.81,1]
[217,"Поцелуев Сергей / Potseluev Sergej / 1973","М",433.46,1]
[218,"Хмелевский Антон / Hmelevskij Anton / 1984","М",428.94,1]
[219,"Калацей Роман / Kalatsej Roman / 1997","М",428.89,1]
[220,"Насвит Дмитрий / Nasvit Dmitrij / 1986","М",427.93,1]
[221,"Камышкайло Анатолий / Kamyshkajlo Anatolij / 1981","М",427.49,1]
[222,"Филитарин Дмитрий / Filitarin Dmitrij / 1987","М",421.11,1]
[223,"Захаркин Сергей / Zaharkin Sergej / 1976","М",420.34,1]
[224,"Дышлевич Сергей / Dyshlevich Sergej / 1982","М",417.7,2]
[225,"Юлов Герман  / Yulov German  / 1993","М",417.45,1]
[226,"Малалетников Павел / Malaletnikov Pavel / 1982","М",411.79,1]
[227,"Чеботаев Сергей / Chebotaev Sergej / 1989","М",411.76,1]
[228,"Пешков Кирилл / Peshkov Kirill / 1989","М",410.69,1]
[229,"Tan Burak / Tan Burak / 1983","М",406.25,2]
[230,"Копоть Александр / Kopot Aleksandr / 1992","М",404.89,1]
[231,"Искорцев Алексей / Iskortsev Aleksej / 1980","М",404,2]
[232,"Греков Игорь / Grekov Igor / 1970","М",400.21000000000004,2]
[233,"Курилович Дмитрий / Kurilovich Dmitrij / 1998","М",400,1]
[234,"Кравченко Александр / Kravchenko Aleksandr / 1981","М",395.9,1]
[235,"Фомин Леонид / Fomin Leonid / 1983","М",395.64,2]
[236,"Щербаков Илья / Scherbakov Ilya / 1989","М",394.02,2]
[237,"Вирский Константин / Virskij Konstantin / 1977","М",393,2]
[238,"Бокунович Дмитрий  / Bokunovich Dmitrij  / 1982","М",392.43,1]
[239,"Жилан Павел / Zhilan Pavel / 1990","М",391.92,1]
[240,"Медведев Константин / Medvedev Konstantin / 1990","М",390.91,1]
[241,"Незнанов Михаил / Neznanov Mihail / 1982","М",390.78000000000003,3]
[242,"Вайдо Андрей / Vajdo Andrej / 1995","М",389.37,1]
[243,"Демчук Ростислав / Demchuk Rostislav / 1978","М",388.49,2]
[244,"Таран Виталий / Taran Vitalij / 1983","М",386.12,2]
[245,"Михнюк Виктор / Mihnyuk Viktor / 1990","М",386.02,1]
[246,"Суворов Александр / Suvorov Aleksandr / 1983","М",385.25,3]
[247,"Иолтуховский Владислав / Ioltuhovskij Vladislav / 1971","М",384.57,2]
[248,"Кузьменок Денис / Kuzmenok Denis / 1979","М",383.72,4]
[249,"Новиченко Антон / Novichenko Anton / 1997","М",383.67,1]
[250,"Осипенко Александр / Osipenko Aleksandr / 1977","М",383.31,1]
[251,"Яцкевич Кирилл / Yatskevich Kirill / 2001","М",382.05,1]
[252,"Хатуницкий Евгений / Hatunitskij Evgenij / 1886","М",381.74,1]
[253,"Полторан Валерий / Poltoran Valerij / 1988","М",379.19,1]
[254,"Пісарчык Сяргей / Pіsarchyk Syargej / 1980","М",374.07,1]
[255,"Комар Артем / Komar Artem / 1998","М",373.72,3]
[256,"Дубков Алексей  / Dubkov Aleksej  / 1984","М",373.51,1]
[257,"Кошур Александр / Koshur Aleksandr / 1988","М",372.95,1]
[258,"Недень Виталий / Neden Vitalij / 1974","М",369.5,1]
[259,"Аноничев Александр / Anonichev Aleksandr / 1982","М",369.28,1]
[260,"Горшков Игорь / Gorshkov Igor / 1977","М",369.27,3]
[261,"Труханов Сергей / Truhanov Sergej / 1987","М",368.64,1]
[262,"Костя Юрий / Kostya Yurij / 1985","М",365.06,1]
[263,"Салодкин Сергей / Salodkin Sergej / 1984","М",364.48,1]
[264,"Сечко Евгений / Sechko Evgenij / 1980","М",363.92,1]
[265,"Коляда Юрий / Kolyada Yurij / 1980","М",362.25,2]
[266,"Кусов Иван / Kusov Ivan / 1993","М",362.09,1]
[267,"Хамицевич Андрей / Hamitsevich Andrej / 1983","М",361.08,2]
[268,"Пузаревский Роман / Puzarevskij Roman / 1994","М",360.29,1]
[269,"Жукович Артем / Zhukovich Artem / 1988","М",360.10999999999996,4]
[270,"Дельянов Одиссей / Delyanov Odissej / 1979","М",357.31,1]
[271,"Мурашкин Виктор / Murashkin Viktor / 1989","М",356.31,1]
[272,"Тарасик Владимир / Tarasik Vladimir / 1977","М",356.29,1]
[273,"Гладковский Владислав / Gladkovskij Vladislav / 1990","М",354.76,1]
[274,"Ольшевский Александр / Olshevskij Aleksandr / 1984","М",353.74,1]
[275,"Танковид Евгений / Tankovid Evgenij / 1985","М",351.2,1]
[276,"Асаевич Роман / Asaevich Roman / 1964","М",351.08,1]
[277,"Почиковский Павел / Pochikovskij Pavel / 1985","М",348.65,1]
[278,"Молочников Дмитрий / Molochnikov Dmitrij / 1984","М",347.17,2]
[279,"Быков Владимир / Bykov Vladimir / 1977","М",346.77,1]
[280,"Лозюк Алексей / Lozyuk Aleksej / 1976","М",346.11,1]
[281,"Гамидов Тимур / Gamidov Timur / 1996","М",345.95,1]
[282,"Бабич Виталий / Babich Vitalij / 1981","М",345.66,1]
[283,"Борисевич Александр / Borisevich Aleksandr / 1989","М",343,2]
[284,"Зуйков Антон / Zujkov Anton / 1995","М",340.5,1]
[285,"Лазаренок Глеб / Lazarenok Gleb / 1982","М",339.9,6]
[286,"Чабор Максим / Chabor Maksim / 1991","М",339.66,1]
[287,"Корожан Александр / Korozhan Aleksandr / 1971","М",336.57,1]
[288,"Сорока Эдуард / Soroka Eduard / 1991","М",336.51,1]
[289,"Руссинов Сергей / Russinov Sergej / 1989","М",333.39,1]
[290,"Вайтешонок Сергей / Vajteshonok Sergej / 1981","М",331.53,2]
[291,"Березин Артём / Berezin Artjom / 1986","М",330.78,2]
[292,"Воробьёв Дмитрий / Vorobjov Dmitrij / 1988","М",329.18,2]
[293,"Давыдов Андрей / Davydov Andrej / 1980","М",328.55,1]
[294,"Остапюк Андрей / Ostapyuk Andrej / 1990","М",328.3,1]
[295,"Коледа Константин / Koleda Konstantin / 1976","М",327.47000000000003,1]
[296,"Шабанов Олег / Shabanov Oleg / 1971","М",326.64,2]
[297,"Дуван Дмитрий / Duvan Dmitrij / 1985","М",323.32,1]
[298,"Мышковец Василий  / Myshkovets Vasilij  / 1980","М",318.45999999999998,2]
[299,"Левчук Александр / Levchuk Aleksandr / 1970","М",318.2,1]
[300,"Рачковский Николай / Rachkovskij Nikolaj / 1985","М",318.13,1]
[301,"Гончаров Игорь / Goncharov Igor / 1981","М",316.72000000000003,1]
[302,"Маханьков Александр / Mahankov Aleksandr / 1983","М",316.52,1]
[303,"Мертенс Андрей / Mertens Andrej / 1992","М",314.51,3]
[304,"Лапухин Андрей / Lapuhin Andrej / 1989","М",313.73,2]
[305,"Сикорский Сергей / Sikorskij Sergej / 1982","М",313.02999999999997,1]
[306,"Анацко Леонид / Anatsko Leonid / 1961","М",312.55,2]
[307,"Кимстач Валерий / Kimstach Valerij / 1984","М",310.48,1]
[308,"Ремизевич Роман / Remizevich Roman / 1982","М",310.12,1]
[309,"Бунос Анатолий / Bunos Anatolij / 1956","М",308.82,1]
[310,"Андуро Сергей / Anduro Sergej / 1986","М",307.23,1]
[311,"Львовский Андрей / Lvovskij Andrej / 1991","М",306.26,1]
[312,"Афанасьев Иван / Afanasev Ivan / 1979","М",305.94,1]
[313,"Иванюта Дмитрий / Ivanyuta Dmitrij / 1982","М",305.39,1]
[314,"Агеев Константин / Ageev Konstantin / 1995","М",303.52,1]
[315,"Иванчик Александр / Ivanchik Aleksandr / 1990","М",303.42,1]
[316,"Шипунов Олег / Shipunov Oleg / 1992","М",300.76,1]
[317,"Вадим Лукин / Vadim Lukin / 1993","М",300.47000000000003,1]
[318,"Федоров Федор / Fedorov Fedor / 1977","М",300.31,2]
[319,"Буховецкий Андрей / Buhovetskij Andrej / 1987","М",300.18,1]
[320,"Барановский Александр / Baranovskij Aleksandr / 1984","М",300,1]
[321,"Марчук Александр / Marchuk Aleksandr / 1986","М",299.88,1]
[322,"Сафонов Юрий / Safonov Yurij / 1983","М",298.42,1]
[323,"Шабалов Вячеслав / Shabalov Vyacheslav / 1982","М",297.76,1]
[324,"Пенько Фёдор / Penko Fjodor / 1987","М",296.92,1]
[325,"Николаевич Дмитрий / Nikolaevich Dmitrij / 1999","М",295.74,1]
[326,"Керножицкий Андрей / Kernozhitskij Andrej / 1981","М",295.20999999999998,1]
[327,"Стельмах Юрий / Stelmah Yurij / 1982","М",295.03999999999996,2]
[328,"Чернявский Евгений / Chernyavskij Evgenij / 1988","М",292.67,1]
[329,"Лопатик Юрий / Lopatik Yurij / 1984","М",291.84000000000003,2]
[330,"Дрофа Виталий / Drofa Vitalij / 1970","М",290.91000000000003,1]
[331,"Федоренко Александр / Fedorenko Aleksandr / 1990","М",290.32,1]
[332,"Ковеня Андрей / Kovenya Andrej / 1962","М",289.20999999999998,1]
[333,"Астапеня Андрей / Astapenya Andrej / 1985","М",287.58,1]
[334,"Саскевич Алексей / Saskevich Aleksej / 1992","М",287.41000000000003,1]
[335,"Жданович Андрей / Zhdanovich Andrej / 1973","М",287.12,1]
[336,"Кузьмич Дмитрий / Kuzmich Dmitrij / 1975","М",286.54000000000002,6]
[337,"Данченко Глеб / Danchenko Gleb / 1986","М",286.07,1]
[338,"Славинский Дмитрий / Slavinskij Dmitrij / 1986","М",283.54000000000002,2]
[339,"Галка Дмитрий / Galka Dmitrij / 1988","М",281.99,1]
[340,"Зиновенко Павел / Zinovenko Pavel / 1997","М",280.45,1]
[341,"Артихович Александр / Artihovich Aleksandr / 1972","М",277.36,3]
[342,"Сербаев Виталий / Serbaev Vitalij / 1979","М",275.71999999999997,2]
[343,"Набоков Дмитрий / Nabokov Dmitrij / 1998","М",275.35000000000002,1]
[344,"Скадорва Алексей / Skadorva Aleksej / 1994","М",274.33999999999997,1]
[345,"Забабуро Сергей / Zababuro Sergej / 1978","М",273.36,1]
[346,"Костян Денис / Kostyan Denis / 1977","М",272.89,1]
[347,"Челышев Сергей / Chelyshev Sergej / 1967","М",272.31,1]
[348,"Адасик Вячеслав / Adasik Vyacheslav / 1975","М",270.52999999999997,1]
[349,"Стародуб Евгений / Starodub Evgenij / 2000","М",270.25,1]
[350,"Мартынчук Ян / Martynchuk Yan / 1987","М",269.76,1]
[351,"Захарьев Алексей / Zaharev Aleksej / 1984","М",268.57,1]
[352,"Минков Сергей / Minkov Sergej / 1985","М",268.31,2]
[353,"Костев Евгений / Kostev Evgenij / 1990","М",266.11,1]
[354,"Игнатович Александр / Ignatovich Aleksandr / 1992","М",265.93,1]
[355,"Скуратович Герман / Skuratovich German / 1990","М",264.67,1]
[356,"Тумащик Александр / Tumaschik Aleksandr / 1972","М",264.67,1]
[357,"Гумбар Илья / Gumbar Ilya / 1989","М",263.77,1]
[358,"Веремич Юрий / Veremich Yurij / 1979","М",263.64,1]
[359,"Дадалев Алексей / Dadalev Aleksej / 1995","М",262.13,1]
[360,"Бобровский Максим / Bobrovskij Maksim / 1991","М",261.27999999999997,1]
[361,"Беляй Владимир / Belyaj Vladimir / 1989","М",260.38,1]
[362,"Трасковский Геннадий / Traskovskij Gennadij / 1961","М",260.29000000000002,1]
[363,"Симонов Александр / Simonov Aleksandr / 1999","М",260.05,1]
[364,"Пехтерев Сергей / Pehterev Sergej / 1979","М",260.02999999999997,3]
[365,"Мацко Сергей / Matsko Sergej / 1991","М",257.8,1]
[366,"Ролдугин Михаил / Roldugin Mihail / 1987","М",257.35000000000002,1]
[367,"Буто Дмитрий / Buto Dmitrij / 1988","М",257.04000000000002,1]
[368,"Бахтизин Павел / Bahtizin Pavel / 1980","М",255.54,1]
[369,"Герман Кирилл / German Kirill / 1999","М",254.49,1]
[370,"Пыжик Антон / Pyzhik Anton / 1991","М",251.95,1]
[371,"Капытов Александр / Kapytov Aleksandr / 1978","М",249.4,1]
[372,"Осипук Дмитрий / Osipuk Dmitrij / 1980","М",248.21,1]
[373,"Бушковский Максим / Bushkovskij Maksim / 1989","М",246.07,2]
[374,"Куцуха Александр / Kutsuha Aleksandr / 1992","М",245.76,1]
[375,"Князев Родион / Knyazev Rodion / 1995","М",245.6,1]
[376,"Мельников Павел / Melnikov Pavel / 1998","М",244.75,1]
[377,"Даник Даниил / Danik Daniil / 1982","М",244.48,2]
[378,"Алексейчик Павел / Aleksejchik Pavel / 1994","М",244.31,1]
[379,"Соц Василий / Sots Vasilij / 1966","М",244.14,1]
[380,"Храмов Иван / Hramov Ivan / 2001","М",242.81,1]
[381,"Шлеёв Денис / Shlejov Denis / 2001","М",242.21,1]
[382,"Кульбацкий Владислав / Kulbatskij Vladislav / 1989","М",241.77,1]
[383,"Рингевич Александр  / Ringevich Aleksandr  / 1983","М",241.68,1]
[384,"Соколов Артем / Sokolov Artem / 1986","М",241.57,4]
[385,"Потапов Сергей / Potapov Sergej / 1988","М",240.61,1]
[386,"Лукьянов Александр / Lukyanov Aleksandr / 1979","М",240.19,1]
[387,"Тылиндус Александр / Tylindus Aleksandr / 1984","М",239.22,1]
[388,"Бачища Николай / Bachischa Nikolaj / 1988","М",238.4,1]
[389,"Винтергрин Андрей / Vintergrin Andrej / 1981","М",236.51,1]
[390,"Карпович Алексей / Karpovich Aleksej / 1991","М",236.36,1]
[391,"Кожемякин Владимир / Kozhemyakin Vladimir / 1970","М",236.08,1]
[392,"Харитонов Илья / Haritonov Ilya / 1973","М",235.15,1]
[393,"Богдевич Анатолий / Bogdevich Anatolij / 1999","М",234.55,1]
[394,"Федькович Виталий / Fedkovich Vitalij / 1995","М",234.55,1]
[395,"Григорович Руслан / Grigorovich Ruslan / 1987","М",232.02,1]
[396,"Кудрявец Валерий / Kudryavets Valerij / 1975","М",231.85999999999999,2]
[397,"Калинка Руслан / Kalinka Ruslan / 1978","М",231.59,1]
[398,"Нестеров Андрей / Nesterov Andrej / 1981","М",230.98,1]
[399,"Подайко Владимир / Podajko Vladimir / 1994","М",230.94,1]
[400,"Желнов Анатолий / Zhelnov Anatolij / 1993","М",230.1,1]
[401,"Сверчков Сергей / Sverchkov Sergej / 1988","М",227.27,1]
[402,"Пигулевский Денис / Pigulevskij Denis / 1990","М",226.5,1]
[403,"Кулаев Алексей / Kulaev Aleksej / 1980","М",224.05,1]
[404,"user 4931 dan / user 4931 dan / 1989","М",223.95,1]
[405,"Селиванов Алексавндр / Selivanov Aleksavndr / 1970","М",223.32,1]
[406,"Декевич Сергей / Dekevich Sergej / 1989","М",221.41,1]
[407,"Беганский Иван  / Beganskij Ivan  / 1984","М",219.71,1]
[408,"Юкевич Андрей / Yukevich Andrej / 1990","М",219.45,1]
[409,"Савостеня Виктор / Savostenya Viktor / 1989","М",219.26,1]
[410,"Никоненко Сергей / Nikonenko Sergej / 1984","М",219.03,1]
[411,"Мельник Сергей / Melnik Sergej / 1975","М",218.18,1]
[412,"Врублевский Кирилл / Vrublevskij Kirill / 1995","М",217.99,1]
[413,"Писаренко Андрей / Pisarenko Andrej / 1957","М",216.94,1]
[414,"Хромов Вадим / Hromov Vadim / 1994","М",216.32,1]
[415,"Сухобаевский Николай / Suhobaevskij Nikolaj / 1986","М",214.83,1]
[416,"Скляр Антон / Sklyar Anton / 1983","М",214.46,1]
[417,"Герасевич Максим / Gerasevich Maksim / ","М",213.25000000000003,3]
[418,"Гайдукович Максим / Gajdukovich Maksim / 1988","М",211.94,1]
[419,"Михальков Ян / Mihalkov Yan / ","М",211.73,1]
[420,"Елесин Иван / Elesin Ivan / 1992","М",211.15,1]
[421,"Волостных Сергей / Volostnyh Sergej / 1989","М",210.65,1]
[422,"Глушаков Сергей / Glushakov Sergej / 1958","М",210.56,1]
[423,"Нехайчик Артур  / Nehajchik Artur  / 1995","М",209.91,1]
[424,"Васильченко Вадим / Vasilchenko Vadim / 1987","М",209.66000000000003,2]
[425,"Шестеров Андрей / Shesterov Andrej / 1986","М",209.22,1]
[426,"Фалинский Кирилл / Falinskij Kirill / 1983","М",209.02,1]
[427,"Млынарчик Николай / Mlynarchik Nikolaj / 1998","М",208.68,1]
[428,"Геранин Дмитрий / Geranin Dmitrij / ","М",207.24,1]
[429,"Бычинский Владислав / Bychinskij Vladislav / 1992","М",206.24,1]
[430,"Горнов Антон / Gornov Anton / 1992","М",205.88,1]
[431,"Пугач Вадим / Pugach Vadim / 1985","М",205.88,1]
[432,"Войтехович Максим / Vojtehovich Maksim / 1990","М",204.55,1]
[433,"Коваленко Леонид / Kovalenko Leonid / 1999","М",203.96,1]
[434,"Липский Андрей / Lipskij Andrej / 1985","М",203.59,1]
[435,"Гомон Сергей / Gomon Sergej / 1990","М",202.45,1]
[436,"Галец Константин / Galets Konstantin / 1988","М",201.17000000000002,2]
[437,"Нехайчик Артур / Nehajchik Artur / 1995","М",201.05,1]
[438,"Данілаў Віктар / Danіlau Vіktar / 1987","М",200.58999999999997,2]
[439,"Покульницкий Алексей / Pokulnitskij Aleksej / 1988","М",199.51999999999998,2]
[440,"Дедков Никита / Dedkov Nikita / 1998","М",198.86,1]
[441,"Дашкевич Павел / Dashkevich Pavel / 1999","М",198.67000000000002,2]
[442,"Илатовский Дмитрий / Ilatovskij Dmitrij / 1974","М",197.79,1]
[443,"Шевчук Максим  / Shevchuk Maksim  / 1994","М",197.74,1]
[444,"Зайчук Кирилл / Zajchuk Kirill / 1990","М",197.3,1]
[445,"Лакустов Алексей / Lakustov Aleksej / 1986","М",196.94,2]
[446,"Теребенин Владислав / Terebenin Vladislav / 2001","М",195.96,1]
[447,"Лупин Сергей / Lupin Sergej / 1985","М",195.09,2]
[448,"Лялеко Сергей / Lyaleko Sergej / 1986","М",195.06,1]
[449,"Туцкий Юрий / Tutskij Yurij / 1992","М",193.77,1]
[450,"Скребец Артур  / Skrebets Artur  / 1991","М",191.65,1]
[451,"Селиванов Максим / Selivanov Maksim / 1981","М",191.35,1]
[452,"Шуленков Роман / Shulenkov Roman / 1990","М",191.23,2]
[453,"Кулак Александр / Kulak Aleksandr / 1989","М",191.02,1]
[454,"Хмелевский Юрий / Hmelevskij Yurij / 1974","М",190.87,1]
[455,"Барсумян Артур / Barsumyan Artur / 1992","М",189.05,1]
[456,"Хацкевич Дмитрий / Hatskevich Dmitrij / 1985","М",188.72,1]
[457,"Мельников Роман / Melnikov Roman / 1983","М",188.56,1]
[458,"Рудницкий Сергей / Rudnitskij Sergej / 1979","М",188.32,1]
[459,"Глатанков Пётр / Glatankov Pjotr / 1978","М",187.71,1]
[460,"Флерчук Евгений / Flerchuk Evgenij / 1992","М",186.64999999999998,2]
[461,"Володько Владимир / Volodko Vladimir / 2001","М",186.52,1]
[462,"Зуевский Роман / Zuevskij Roman / 1986","М",186.28,1]
[463,"Коляев Антон / Kolyaev Anton / 1980","М",185.78,1]
[464,"Капустин Егор / Kapustin Egor / 2004","М",185.72000000000003,2]
[465,"Зуй Александр / Zuj Aleksandr / 1980","М",184.07999999999998,2]
[466,"Легчеков Дмитрий / Legchekov Dmitrij / 1984","М",183.56,1]
[467,"Татарицкий Виталий / Tataritskij Vitalij / 1971","М",182.9,1]
[468,"Ковалюк Вадим / Kovalyuk Vadim / 1987","М",182.53,1]
[469,"Бажанский Виталий / Bazhanskij Vitalij / 1982","М",182.24,1]
[470,"Чернявский Артем / Chernyavskij Artem / 1987","М",181.93,1]
[471,"Орлов Алексей / Orlov Aleksej / 1981","М",181.82,1]
[472,"Переходько Виктор / Perehodko Viktor / 1969","М",181.66,1]
[473,"Мигас Александр / Migas Aleksandr / 1984","М",180.69,1]
[474,"Нежаветс Сергей / Nezhavets Sergej / 1989","М",180.46,1]
[475,"Гамидов Нариман / Gamidov Nariman / 1972","М",179.63,1]
[476,"Гончаров Николай / Goncharov Nikolaj / 1984","М",179.13,1]
[477,"Нещик Алексей / Neschik Aleksej / 1983","М",178.47,1]
[478,"Каволюнас Андрюс / Kavolyunas Andryus / 1984","М",178.15,1]
[479,"Белов Александр / Belov Aleksandr / 1991","М",178.14,1]
[480,"Похолкин Александр / Poholkin Aleksandr / 1988","М",175.6,1]
[481,"Шиман Руслан / Shiman Ruslan / 1993","М",175.6,1]
[482,"Лучкин Олег / Luchkin Oleg / 1983","М",173.38,1]
[483,"Шупленков Клим  / Shuplenkov Klim  / 1996","М",173.23,1]
[484,"Новик Олег / Novik Oleg / 1987","М",173.05,1]
[485,"Хомич Юрий / Homich Yurij / 1970","М",172.97,1]
[486,"Будник Владимир / Budnik Vladimir / 1987","М",172.83,1]
[487,"Варава Андрей / Varava Andrej / 1994","М",172.73,1]
[488,"Утлик Максим / Utlik Maksim / 1985","М",172.65,1]
[489,"Зенченко Александр / Zenchenko Aleksandr / 1992","М",171.56,1]
[490,"Свиридов Максим / Sviridov Maksim / 1989","М",170.51,1]
[491,"Мананков Дмитрий / Manankov Dmitrij / 1988","М",169.71,1]
[492,"Новиков Максим / Novikov Maksim / 1988","М",169.55,1]
[493,"Рускевич Максим / Ruskevich Maksim / 1990","М",168.63,2]
[494,"Зеленский Александр / Zelenskij Aleksandr / 1978","М",167.85,1]
[495,"Ермак Алексей / Ermak Aleksej / 1984","М",165.89,1]
[496,"Бойко Евгений / Bojko Evgenij / 1985","М",165.79,1]
[497,"Бурый Евгений / Buryj Evgenij / 1984","М",164.96,1]
[498,"Леончик Владимир  / Leonchik Vladimir  / 1985","М",163.61000000000001,1]
[499,"Варивода Сергей / Varivoda Sergej / 1964","М",163.49,1]
[500,"Фигурин Дмитрий / Figurin Dmitrij / 1982","М",163.27000000000001,1]
[501,"Малявко Сергей / Malyavko Sergej / 1990","М",163.16999999999999,1]
[502,"Леонов Алексей / Leonov Aleksej / 1986","М",163.06,1]
[503,"Панковец Николай / Pankovets Nikolaj / 1979","М",162.99,1]
[504,"Тимофеев Алексей / Timofeev Aleksej / 1990","М",160.28,1]
[505,"Клюшин Олег / Klyushin Oleg / 1972","М",160.19,2]
[506,"Суматохин Виталий / Sumatohin Vitalij / 1989","М",158.07,1]
[507,"Бизюк Игорь / Bizyuk Igor / 1956","М",157.99,1]
[508,"Ждамиров Эдуард / Zhdamirov Eduard / 1987","М",157.44,1]
[509,"Круглик Алексей / Kruglik Aleksej / 1987","М",156.77000000000001,1]
[510,"Круглик Игорь / Kruglik Igor / 1985","М",155.43,1]
[511,"Миранович Павел / Miranovich Pavel / 1986","М",155.24,1]
[512,"Делендик Максим / Delendik Maksim / 1992","М",152.97,1]
[513,"Щур Илья / Schur Ilya / 1991","М",151.76,1]
[514,"Занько Юрий / Zanko Yurij / 1982","М",151.71,1]
[515,"Миронов Юрий / Mironov Yurij / 1982","М",151.38,1]
[516,"Зайцев Александр / Zajtsev Aleksandr / 1986","М",147.61000000000001,1]
[517,"Грицевич Виталий / Gritsevich Vitalij / 1987","М",146.36000000000001,1]
[518,"Рак Дмитрий / Rak Dmitrij / 1992","М",145.44999999999999,1]
[519,"Чирская Юлия / Chirskaya Yuliya / 1992","М",145.07,1]
[520,"Шевченко Анатолий / Shevchenko Anatolij / 1981","М",143.69999999999999,1]
[521,"Станкевич Владимир / Stankevich Vladimir / 1982","М",142.77000000000001,1]
[522,"Лобач Павел / Lobach Pavel / 1989","М",142.52000000000001,1]
[523,"Новиков Евгений / Novikov Evgenij / 1988","М",141.41999999999999,1]
[524,"Пилецкий Максим / Piletskij Maksim / 1991","М",140.76999999999998,3]
[525,"Загорнов Александр / Zagornov Aleksandr / 1966","М",140.43,1]
[526,"Бортник Александр / Bortnik Aleksandr / 1994","М",139.71,1]
[527,"Агаев Руслан / Agaev Ruslan / 1995","М",137.66999999999999,1]
[528,"Кравчук Александр / Kravchuk Aleksandr / 1983","М",137.49,1]
[529,"Филипович Никита / Filipovich Nikita / 1993","М",136.44999999999999,1]
[530,"Сопот Александр / Sopot Aleksandr / ","М",134.74,1]
[531,"Казак Константин / Kazak Konstantin / 2004","М",134.71,1]
[532,"Белицкий Денис / Belitskij Denis / 1990","М",134.12,2]
[533,"Белоусов Александр / Belousov Aleksandr / 1981","М",132.57,1]
[534,"Мельник Станислав / Melnik Stanislav / 1991","М",132.34,1]
[535,"Бубликов Александр / Bublikov Aleksandr / 1986","М",132.10999999999999,3]
[536,"Сичкарь Игорь / Sichkar Igor / 1975","М",131.83000000000001,1]
[537,"Зеленко Алексей / Zelenko Aleksej / 1980","М",131.66999999999999,1]
[538,"Колабышев Антон / Kolabyshev Anton / 1986","М",130.63999999999999,1]
[539,"Шатерник Евгений / Shaternik Evgenij / 1980","М",129.79,1]
[540,"Никрашевич Сергей / Nikrashevich Sergej / 1985","М",128.66999999999999,1]
[541,"Леонович Виталий / Leonovich Vitalij / 1984","М",127.48,1]
[542,"Болотов Илья / Bolotov Ilya / 1988","М",127.25,1]
[543,"Крыворот Руслан / Kryvorot Ruslan / 1991","М",127.16,1]
[544,"Рудович Александр / Rudovich Aleksandr / 1990","М",126.4,1]
[545,"Рыжков Алексей / Ryzhkov Aleksej / 1992","М",125.11,1]
[546,"Маклаков Максим / Maklakov Maksim / 1987","М",124.7,1]
[547,"Фидек Виталий / Fidek Vitalij / 1966","М",122.88,1]
[548,"Шульпенков Александр / Shulpenkov Aleksandr / 1986","М",122.32,2]
[549,"Шашков Егор / Shashkov Egor / 1983","М",122.16,1]
[550,"Малофей Глеб / Malofej Gleb / 1995","М",121.11,1]
[551,"Логиновский Михаил / Loginovskij Mihail / 1976","М",119.75,1]
[552,"Суровцев Максим / Surovtsev Maksim / 1993","М",119.61,1]
[553,"Нечай Алексей / Nechaj Aleksej / 1980","М",118.77,1]
[554,"Кравчук Артём / Kravchuk Artjom / 1992","М",118.18,1]
[555,"Хорольский Александр / Horolskij Aleksandr / 1985","М",116.27000000000001,2]
[556,"Каханович Илья / Kahanovich Ilya / 1982","М",115.05,1]
[557,"Херзен Андрей / Herzen Andrej / 1984","М",114.85,1]
[558,"Бутурля Александр / Buturlya Aleksandr / 1981","М",113.98,1]
[559,"Яковлев Евгений / Yakovlev Evgenij / 1988","М",113.14,1]
[560,"Ремизевич Вадим / Remizevich Vadim / 1980","М",113.1,1]
[561,"Сливинский Вадим / Slivinskij Vadim / 1984","М",112.17,1]
[562,"Шуминский Александр / Shuminskij Aleksandr / 1984","М",111.98,1]
[563,"Метелица Антон / Metelitsa Anton / 1989","М",111.71,1]
[564,"Ступяк Андрей / Stupyak Andrej / 1979","М",109.72,1]
[565,"Панфилов Сергей  / Panfilov Sergej  / 1975","М",109.52,1]
[566,"Радиончик Александр / Radionchik Aleksandr / 1971","М",109.43,1]
[567,"Табала Андрей / Tabala Andrej / 1992","М",109,1]
[568,"Ананич Александр / Ananich Aleksandr / 1979","М",108.37,1]
[569,"Якимченко Анатолий / Yakimchenko Anatolij / 1967","М",107.28999999999999,3]
[570,"Шир Джордан / Shir Dzhordan / 1980","М",105.86,1]
[571,"Дубровский Виктор / Dubrovskij Viktor / 1961","М",105.33,1]
[572,"Кузьменко Иван / Kuzmenko Ivan / 1981","М",103.12,1]
[573,"Глебко Сергей / Glebko Sergej / 1985","М",102.94,1]
[574,"Ращинский Александр / Raschinskij Aleksandr / 1990","М",101.98,1]
[575,"Волков Алексей  / Volkov Aleksej  / 1990","М",100.39,1]
[576,"Лунский Сергей / Lunskij Sergej / 1995","М",100.06,1]
[577,"Адамович Денис / Adamovich Denis / 1986","М",99.25,1]
[578,"Волков Алексей / Volkov Aleksej / 1990","М",98.97,1]
[579,"Майхерский Андрей / Majherskij Andrej / 1995","М",96.71,1]
[580,"Ольгин Василий / Olgin Vasilij / ","М",96.24,1]
[581,"Андрюшенко Андрей / Andryushenko Andrej / 1980","М",94.16,1]
[582,"Адаменко Виталий / Adamenko Vitalij / 1985","М",93.91,3]
[583,"Марчук Михаил / Marchuk Mihail / 1996","М",92.38,1]
[584,"Троцкий Игнат / Trotskij Ignat / 2002","М",91.67,2]
[585,"Прищепа Сергей / Prischepa Sergej / 1985","М",91.26,1]
[586,"Орлов Максим / Orlov Maksim / 1990","М",91.12,1]
[587,"Стоненис Игорь / Stonenis Igor / 1996","М",90.83,1]
[588,"Журавлёв Илья / Zhuravljov Ilya / 1987","М",89.07,1]
[589,"Самсонов Никита / Samsonov Nikita / 1989","М",89.01,2]
[590,"Шукайлов Максим / Shukajlov Maksim / 1988","М",87.88,1]
[591,"Дубровский Евгений / Dubrovskij Evgenij / 1984","М",87.77,1]
[592,"Курата Кеннет / Kurata Kennet / 1978","М",87.330000000000013,2]
[593,"Катонов Василий / Katonov Vasilij / 1985","М",86.69,1]
[594,"Щукин Макс / Schukin Maks / 1992","М",86.68,1]
[595,"Жамойдзін Яўген / Zhamojdzіn Yaugen / 1985","М",86.53,1]
[596,"Авсянский Федор / Avsyanskij Fedor / 1988","М",83.98,1]
[597,"Бритов Максим / Britov Maksim / 1974","М",82.14,1]
[598,"Бычков Александр / Bychkov Aleksandr / 1990","М",81.87,1]
[599,"Кислов Михаил / Kislov Mihail / 1992","М",81.58,1]
[600,"Тарлецкий Валерий / Tarletskij Valerij / 1982","М",81.44,1]
[601,"Мороз Евгений / Moroz Evgenij / 1985","М",79.83,1]
[602,"Ковалюк Вадим / Kovalyuk Vadim / 1978","М",79.180000000000007,1]
[603,"Стош Роман / Stosh Roman / 2000","М",78.72,1]
[604,"Захаров Иван / Zaharov Ivan / 1979","М",77.34,1]
[605,"Косяков Максим / Kosyakov Maksim / ","М",76.989999999999995,1]
[606,"Щербина Максим / Scherbina Maksim / 1976","М",76.83,2]
[607,"Липский Александр / Lipskij Aleksandr / 1977","М",76.489999999999995,1]
[608,"Дедуль Дмитрий / Dedul Dmitrij / 1994","М",76.349999999999994,1]
[609,"Обухов Артём / Obuhov Artjom / 1985","М",72.900000000000006,2]
[610,"Городко Игорь / Gorodko Igor / 1970","М",72.77,1]
[611,"Гандзюк Всеволод / Gandzyuk Vsevolod / ","М",72.73,1]
[612,"Кривошей Леонид / Krivoshej Leonid / 1980","М",72.66,1]
[613,"Зуй Алексей / Zuj Aleksej / 1980","М",72.58,1]
[614,"Стешко Фёдор / Steshko Fjodor / 1990","М",72.53,1]
[615,"Ben Bilel / Ben Bilel / 1981","М",71.430000000000007,1]
[616,"Кудрейко Михаил / Kudrejko Mihail / 1981","М",70.22,1]
[617,"Шаров Александр / Sharov Aleksandr / 1983","М",68.709999999999994,1]
[618,"Тебинский Александр / Tebinskij Aleksandr / 1987","М",66.61,1]
[619,"Сим Игорь / Sim Igor / 1989","М",66.53,1]
[620,"Бердников Дмитрий / Berdnikov Dmitrij / ","М",66.290000000000006,1]
[621,"Хандогин Николай / Handogin Nikolaj / 1955","М",66.17,1]
[622,"Коньшин Андрей / Konshin Andrej / 1988","М",65.73,2]
[623,"Вирт Олег / Virt Oleg / 1980","М",63.67,1]
[624,"Ждамиров Виталий / Zhdamirov Vitalij / 1983","М",60.55,1]
[625,"Ковалев Никита / Kovalev Nikita / 2001","М",59.88,1]
[626,"Михнович Владимир / Mihnovich Vladimir / 1969","М",59.38,1]
[627,"Сысков Никита / Syskov Nikita / 1985","М",59.02,3]
[628,"Лучинович Сергей / Luchinovich Sergej / 1979","М",57.55,1]
[629,"Косач Антон / Kosach Anton / 1983","М",56.57,1]
[630,"Корень Дмитрий / Koren Dmitrij / 1975","М",55.99,1]
[631,"Новосяд Владимир / Novosyad Vladimir / 1968","М",54.58,1]
[632,"Ракомсин Юрий / Rakomsin Yurij / 1983","М",54.55,1]
[633,"Матейчик Юрий / Matejchik Yurij / 1983","М",54.5,1]
[634,"Ковалев Михаил / Kovalev Mihail / 1970","М",53.22,1]
[635,"Зеньков Александр / Zenkov Aleksandr / 1993","М",52.79,1]
[636,"Луцевич Eвгений / Lutsevich Evgenij / 1964","М",52.66,1]
[637,"Голомзик Дмитрий / Golomzik Dmitrij / 1972","М",52.26,1]
[638,"Федоринчик Дмитрий / Fedorinchik Dmitrij / 1988","М",51.81,1]
[639,"Йоцюс Виталий / Jotsyus Vitalij / ","М",50.99,1]
[640,"Коляда Максим / Kolyada Maksim / 1978","М",50.9,1]
[641,"Шапотковский Алексей / Shapotkovskij Aleksej / 1982","М",48.35,1]
[642,"Ковриго Сергей / Kovrigo Sergej / 1981","М",46.57,1]
[643,"Гурский Олег / Gurskij Oleg / 1988","М",46.19,1]
[644,"Халомзик Дмитрий / Halomzik Dmitrij / 1972","М",45.89,1]
[645,"Воробьев Дмитрий / Vorobev Dmitrij / 1988","М",45.81,1]
[646,"Скребец Сергей / Skrebets Sergej / 1963","М",45.48,1]
[647,"Мейсак Александр / Mejsak Aleksandr / 1989","М",43.89,1]
[648,"Малаховский Александр / Malahovskij Aleksandr / 1985","М",43.35,1]
[649,"Попков Виталий / Popkov Vitalij / 1981","М",43.26,1]
[650,"Моргачев Андрей / Morgachev Andrej / 1981","М",42.97,1]
[651,"Адамов Юрий / Adamov Yurij / 1976","М",42.39,1]
[652,"Ветохин Иван / Vetohin Ivan / 1987","М",41.45,1]
[653,"Старикевич Максим / Starikevich Maksim / 1995","М",40.72,1]
[654,"Дашкевич Сергей / Dashkevich Sergej / 1996","М",39.92,1]
[655,"Мороз Чеслав / Moroz Cheslav / 1959","М",39.590000000000003,1]
[656,"Черкас Сергей / Cherkas Sergej / 1985","М",39.19,1]
[657,"Скуратович Андрей  / Skuratovich Andrej  / 1963","М",38.5,1]
[658,"Шахненко Павел / Shahnenko Pavel / 1976","М",38.17,1]
[659,"Островцов Александр / Ostrovtsov Aleksandr / 1988","М",36.39,1]
[660,"Фурсевич Павел / Fursevich Pavel / 1983","М",36.33,1]
[661,"Калюжный Дмитрий / Kalyuzhnyj Dmitrij / 1986","М",35.69,1]
[662,"Млынарчик Сергей / Mlynarchik Sergej / 1990","М",35.630000000000003,1]
[663,"Манкевич Алексей / Mankevich Aleksej / 1972","М",35.36,2]
[664,"Зументс Роберт / Zuments Robert / 1979","М",35.11,1]
[665,"Выробов Дмитрий / Vyrobov Dmitrij / 1988","М",34.369999999999997,1]
[666,"Старастенко Виктор / Starastenko Viktor / 1994","М",33.08,1]
[667,"Молочко Николай / Molochko Nikolaj / 2004","М",31.09,1]
[668,"Пашкевич Павел / Pashkevich Pavel / 1984","М",30.54,1]
[669,"Постников Михаил / Postnikov Mihail / 1984","М",28.28,1]
[670,"Ворончук Алексей / Voronchuk Aleksej / 1987","М",27.99,1]
[671,"Сяба Александр / Syaba Aleksandr / 1982","М",27.38,1]
[672,"Минчук Александр / Minchuk Aleksandr / 1974","М",27.29,1]
[673,"Фастовец Евгений / Fastovets Evgenij / 1979","М",26.39,1]
[674,"Чалый Николай / Chalyj Nikolaj / 1980","М",25.78,1]
[675,"Фузейников Алексей / Fuzejnikov Aleksej / 1984","М",25.45,1]
[676,"Шаметько Роман / Shametko Roman / 1991","М",24.22,1]
[677,"Макась Алексей / Makas Aleksej / 1986","М",22.9,1]
[678,"Гречишкин Алексей / Grechishkin Aleksej / 1983","М",20.399999999999999,1]
[679,"Лукин Василий / Lukin Vasilij / 1951","М",20.36,1]
[680,"Горбиков Кирилл  / Gorbikov Kirill  / 1982","М",18.25,1]
[681,"Томашев Игорь / Tomashev Igor / 1965","М",18.190000000000001,1]
[682,"Петров Андрей / Petrov Andrej / 1970","М",17.809999999999999,1]
[683,"Устинович Игорь / Ustinovich Igor / 1970","М",12.72,1]
[684,"Свирков Сергей / Svirkov Sergej / 1987","М",12.11,1]
[685,"Кожемякин Алексей / Kozhemyakin Aleksej / 1986","М",10.36,1]
[686,"Летунович Егор / Letunovich Egor / 1984","М",10.18,1]
[687,"Стасилович Виктор  / Stasilovich Viktor  / 1993","М",9.1300000000000008,1]
[688,"Поволоцкий Даниил / Povolotskij Daniil / 1990","М",9.1,1]
[689,"Клауч Виктор / Klauch Viktor / 1988","М",8.59,1]
[690,"Павлов Александр / Pavlov Aleksandr / 1992","М",6.65,1]
[691,"Лукин Павел / Lukin Pavel / 1978","М",6.06,1]
[692,"Гришко Руслан / Grishko Ruslan / 1974","М",2.54,1]

{"sheet":"Рейтинг 2018_Ж","index":7,"n_rows":321,"n_cols":5,"rows_kept":321,"cut":false,"hidden":false,"merged":[]}
[]
["№ п/п","Фамилия, Имя, Год рождения","Пол","Сумма баллов","Кол-во гонок в 2018 году"]
[1,"Скирук Юлия / Skiruk Yuliya / 1988","Ж",2591.4,6]
[2,"Торубарова Татьяна / Torubarova Tatyana / 1983","Ж",2445,4]
[3,"Сулимчик Оксана / Sulimchik Oksana / 1986","Ж",2248.83,3]
[4,"Черкас Александра / Cherkas Aleksandra / 1992","Ж",2151.3900000000003,7]
[5,"Трубкина Анастасия / Trubkina Anastasiya / 1989","Ж",1833.2699999999998,4]
[6,"Белая Юлия / Belaya Yuliya / 1988","Ж",1450.57,4]
[7,"Суховерхая Татьяна / Suhoverhaya Tatyana / 1986","Ж",1356.5,3]
[8,"Цвирбут Юлия / Tsvirbut Yuliya / 1992","Ж",1352.71,3]
[9,"Едомская Вольга / Edomskaya Volga / 1987","Ж",1322.29,6]
[10,"Кликун Татьяна / Klikun Tatyana / 1989","Ж",1295.3499999999999,5]
[11,"Пехтерева Татьяна / Pehtereva Tatyana / 1987","Ж",1279.31,4]
[12,"Гилевич Кристина / Gilevich Kristina / 1994","Ж",1198.06,3]
[13,"Гилевич Диана / Gilevich Diana / 1993","Ж",1178.8500000000001,3]
[14,"Михно Алла / Mihno Alla / 1979","Ж",1143.49,3]
[15,"Невмержицкая Анна / Nevmerzhitskaya Anna / 1997","Ж",1139.3,4]
[16,"Новик Анастасия / Novik Anastasiya / 1985","Ж",1116.19,3]
[17,"Милинкевич Елена / Milinkevich Elena / 1977","Ж",1107.72,3]
[18,"Стойчикова Ксения / Stojchikova Kseniya / 1997","Ж",1086.31,3]
[19,"Гурская Татьяна / Gurskaya Tatyana / 1980","Ж",1041.1500000000001,1]
[20,"Суханова Надежда / Suhanova Nadezhda / 1994","Ж",1037.6199999999999,2]
[21,"Полякова Анна / Polyakova Anna / 1987","Ж",977.05,5]
[22,"Куцун Надежда / Kutsun Nadezhda / 1982","Ж",952.24,2]
[23,"Жданович Александра / Zhdanovich Aleksandra / 1985","Ж",951.89,4]
[24,"Пухаева Светлана / Puhaeva Svetlana / 1980","Ж",947.29,3]
[25,"Журавлёва Оксана / Zhuravljova Oksana / 1980","Ж",945.63,3]
[26,"Веремейчик Елена / Veremejchik Elena / 1986","Ж",917.61,3]
[27,"Борисевич Анастасия / Borisevich Anastasiya / 1985","Ж",915.02,3]
[28,"Казакевич Ирина / Kazakevich Irina / 1969","Ж",892.41000000000008,2]
[29,"Шахметова Наталья / Shahmetova Natalya / 1992","Ж",886.22,3]
[30,"Жила Анастасия / Zhila Anastasiya / 1994","Ж",813.31,3]
[31,"Фомина Ирина / Fomina Irina / 1986","Ж",806.82999999999993,3]
[32,"Делендик Надежда / Delendik Nadezhda / 1987","Ж",766.62,2]
[33,"Кордунская Екатерина / Kordunskaya Ekaterina / 1983","Ж",730.53,2]
[34,"Чернель Татьяна / Chernel Tatyana / 1982","Ж",710.81999999999994,2]
[35,"Адамович Ирина / Adamovich Irina / 1973","Ж",708.53,2]
[36,"Кшановская Ирина / Kshanovskaya Irina / 1977","Ж",698.53,3]
[37,"Полещук Татьяна / Poleschuk Tatyana / 1988","Ж",694.1,1]
[38,"Белинская Галина / Belinskaya Galina / 1980","Ж",684.25,1]
[39,"Тимошенко Алёна / Timoshenko Aljona / 1982","Ж",683.82999999999993,2]
[40,"Павловская Светлана / Pavlovskaya Svetlana / 1984","Ж",661.18000000000006,3]
[41,"Таранко Марта / Taranko Marta / 1990","Ж",652.62000000000012,3]
[42,"Обухова Екатерина / Obuhova Ekaterina / 1978","Ж",631.62,1]
[43,"Сикорская Настя / Sikorskaya Nastya / 1983","Ж",630.72,2]
[44,"Липницкая Виктория / Lipnitskaya Viktoriya / 1987","Ж",629.83999999999992,3]
[45,"Арабиенко Татьяна / Arabienko Tatyana / 1986","Ж",609,1]
[46,"Коротких Елена / Korotkih Elena / 1984","Ж",604.20000000000005,2]
[47,"Григорьева Светлана / Grigoreva Svetlana / 1984","Ж",591.18999999999994,3]
[48,"Третьяк Екатерина / Tretyak Ekaterina / 1985","Ж",587.70000000000005,2]
[49,"Кукобникова Вита / Kukobnikova Vita / 1993","Ж",579,4]
[50,"Хлопцева Инга / Hloptseva Inga / 1982","Ж",554.18000000000006,2]
[51,"Колташова Елена / Koltashova Elena / 1984","Ж",553.63,1]
[52,"Малькевич Елена / Malkevich Elena / 1984","Ж",545.59999999999991,2]
[53,"Туровец Ольга / Turovets Olga / 1979","Ж",531.29,4]
[54,"Струщенко Светлана / Struschenko Svetlana / 1986","Ж",529.1,3]
[55,"Гриб Екатерина / Grib Ekaterina / 1981","Ж",518.72,3]
[56,"Михалкин Сергей / Mihalkin Sergej / 1989","Ж",516.82000000000005,1]
[57,"Шкурко Людмила / Shkurko Lyudmila / 1988","Ж",505.26,1]
[58,"Арловская Кристина / Arlovskaya Kristina / 1989","Ж",493.59000000000003,2]
[59,"Голубева Елена / Golubeva Elena / 1987","Ж",493.31,2]
[60,"Зеленкевич Валентина / Zelenkevich Valentina / 1999","Ж",487.79,1]
[61,"Диксон Катерина  / Dikson Katerina  / 1993","Ж",486.5,1]
[62,"Шаповалова Ирина / Shapovalova Irina / 1993","Ж",481.75,2]
[63,"Радчук Алеся / Radchuk Alesya / 1996","Ж",473.71,1]
[64,"Широкова Анастасия / Shirokova Anastasiya / 1988","Ж",468.13,2]
[65,"Недведская Елена / Nedvedskaya Elena / 1986","Ж",468.02,2]
[66,"Конопацкая Юлия / Konopatskaya Yuliya / 1998","Ж",454.57,2]
[67,"Литвинская Людмила / Litvinskaya Lyudmila / 1977","Ж",452.26,2]
[68,"Калвинковская Ольга / Kalvinkovskaya Olga / 1994","Ж",450.27,1]
[69,"Зюзина Алёна / Zyuzina Aljona / 1978","Ж",443.41,1]
[70,"Трухтанова Елена / Truhtanova Elena / 1985","Ж",442.91,1]
[71,"Гринько Анастасия / Grinko Anastasiya / 1993","Ж",436.17,2]
[72,"Войтович Татьяна / Vojtovich Tatyana / 1986","Ж",432.72,4]
[73,"Мурашкина Галина / Murashkina Galina / 1988","Ж",429.81,2]
[74,"Янович Лена / Yanovich Lena / 1996","Ж",421.08,1]
[75,"Драгун Алина / Dragun Alina / 1993","Ж",412.75,1]
[76,"Сенникова Светлана / Sennikova Svetlana / 1980","Ж",412.09000000000003,2]
[77,"Сильванович Валерия / Silvanovich Valeriya / 1998","Ж",411.38,2]
[78,"Коледа Татьяна / Koleda Tatyana / 1990","Ж",400.24,1]
[79,"Танасейчук Анна / Tanasejchuk Anna / 1983","Ж",388.88,1]
[80,"Шибаева Светлана / Shibaeva Svetlana / 1995","Ж",387.98,1]
[81,"Медведева Ольга / Medvedeva Olga / 1991","Ж",387.73,1]
[82,"Ткачук Дарья / Tkachuk Darya / 1981","Ж",387.54,1]
[83,"Тиханович Елена / Tihanovich Elena / 1989","Ж",382.59,1]
[84,"Василевич Валентина / Vasilevich Valentina / 1998","Ж",381.61,3]
[85,"Необердина Мария / Neoberdina Mariya / 1987","Ж",379.23,2]
[86,"Крюкова Наталья / Kryukova Natalya / 1987","Ж",378.95,1]
[87,"Моисеева Вероника / Moiseeva Veronika / 1983","Ж",378.36,3]
[88,"Янченко Ксения / Yanchenko Kseniya / 1997","Ж",375.22,1]
[89,"Новикова Галина  / Novikova Galina  / 1975","Ж",374.79,1]
[90,"Федченко Ярослава / Fedchenko Yaroslava / 2002","Ж",370.40000000000003,3]
[91,"Моисеева Елена / Moiseeva Elena / 1990","Ж",363.92,1]
[92,"Грейд Юлия / Grejd Yuliya / 1986","Ж",359.03,2]
[93,"Куцакова Татьяна / Kutsakova Tatyana / 1987","Ж",358.23,1]
[94,"Зятикова Наталья / Zyatikova Natalya / 1983","Ж",356.69,3]
[95,"Ямбушева Катерина / Yambusheva Katerina / 1987","Ж",356.48,1]
[96,"Емельянова Анна / Emelyanova Anna / 1995","Ж",354.59,1]
[97,"Варданян Кристина / Vardanyan Kristina / 1981","Ж",350.21,1]
[98,"Замахаева Мария  / Zamahaeva Mariya  / 1985","Ж",346.2,1]
[99,"Левонюк Анна / Levonyuk Anna / 1986","Ж",345.26,1]
[100,"Позднева Мария / Pozdneva Mariya / 2001","Ж",343.56,2]
[101,"Сорокина Марина  / Sorokina Marina  / 1981","Ж",340.72,1]
[102,"Кальвинковская Екатерина / Kalvinkovskaya Ekaterina / 1993","Ж",337.7,1]
[103,"Завалова Анастасия / Zavalova Anastasiya / 1994","Ж",335.32,2]
[104,"Шнитко Светлана / Shnitko Svetlana / 1981","Ж",332.55,1]
[105,"Лавриченок Светлана / Lavrichenok Svetlana / 1971","Ж",332.18,1]
[106,"Кизик Валерия / Kizik Valeriya / 1990","Ж",326.60000000000002,1]
[107,"Стракович Екатерина / Strakovich Ekaterina / 1991","Ж",322.42,3]
[108,"Лаврецкая Елена / Lavretskaya Elena / 1986","Ж",317.27,1]
[109,"Русакова Татьяна / Rusakova Tatyana / 1979","Ж",316.81,2]
[110,"Яцкевич Ольга / Yatskevich Olga / 1988","Ж",315.79000000000002,1]
[111,"Марозик Юлия / Marozik Yuliya / 1993","Ж",313.52999999999997,1]
[112,"Шир Алисия / Shir Alisiya / 1982","Ж",306.63,1]
[113,"Никеенко Вита / Nikeenko Vita / 1984","Ж",304.83999999999997,1]
[114,"Денисик Светлана / Denisik Svetlana / 1998","Ж",298.60000000000002,1]
[115,"Александрова Дарья / Aleksandrova Darya / 1995","Ж",296.74,1]
[116,"Хмелевская Ольга / Hmelevskaya Olga / 1988","Ж",292.60000000000002,2]
[117,"Козич Галина / Kozich Galina / 1990","Ж",289.39999999999998,1]
[118,"Зарубина Наталья / Zarubina Natalya / 1989","Ж",286.85000000000002,1]
[119,"Телегина София / Telegina Sofiya / 1991","Ж",286.58,1]
[120,"Марченко Людмила / Marchenko Lyudmila / 1972","Ж",284.22000000000003,2]
[121,"Жучина Катерина / Zhuchina Katerina / 1986","Ж",283.64,2]
[122,"Титова Инна / Titova Inna / 1986","Ж",281.14,1]
[123,"Горевцова Евгения / Gorevtsova Evgeniya / 1989","Ж",280.39999999999998,2]
[124,"Михальчук Евгения / Mihalchuk Evgeniya / ","Ж",276.95999999999998,1]
[125,"Грицук Татьяна / Gritsuk Tatyana / 1973","Ж",276.82,1]
[126,"Кожемякина Анна / Kozhemyakina Anna / 1991","Ж",276.77999999999997,2]
[127,"Бондарь Юлия / Bondar Yuliya / 1993","Ж",275.16000000000003,1]
[128,"Морозик Юлия / Morozik Yuliya / 1993","Ж",273.68,1]
[129,"Бурак Анжелика / Burak Anzhelika / 1994","Ж",273.28999999999996,2]
[130,"Балицкая Ольга / Balitskaya Olga / 1981","Ж",272.49,1]
[131,"Чеснокова Надежда / Chesnokova Nadezhda / 1988","Ж",270.68,1]
[132,"Казимирская Надежда  / Kazimirskaya Nadezhda  / 1983","Ж",267.07,1]
[133,"Швайковская Ольга / Shvajkovskaya Olga / 1979","Ж",263.33999999999997,1]
[134,"Кузеева Марина / Kuzeeva Marina / 1986","Ж",262.66000000000003,1]
[135,"Питкевич Екатерина / Pitkevich Ekaterina / 1984","Ж",262.14999999999998,1]
[136,"Сковорода Инна / Skovoroda Inna / 1995","Ж",261.13,1]
[137,"Чеботаева Валерия / Chebotaeva Valeriya / 1993","Ж",259.26,1]
[138,"Силивонова Виктория / Silivonova Viktoriya / 1994","Ж",256.5,2]
[139,"Костеневич Ольга / Kostenevich Olga / 1990","Ж",255.25,1]
[140,"Дедкова Ирина / Dedkova Irina / 1981","Ж",251.95,1]
[141,"Пилипейко Дарья / Pilipejko Darya / 1999","Ж",249.78,1]
[142,"Жукова Елизавета / Zhukova Elizaveta / 1989","Ж",248.35,1]
[143,"Зарубина Ульяна / Zarubina Ulyana / ","Ж",247.28,1]
[144,"Тарасевич Алёна / Tarasevich Aljona / 1991","Ж",247.28,1]
[145,"Малаховская Татьяна / Malahovskaya Tatyana / 1989","Ж",243.05,1]
[146,"Алесиюк Татьяна / Alesiyuk Tatyana / 1987","Ж",242.62,1]
[147,"Косціна Вікторыя / Kostsіna Vіktoryya / 1992","Ж",242.19,2]
[148,"Гецман Мила / Getsman Mila / 1988","Ж",241.45,1]
[149,"Будрик Юлия / Budrik Yuliya / 1995","Ж",239.79,1]
[150,"Зарецкая Оксана / Zaretskaya Oksana / 1982","Ж",238.5,1]
[151,"Аленова Анастасия / Alenova Anastasiya / 1993","Ж",238.43,1]
[152,"Нефедова Оксана / Nefedova Oksana / 1979","Ж",237.64,1]
[153,"Королёва Виктория / Koroljova Viktoriya / 1977","Ж",235.15,1]
[154,"Купреева Татьяна / Kupreeva Tatyana / 1990","Ж",234.55,1]
[155,"Ладутько Наталья / Ladutko Natalya / 1974","Ж",233.59,5]
[156,"Зубкевич Анжелика / Zubkevich Anzhelika / 1992","Ж",232.75,1]
[157,"Егорова Дарина / Egorova Darina / 1994","Ж",231.58,1]
[158,"Лесникович Лиана / Lesnikovich Liana / 1988","Ж",231.52,1]
[159,"Пиньковская Ирина / Pinkovskaya Irina / 1986","Ж",229.82,1]
[160,"Новикова Анастасия / Novikova Anastasiya / 1992","Ж",227.65,1]
[161,"Булеева Наталья / Buleeva Natalya / 1969","Ж",226.85,1]
[162,"Харик Анна / Harik Anna / 1986","Ж",225.13,1]
[163,"Пальвинская Валерия / Palvinskaya Valeriya / 1996","Ж",221.45,1]
[164,"Сушко Александра / Sushko Aleksandra / 1995","Ж",221.4,1]
[165,"Зеленцова Галина / Zelentsova Galina / 1988","Ж",221.3,1]
[166,"Лисовская Наталья / Lisovskaya Natalya / 1998","Ж",219.24,1]
[167,"Попадюк Виктория  / Popadyuk Viktoriya  / 1985","Ж",217.61,1]
[168,"Сыченко Евгения / Sychenko Evgeniya / 1992","Ж",215.72,1]
[169,"Пархимович Ирина / Parhimovich Irina / 1988","Ж",214.99,1]
[170,"Жукова Марина / Zhukova Marina / 1985","Ж",214.62,1]
[171,"Корожан Наталья / Korozhan Natalya / 1974","Ж",212.63,1]
[172,"Кравченко Марина / Kravchenko Marina / 1990","Ж",211.72,3]
[173,"Литвинка Нина / Litvinka Nina / 1991","Ж",210.54,1]
[174,"Тишковец Анастасия / Tishkovets Anastasiya / 1988","Ж",210.04,1]
[175,"Малышко Татьяна / Malyshko Tatyana / 1983","Ж",206.24,1]
[176,"Чигорская Татьяна / Chigorskaya Tatyana / 1977","Ж",205.29,1]
[177,"Молочко Анна / Molochko Anna / 2006","Ж",204.28,1]
[178,"Тумашик Екатерина / Tumashik Ekaterina / 1984","Ж",200.61,1]
[179,"Красовская Инна / Krasovskaya Inna / 1975","Ж",200.12,1]
[180,"Павлова Анна / Pavlova Anna / 1992","Ж",198.45,1]
[181,"Вдовиченко Ирина / Vdovichenko Irina / 1989","Ж",195.97,2]
[182,"Жегуло Ольга / Zhegulo Olga / 1983","Ж",195.96,1]
[183,"Воротникова Татьяна / Vorotnikova Tatyana / 1989","Ж",193.99,1]
[184,"Коновалова Елена / Konovalova Elena / 1975","Ж",193.35,1]
[185,"Фадеева Светлана / Fadeeva Svetlana / 1980","Ж",193.16,1]
[186,"Сенько Вероника / Senko Veronika / 1990","Ж",193.01,1]
[187,"Старовойтова Евгения / Starovojtova Evgeniya / 1996","Ж",191.83,1]
[188,"Цветкова Мария / Tsvetkova Mariya / 1994","Ж",189.47,1]
[189,"Чигорская Татьяна  / Chigorskaya Tatyana  / 1977","Ж",187.94,1]
[190,"Островцова Марина / Ostrovtsova Marina / 1987","Ж",187.61,1]
[191,"Торопова Мария / Toropova Mariya / 1989","Ж",186.28,1]
[192,"Тмофеева Александр / Tmofeeva Aleksandr / 1990","Ж",186.26,1]
[193,"Рудковская Татьяна / Rudkovskaya Tatyana / 1997","Ж",181.91,1]
[194,"Остапюк Анна / Ostapyuk Anna / 2000","Ж",181.66,1]
[195,"Хурс Елена / Hurs Elena / 1989","Ж",179.36,1]
[196,"Скабицкая Анна / Skabitskaya Anna / 1987","Ж",178.75,1]
[197,"Казак Наталья / Kazak Natalya / 1979","Ж",176.92999999999998,3]
[198,"Климова Вера / Klimova Vera / 1992","Ж",175.98,1]
[199,"Куликовских Иванна / Kulikovskih Ivanna / 1974","Ж",175.1,1]
[200,"Косач Надежда / Kosach Nadezhda / 1981","Ж",172.47,1]
[201,"Дунаева Мария / Dunaeva Mariya / 1983","Ж",171.95,1]
[202,"Лира Дина / Lira Dina / 1980","Ж",170.31,1]
[203,"Крипа Светлана / Kripa Svetlana / 1989","Ж",170.23,1]
[204,"Шевченко Алёна / Shevchenko Aljona / ","Ж",168.15,1]
[205,"Селищева Ирина / Selischeva Irina / 1983","Ж",167.57,1]
[206,"Кукареко Екатерина / Kukareko Ekaterina / 1986","Ж",166.09,1]
[207,"Даниленко Инесса / Danilenko Inessa / 1984","Ж",165.57,1]
[208,"Борздыко Виктория / Borzdyko Viktoriya / 1994","Ж",164.63,1]
[209,"Кузнецова Наталья / Kuznetsova Natalya / 1984","Ж",162.6,1]
[210,"Трубкина Инна / Trubkina Inna / 1972","Ж",162.03,1]
[211,"Минич Ольга / Minich Olga / 1989","Ж",161.72,1]
[212,"Паранок Полина / Paranok Polina / 1984","Ж",158.94999999999999,1]
[213,"Лаханич Мария / Lahanich Mariya / 1991","Ж",158.66999999999999,1]
[214,"Занеуская Ганна / Zaneuskaya Ganna / 1994","Ж",158.26,1]
[215,"Кукса Юлия / Kuksa Yuliya / 1978","Ж",156.77000000000001,1]
[216,"Гладкова Анна / Gladkova Anna / 1985","Ж",154.19,2]
[217,"Акулова Виктория / Akulova Viktoriya / 1980","Ж",153.27000000000001,1]
[218,"Грушевская Виктория / Grushevskaya Viktoriya / 1992","Ж",151.77000000000001,1]
[219,"Хинец Анна / Hinets Anna / 1986","Ж",150.09,1]
[220,"Ванькова Светлана / Vankova Svetlana / 1984","Ж",149.30000000000001,1]
[221,"Ильюшенок Юлия  / Ilyushenok Yuliya  / 1987","Ж",148.37,1]
[222,"Писарик Маргарита  / Pisarik Margarita  / 1988","Ж",148.37,1]
[223,"Скобло Елена / Skoblo Elena / 1984","Ж",147.6,1]
[224,"Сильченко Наталья / Silchenko Natalya / ","Ж",145.83000000000001,1]
[225,"Романовская Ольга / Romanovskaya Olga / 1988","Ж",141.91999999999999,1]
[226,"Гарбар Екатерина / Garbar Ekaterina / 1989","Ж",140.57,1]
[227,"Абаркина Елена / Abarkina Elena / 1983","Ж",140.32,2]
[228,"Гославская Анастасия / Goslavskaya Anastasiya / 1991","Ж",137.97,1]
[229,"Лапко Оля / Lapko Olya / 1992","Ж",137.02000000000001,1]
[230,"Бураковская Ульяна / Burakovskaya Ulyana / 1996","Ж",136.24,1]
[231,"Кулеш Кристина / Kulesh Kristina / 1984","Ж",136.24,1]
[232,"Ковалёва Катерина / Kovaljova Katerina / 1987","Ж",132.30000000000001,1]
[233,"Степук Наталья / Stepuk Natalya / 1984","Ж",131.07,1]
[234,"Жигало Ольга / Zhigalo Olga / 1993","Ж",130.63999999999999,1]
[235,"Зеленко Диана / Zelenko Diana / 1988","Ж",128.9,1]
[236,"Морозова Екатерина / Morozova Ekaterina / 1978","Ж",125.07,1]
[237,"Тенюго Татьяна / Tenyugo Tatyana / 1978","Ж",124.17,1]
[238,"Курышка Марына / Kuryshka Maryna / 1991","Ж",121.31,1]
[239,"Михеенко Ольга / Miheenko Olga / 1992","Ж",119.21,1]
[240,"Антонова Мария  / Antonova Mariya  / 1980","Ж",118.7,1]
[241,"Белоцкая Елена / Belotskaya Elena / 1987","Ж",116.01,1]
[242,"Терехова Татьяна / Terehova Tatyana / 1982","Ж",115.76,1]
[243,"Левчук Ирина / Levchuk Irina / 1974","Ж",114.63,1]
[244,"Ежелева Светлана / Ezheleva Svetlana / 1989","Ж",113.54,1]
[245,"Фам Вероника / Fam Veronika / 1982","Ж",112.57,1]
[246,"Каленская Наталия / Kalenskaya Nataliya / 1986","Ж",110.38,1]
[247,"Новичкова Екатерина  / Novichkova Ekaterina  / 1997","Ж",108.81,1]
[248,"Богомаз Екатерина / Bogomaz Ekaterina / 1981","Ж",107.86,1]
[249,"Нехайчик Мария / Nehajchik Mariya / 1995","Ж",107.49,1]
[250,"Княжевич Алеся / Knyazhevich Alesya / 1992","Ж",103.48,1]
[251,"Здитовецкая Ирина / Zditovetskaya Irina / 1980","Ж",102.18,1]
[252,"Якубовская Виктория / Yakubovskaya Viktoriya / 1984","Ж",102.14,1]
[253,"Тимкина Наталья / Timkina Natalya / 1982","Ж",100.06,1]
[254,"Ружицкая Елена / Ruzhitskaya Elena / 1983","Ж",99.22,1]
[255,"Осокина Наталья / Osokina Natalya / 1982","Ж",98.91,1]
[256,"Петкевич Лилия / Petkevich Liliya / 1990","Ж",98.05,2]
[257,"Родионова Светлана / Rodionova Svetlana / 1981","Ж",97.75,2]
[258,"Фомичёва Елена / Fomichjova Elena / 1993","Ж",96.58,1]
[259,"Кубышкина Татьяна / Kubyshkina Tatyana / 1975","Ж",96.51,1]
[260,"Гарбуз Алла / Garbuz Alla / 1969","Ж",95.59,3]
[261,"Гракович Ольга / Grakovich Olga / 1994","Ж",90.96,1]
[262,"Когалёнок Елена / Kogaljonok Elena / 1979","Ж",90.23,1]
[263,"Мамонтова Марина / Mamontova Marina / 1992","Ж",89.68,1]
[264,"Забелова Юлия / Zabelova Yuliya / 1978","Ж",87.55,1]
[265,"Фамичёва Елена / Famichjova Elena / 1993","Ж",85.98,1]
[266,"Гаслова Ольга / Gaslova Olga / 1981","Ж",85.15,1]
[267,"Самусик Елена / Samusik Elena / 1992","Ж",85.12,1]
[268,"Шавель Татьяна / Shavel Tatyana / 1986","Ж",84.21,1]
[269,"Шкрабо Ольга / Shkrabo Olga / 1985","Ж",77.34,1]
[270,"Орлова Татьяна / Orlova Tatyana / 1990","Ж",76.61,1]
[271,"Шеремет Евгения / Sheremet Evgeniya / 1981","Ж",75.88,1]
[272,"Жук Лия / Zhuk Liya / 1980","Ж",75.040000000000006,1]
[273,"Лысенко Ольга / Lysenko Olga / 1989","Ж",74.650000000000006,1]
[274,"Ковальчук Екатерина / Kovalchuk Ekaterina / 1987","Ж",74.42,1]
[275,"Кривальцевич Валентина / Krivaltsevich Valentina / 1984","Ж",74.42,1]
[276,"Чембрович Марта / Chembrovich Marta / 1995","Ж",73.8,1]
[277,"Гончарик Наталья / Goncharik Natalya / 1991","Ж",71.650000000000006,1]
[278,"Александронец Ганна / Aleksandronets Ganna / 1991","Ж",68.14,1]
[279,"Резвицкая Елена / Rezvitskaya Elena / ","Ж",68.12,1]
[280,"Липская Яна / Lipskaya Yana / 2007","Ж",68.09,1]
[281,"Якимчук Надежда / Yakimchuk Nadezhda / 1986","Ж",65.83,1]
[282,"Храмченко Татьяна / Hramchenko Tatyana / 1982","Ж",65.319999999999993,1]
[283,"Круглова Александра / Kruglova Aleksandra / 1989","Ж",64.45,1]
[284,"Иванова Екатерина / Ivanova Ekaterina / 1989","Ж",62.54,1]
[285,"Позняк Анна / Poznyak Anna / 2000","Ж",62.45,1]
[286,"Кликун Алла / Klikun Alla / 1961","Ж",62.09,1]
[287,"Липская Наталья / Lipskaya Natalya / 1977","Ж",59.58,1]
[288,"Грошева Елена  / Grosheva Elena  / 1994","Ж",59.35,1]
[289,"Михайлова Марина / Mihajlova Marina / 1988","Ж",57.88,1]
[290,"Зуй Марина / Zuj Marina / 1984","Ж",57.32,1]
[291,"Вишневская Анастасия / Vishnevskaya Anastasiya / 1995","Ж",56.77,1]
[292,"Карабанькова Марина / Karabankova Marina / 1989","Ж",55.67,2]
[293,"Прокопенко Анна / Prokopenko Anna / 1980","Ж",50.03,1]
[294,"Постникова Ольга / Postnikova Olga / 1990","Ж",48.29,1]
[295,"Лобанова Елена / Lobanova Elena / 1984","Ж",46.66,1]
[296,"Гладкая Ольга / Gladkaya Olga / 1986","Ж",39.74,1]
[297,"Пак Юлия  / Pak Yuliya  / 1984","Ж",39.57,1]
[298,"Будыхина Татьяна / Budyhina Tatyana / 1985","Ж",37.520000000000003,1]
[299,"Агеева Катерина / Ageeva Katerina / 1986","Ж",37.33,1]
[300,"Слеменева Евгения / Slemeneva Evgeniya / 1993","Ж",34.06,1]
[301,"Ветохина София / Vetohina Sofiya / 2010","Ж",34.049999999999997,1]
[302,"Федченко Олеся / Fedchenko Olesya / 1977","Ж",32.92,1]
[303,"Свиркова Татьяна / Svirkova Tatyana / 1987","Ж",28.38,1]
[304,"Якименко Римма / Yakimenko Rimma / 1975","Ж",27.99,1]
[305,"Позняк Лидия / Poznyak Lidiya / 2002","Ж",27.59,1]
[306,"Лабунская Ирина / Labunskaya Irina / 1983","Ж",25.78,1]
[307,"Поволоцкая Кристина / Povolotskaya Kristina / 1990","Ж",25.01,1]
[308,"Маторова Анна / Matorova Anna / 1981","Ж",22.71,1]
[309,"Рябцева Инна / Ryabtseva Inna / 1974","Ж",20.7,1]
[310,"Тудакова Людмила  / Tudakova Lyudmila  / 1981","Ж",19.78,1]
[311,"Грачева Анастасия / Gracheva Anastasiya / 1995","Ж",18.66,1]
[312,"Бортняк Екатерина / Bortnyak Ekaterina / 1994","Ж",13.8,1]
[313,"Клауч Екатерина / Klauch Ekaterina / 1987","Ж",12.89,1]
[314,"Дурейко Анна / Durejko Anna / 1987","Ж",12.51,1]
[315,"Петкевич Юлия / Petkevich Yuliya / 1968","Ж",11.35,1]
[316,"Охотникова Екатерина  / Ohotnikova Ekaterina  / 1968","Ж",9.89,1]
[317,"Робова Марина / Robova Marina / 1960","Ж",9.33,1]
[318,"Савченко Марина / Savchenko Marina / 1983","Ж",6.9,1]
[319,"Птицына Оксана / Ptitsyna Oksana / 1976","Ж",5.68,1]