OziExplorer Map Data File Version 2.2
East-carpathian mts.jpg
C:\Program Files\OziExplorer\Maps\ua\karpati\east-carpathian mts.jpg
1 ,Map Code,
Pulkovo 1942 (2),WGS 84, 0.0000, 0.0000,WGS 84
Reserved 1
Reserved 2
Magnetic Variation,,,E
Map Projection,Transverse Mercator,PolyCal,No,AutoCalOnly,No,BSBUseWPX,No
Point01,xy, 101, 171,in, deg, 48, 25.0000,N, 24, 5.0000,E, grid, , , ,N
Point02,xy, 1695, 160,in, deg, 48, 25.0000,N, 24, 16.0000,E, grid, , , ,N
Point03,xy, 4737, 760,in, deg, 48, 22.0000,N, 24, 37.0000,E, grid, , , ,N
Point04,xy, 136, 3396,in, deg, 48, 10.0000,N, 24, 5.0000,E, grid, , , ,N
Point05,xy, 1724, 3379,in, deg, 48, 10.0000,N, 24, 16.0000,E, grid, , , ,N
Point06,xy, 4761, 3345,in, deg, 48, 10.0000,N, 24, 37.0000,E, grid, , , ,N
Point07,xy, 157, 6861,in, deg, 47, 54.0000,N, 24, 5.0000,E, grid, , , ,N
Point08,xy, 1753, 6853,in, deg, 47, 54.0000,N, 24, 16.0000,E, grid, , , ,N
Point09,xy, 4788, 6170,in, deg, 47, 57.0000,N, 24, 37.0000,E, grid, , , ,N
Point10,xy, , ,in, deg, , ,N, , ,W, grid, , , ,N
Point11,xy, , ,in, deg, , ,N, , ,W, grid, , , ,N
Point12,xy, , ,in, deg, , ,N, , ,W, grid, , , ,N
Point13,xy, , ,in, deg, , ,N, , ,W, grid, , , ,N
Point14,xy, , ,in, deg, , ,N, , ,W, grid, , , ,N
Point15,xy, , ,in, deg, , ,N, , ,W, grid, , , ,N
Point16,xy, , ,in, deg, , ,N, , ,W, grid, , , ,N
Point17,xy, , ,in, deg, , ,N, , ,W, grid, , , ,N
Point18,xy, , ,in, deg, , ,N, , ,W, grid, , , ,N
Point19,xy, , ,in, deg, , ,N, , ,W, grid, , , ,N
Point20,xy, , ,in, deg, , ,N, , ,W, grid, , , ,N
Point21,xy, , ,in, deg, , ,N, , ,W, grid, , , ,N
Point22,xy, , ,in, deg, , ,N, , ,W, grid, , , ,N
Point23,xy, , ,in, deg, , ,N, , ,W, grid, , , ,N
Point24,xy, , ,in, deg, , ,N, , ,W, grid, , , ,N
Point25,xy, , ,in, deg, , ,N, , ,W, grid, , , ,N
Point26,xy, , ,in, deg, , ,N, , ,W, grid, , , ,N
Point27,xy, , ,in, deg, , ,N, , ,W, grid, , , ,N
Point28,xy, , ,in, deg, , ,N, , ,W, grid, , , ,N
Point29,xy, , ,in, deg, , ,N, , ,W, grid, , , ,N
Point30,xy, , ,in, deg, , ,N, , ,W, grid, , , ,N
Projection Setup, 0.000000000, 27.000000000, 1.000000000, 500000.00, 0.00,,,,,
Map Feature = MF ; Map Comment = MC These follow if they exist
Track File = TF These follow if they exist
Moving Map Parameters = MM? These follow if they exist
MM0,Yes
MMPNUM,4
MMPXY,1,0,0
MMPXY,2,4877,0
MMPXY,3,4877,6998
MMPXY,4,0,6998
MMPLL,1, 24.070543, 48.429416
MMPLL,2, 24.635134, 48.425282
MMPLL,3, 24.624458, 47.885323
MMPLL,4, 24.065769, 47.889530
MM1B,8.559853
MOP,Map Open Position,0,0
IWH,Map Image Width/Height,4877,6998
